{"text_format":"2","workbook":"xlsx","n_sheets":5,"sheets":["Veri Girişi","4_analist","Gerçeklik Kontrolü TE","Gerçeklik Kontrolü TÜ","Belirsizlik Bütçesi"],"not_rendered":{"charts":2,"images":0,"macros":0,"external_links":0,"defined_names":14,"comments":0,"pivot_tables":0},"unopened":[],"bounds":{"document_bytes":16777216,"sheet_cells":100000,"run_cost":"one","rows_first":2000,"rows_last":500,"rows_between":2000,"halvings":0,"cell_chars":16384,"cell_head_chars":4096},"cells_cut":0,"cells_raw":0,"read":"whole","date_system":"1900"}

{"sheet":"Veri Girişi","index":0,"n_rows":266,"n_cols":513,"rows_kept":139,"cut":true,"hidden":false,"merged":[[7,487,7,491],[7,492,7,496],[8,475,9,475],[8,476,9,476],[8,477,9,477],[8,478,9,478],[8,479,9,479],[8,480,9,480],[8,481,9,481],[8,482,9,482],[8,483,9,483],[8,484,9,484],[8,485,9,485],[8,495,9,495],[8,496,9,496],[8,486,9,486],[8,487,9,487],[8,488,9,488],[8,489,9,489],[8,490,9,490],[8,491,9,491],[8,492,9,492],[8,493,9,493],[8,494,9,494],[5,503,9,503],[5,504,9,504],[5,505,9,505],[5,506,9,506],[5,507,9,507],[5,508,9,508],[5,509,9,509],[5,510,9,510],[5,511,9,511],[8,472,9,472],[8,473,9,473],[8,474,9,474],[5,457,5,496],[5,497,9,497],[5,498,9,498],[5,499,9,499],[5,500,9,500],[5,502,9,502],[6,457,8,459],[6,460,7,464],[6,465,9,465],[6,466,9,466],[6,467,6,471],[6,472,6,476],[6,477,6,481],[6,482,6,486],[6,487,6,491],[6,492,6,496],[6,501,9,501],[7,467,7,471],[7,472,7,476],[7,477,7,481],[7,482,7,486],[8,463,9,463],[8,464,9,464],[8,467,9,467],[8,468,9,468],[8,469,9,469],[8,470,9,470],[8,471,9,471],[8,460,9,460],[8,461,9,461],[8,462,9,462],[5,455,9,455],[3,401,3,455],[4,401,4,455],[6,409,9,409],[6,410,9,410],[8,404,9,404],[8,405,9,405],[8,406,9,406],[8,407,9,407],[8,408,9,408],[8,411,9,411],[8,412,9,412],[8,413,9,413],[8,414,9,414],[8,415,9,415],[8,416,9,416],[8,417,9,417],[8,418,9,418],[8,419,9,419],[8,420,9,420],[8,421,9,421],[5,453,9,453],[5,454,9,454],[5,444,9,444],[5,449,9,449],[8,440,9,440],[7,75,7,79],[5,164,6,202],[7,9,7,11],[8,422,9,422],[8,423,9,423],[8,438,9,438],[7,56,7,60],[7,31,7,35],[7,36,7,40],[7,41,7,45],[7,46,7,50],[7,51,7,55],[7,90,7,94],[9,65,9,94],[7,153,7,157],[7,65,7,69],[7,70,7,74],[7,80,7,84],[5,96,6,128],[7,274,8,274],[7,275,8,276],[7,277,7,281],[3,130,3,162],[9,99,9,128],[7,158,7,162],[9,133,9,162],[7,99,7,103],[7,104,7,108],[7,109,7,113],[7,114,7,118],[7,119,7,123],[7,124,7,128],[7,133,7,137],[7,138,7,142],[7,143,7,147],[7,148,7,152],[0,274,2,399],[3,274,3,399],[4,274,4,306],[5,274,6,306],[0,29,1,32],[0,62,1,65],[0,96,1,99],[0,130,1,133],[4,28,4,60],[5,28,6,60],[3,62,3,94],[4,62,4,94],[5,62,6,94],[3,164,3,202],[3,204,3,242],[4,204,4,242],[4,130,4,162],[5,130,6,162],[5,398,9,398],[4,164,4,202],[5,397,9,397],[5,204,6,242],[3,96,3,128],[4,96,4,128],[7,6,7,8],[7,3,7,5],[3,0,6,26],[3,28,3,60],[9,24,9,26],[7,18,7,20],[7,21,7,23],[7,24,7,26],[9,18,9,20],[8,0,8,1],[7,0,7,1],[7,15,7,17],[7,29,8,30],[7,28,8,28],[9,3,9,5],[9,6,9,8],[9,9,9,11],[9,12,9,14],[9,15,9,17],[7,12,7,14],[9,31,9,60],[9,21,9,23],[7,85,7,89],[7,207,8,212],[7,213,8,218],[7,219,8,224],[7,225,8,230],[7,231,8,236],[7,237,8,242],[7,167,8,172],[7,173,8,178],[7,179,8,184],[7,185,8,190],[7,191,8,196],[7,197,8,202],[7,302,7,306],[9,367,9,396],[7,372,7,376],[7,377,7,381],[7,382,7,386],[7,387,7,391],[7,392,7,396],[9,307,9,336],[9,277,9,306],[9,337,9,366],[7,327,7,331],[7,332,7,336],[7,337,7,341],[7,342,7,346],[7,347,7,351],[7,352,7,356],[7,357,7,361],[7,362,7,366],[7,367,7,371],[7,282,7,286],[7,287,7,291],[7,292,7,296],[7,297,7,301],[7,421,7,425],[7,426,7,430],[6,401,8,403],[6,411,6,415],[7,411,7,415],[6,416,6,420],[7,416,7,420],[6,421,6,425],[6,426,6,430],[8,424,9,424],[8,425,9,425],[8,426,9,426],[3,512,9,512],[7,62,8,63],[7,64,8,64],[7,96,8,97],[7,98,8,98],[7,130,8,131],[7,132,8,132],[5,411,5,440],[5,404,7,408],[4,399,9,399],[4,307,4,336],[5,307,6,336],[7,307,7,311],[7,312,7,316],[7,317,7,321],[7,322,7,326],[4,337,4,366],[4,367,4,396],[5,337,6,366],[5,367,6,396],[5,443,9,443],[5,442,9,442],[5,441,9,441],[8,427,9,427],[3,457,3,511],[4,457,4,511],[8,428,9,428],[8,429,9,429],[8,430,9,430],[8,431,9,431],[8,432,9,432],[6,431,6,435],[6,436,6,440],[7,431,7,435],[7,436,7,440],[8,433,9,433],[8,434,9,434],[8,435,9,435],[8,436,9,436],[8,437,9,437],[8,439,9,439],[5,450,9,450],[5,451,9,451],[5,452,9,452],[6,445,9,445],[5,446,9,446],[5,447,9,447],[5,448,9,448]],"bounds":{"rows_first":62,"rows_last":15,"rows_between":62,"halvings":5}}
[{"$nulls":29},"Listeye Geri Dön",{"$nulls":66},"Listeye Geri Dön",{"$nulls":33},"Listeye Geri Dön",{"$nulls":143},"GERÇEKLİK BELİRSİZLİĞİ"]
[]
[]
["DOĞRUSALLIK KALİBRASYON EĞRİSİ VERİLERİ ",{"$nulls":27},"TEKRARLANABİLİRLİK-GERÇEKLİK VERİLERİ",{"$nulls":33},"TEKRARLANABİLİRLİK-GERÇEKLİK VERİLERİ",{"$nulls":33},"TEKRARÜRETİLEBİLİRLİK-GERÇEKLİK VERİLERİ",{"$nulls":33},"TEKRARÜRETİLEBİLİRLİK-GERÇEKLİK VERİLERİ",{"$nulls":33},"GERÇEKLİK KONTROLLERİ -TEKRAREDİLEBİLİRLİK",{"$nulls":39},"GERÇEKLİK KONTROLLERİ -TEKRAREDİLEBİLİRLİK",{"$nulls":69},"Bias^2=(R-1)^2",{"$nulls":126},"TEKRARÜRETİLEBİLİRLİK-BELİRSİZLİĞİ",{"$nulls":55},"TEKRARÜRETİLEBİLİRLİK-BELİRSİZLİĞİ",{"$nulls":54},"RSDWR,                           pool"]
[{"$nulls":28},"1.KONSANTRASYONLAR",{"$nulls":33},"2.KONSANTRASYONLAR",{"$nulls":33},"1.KONSANTRASYONLAR",{"$nulls":33},"2.KONSANTRASYONLAR",{"$nulls":33},"1.KONSANTRASYONLAR",{"$nulls":39},"2.KONSANTRASYONLAR",{"$nulls":69},"T.E.    1.KONSANTRASYONLAR",{"$nulls":32},"T.E.    2.KONSANTRASYONLAR",{"$nulls":29},"T.Ü.    1.KONSANTRASYONLAR",{"$nulls":29},"T.Ü.    2.KONSANTRASYONLAR",{"$nulls":31},"ubias= RMSbias",null,"1.KONSANTRASYONLAR",{"$nulls":55},"2.KONSANTRASYONLAR"]
[{"$nulls":28},"Analistler",{"$nulls":33},"Analistler",{"$nulls":33},"Analistler",{"$nulls":33},"Analistler",{"$nulls":33},"Analistler",{"$nulls":39},"Analistler",{"$nulls":69},"Analistler",{"$nulls":122},"tekrar sayısı (n)","Top(Bias^2=(R-1)^2)",{"$nulls":5},"Zaman ortalamaları",{"$nulls":6},"Analistler",{"$nulls":29},"Genel ortalama","% Geri Kazanım (genel)","Ortalamanın varyansı (Sd2)","Farkların Karelerinin Toplamı",null,"Tekrarlanabilirlik varyansı (Srep2)","Günler arası varyans (SL2)","Tekrarüretilebilirlik varyansı (SwR2)","Tekrarüretilebilirlik standart sapması (SwR)","RSDwR","% RSDwR","n(genel)","Gerçeklik Kontrolü","Tekrarüretilebilirlik Kontrolü","(RSD2)*(n-1)",null,"Analistler",{"$nulls":39},"Genel ortalama","% Geri Kazanım (genel)","Ortalamanın varyansı (Sd2)","Farkların Karelerinin Toplamı",null,"Tekrarlanabilirlik varyansı (Srep2)","Günler arası varyans (SL2)","Tekrarüretilebilirlik varyansı (SwR2)","Tekrarüretilebilirlik standart sapması (SwR)","RSDwR","% RSDwR","n(genel)","Gerçeklik Kontrolü","Tekrarüretilebilirlik Kontrolü","(RSD2)*(n-1)"]
[{"$nulls":401},"Zaman dilimi",{"$nulls":7},"Analist Sayısı n","Zaman Dilimi                        k","Zaman Ort-Tekrar farkları",{"$nulls":4},"Zaman Ort-Tekrar farkları",{"$nulls":4},"Zaman Ort-Tekrar farkları",{"$nulls":4},"Zaman Ort-Tekrar farkları",{"$nulls":4},"Zaman Ort-Tekrar farkları",{"$nulls":4},"Zaman Ort-Tekrar farkları",{"$nulls":8},"k*(n-1)",{"$nulls":11},"Zaman dilimi",null,null,"Zaman ortalamaları",{"$nulls":4},"Analist Sayısı n","Zaman Dilimi                        k","Zaman Ort-Tekrar farkları",{"$nulls":4},"Zaman Ort-Tekrar farkları",{"$nulls":4},"Zaman Ort-Tekrar farkları",{"$nulls":4},"Zaman Ort-Tekrar farkları",{"$nulls":4},"Zaman Ort-Tekrar farkları",{"$nulls":4},"Zaman Ort-Tekrar farkları",{"$nulls":8},"k*(n-1)"]
[null,null,null,"LEVEL-1",null,null,"LEVEL-2",null,null,"LEVEL-3",null,null,"LEVEL-4",null,null,"LEVEL-5",null,null,"LEVEL-6",null,null,"LEVEL-7",null,null,"LEVEL-8",{"$nulls":4},"Tekrar (n)",null,1,{"$nulls":4},2,{"$nulls":4},3,{"$nulls":4},4,{"$nulls":4},5,{"$nulls":4},6,{"$nulls":5},"Tekrar (n)",null,null,1,{"$nulls":4},2,{"$nulls":4},3,{"$nulls":4},4,{"$nulls":4},5,{"$nulls":4},6,{"$nulls":5},"Zaman dilimi",null,null,1,{"$nulls":4},2,{"$nulls":4},3,{"$nulls":4},4,{"$nulls":4},5,{"$nulls":4},6,{"$nulls":5},"Zaman dilimi",null,null,1,{"$nulls":4},2,{"$nulls":4},3,{"$nulls":4},4,{"$nulls":4},5,{"$nulls":4},6,{"$nulls":5}," ",null,null,1,{"$nulls":5},2,{"$nulls":5},3,{"$nulls":5},4,{"$nulls":5},5,{"$nulls":5},6,{"$nulls":6}," ",null,null,1,{"$nulls":5},2,{"$nulls":5},3,{"$nulls":5},4,{"$nulls":5},5,{"$nulls":5},6,{"$nulls":37},"Tekrar (n)",null,1,{"$nulls":4},2,{"$nulls":4},3,{"$nulls":4},4,{"$nulls":4},5,{"$nulls":4},6,{"$nulls":4},1,{"$nulls":4},2,{"$nulls":4},3,{"$nulls":4},4,{"$nulls":4},5,{"$nulls":4},6,{"$nulls":4},1,{"$nulls":4},2,{"$nulls":4},3,{"$nulls":4},4,{"$nulls":4},5,{"$nulls":4},6,{"$nulls":4},1,{"$nulls":4},2,{"$nulls":4},3,{"$nulls":4},4,{"$nulls":4},5,{"$nulls":4},6,{"$nulls":18},1,{"$nulls":4},2,{"$nulls":4},3,{"$nulls":4},4,{"$nulls":4},5,{"$nulls":4},6,{"$nulls":30},1,{"$nulls":4},2,{"$nulls":4},3,{"$nulls":4},4,{"$nulls":4},5,{"$nulls":4},6]
["Xi (kons)",null,null,2,2,null,5,5,null,10,10,null,25,25,null,50,50,null,100,100,{"$nulls":11},"Tekrar_1","Tekrar_2","Tekrar_3","Tekrar_4","Tekrar_5","Tekrar_1","Tekrar_2","Tekrar_3","Tekrar_4","Tekrar_5","Tekrar_1","Tekrar_2","Tekrar_3","Tekrar_4","Tekrar_5","Tekrar_1","Tekrar_2","Tekrar_3","Tekrar_4","Tekrar_5","Tekrar_1","Tekrar_2","Tekrar_3","Tekrar_4","Tekrar_5","Tekrar_1","Tekrar_2","Tekrar_3","Tekrar_4","Tekrar_5",{"$nulls":4},"Tekrar_1","Tekrar_2","Tekrar_3","Tekrar_4","Tekrar_5","Tekrar_1","Tekrar_2","Tekrar_3","Tekrar_4","Tekrar_5","Tekrar_1","Tekrar_2","Tekrar_3","Tekrar_4","Tekrar_5","Tekrar_1","Tekrar_2","Tekrar_3","Tekrar_4","Tekrar_5","Tekrar_1","Tekrar_2","Tekrar_3","Tekrar_4","Tekrar_5","Tekrar_1","Tekrar_2","Tekrar_3","Tekrar_4","Tekrar_5",{"$nulls":4},"1.zaman","2.zaman","3.zaman","4.zaman","5.zaman","1.zaman","2.zaman","3.zaman","4.zaman","5.zaman","1.zaman","2.zaman","3.zaman","4.zaman","5.zaman","1.zaman","2.zaman","3.zaman","4.zaman","5.zaman","1.zaman","2.zaman","3.zaman","4.zaman","5.zaman","1.zaman","2.zaman","3.zaman","4.zaman","5.zaman",{"$nulls":4},"1.zaman","2.zaman","3.zaman","4.zaman","5.zaman","1.zaman","2.zaman","3.zaman","4.zaman","5.zaman","1.zaman","2.zaman","3.zaman","4.zaman","5.zaman","1.zaman","2.zaman","3.zaman","4.zaman","5.zaman","1.zaman","2.zaman","3.zaman","4.zaman","5.zaman","1.zaman","2.zaman","3.zaman","4.zaman","5.zaman",{"$nulls":114},"Tekrar_1","Tekrar_2","Tekrar_3","Tekrar_4","Tekrar_5","Tekrar_1","Tekrar_2","Tekrar_3","Tekrar_4","Tekrar_5","Tekrar_1","Tekrar_2","Tekrar_3","Tekrar_4","Tekrar_5","Tekrar_1","Tekrar_2","Tekrar_3","Tekrar_4","Tekrar_5","Tekrar_1","Tekrar_2","Tekrar_3","Tekrar_4","Tekrar_5","Tekrar_1","Tekrar_2","Tekrar_3","Tekrar_4","Tekrar_5","Tekrar_1","Tekrar_2","Tekrar_3","Tekrar_4","Tekrar_5","Tekrar_1","Tekrar_2","Tekrar_3","Tekrar_4","Tekrar_5","Tekrar_1","Tekrar_2","Tekrar_3","Tekrar_4","Tekrar_5","Tekrar_1","Tekrar_2","Tekrar_3","Tekrar_4","Tekrar_5","Tekrar_1","Tekrar_2","Tekrar_3","Tekrar_4","Tekrar_5","Tekrar_1","Tekrar_2","Tekrar_3","Tekrar_4","Tekrar_5","1.zaman","2.zaman","3.zaman","4.zaman","5.zaman","1.zaman","2.zaman","3.zaman","4.zaman","5.zaman","1.zaman","2.zaman","3.zaman","4.zaman","5.zaman","1.zaman","2.zaman","3.zaman","4.zaman","5.zaman","1.zaman","2.zaman","3.zaman","4.zaman","5.zaman","1.zaman","2.zaman","3.zaman","4.zaman","5.zaman","1.zaman","2.zaman","3.zaman","4.zaman","5.zaman","1.zaman","2.zaman","3.zaman","4.zaman","5.zaman","1.zaman","2.zaman","3.zaman","4.zaman","5.zaman","1.zaman","2.zaman","3.zaman","4.zaman","5.zaman","1.zaman","2.zaman","3.zaman","4.zaman","5.zaman","1.zaman","2.zaman","3.zaman","4.zaman","5.zaman",{"$nulls":7},"1.zaman","2.zaman","3.zaman","4.zaman","5.zaman",null,null,"1.zaman","2.zaman","3.zaman","4.zaman","5.zaman","1.zaman","2.zaman","3.zaman","4.zaman","5.zaman","1.zaman","2.zaman","3.zaman","4.zaman","5.zaman","1.zaman","2.zaman","3.zaman","4.zaman","5.zaman","1.zaman","2.zaman","3.zaman","4.zaman","5.zaman","1.zaman","2.zaman","3.zaman","4.zaman","5.zaman",{"$nulls":19},"1.zaman","2.zaman","3.zaman","4.zaman","5.zaman",null,null,"1.zaman","2.zaman","3.zaman","4.zaman","5.zaman","1.zaman","2.zaman","3.zaman","4.zaman","5.zaman","1.zaman","2.zaman","3.zaman","4.zaman","5.zaman","1.zaman","2.zaman","3.zaman","4.zaman","5.zaman","1.zaman","2.zaman","3.zaman","4.zaman","5.zaman","1.zaman","2.zaman","3.zaman","4.zaman","5.zaman"]
["SIRA NO","PESTISIT ADI","ENSTRUMAN","Yi (Alan)",null,null,"Yi (Alan)",null,null,"Yi (Alan)",null,null,"Yi (Alan)",null,null,"Yi (Alan)",null,null,"Yi (Alan)",null,null,"Yi (Alan)",null,null,"Yi (Alan)",null,null,null,"SIRA NO","PESTISIT ADI","1.KONSANTRASYON",{"$nulls":31},"SIRA NO","PESTISIT ADI","2.KONSANTRASYON",{"$nulls":31},"SIRA NO","PESTISIT ADI","1.KONSANTRASYON",{"$nulls":31},"SIRA NO","PESTISIT ADI","2.KONSANTRASYON",{"$nulls":31},"SIRA NO","PESTISIT ADI","KONSANTRASYON","ort","std sapma","% R (ort)","% RSD","Gerçeklik kontrolü %70-120","Tekrarlanabilirlik kontrolü %R<20","ort","std sapma","% R (ort)","% RSD","Gerçeklik kontrolü %70-121","Tekrarlanabilirlik kontrolü %R<21","ort","std sapma","% R (ort)","% RSD","Gerçeklik kontrolü %70-122","Tekrarlanabilirlik kontrolü %R<22","ort","std sapma","% R (ort)","% RSD","Gerçeklik kontrolü %70-123","Tekrarlanabilirlik kontrolü %R<23","ort","std sapma","% R (ort)","% RSD","Gerçeklik kontrolü %70-124","Tekrarlanabilirlik kontrolü %R<24","ort","std sapma","% R (ort)","% RSD","Gerçeklik kontrolü %70-125","Tekrarlanabilirlik kontrolü %R<25",null,"SIRA NO","PESTISIT ADI","KONSANTRASYON","ort","std sapma","% R (ort)","% RSD","Gerçeklik kontrolü %70-120","Tekrarlanabilirlik kontrolü %R<20","ort","std sapma","% R (ort)","% RSD","Gerçeklik kontrolü %70-121","Tekrarlanabilirlik kontrolü %R<21","ort","std sapma","% R (ort)","% RSD","Gerçeklik kontrolü %70-122","Tekrarlanabilirlik kontrolü %R<22","ort","std sapma","% R (ort)","% RSD","Gerçeklik kontrolü %70-123","Tekrarlanabilirlik kontrolü %R<23","ort","std sapma","% R (ort)","% RSD","Gerçeklik kontrolü %70-124","Tekrarlanabilirlik kontrolü %R<24","ort","std sapma","% R (ort)","% RSD","Gerçeklik kontrolü %70-125","Tekrarlanabilirlik kontrolü %R<25",{"$nulls":31},"SIRA NO","PESTISIT ADI","1.KONSANTRASYON",{"$nulls":124},"SIRA NO","PESTISIT ADI","1.KONSANTRASYON",{"$nulls":53},"SIRA NO","PESTISIT ADI","1.KONSANTRASYON"]
[1,"Metominostrobin (Z+E)","GC-MS/MS",2503533,2526720,null,6663466,6508013,null,12247315,13026660,null,35001290,40096320,null,70382689,66205531,null,151275733,148274308,{"$nulls":8},1,"Metominostrobin (Z+E)",10,9.3360000000000003,10.911,11.694000000000001,8.14,9.2899999999999991,10.616,10.718999999999999,8.0190000000000001,11.782,11.269,9.3659999999999997,11.773,10.019,9.9390000000000001,11.670999999999999,{"$nulls":16},1,"Metominostrobin (Z+E)",50,40.408000000000001,41.043999999999997,40.46,46.241,42.825000000000003,38.006999999999998,42.197000000000003,46.503999999999998,41.07,45.326999999999998,49.39,49.69,48.85,47.56,42.53,{"$nulls":16},1,"Metominostrobin (Z+E)",10,10.127000000000001,7.718,11.974,10.944000000000001,10.76,8.8219999999999992,9.9990000000000006,8.5139999999999993,9.4960000000000004,11.536,11.73,10.874000000000001,7.5570000000000004,10.404,11.368,{"$nulls":16},1,"Metominostrobin (Z+E)",50,43.631,37.457999999999998,45.484999999999999,42.167000000000002,46.652999999999999,45.850999999999999,41.133000000000003,40.728999999999999,38.932000000000002,41.021999999999998,51.448999999999998,45.392000000000003,52.817999999999998,51.658000000000001,42.874000000000002,{"$nulls":16},1,"Metominostrobin (Z+E)",{"$f":"AE11","v":10},{"$f":"IFERROR(AVERAGE(AF11:AJ11),\"--------\")","v":9.8742000000000001},{"$f":"IFERROR(_xlfn.STDEV.S(AF11:AJ11),\"--------\")","v":1.4164237360338119},{"$f":"IFERROR(FL11/$FK11*100,\"--------\")","v":98.74199999999999},{"$f":"IFERROR(FM11/FL11*100,\"--------\")","v":14.344693605900344},{"$f":"IF(FN11<70,\"uygun değil\",IF(FN11>120,\"uygun değil\",\"uygun\"))","v":"uygun"},{"$f":"IF(FO11<0,\"uygun değil\",IF(FO11<20,\"uygun\",\"uygun değil\"))","v":"uygun"},{"$f":"IFERROR(AVERAGE(AK11:AO11),\"--------\")","v":10.480999999999998},{"$f":"IFERROR(_xlfn.STDEV.S(AK11:AO11),\"--------\")","v":1.4534319729523002},{"$f":"IFERROR(FR11/$FK11*100,\"--------\")","v":104.80999999999997},{"$f":"IFERROR(FS11/FR11*100,\"--------\")","v":13.86730248022422},{"$f":"IF(FT11<70,\"uygun değil\",IF(FT11>120,\"uygun değil\",\"uygun\"))","v":"uygun"},{"$f":"IF(FU11<0,\"uygun değil\",IF(FU11<20,\"uygun\",\"uygun değil\"))","v":"uygun"},{"$f":"IFERROR(AVERAGE(AP11:AT11),\"--------\")","v":10.553599999999999},{"$f":"IFERROR(_xlfn.STDEV.S(AP11:AT11),\"--------\")","v":1.096522138399403},{"$f":"IFERROR(FX11/$FK11*100,\"--------\")","v":105.53599999999999},{"$f":"IFERROR(FY11/FX11*100,\"--------\")","v":10.390029358696589},{"$f":"IF(FZ11<70,\"uygun değil\",IF(FZ11>120,\"uygun değil\",\"uygun\"))","v":"uygun"},{"$f":"IF(GA11<0,\"uygun değil\",IF(GA11<20,\"uygun\",\"uygun değil\"))","v":"uygun"},{"$f":"IFERROR(AVERAGE(AU11:AY11),\"--------\")","v":"--------"},{"$f":"IFERROR(_xlfn.STDEV.S(AU11:AY11),\"--------\")","v":"--------"},{"$f":"IFERROR(GD11/$FK11*100,\"--------\")","v":"--------"},{"$f":"IFERROR(GE11/GD11*100,\"--------\")","v":"--------"},{"$f":"IF(GF11<70,\"uygun değil\",IF(GF11>120,\"uygun değil\",\"uygun\"))","v":"uygun değil"},{"$f":"IF(GG11<0,\"uygun değil\",IF(GG11<20,\"uygun\",\"uygun değil\"))","v":"uygun değil"},{"$f":"IFERROR(AVERAGE(AZ11:BD11),\"--------\")","v":"--------"},{"$f":"IFERROR(_xlfn.STDEV.S(AZ11:BD11),\"--------\")","v":"--------"},{"$f":"IFERROR(GJ11/$FK11*100,\"--------\")","v":"--------"},{"$f":"IFERROR(GK11/GJ11*100,\"--------\")","v":"--------"},{"$f":"IF(GL11<70,\"uygun değil\",IF(GL11>120,\"uygun değil\",\"uygun\"))","v":"uygun değil"},{"$f":"IF(GM11<0,\"uygun değil\",IF(GM11<20,\"uygun\",\"uygun değil\"))","v":"uygun değil"},{"$f":"IFERROR(AVERAGE(BE11:BI11),\"--------\")","v":"--------"},{"$f":"IFERROR(_xlfn.STDEV.S(BE11:BI11),\"--------\")","v":"--------"},{"$f":"IFERROR(GP11/$FK11*100,\"--------\")","v":"--------"},{"$f":"IFERROR(GQ11/GP11*100,\"--------\")","v":"--------"},{"$f":"IF(GR11<70,\"uygun değil\",IF(GR11>120,\"uygun değil\",\"uygun\"))","v":"uygun değil"},{"$f":"IF(GS11<0,\"uygun değil\",IF(GS11<20,\"uygun\",\"uygun değil\"))","v":"uygun değil"},null,1,"Metominostrobin (Z+E)",{"$f":"BM11","v":50},{"$f":"IFERROR(AVERAGE(BN11:BR11),\"--------\")","v":42.195599999999999},{"$f":"IFERROR(_xlfn.STDEV.S(BN11:BR11),\"--------\")","v":2.4645186751169081},{"$f":"IFERROR(GZ11/$GY11*100,\"--------\")","v":84.391199999999998},{"$f":"IFERROR(HA11/GZ11*100,\"--------\")","v":5.840700630200562},{"$f":"IF(HB11<70,\"uygun değil\",IF(HB11>120,\"uygun değil\",\"uygun\"))","v":"uygun"},{"$f":"IF(HC11<0,\"uygun değil\",IF(HC11<20,\"uygun\",\"uygun değil\"))","v":"uygun"},{"$f":"IFERROR(AVERAGE(BS11:BW11),\"--------\")","v":42.620999999999995},{"$f":"IFERROR(_xlfn.STDEV.S(BS11:BW11),\"--------\")","v":3.4012680723518396},{"$f":"IFERROR(HF11/$GY11*100,\"--------\")","v":85.24199999999999},{"$f":"IFERROR(HG11/HF11*100,\"--------\")","v":7.9802634202666294},{"$f":"IF(HH11<70,\"uygun değil\",IF(HH11>120,\"uygun değil\",\"uygun\"))","v":"uygun"},{"$f":"IF(HI11<0,\"uygun değil\",IF(HI11<20,\"uygun\",\"uygun değil\"))","v":"uygun"},{"$f":"IFERROR(AVERAGE(BX11:CB11),\"--------\")","v":47.603999999999999},{"$f":"IFERROR(_xlfn.STDEV.S(BX11:CB11),\"--------\")","v":2.9513183494838362},{"$f":"IFERROR(HL11/$GY11*100,\"--------\")","v":95.207999999999998},{"$f":"IFERROR(HM11/HL11*100,\"--------\")","v":6.1997276478527779},{"$f":"IF(HN11<70,\"uygun değil\",IF(HN11>120,\"uygun değil\",\"uygun\"))","v":"uygun"},{"$f":"IF(HO11<0,\"uygun değil\",IF(HO11<20,\"uygun\",\"uygun değil\"))","v":"uygun"},{"$f":"IFERROR(AVERAGE(CC11:CG11),\"--------\")","v":"--------"},{"$f":"IFERROR(_xlfn.STDEV.S(CC11:CG11),\"--------\")","v":"--------"},{"$f":"IFERROR(HR11/$GY11*100,\"--------\")","v":"--------"},{"$f":"IFERROR(HS11/HR11*100,\"--------\")","v":"--------"},{"$f":"IF(HT11<70,\"uygun değil\",IF(HT11>120,\"uygun değil\",\"uygun\"))","v":"uygun değil"},{"$f":"IF(HU11<0,\"uygun değil\",IF(HU11<20,\"uygun\",\"uygun değil\"))","v":"uygun değil"},{"$f":"IFERROR(AVERAGE(CH11:CL11),\"--------\")","v":"--------"},{"$f":"IFERROR(_xlfn.STDEV.S(CH11:CL11),\"--------\")","v":"--------"},{"$f":"IFERROR(HX11/$GY11*100,\"--------\")","v":"--------"},{"$f":"IFERROR(HY11/HX11*100,\"--------\")","v":"--------"},{"$f":"IF(HZ11<70,\"uygun değil\",IF(HZ11>120,\"uygun değil\",\"uygun\"))","v":"uygun değil"},{"$f":"IF(IA11<0,\"uygun değil\",IF(IA11<20,\"uygun\",\"uygun değil\"))","v":"uygun değil"},{"$f":"IFERROR(AVERAGE(CM11:CQ11),\"--------\")","v":"--------"},{"$f":"IFERROR(_xlfn.STDEV.S(CM11:CQ11),\"--------\")","v":"--------"},{"$f":"IFERROR(ID11/$GY11*100,\"--------\")","v":"--------"},{"$f":"IFERROR(IE11/ID11*100,\"--------\")","v":"--------"},{"$f":"IF(IF11<70,\"uygun değil\",IF(IF11>120,\"uygun değil\",\"uygun\"))","v":"uygun değil"},{"$f":"IF(IG11<0,\"uygun değil\",IF(IG11<20,\"uygun\",\"uygun değil\"))","v":"uygun değil"},{"$nulls":31},1,"Metominostrobin (Z+E)",{"$f":"$AE11","v":10},{"$f":"IF((((AF11/($AE11))-1)^2)=1,\"\",(((AF11/($AE11))-1)^2))","v":4.4089600000000017E-3},{"$f":"IF((((AG11/($AE11))-1)^2)=1,\"\",(((AG11/($AE11))-1)^2))","v":8.2992099999999926E-3},{"$f":"IF((((AH11/($AE11))-1)^2)=1,\"\",(((AH11/($AE11))-1)^2))","v":2.8696359999999997E-2},{"$f":"IF((((AI11/($AE11))-1)^2)=1,\"\",(((AI11/($AE11))-1)^2))","v":3.4595999999999981E-2},{"$f":"IF((((AJ11/($AE11))-1)^2)=1,\"\",(((AJ11/($AE11))-1)^2))","v":5.041000000000009E-3},{"$f":"IF((((AK11/($AE11))-1)^2)=1,\"\",(((AK11/($AE11))-1)^2))","v":3.794559999999985E-3},{"$f":"IF((((AL11/($AE11))-1)^2)=1,\"\",(((AL11/($AE11))-1)^2))","v":5.169609999999979E-3},{"$f":"IF((((AM11/($AE11))-1)^2)=1,\"\",(((AM11/($AE11))-1)^2))","v":3.9243609999999977E-2},{"$f":"IF((((AN11/($AE11))-1)^2)=1,\"\",(((AN11/($AE11))-1)^2))","v":3.1755239999999969E-2},{"$f":"IF((((AO11/($AE11))-1)^2)=1,\"\",(((AO11/($AE11))-1)^2))","v":1.6103610000000004E-2},{"$f":"IF((((AP11/($AE11))-1)^2)=1,\"\",(((AP11/($AE11))-1)^2))","v":4.0195600000000019E-3},{"$f":"IF((((AQ11/($AE11))-1)^2)=1,\"\",(((AQ11/($AE11))-1)^2))","v":3.1435290000000005E-2},{"$f":"IF((((AR11/($AE11))-1)^2)=1,\"\",(((AR11/($AE11))-1)^2))","v":3.6100000000000484E-6},{"$f":"IF((((AS11/($AE11))-1)^2)=1,\"\",(((AS11/($AE11))-1)^2))","v":3.720999999999993E-5},{"$f":"IF((((AT11/($AE11))-1)^2)=1,\"\",(((AT11/($AE11))-1)^2))","v":2.7922410000000009E-2},{"$f":"IF((((AU11/($AE11))-1)^2)=1,\"\",(((AU11/($AE11))-1)^2))","v":""},{"$f":"IF((((AV11/($AE11))-1)^2)=1,\"\",(((AV11/($AE11))-1)^2))","v":""},{"$f":"IF((((AW11/($AE11))-1)^2)=1,\"\",(((AW11/($AE11))-1)^2))","v":""},{"$f":"IF((((AX11/($AE11))-1)^2)=1,\"\",(((AX11/($AE11))-1)^2))","v":""},{"$f":"IF((((AY11/($AE11))-1)^2)=1,\"\",(((AY11/($AE11))-1)^2))","v":""},{"$f":"IF((((AZ11/($AE11))-1)^2)=1,\"\",(((AZ11/($AE11))-1)^2))","v":""},{"$f":"IF((((BA11/($AE11))-1)^2)=1,\"\",(((BA11/($AE11))-1)^2))","v":""},{"$f":"IF((((BB11/($AE11))-1)^2)=1,\"\",(((BB11/($AE11))-1)^2))","v":""},{"$f":"IF((((BC11/($AE11))-1)^2)=1,\"\",(((BC11/($AE11))-1)^2))","v":""},{"$f":"IF((((BD11/($AE11))-1)^2)=1,\"\",(((BD11/($AE11))-1)^2))","v":""},{"$f":"IF((((BE11/($AE11))-1)^2)=1,\"\",(((BE11/($AE11))-1)^2))","v":""},{"$f":"IF((((BF11/($AE11))-1)^2)=1,\"\",(((BF11/($AE11))-1)^2))","v":""},{"$f":"IF((((BG11/($AE11))-1)^2)=1,\"\",(((BG11/($AE11))-1)^2))","v":""},{"$f":"IF((((BH11/($AE11))-1)^2)=1,\"\",(((BH11/($AE11))-1)^2))","v":""},{"$f":"IF((((BI11/($AE11))-1)^2)=1,\"\",(((BI11/($AE11))-1)^2))","v":""},{"$f":"IF((((BN11/$BM11)-1)^2)=1,\"\",(((BN11/$BM11)-1)^2))","v":3.6802585600000007E-2},{"$f":"IF((((BO11/$BM11)-1)^2)=1,\"\",(((BO11/$BM11)-1)^2))","v":3.208397440000002E-2},{"$f":"IF((((BP11/$BM11)-1)^2)=1,\"\",(((BP11/$BM11)-1)^2))","v":3.6404639999999988E-2},{"$f":"IF((((BQ11/$BM11)-1)^2)=1,\"\",(((BQ11/$BM11)-1)^2))","v":5.652032400000004E-3},{"$f":"IF((((BR11/$BM11)-1)^2)=1,\"\",(((BR11/$BM11)-1)^2))","v":2.0592249999999989E-2},{"$f":"IF((((BS11/$BM11)-1)^2)=1,\"\",(((BS11/$BM11)-1)^2))","v":5.7532819600000035E-2},{"$f":"IF((((BT11/$BM11)-1)^2)=1,\"\",(((BT11/$BM11)-1)^2))","v":2.4354723599999992E-2},{"$f":"IF((((BU11/$BM11)-1)^2)=1,\"\",(((BU11/$BM11)-1)^2))","v":4.888806400000013E-3},{"$f":"IF((((BV11/$BM11)-1)^2)=1,\"\",(((BV11/$BM11)-1)^2))","v":3.1897959999999996E-2},{"$f":"IF((((BW11/$BM11)-1)^2)=1,\"\",(((BW11/$BM11)-1)^2))","v":8.7347715999999982E-3},{"$f":"IF((((BX11/$BM11)-1)^2)=1,\"\",(((BX11/$BM11)-1)^2))","v":1.4883999999999972E-4},{"$f":"IF((((BY11/$BM11)-1)^2)=1,\"\",(((BY11/$BM11)-1)^2))","v":3.844000000000117E-5},{"$f":"IF((((BZ11/$BM11)-1)^2)=1,\"\",(((BZ11/$BM11)-1)^2))","v":5.2900000000000093E-4},{"$f":"IF((((CA11/$BM11)-1)^2)=1,\"\",(((CA11/$BM11)-1)^2))","v":2.3814399999999955E-3},{"$f":"IF((((CB11/$BM11)-1)^2)=1,\"\",(((CB11/$BM11)-1)^2))","v":2.2320359999999994E-2},{"$f":"IF((((CC11/$BM11)-1)^2)=1,\"\",(((CC11/$BM11)-1)^2))","v":""},{"$f":"IF((((CD11/$BM11)-1)^2)=1,\"\",(((CD11/$BM11)-1)^2))","v":""},{"$f":"IF((((CE11/$BM11)-1)^2)=1,\"\",(((CE11/$BM11)-1)^2))","v":""},{"$f":"IF((((CF11/$BM11)-1)^2)=1,\"\",(((CF11/$BM11)-1)^2))","v":""},{"$f":"IF((((CG11/$BM11)-1)^2)=1,\"\",(((CG11/$BM11)-1)^2))","v":""},{"$f":"IF((((CH11/$BM11)-1)^2)=1,\"\",(((CH11/$BM11)-1)^2))","v":""},{"$f":"IF((((CI11/$BM11)-1)^2)=1,\"\",(((CI11/$BM11)-1)^2))","v":""},{"$f":"IF((((CJ11/$BM11)-1)^2)=1,\"\",(((CJ11/$BM11)-1)^2))","v":""},{"$f":"IF((((CK11/$BM11)-1)^2)=1,\"\",(((CK11/$BM11)-1)^2))","v":""},{"$f":"IF((((CL11/$BM11)-1)^2)=1,\"\",(((CL11/$BM11)-1)^2))","v":""},{"$f":"IF((((CM11/$BM11)-1)^2)=1,\"\",(((CM11/$BM11)-1)^2))","v":""},{"$f":"IF((((CN11/$BM11)-1)^2)=1,\"\",(((CN11/$BM11)-1)^2))","v":""},{"$f":"IF((((CO11/$BM11)-1)^2)=1,\"\",(((CO11/$BM11)-1)^2))","v":""},{"$f":"IF((((CP11/$BM11)-1)^2)=1,\"\",(((CP11/$BM11)-1)^2))","v":""},{"$f":"IF((((CQ11/$BM11)-1)^2)=1,\"\",(((CQ11/$BM11)-1)^2))","v":""},{"$f":"IF((((CV11/$CU11)-1)^2)=1,\"\",(((CV11/$CU11)-1)^2))","v":1.6129000000000395E-4},{"$f":"IF((((CW11/$CU11)-1)^2)=1,\"\",(((CW11/$CU11)-1)^2))","v":5.2075239999999981E-2},{"$f":"IF((((CX11/$CU11)-1)^2)=1,\"\",(((CX11/$CU11)-1)^2))","v":3.896676000000001E-2},{"$f":"IF((((CY11/$CU11)-1)^2)=1,\"\",(((CY11/$CU11)-1)^2))","v":8.9113600000000071E-3},{"$f":"IF((((CZ11/$CU11)-1)^2)=1,\"\",(((CZ11/$CU11)-1)^2))","v":5.7760000000000103E-3},{"$f":"IF((((DA11/$CU11)-1)^2)=1,\"\",(((DA11/$CU11)-1)^2))","v":1.3876840000000029E-2},{"$f":"IF((((DB11/$CU11)-1)^2)=1,\"\",(((DB11/$CU11)-1)^2))","v":9.9999999999977966E-9},{"$f":"IF((((DC11/$CU11)-1)^2)=1,\"\",(((DC11/$CU11)-1)^2))","v":2.2081960000000019E-2},{"$f":"IF((((DD11/$CU11)-1)^2)=1,\"\",(((DD11/$CU11)-1)^2))","v":2.5401600000000001E-3},{"$f":"IF((((DE11/$CU11)-1)^2)=1,\"\",(((DE11/$CU11)-1)^2))","v":2.3592959999999986E-2},{"$f":"IF((((DF11/$CU11)-1)^2)=1,\"\",(((DF11/$CU11)-1)^2))","v":2.9929000000000015E-2},{"$f":"IF((((DG11/$CU11)-1)^2)=1,\"\",(((DG11/$CU11)-1)^2))","v":7.6387600000000248E-3},{"$f":"IF((((DH11/$CU11)-1)^2)=1,\"\",(((DH11/$CU11)-1)^2))","v":5.9682489999999984E-2},{"$f":"IF((((DI11/$CU11)-1)^2)=1,\"\",(((DI11/$CU11)-1)^2))","v":1.6321599999999993E-3},{"$f":"IF((((DJ11/$CU11)-1)^2)=1,\"\",(((DJ11/$CU11)-1)^2))","v":1.871424000000001E-2},{"$f":"IF((((DK11/$CU11)-1)^2)=1,\"\",(((DK11/$CU11)-1)^2))","v":""},{"$f":"IF((((DL11/$CU11)-1)^2)=1,\"\",(((DL11/$CU11)-1)^2))","v":""},{"$f":"IF((((DM11/$CU11)-1)^2)=1,\"\",(((DM11/$CU11)-1)^2))","v":""},{"$f":"IF((((DN11/$CU11)-1)^2)=1,\"\",(((DN11/$CU11)-1)^2))","v":""},{"$f":"IF((((DO11/$CU11)-1)^2)=1,\"\",(((DO11/$CU11)-1)^2))","v":""},{"$f":"IF((((DP11/$CU11)-1)^2)=1,\"\",(((DP11/$CU11)-1)^2))","v":""},{"$f":"IF((((DQ11/$CU11)-1)^2)=1,\"\",(((DQ11/$CU11)-1)^2))","v":""},{"$f":"IF((((DR11/$CU11)-1)^2)=1,\"\",(((DR11/$CU11)-1)^2))","v":""},{"$f":"IF((((DS11/$CU11)-1)^2)=1,\"\",(((DS11/$CU11)-1)^2))","v":""},{"$f":"IF((((DT11/$CU11)-1)^2)=1,\"\",(((DT11/$CU11)-1)^2))","v":""},{"$f":"IF((((DU11/$CU11)-1)^2)=1,\"\",(((DU11/$CU11)-1)^2))","v":""},{"$f":"IF((((DV11/$CU11)-1)^2)=1,\"\",(((DV11/$CU11)-1)^2))","v":""},{"$f":"IF((((DW11/$CU11)-1)^2)=1,\"\",(((DW11/$CU11)-1)^2))","v":""},{"$f":"IF((((DX11/$CU11)-1)^2)=1,\"\",(((DX11/$CU11)-1)^2))","v":""},{"$f":"IF((((DY11/$CU11)-1)^2)=1,\"\",(((DY11/$CU11)-1)^2))","v":""},{"$f":"IF((((ED11/$EC11)-1)^2)=1,\"\",((ED11/$EC11)-1)^2)","v":1.6225664400000013E-2},{"$f":"IF((((EE11/$EC11)-1)^2)=1,\"\",((EE11/$EC11)-1)^2)","v":6.2920705600000029E-2},{"$f":"IF((((EF11/$EC11)-1)^2)=1,\"\",((EF11/$EC11)-1)^2)","v":8.1540900000000079E-3},{"$f":"IF((((EG11/$EC11)-1)^2)=1,\"\",((EG11/$EC11)-1)^2)","v":2.4542355600000006E-2},{"$f":"IF((((EH11/$EC11)-1)^2)=1,\"\",((EH11/$EC11)-1)^2)","v":4.4809636000000003E-3},{"$f":"IF((((EI11/$EC11)-1)^2)=1,\"\",((EI11/$EC11)-1)^2)","v":6.8856804000000087E-3},{"$f":"IF((((EJ11/$EC11)-1)^2)=1,\"\",((EJ11/$EC11)-1)^2)","v":3.1449475599999978E-2},{"$f":"IF((((EK11/$EC11)-1)^2)=1,\"\",((EK11/$EC11)-1)^2)","v":3.4380576400000008E-2},{"$f":"IF((((EL11/$EC11)-1)^2)=1,\"\",((EL11/$EC11)-1)^2)","v":4.9000249600000004E-2},{"$f":"IF((((EM11/$EC11)-1)^2)=1,\"\",((EM11/$EC11)-1)^2)","v":3.224179360000002E-2},{"$f":"IF((((EN11/$EC11)-1)^2)=1,\"\",((EN11/$EC11)-1)^2)","v":8.3984040000000036E-4},{"$f":"IF((((EO11/$EC11)-1)^2)=1,\"\",((EO11/$EC11)-1)^2)","v":8.4934655999999824E-3},{"$f":"IF((((EP11/$EC11)-1)^2)=1,\"\",((EP11/$EC11)-1)^2)","v":3.1764495999999963E-3},{"$f":"IF((((EQ11/$EC11)-1)^2)=1,\"\",((EQ11/$EC11)-1)^2)","v":1.0995856000000051E-3},{"$f":"IF((((ER11/$EC11)-1)^2)=1,\"\",((ER11/$EC11)-1)^2)","v":2.0311950399999994E-2},{"$f":"IF((((ES11/$EC11)-1)^2)=1,\"\",((ES11/$EC11)-1)^2)","v":""},{"$f":"IF((((ET11/$EC11)-1)^2)=1,\"\",((ET11/$EC11)-1)^2)","v":""},{"$f":"IF((((EU11/$EC11)-1)^2)=1,\"\",((EU11/$EC11)-1)^2)","v":""},{"$f":"IF((((EV11/$EC11)-1)^2)=1,\"\",((EV11/$EC11)-1)^2)","v":""},{"$f":"IF((((EW11/$EC11)-1)^2)=1,\"\",((EW11/$EC11)-1)^2)","v":""},{"$f":"IF((((EX11/$EC11)-1)^2)=1,\"\",((EX11/$EC11)-1)^2)","v":""},{"$f":"IF((((EY11/$EC11)-1)^2)=1,\"\",((EY11/$EC11)-1)^2)","v":""},{"$f":"IF((((EZ11/$EC11)-1)^2)=1,\"\",((EZ11/$EC11)-1)^2)","v":""},{"$f":"IF((((FA11/$EC11)-1)^2)=1,\"\",((FA11/$EC11)-1)^2)","v":""},{"$f":"IF((((FB11/$EC11)-1)^2)=1,\"\",((FB11/$EC11)-1)^2)","v":""},{"$f":"IF((((FC11/$EC11)-1)^2)=1,\"\",((FC11/$EC11)-1)^2)","v":""},{"$f":"IF((((FD11/$EC11)-1)^2)=1,\"\",((FD11/$EC11)-1)^2)","v":""},{"$f":"IF((((FE11/$EC11)-1)^2)=1,\"\",((FE11/$EC11)-1)^2)","v":""},{"$f":"IF((((FF11/$EC11)-1)^2)=1,\"\",((FF11/$EC11)-1)^2)","v":""},{"$f":"IF((((FG11/$EC11)-1)^2)=1,\"\",((FG11/$EC11)-1)^2)","v":""},{"$f":"COUNT(JR11:OG11)","v":60},{"$f":"SUM(JR11:OG11)","v":1.1146709600000004},{"$f":"SQRT(OI11/OH11)","v":0.13630058449373333},null,1,"Metominostrobin (Z+E)",{"$f":"CU11","v":10},{"$f":"AVERAGE(CV11,DA11,DF11,DK11,DP11,DU11)","v":10.226333333333333},{"$f":"AVERAGE(CW11,DB11,DG11,DL11,DQ11,DV11)","v":9.5303333333333331},{"$f":"AVERAGE(CX11,DC11,DH11,DM11,DR11,DW11)","v":9.3483333333333345},{"$f":"AVERAGE(CY11,DD11,DI11,DN11,DS11,DX11)","v":10.281333333333334},{"$f":"AVERAGE(CZ11,DE11,DJ11,DO11,DT11,DY11)","v":11.221333333333334},{"$f":"COUNT(CV11,DA11,DF11,DK11,DP11,DU11)","v":3},5,{"$f":"IF(CV11=0,\"\",(CV11-OO11))","v":-9.9333333333332163E-2},{"$f":"IF(CW11=0,\"\",(CW11-OP11))","v":-1.8123333333333331},{"$f":"IF(CX11=0,\"\",(CX11-OQ11))","v":2.6256666666666657},{"$f":"IF(CY11=0,\"\",(CY11-OR11))","v":0.66266666666666652},{"$f":"IF(CZ11=0,\"\",(CZ11-OS11))","v":-0.46133333333333404},{"$f":"IF(DA11=0,\"\",DA11-OO11)","v":-1.4043333333333337},{"$f":"IF(DB11=0,\"\",DB11-OP11)","v":0.46866666666666745},{"$f":"IF(DC11=0,\"\",DC11-OQ11)","v":-0.83433333333333515},{"$f":"IF(DD11=0,\"\",DD11-OR11)","v":-0.78533333333333388},{"$f":"IF(DE11=0,\"\",DE11-OS11)","v":0.31466666666666576},{"$f":"IF(DF11=0,\"\",DF11-OO11)","v":1.5036666666666676},{"$f":"IF(DG11=0,\"\",DG11-OP11)","v":1.3436666666666675},{"$f":"IF(DH11=0,\"\",DH11-OQ11)","v":-1.7913333333333341},{"$f":"IF(DI11=0,\"\",DI11-OR11)","v":0.12266666666666559},{"$f":"IF(DJ11=0,\"\",DJ11-OS11)","v":0.1466666666666665},{"$f":"IF(DK11=0,\"\",DK11-OO11)","v":""},{"$f":"IF(DL11=0,\"\",DL11-OP11)","v":""},{"$f":"IF(DM11=0,\"\",DM11-OQ11)","v":""},{"$f":"IF(DN11=0,\"\",DN11-OR11)","v":""},{"$f":"IF(DO11=0,\"\",DO11-OS11)","v":""},{"$f":"IF(DP11=0,\"\",DP11-OO11)","v":""},{"$f":"IF(DQ11=0,\"\",DQ11-OP11)","v":""},{"$f":"IF(DR11=0,\"\",DR11-OQ11)","v":""},{"$f":"IF(DS11=0,\"\",DS11-OR11)","v":""},{"$f":"IF(DT11=0,\"\",DT11-OS11)","v":""},{"$f":"IF(DU11=0,\"\",DU11-OO11)","v":""},{"$f":"IF(DV11=0,\"\",DV11-OP11)","v":""},{"$f":"IF(DW11=0,\"\",DW11-OQ11)","v":""},{"$f":"IF(DX11=0,\"\",DX11-OR11)","v":""},{"$f":"IF(DY11=0,\"\",DY11-OS11)","v":""},{"$f":"AVERAGE(OO11:OS11)","v":10.121533333333335},{"$f":"(PZ11/ON11*100)","v":101.21533333333335},{"$f":"(SUMSQ((PZ11-OO11),(PZ11-OP11),(PZ11-OQ11),(PZ11-OR11),(PZ11-OS11)))*(1/(OU11-1))*OT11","v":1.6450760999999998},{"$f":"SUMSQ(OV11:PY11)","v":21.756063333333341},{"$f":"OU11*(OT11-1)","v":10},{"$f":"QC11/QD11","v":2.175606333333334},{"$f":"IF(((QB11-QE11)/OT11)<0,0,((QB11-QE11)/OT11))","v":0},{"$f":"QE11+IF(QF11>=0,QF11,0)","v":2.175606333333334},{"$f":"SQRT(QG11)","v":1.4749936723028116},{"$f":"QH11/PZ11","v":0.14572828283291839},{"$f":"QI11*100","v":14.572828283291839},{"$f":"COUNT(CV11:DY11)","v":15},{"$f":"IF(QA11<70,\"UYGUN DEĞİL\",IF(QA11>120,\"UYGUN DEĞİL\",\"UYGUN  \"))","v":"UYGUN  "},{"$f":"IF(QJ11<20,\"UYGUN  \",\"UYGUN DEĞİL\")","v":"UYGUN  "},{"$f":"(QI11^2)*(QK11-1)","v":0.29731425384403476},null,1,"Metominostrobin (Z+E)",{"$f":"EC11","v":50},{"$f":"(SUM(ED11,EI11,EN11,ES11,EX11,FC11))/(COUNT(ED11,EI11,EN11,ES11,EX11,FC11))","v":46.976999999999997},{"$f":"(SUM(EE11,EJ11,EO11,ET11,EY11,FD11))/(COUNT(EE11,EJ11,EO11,ET11,EY11,FD11))","v":41.327666666666666},{"$f":"(SUM(EF11,EK11,EP11,EU11,EZ11,FE11))/(COUNT(EF11,EK11,EP11,EU11,EZ11,FE11))","v":46.343999999999994},{"$f":"(SUM(EG11,EL11,EQ11,EV11,FA11,FF11))/(COUNT(EG11,EL11,EQ11,EV11,FA11,FF11))","v":44.252333333333333},{"$f":"(SUM(EH11,EM11,ER11,EW11,FB11,FG11))/(COUNT(EH11,EM11,ER11,EW11,FB11,FG11))","v":43.516333333333336},{"$f":"COUNT(ED11,EI11,EN11,ES11,EX11,FC11)","v":3},5,{"$f":"IF(ED11=0,\"\",(ED11-QS11))","v":-3.3459999999999965},{"$f":"IF(EE11=0,\"\",(EE11-QT11))","v":-3.8696666666666673},{"$f":"IF(EF11=0,\"\",(EF11-QU11))","v":-0.85899999999999466},{"$f":"IF(EG11=0,\"\",(EG11-QV11))","v":-2.085333333333331},{"$f":"IF(EH11=0,\"\",(EH11-QW11))","v":3.1366666666666632},{"$f":"IF(EI11=0,\"\",EI11-QS11)","v":-1.1259999999999977},{"$f":"IF(EJ11=0,\"\",EJ11-QT11)","v":-0.19466666666666299},{"$f":"IF(EK11=0,\"\",EK11-QU11)","v":-5.6149999999999949},{"$f":"IF(EL11=0,\"\",EL11-QV11)","v":-5.3203333333333305},{"$f":"IF(EM11=0,\"\",EM11-QW11)","v":-2.4943333333333371},{"$f":"IF(EN11=0,\"\",EN11-QS11)","v":4.4720000000000013},{"$f":"IF(EO11=0,\"\",EO11-QT11)","v":4.0643333333333374},{"$f":"IF(EP11=0,\"\",EP11-QU11)","v":6.4740000000000038},{"$f":"IF(EQ11=0,\"\",EQ11-QV11)","v":7.4056666666666686},{"$f":"IF(ER11=0,\"\",ER11-QW11)","v":-0.6423333333333332},{"$f":"IF(ES11=0,\"\",ES11-QS11)","v":""},{"$f":"IF(ET11=0,\"\",ET11-QT11)","v":""},{"$f":"IF(EU11=0,\"\",EU11-QU11)","v":""},{"$f":"IF(EV11=0,\"\",EV11-QV11)","v":""},{"$f":"IF(EW11=0,\"\",EW11-QW11)","v":""},{"$f":"IF(EX11=0,\"\",EX11-QS11)","v":""},{"$f":"IF(EY11=0,\"\",EY11-QT11)","v":""},{"$f":"IF(EZ11=0,\"\",EZ11-QU11)","v":""},{"$f":"IF(FA11=0,\"\",FA11-QV11)","v":""},{"$f":"IF(FB11=0,\"\",FB11-QW11)","v":""},{"$f":"IF(FC11=0,\"\",FC11-QS11)","v":""},{"$f":"IF(FD11=0,\"\",FD11-QT11)","v":""},{"$f":"IF(FE11=0,\"\",FE11-QU11)","v":""},{"$f":"IF(FF11=0,\"\",FF11-QV11)","v":""},{"$f":"IF(FG11=0,\"\",FG11-QW11)","v":""},{"$f":"AVERAGE(QS11:QW11)","v":44.483466666666665},{"$f":"(SD11/QR11*100)","v":88.96693333333333},{"$f":"(SUMSQ((SD11-QS11),(SD11-QT11),(SD11-QU11),(SD11-QV11),(SD11-QW11)))*(1/(QY11-1))*QX11","v":15.470351933333307},{"$f":"SUMSQ(QZ11:SC11)","v":242.143608},{"$f":"QY11*(QX11-1)","v":10},{"$f":"SG11/SH11","v":24.214360800000001},{"$f":"IF(((SF11-SI11)/QX11)<0,0,((SF11-SI11)/QX11))","v":0},{"$f":"SI11+IF(SJ11>=0,SJ11,0)","v":24.214360800000001},{"$f":"SQRT(SK11)","v":4.9208089578848719},{"$f":"SL11/SD11","v":0.11062107624746435},{"$f":"SM11*100","v":11.062107624746435},{"$f":"COUNT(ED11:FG11)","v":15},{"$f":"IF(SE11<70,\"UYGUN DEĞİL\",IF(SE11>120,\"UYGUN DEĞİL\",\"UYGUN  \"))","v":"UYGUN  "},{"$f":"IF(SN11<20,\"UYGUN  \",\"UYGUN DEĞİL\")","v":"UYGUN  "},{"$f":"(SM11^2)*(SO11-1)","v":0.1713183151420625},{"$f":"IFERROR(SQRT((QN11+SR11)/((QK11-1)+(SO11-1))),\"--------\")","v":0.12937108434186206}]
[2,"2,4'-DDD","GC-MS/MS",401782,416928,null,1075769,1059058,null,2385173,2376102,null,5889154,6554453,null,12542077,13212077,null,30302013,30264516,{"$nulls":8},2,"2,4'-DDD",{"$f":"$AE$11","v":10},9.6969999999999992,11.256,11.613,8.7880000000000003,9.8659999999999997,10.595000000000001,11.911,8.9090000000000007,10.659000000000001,10.993,10.824,11.449,10.308999999999999,9.2219999999999995,8.0920000000000005,{"$nulls":16},2,"2,4'-DDD",{"$f":"$BM$11","v":50},45.338000000000001,45.335999999999999,38.436,49.847999999999999,45.447000000000003,42.625999999999998,45.073,51.499000000000002,46.042999999999999,50.069000000000003,48.582000000000001,46.473999999999997,50.512999999999998,43.238999999999997,39.369,{"$nulls":16},2,"2,4'-DDD",{"$f":"$CU$11","v":10},10.771000000000001,9.3040000000000003,11.638999999999999,11.208,11.331,10.308999999999999,11.574,9.577,9.84,11.311999999999999,8.8559999999999999,7.4,8.0939999999999994,7.9749999999999996,7.7809999999999997,{"$nulls":16},2,"2,4'-DDD",{"$f":"$EC$11","v":50},48.381999999999998,42.968000000000004,49.418999999999997,43.963000000000001,46.061,44.408000000000001,44.39,48.923000000000002,44.18,48.987000000000002,48.53,46.976999999999997,55.408000000000001,55.506,43.168999999999997,{"$nulls":16},2,"2,4'-DDD",{"$f":"$FK$11","v":10},10.244,1.1683678787094403,{"$f":"IFERROR(FL12/$FK$11*100,\"--------\")","v":102.44},11.405387336093716,"uygun","uygun",10.6134,1.0880325362782122,106.134,10.251498447982852,"uygun","uygun",9.9792000000000005,1.3339455386184249,99.792000000000002,13.367259285498085,"uygun","uygun","--------","--------","--------","--------","uygun değil","uygun değil","--------","--------","--------","--------","uygun değil","uygun değil","--------","--------","--------","--------","uygun değil","uygun değil",null,2,"2,4'-DDD",{"$f":"$GY$11","v":50},44.881000000000007,4.0910067220673199,89.762000000000015,9.1152307704091253,"uygun","uygun",47.061999999999998,3.6538197820910674,94.123999999999995,7.7638429775425344,"uygun","uygun",45.635399999999997,4.4211758956187213,91.270799999999994,9.6880401960292275,"uygun","uygun","--------","--------","--------","--------","uygun değil","uygun değil","--------","--------","--------","--------","uygun değil","uygun değil","--------","--------","--------","--------","uygun değil","uygun değil",{"$nulls":31},2,"2,4'-DDD",10,9.1809000000000638E-4,1.5775359999999985E-2,2.601769E-2,1.4689439999999995E-2,1.7956000000000211E-4,3.540250000000013E-3,3.6519210000000017E-2,1.1902809999999995E-2,4.3428100000000094E-3,9.8604899999999891E-3,6.7897600000000049E-3,2.0996010000000009E-2,9.548099999999955E-4,6.0528400000000142E-3,3.6404639999999988E-2,"","","","","","","","","","","","","","","",8.6936975999999978E-3,8.7011584000000058E-3,5.349043840000002E-2,9.2416000000002589E-6,8.2919235999999851E-3,2.1750350400000017E-2,9.7101315999999927E-3,8.9880040000000702E-4,6.2631395999999985E-3,1.9044000000004385E-6,8.0428959999999665E-4,4.973070400000004E-3,1.0526759999999868E-4,1.82844484E-2,4.5207264400000016E-2,"","","","","","","","","","","","","","","",5.9444100000000258E-3,4.8441599999999993E-3,2.6863209999999978E-2,1.4592640000000004E-2,1.771561E-2,9.548099999999955E-4,2.4774759999999996E-2,1.7892900000000005E-3,2.5600000000000048E-4,1.7213439999999997E-2,1.3087360000000013E-2,6.7600000000000007E-2,3.6328360000000039E-2,4.1006250000000008E-2,4.9239609999999996E-2,"","","","","","","","","","","","","","","",1.0471696000000036E-3,1.9779609599999966E-2,1.3502440000000174E-4,1.457814759999999E-2,6.206288399999994E-3,1.2508185599999987E-2,1.2588839999999992E-2,4.6397160000000013E-4,1.3548960000000014E-2,4.1046759999999774E-4,8.6435999999999891E-4,3.6554116000000083E-3,1.1698585600000007E-2,1.2126414399999999E-2,1.8665024400000021E-2,"","","","","","","","","","","","","","","",60,0.83261526680000009,0.11780034428359425,null,2,"2,4'-DDD",10,9.9786666666666672,9.4260000000000002,9.7700000000000014,9.674333333333335,10.141333333333334,3,5,0.79233333333333356,-0.12199999999999989,1.868999999999998,1.5336666666666652,1.1896666666666658,0.33033333333333204,2.1479999999999997,-0.19300000000000139,0.16566666666666485,1.1706666666666656,-1.1226666666666674,-2.0259999999999998,-1.6760000000000019,-1.6993333333333354,-2.3603333333333341,"","","","","","","","","","","","","","","",9.7980666666666671,97.980666666666679,0.22873473333333327,30.694396000000001,10,3.0694395999999999,0,3.0694395999999999,1.7519816209081647,0.17880891001369298,15.242000000000001,15,"UYGUN  ","UYGUN  ",0.44761676820398932,null,2,"2,4'-DDD",50,47.106666666666662,44.778333333333336,51.25,47.883000000000003,46.072333333333326,3,5,1.2753333333333359,-1.8103333333333325,-1.8310000000000031,-3.9200000000000017,-1.1333333333325868E-2,-2.6986666666666608,-0.38833333333333542,-2.3269999999999982,-3.703000000000003,2.9146666666666761,1.4233333333333391,2.1986666666666608,4.1580000000000013,7.6229999999999976,-2.9033333333333289,"","","","","","","","","","","","","","","",47.418066666666661,94.836133333333322,17.832027233333342,149.367346,10,14.936734599999999,0.96509754444444751,15.901832144444446,3.9877101379669568,8.4096852071157635E-2,8.4096852071157642,15,"UYGUN  ","UYGUN  ",9.9011927395894386E-2,0.13972277342753242]
[3,"2,4'-DDE","GC-MS/MS",713665,570918,null,1935421,1856538,null,2859118,3201820,null,8392633,9592161,null,18882184,16594308,null,39559419,31084676,{"$nulls":8},3,"2,4'-DDE",10,9.4860000000000007,11.364000000000001,11.028,8.7189999999999994,9.6430000000000007,10.513,11.545,8.7680000000000007,11.855,11.545999999999999,11.688000000000001,11.17,10.157,8.7639999999999993,7.6890000000000001,{"$nulls":16},3,"2,4'-DDE",50,46.392000000000003,46.646999999999998,39.417999999999999,51.360999999999997,46.087000000000003,41.673999999999999,45.314999999999998,50.948,43.774999999999999,49.603000000000002,50.521999999999998,48.393999999999998,51.935000000000002,45.57,41.515000000000001,{"$nulls":16},3,"2,4'-DDE",10,10.334,8.7159999999999993,11.196999999999999,10.936,11.242000000000001,9.8000000000000007,11.087,9.2439999999999998,9.6539999999999999,10.976000000000001,9.9939999999999998,7.4489999999999998,7.5780000000000003,8.4339999999999993,7.0519999999999996,{"$nulls":16},3,"2,4'-DDE",50,49.210999999999999,43.648000000000003,49.826999999999998,41.976999999999997,45.417999999999999,43.737000000000002,41.774999999999999,50.41,43.51,50.284999999999997,48.792000000000002,47.003,54.685000000000002,54.981000000000002,35.975999999999999,{"$nulls":16},3,"2,4'-DDE",10,10.048,1.1111217305048087,100.47999999999999,11.058138241488939,"uygun","uygun",10.8454,1.2674436082130212,108.45400000000001,11.68646253907667,"uygun","uygun",9.8935999999999993,1.6624308406667716,98.935999999999993,16.803093319588136,"uygun","uygun","--------","--------","--------","--------","uygun değil","uygun değil","--------","--------","--------","--------","uygun değil","uygun değil","--------","--------","--------","--------","uygun değil","uygun değil",null,3,"2,4'-DDE",50,45.980999999999995,4.261486888399399,91.961999999999989,9.2679299893421199,"uygun","uygun",46.263000000000005,3.9132018220378062,92.52600000000001,8.4585993602615606,"uygun","uygun",47.587199999999996,4.1565626062889995,95.174399999999991,8.7346231891958332,"uygun","uygun","--------","--------","--------","--------","uygun değil","uygun değil","--------","--------","--------","--------","uygun değil","uygun değil","--------","--------","--------","--------","uygun değil","uygun değil",{"$nulls":31},3,"2,4'-DDE",10,2.6419599999999888E-3,1.8604960000000021E-2,1.056784E-2,1.6409610000000026E-2,1.2744899999999966E-3,2.6316899999999899E-3,2.3870250000000027E-2,1.5178239999999994E-2,3.4410249999999996E-2,2.3901159999999953E-2,2.8493440000000019E-2,1.3688999999999998E-2,2.464900000000015E-4,1.5276960000000011E-2,5.340720999999999E-2,"","","","","","","","","","","","","","","",5.207065599999984E-3,4.4970436000000011E-3,4.4791489600000019E-2,7.4092840000000118E-4,6.1246275999999817E-3,2.7728910400000001E-2,8.7796900000000015E-3,3.5948160000000333E-4,1.5500250000000014E-2,6.304359999999916E-5,1.089936000000001E-4,1.0316944000000024E-3,1.4976899999999966E-3,7.8499600000000013E-3,2.8798089999999988E-2,"","","","","","","","","","","","","","","",1.1155599999999916E-3,1.6486560000000018E-2,1.4328089999999981E-2,8.7609599999999826E-3,1.5425640000000022E-2,3.9999999999999628E-4,1.1815690000000004E-2,5.7153600000000001E-3,1.1971599999999975E-3,9.5257600000000255E-3,3.6000000000005394E-7,6.5076010000000004E-2,5.8660839999999985E-2,2.4523560000000024E-2,8.6907040000000033E-2,"","","","","","","","","","","","","","","",2.4900840000000051E-4,1.6139161599999983E-2,1.1971600000000129E-5,2.5747411600000016E-2,8.3978896000000101E-3,1.5690067599999982E-2,2.7060249999999994E-2,6.7239999999999756E-5,1.6848040000000009E-2,3.2490000000000436E-5,5.8370559999999805E-4,3.5928035999999992E-3,8.7796900000000223E-3,9.9241444000000081E-3,7.8669030400000034E-2,"","","","","","","","","","","","","","","",60,0.94541400280000021,0.12552649141383132,null,3,"2,4'-DDE",10,10.042666666666667,9.0839999999999979,9.3396666666666661,9.674666666666667,9.7566666666666677,3,5,0.29133333333333233,-0.36799999999999855,1.8573333333333331,1.261333333333333,1.4853333333333332,-0.24266666666666659,2.0030000000000019,-9.5666666666666345E-2,-2.0666666666667055E-2,1.2193333333333332,-4.8666666666667524E-2,-1.634999999999998,-1.7616666666666658,-1.2406666666666677,-2.7046666666666681,"","","","","","","","","","","","","","","",9.5795333333333339,95.795333333333346,0.41850626666666924,27.667950666666673,10,2.7667950666666674,0,2.7667950666666674,1.6633685901407023,0.17363774750412708,13.422000000000001,15,"UYGUN  ","UYGUN  ",0.42210094301629786,null,3,"2,4'-DDE",50,47.24666666666667,44.141999999999996,51.640666666666668,46.822666666666663,43.893000000000001,3,5,1.9643333333333288,-0.49399999999999267,-1.8136666666666699,-4.8456666666666663,1.5249999999999986,-3.5096666666666678,-2.3669999999999973,-1.2306666666666715,-3.3126666666666651,6.3919999999999959,1.5453333333333319,2.8610000000000042,3.0443333333333342,8.1583333333333385,-7.9170000000000016,"","","","","","","","","","","","","","","",46.749000000000002,93.498000000000005,29.351015000000025,253.54318600000005,10,25.354318600000006,1.3322321333333396,26.686550733333345,5.1659027026583981,0.11050295626983246,11.050295626983246,15,"UYGUN  ","UYGUN  ",0.17095264682121508,0.14553516877833944]
[4,"2,4'-DDT","GC-MS/MS",8074420,9823990,null,21117792,27498643,null,45936821,48441290,null,126681718,135598148,null,262761897,256976579,null,526082908,524653712,{"$nulls":8},4,"2,4'-DDT",10,9.06,11.454000000000001,11.286,7.774,9.0419999999999998,9.7799999999999994,10.419,7.4640000000000004,10.571,10.553000000000001,10.311999999999999,11.683,10.441000000000001,9.89,8.6419999999999995,{"$nulls":16},4,"2,4'-DDT",50,40.121000000000002,39.869,44.125,41.408000000000001,38.457000000000001,41.569000000000003,56.466999999999999,42.04,45.329000000000001,48.543999999999997,49.137999999999998,44.494,50.524000000000001,41.537999999999997,39.085000000000001,{"$nulls":16},4,"2,4'-DDT",10,8.1289999999999996,7.12,7.1269999999999998,7.633,7.0590000000000002,7.8289999999999997,9.1199999999999992,9.0280000000000005,8.3539999999999992,7.375,9.6649999999999991,8.0670000000000002,7.8879999999999999,8.8049999999999997,7.6349999999999998,{"$nulls":16},4,"2,4'-DDT",50,49.14,42.642000000000003,58.808,41.337000000000003,42.414000000000001,48.722999999999999,53.933,36.801000000000002,41.253,45.631999999999998,36.542000000000002,37.389000000000003,41.124000000000002,39.308,41.46,{"$nulls":16},4,"2,4'-DDT",10,9.7232000000000021,1.5922673142409087,97.232000000000014,16.375959707101657,"uygun","uygun",9.7573999999999987,1.322198283163325,97.573999999999984,13.550723380852739,"uygun","uygun",10.1936,1.094665839423155,101.93600000000001,10.738756076588791,"uygun","uygun","--------","--------","--------","--------","uygun değil","uygun değil","--------","--------","--------","--------","uygun değil","uygun değil","--------","--------","--------","--------","uygun değil","uygun değil",null,4,"2,4'-DDT",50,40.796000000000006,2.1355713521210191,81.592000000000013,5.2347567215438247,"uygun","uygun",46.7898,6.0966529095889781,93.579599999999999,13.02987597636446,"uygun","uygun",44.955800000000004,4.8697165420586863,89.911600000000007,10.832231974647733,"uygun","uygun","--------","--------","--------","--------","uygun değil","uygun değil","--------","--------","--------","--------","uygun değil","uygun değil","--------","--------","--------","--------","uygun değil","uygun değil",{"$nulls":31},4,"2,4'-DDT",10,8.8359999999999949E-3,2.1141159999999992E-2,1.6537960000000011E-2,4.9550760000000006E-2,9.1776399999999991E-3,4.8400000000000087E-4,1.755610000000004E-3,6.4312959999999975E-2,3.2604099999999918E-3,3.0580900000000142E-3,9.7343999999999339E-4,2.8324889999999964E-2,1.9448100000000025E-3,1.2099999999999778E-4,1.8441640000000009E-2,"","","","","","","","","","","","","","","",3.9037856399999994E-2,4.1054864400000009E-2,1.3806250000000011E-2,2.9528985599999998E-2,5.3296339599999978E-2,2.8432704399999998E-2,1.6728835600000002E-2,2.5344640000000002E-2,8.7272963999999904E-3,8.4797440000000202E-4,2.9721760000000114E-4,1.2126414399999999E-2,1.0983040000000093E-4,2.864217760000002E-2,4.7654889999999971E-2,"","","","","","","","","","","","","","","",3.5006410000000016E-2,8.2944000000000018E-2,8.2541290000000003E-2,5.602689000000001E-2,8.6494810000000019E-2,4.7132410000000027E-2,7.7440000000000139E-3,9.4478399999999903E-3,2.7093160000000026E-2,6.8906249999999974E-2,1.1222500000000056E-3,3.7364890000000012E-2,4.4605440000000024E-2,1.4280250000000012E-2,5.5932250000000024E-2,"","","","","","","","","","","","","","","",2.9583999999999974E-4,2.1656065599999986E-2,3.1032345600000032E-2,3.0019027599999991E-2,2.3018958399999991E-2,6.5229160000000036E-4,6.1873955999999924E-3,6.9685440399999993E-2,3.0604003599999995E-2,7.6317695999999985E-3,7.2447105599999978E-2,6.3614928399999937E-2,3.1513350399999966E-2,4.5727545600000009E-2,2.9172639999999982E-2,"","","","","","","","","","","","","","","",60,1.6934574948000003,0.16800086779537779,null,4,"2,4'-DDT",10,8.5409999999999986,8.1023333333333323,8.0143333333333331,8.2639999999999993,7.3563333333333345,3,5,-0.41199999999999903,-0.98233333333333217,-0.88733333333333331,-0.63099999999999934,-0.29733333333333434,-0.71199999999999886,1.0176666666666669,1.0136666666666674,8.9999999999999858E-2,1.8666666666665499E-2,1.1240000000000006,-3.5333333333332106E-2,-0.12633333333333319,0.54100000000000037,0.27866666666666529,"","","","","","","","","","","","","","","",8.0556000000000001,80.556000000000012,0.57892839999999746,6.6381299999999976,10,0.66381299999999976,0,0.66381299999999976,0.81474720005655732,0.10114047371475214,{"$f":"QI14*100","v":10.114047371475214},15,"UYGUN  ","UYGUN  ",0.14321153592542257,null,4,"2,4'-DDT",50,44.801666666666669,44.654666666666664,45.577666666666666,40.632666666666665,43.168666666666667,3,5,4.3383333333333312,-2.0126666666666608,13.230333333333334,0.70433333333333792,-0.75466666666666526,3.9213333333333296,9.278333333333336,-8.7766666666666637,0.62033333333333474,2.4633333333333312,-8.2596666666666678,-7.2656666666666609,-4.4536666666666633,-1.3246666666666655,-1.7086666666666659,"","","","","","","","","","","","","","","",43.767066666666665,87.53413333333333,11.489286900000003,529.44775333333314,10,52.944775333333311,0,52.944775333333311,7.2763160550743882,0.16625094184381534,16.625094184381535,15,"UYGUN  ","UYGUN  ",0.38695125929537938,0.1376022730320981]
[5,"2,6-Dichlorobenzamine","GC-MS/MS",1007358,1099832,null,2406865,2708401,null,4360713,4691026,null,13362372,13878988,null,24646713,25470901,null,50129704,49492044,{"$nulls":8},5,"2,6-Dichlorobenzamine",10,8.7319999999999993,10.545,11.725,8.2089999999999996,9.16,10.188000000000001,10.488,7.6340000000000003,10.704000000000001,11.333,9.8290000000000006,10.529,8.6479999999999997,7.6550000000000002,7.8360000000000003,{"$nulls":16},5,"2,6-Dichlorobenzamine",50,41.844000000000001,43.293999999999997,35.119999999999997,49.546999999999997,44.396999999999998,41.005000000000003,45.145000000000003,51.475000000000001,44.231000000000002,51.082000000000001,46.042999999999999,42.411999999999999,44.529000000000003,41.305999999999997,38.978000000000002,{"$nulls":16},5,"2,6-Dichlorobenzamine",10,10.196999999999999,8.3469999999999995,11.177,11.516999999999999,11.291,8.8010000000000002,9.7249999999999996,8.4250000000000007,9.5449999999999999,11.547000000000001,8.2319999999999993,7.1589999999999998,7.5350000000000001,7.6710000000000003,7.8529999999999998,{"$nulls":16},5,"2,6-Dichlorobenzamine",50,44.777000000000001,38.180999999999997,43.442,43.887,51.438000000000002,51.154000000000003,41.804000000000002,42.634999999999998,39.984999999999999,43.613,39.850999999999999,42.834000000000003,51.777000000000001,47.856999999999999,55.4,{"$nulls":16},5,"2,6-Dichlorobenzamine",10,9.674199999999999,1.4372740518078042,96.74199999999999,14.856774222238576,"uygun","uygun",10.0694,1.4247690339139272,100.69399999999999,14.149492858699894,"uygun","uygun",8.8994,1.2512299149237078,88.994,14.059710934711417,"uygun","uygun","--------","--------","--------","--------","uygun değil","uygun değil","--------","--------","--------","--------","uygun değil","uygun değil","--------","--------","--------","--------","uygun değil","uygun değil",null,5,"2,6-Dichlorobenzamine",50,42.840400000000002,5.2010727066634903,85.680800000000005,12.14057923516935,"uygun","uygun",46.587599999999995,4.5520981755669547,93.17519999999999,9.7710510426958148,"uygun","uygun",42.653600000000004,2.7563376607375232,85.307200000000009,6.4621454243897887,"uygun","uygun","--------","--------","--------","--------","uygun değil","uygun değil","--------","--------","--------","--------","uygun değil","uygun değil","--------","--------","--------","--------","uygun değil","uygun değil",{"$nulls":31},5,"2,6-Dichlorobenzamine",10,1.6078240000000008E-2,2.9702499999999994E-3,2.9756249999999956E-2,3.2076810000000011E-2,7.0559999999999937E-3,3.5344000000000564E-4,2.3814399999999955E-3,5.5979559999999963E-2,4.9561600000000029E-3,1.7768889999999992E-2,2.9240999999999637E-4,2.7984099999999942E-3,1.8279039999999996E-2,5.499024999999997E-2,4.6828959999999968E-2,"","","","","","","","","","","","","","","",2.6608134399999976E-2,1.7988174400000004E-2,8.8565760000000049E-2,8.2083600000001228E-5,1.2557443600000011E-2,3.2364009999999985E-2,9.428409999999993E-3,8.7025000000000481E-4,1.3312544399999984E-2,4.6828960000000448E-4,6.2631395999999985E-3,2.3031097600000001E-2,1.1972736399999991E-2,3.0234254400000011E-2,4.8593793599999983E-2,"","","","","","","","","","","","","","","",3.8808999999999323E-4,2.7324090000000002E-2,1.385328999999998E-2,2.3012889999999984E-2,1.6666809999999997E-2,1.4376010000000002E-2,7.5625000000000442E-4,2.4806249999999992E-2,2.0702499999999987E-3,2.3932090000000017E-2,3.1258240000000027E-2,8.071281000000001E-2,6.0762249999999969E-2,5.4242409999999998E-2,4.6096089999999999E-2,"","","","","","","","","","","","","","","",1.0911891599999999E-2,5.5875504400000019E-2,1.7202945599999984E-2,1.4947507600000009E-2,8.2713760000000685E-4,5.3268639999999947E-4,2.6869766399999984E-2,2.1697289999999998E-2,4.0120090000000011E-2,1.6317507599999993E-2,4.1200880400000021E-2,2.0540622399999969E-2,1.2630916000000091E-3,1.8369796000000007E-3,1.1663999999999973E-2,"","","","","","","","","","","","","","","",60,1.3169719527999997,0.14815374631330339,null,5,"2,6-Dichlorobenzamine",10,9.0766666666666662,8.4103333333333321,9.0456666666666674,9.5776666666666657,10.230333333333334,3,5,1.120333333333333,-6.3333333333332575E-2,2.1313333333333322,1.9393333333333338,1.0606666666666662,-0.27566666666666606,1.3146666666666675,-0.6206666666666667,-3.2666666666665733E-2,1.3166666666666664,-0.8446666666666669,-1.2513333333333323,-1.5106666666666673,-1.9066666666666654,-2.3773333333333344,"","","","","","","","","","","","","","","",9.2681333333333331,92.681333333333328,1.3827086000000022,28.460515333333333,10,2.8460515333333332,0,2.8460515333333332,1.6870244613915155,0.18202418984673457,10.243,15,"UYGUN  ","UYGUN  ",0.46385927965104101,null,5,"2,6-Dichlorobenzamine",50,45.260666666666673,40.939666666666668,45.951333333333331,43.909666666666659,50.150333333333329,3,5,-0.48366666666667157,-2.7586666666666702,-2.5093333333333305,-2.2666666666658841E-2,1.2876666666666736,5.8933333333333309,0.86433333333333451,-3.3163333333333327,-3.9246666666666599,-6.5373333333333292,-5.4096666666666735,1.8943333333333356,5.8256666666666703,3.94733333333334,5.2496666666666698,"","","","","","","","","","","","","","","",45.242333333333328,90.484666666666655,33.660316499999979,230.34760533333349,10,23.034760533333348,3.5418519888888773,26.576612522222224,5.1552509659784969,0.1139475041659765,11.394750416597651,15,"UYGUN  ","UYGUN  ",0.18177647187917326,0.15184999077216849]
[6,"2,6-Dimethylaniline","GC-MS/MS",182398,180744,null,487485,559496,null,1004077,1120788,null,3079491,3078023,null,6061621,5825467,null,10567838,10638681,{"$nulls":8},6,"2,6-Dimethylaniline",10,9.766,11.579000000000001,11.404,10.664,10.861000000000001,10.922000000000001,11.137,9.859,9.8379999999999992,9.7040000000000006,11.362,10.525,11.183,11.82,11.15,{"$nulls":16},6,"2,6-Dimethylaniline",50,40.164000000000001,47.552999999999997,40.11,41.006,46.787999999999997,42.128,42.084000000000003,48.673999999999999,43.363,44.811,57.040999999999997,54.348999999999997,54.796999999999997,53.856000000000002,35.445999999999998,{"$nulls":16},6,"2,6-Dimethylaniline",10,11.818,11.315,11.068,11.173,10.821,11.195,11.691000000000001,11.218999999999999,10.746,10.646000000000001,11.51,11.752000000000001,7.57,10.688000000000001,11.773,{"$nulls":16},6,"2,6-Dimethylaniline",50,43.32,48.834000000000003,44.720999999999997,45.067,35.345999999999997,42.314999999999998,37.936,39.118000000000002,51.320999999999998,50.491999999999997,57.942999999999998,52.618000000000002,51.948,59.393999999999998,50.139000000000003,{"$nulls":16},6,"2,6-Dimethylaniline",10,10.854800000000001,0.71554433824886088,108.548,6.5919624336594023,"uygun","uygun",10.292,0.68012388577376137,102.91999999999999,6.6082771645332423,"uygun","uygun",11.208,0.46603057839588163,112.08,4.1580172947526908,"uygun","uygun","--------","--------","--------","--------","uygun değil","uygun değil","--------","--------","--------","--------","uygun değil","uygun değil","--------","--------","--------","--------","uygun değil","uygun değil",null,6,"2,6-Dimethylaniline",50,43.124199999999995,3.7206402943579464,86.24839999999999,8.6277317477378066,"uygun","uygun",44.212000000000003,2.7322374530776043,88.424000000000007,6.1798549106070837,"uygun","uygun",51.097799999999992,8.8340607706762135,102.19559999999998,17.28853447834587,"uygun","uygun","--------","--------","--------","--------","uygun değil","uygun değil","--------","--------","--------","--------","uygun değil","uygun değil","--------","--------","--------","--------","uygun değil","uygun değil",{"$nulls":31},6,"2,6-Dimethylaniline",10,5.4755999999999891E-4,2.4932410000000047E-2,1.9712160000000024E-2,4.4089600000000017E-3,7.4132100000000112E-3,8.5008400000000112E-3,1.292769000000003E-2,1.9881000000000003E-4,2.6244000000000332E-4,8.7615999999999757E-4,1.8550440000000026E-2,2.7562499999999992E-3,1.3994890000000017E-2,3.312399999999998E-2,1.3224999999999997E-2,"","","","","","","","","","","","","","","",3.8698758400000005E-2,2.3951236000000092E-3,3.9124839999999987E-2,3.2356814400000017E-2,4.1267776000000096E-3,2.4787353600000006E-2,2.5065222399999969E-2,7.0331039999999934E-4,1.7619907599999991E-2,1.0770288399999996E-2,1.9830272399999984E-2,7.5655203999999716E-3,9.2044835999999831E-3,5.9474944000000116E-3,8.4727566400000009E-2,"","","","","","","","","","","","","","","",3.3051239999999989E-2,1.7292249999999988E-2,1.1406240000000002E-2,1.375928999999999E-2,6.74041000000001E-3,1.4280249999999986E-2,2.8594810000000009E-2,1.4859609999999975E-2,5.5651599999999996E-3,4.1731599999999987E-3,2.2801000000000005E-2,3.0695040000000007E-2,5.9048999999999997E-2,4.7334399999999959E-3,3.1435290000000005E-2,"","","","","","","","","","","","","","","",1.7848959999999983E-2,5.4382239999999516E-4,1.1147136400000025E-2,9.7337955999999941E-3,8.5895886400000065E-2,2.3623690000000017E-2,5.8216038400000024E-2,4.7367169599999974E-2,6.9801639999999404E-4,9.6825599999997029E-5,2.52364996E-2,2.741569599999996E-3,1.5178816000000082E-3,3.5298894400000017E-2,7.7284000000000258E-6,"","","","","","","","","","","","","","","",60,1.1027646579999999,0.13557068623661483,null,6,"2,6-Dimethylaniline",10,11.507666666666665,11.586,9.9523333333333337,10.869,11.079999999999998,3,5,0.31033333333333424,-0.2710000000000008,1.1156666666666659,0.30400000000000027,-0.25899999999999856,-0.31266666666666509,0.10500000000000043,1.2666666666666657,-0.12299999999999933,-0.4339999999999975,2.3333333333344086E-3,0.16600000000000037,-2.3823333333333334,-0.18099999999999916,0.69300000000000139,"","","","","","","","","","","","","","","",10.998999999999999,109.98999999999998,1.2917121666666651,9.7067553333333283,10,0.97067553333333279,0.10701221111111077,1.0776877444444435,1.0381174039791663,9.4382889715352886E-2,2.5242,15,"UYGUN  ","UYGUN  ",0.12471381819428651,null,6,"2,6-Dimethylaniline",50,47.859333333333325,46.462666666666671,45.262333333333338,51.927333333333337,45.32566666666667,3,5,-4.5393333333333246,2.3713333333333324,-0.54133333333334122,-6.8603333333333367,-9.9796666666666738,-5.5443333333333271,-8.5266666666666708,-6.1443333333333356,-0.60633333333333894,5.166333333333327,10.083666666666673,6.1553333333333313,6.6856666666666626,7.4666666666666615,4.8133333333333326,"","","","","","","","","","","","","","","",47.367466666666672,94.734933333333345,22.840135099999987,604.62076933333356,10,60.462076933333357,0,60.462076933333357,7.7757364238593736,0.16415774308933639,16.415774308933639,15,"UYGUN  ","UYGUN  ",0.37726870462658402,0.13389528462049186]
[7,"4,4'-DDD","GC-MS/MS",2045824,2222870,null,5120712,6088233,null,9127193,11107035,null,29743558,29564882,null,53952754,52846218,null,108363614,115861940,{"$nulls":8},7,"4,4'-DDD",10,8.9109999999999996,11.083,11.46,7.8380000000000001,9.4120000000000008,9.9390000000000001,11.224,7.8849999999999998,11.75,11.88,11.242000000000001,11.9,9.7650000000000006,8.5909999999999993,7.8719999999999999,{"$nulls":16},7,"4,4'-DDD",50,44.292000000000002,44.966999999999999,35.664000000000001,50.064999999999998,45.735999999999997,41.994,45.475000000000001,51.875999999999998,44.206000000000003,50.779000000000003,43.573,40.840000000000003,43.695999999999998,38.777000000000001,36.265999999999998,{"$nulls":16},7,"4,4'-DDD",10,10.026,8.0879999999999992,11.52,10.715,10.592000000000001,8.875,10.579000000000001,8.6630000000000003,9.26,10.65,10.124000000000001,11.736000000000001,9.3480000000000008,10.656000000000001,10.888,{"$nulls":16},7,"4,4'-DDD",50,46.283999999999999,40.085000000000001,47.741999999999997,43.055999999999997,46.899000000000001,45.738999999999997,43.110999999999997,44.463000000000001,40.29,45.12,47.363999999999997,43.088000000000001,48.415999999999997,47.658999999999999,35.598999999999997,{"$nulls":16},7,"4,4'-DDD",10,9.7408000000000001,1.5144697752018725,97.408000000000001,15.547693979979801,"uygun","uygun",10.535600000000001,1.6686585330737871,105.35600000000001,15.83828669533569,"uygun","uygun",9.8740000000000006,1.7060241791955884,98.740000000000009,17.277943884905696,"uygun","uygun","--------","--------","--------","--------","uygun değil","uygun değil","--------","--------","--------","--------","uygun değil","uygun değil","--------","--------","--------","--------","uygun değil","uygun değil",null,7,"4,4'-DDD",50,44.144799999999996,5.2488649915958083,88.289599999999993,11.890109348316923,"uygun","uygun",46.866,4.2766381072052377,93.731999999999999,9.1252466760663111,"uygun","uygun",40.630400000000002,3.1852711501534685,81.260800000000003,7.8396253794042599,"uygun","uygun","--------","--------","--------","--------","uygun değil","uygun değil","--------","--------","--------","--------","uygun değil","uygun değil","--------","--------","--------","--------","uygun değil","uygun değil",{"$nulls":31},7,"4,4'-DDD",10,1.1859209999999999E-2,1.1728890000000014E-2,2.1316000000000036E-2,4.6742439999999975E-2,3.4574399999999957E-3,3.720999999999993E-5,1.4981760000000016E-2,4.4732250000000008E-2,3.0625000000000017E-2,3.5344000000000063E-2,1.5425640000000022E-2,3.6099999999999979E-2,5.5224999999999838E-4,1.9852810000000005E-2,4.5283839999999999E-2,"","","","","","","","","","","","","","","",1.3032505599999984E-2,1.0132435599999995E-2,8.2208358399999987E-2,1.6899999999996276E-6,7.2726784000000039E-3,2.5638414400000014E-2,8.1902500000000048E-3,1.4077503999999998E-3,1.3428174399999996E-2,2.4273640000000465E-4,1.6522531599999998E-2,3.3562239999999972E-2,1.5896166400000019E-2,5.0382291599999997E-2,7.5449102400000023E-2,"","","","","","","","","","","","","","","",6.7599999999996659E-6,3.6557440000000017E-2,2.3103999999999975E-2,5.1122499999999849E-3,3.5046400000000168E-3,1.265625000000001E-2,3.3524100000000071E-3,1.7875689999999982E-2,5.4760000000000095E-3,4.2249999999999927E-3,1.5375999999999918E-4,3.013695999999999E-2,4.2510399999999898E-3,4.3033600000000139E-3,7.8854399999999988E-3,"","","","","","","","","","","","","","","",5.5234624000000078E-3,3.9322890000000013E-2,2.0394256000000081E-3,1.92876544E-2,3.8464803999999956E-3,7.2624484000000126E-3,1.8983328400000003E-2,1.2263347599999988E-2,3.7713640000000014E-2,9.5257600000000046E-3,2.7793984000000107E-3,1.911029760000001E-2,1.0036224000000025E-3,2.1921123999999975E-3,8.2955520400000024E-2,"","","","","","","","","","","","","","","",60,1.1138164540000004,0.13624833050964946,null,7,"4,4'-DDD",10,9.6749999999999989,10.134333333333334,9.8436666666666657,10.210333333333333,10.71,3,5,0.35100000000000087,-2.0463333333333349,1.6763333333333339,0.50466666666666704,-0.11800000000000033,-0.79999999999999893,0.44466666666666654,-1.1806666666666654,-0.95033333333333303,-6.0000000000000497E-2,0.44900000000000162,1.6016666666666666,-0.49566666666666492,0.44566666666666777,0.17799999999999905,"","","","","","","","","","","","","","","",10.114666666666666,101.14666666666668,0.47303133333333514,13.770748000000005,10,1.3770748000000004,0,1.3770748000000004,1.1734883041598669,0.11601848511994467,10,15,"UYGUN  ","UYGUN  ",0.18844404445337551,null,7,"4,4'-DDD",50,46.462333333333333,42.094666666666662,46.873666666666658,43.668333333333329,42.539333333333332,3,5,-0.17833333333333456,-2.0096666666666607,0.8683333333333394,-0.61233333333333206,4.3596666666666692,-0.72333333333333627,1.0163333333333355,-2.410666666666657,-3.3783333333333303,2.5806666666666658,0.90166666666666373,0.9933333333333394,1.5423333333333389,3.9906666666666695,-6.940333333333335,"","","","","","","","","","","","","","","",44.327666666666659,88.655333333333317,14.743547499999993,117.91879933333335,10,11.791879933333336,0.98388918888888577,12.775769122222222,3.5743207917340354,8.0634083869382617E-2,12.42,15,"UYGUN  ","UYGUN  ",9.102597674036482E-2,9.990531610225116E-2]
[8,"4,4'-DDE","GC-MS/MS",5665976,5446276,null,10735766,11914708,null,21724788,21890062,null,50383042,47955118,null,96321052,92600526,null,185350743,175080139,{"$nulls":8},8,"4,4'-DDE",10,9.0060000000000002,11.872,11.893000000000001,8.6980000000000004,9.6349999999999998,10.785,11.911,8.8640000000000008,11.507,11.381,10.635,10.396000000000001,8.5429999999999993,7.2480000000000002,10.022,{"$nulls":16},8,"4,4'-DDE",50,46.177999999999997,47.052999999999997,36.686,48.387,46.165999999999997,41.424999999999997,46.454999999999998,49.91,44.832000000000001,46.692999999999998,49.465000000000003,46.14,47.951999999999998,45.027000000000001,40.012999999999998,{"$nulls":16},8,"4,4'-DDE",10,11.035,8.7409999999999997,11.536,10.481,11.17,10.114000000000001,11.204000000000001,9.3580000000000005,9.11,11.202,7.9939999999999998,9.0530000000000008,8.5779999999999994,10.712999999999999,10.257999999999999,{"$nulls":16},8,"4,4'-DDE",50,50.987000000000002,43.508000000000003,50.976999999999997,45.042999999999999,47.993000000000002,42.808,43.308,49.64,43.509,46.914999999999999,46.517000000000003,45.991,54.454000000000001,52.935000000000002,42.923000000000002,{"$nulls":16},8,"4,4'-DDE",10,10.220800000000001,1.554070043466514,102.20800000000001,15.204974595594415,"uygun","uygun",10.8896,1.2020722939989918,108.89599999999999,11.038718538780046,"uygun","uygun",9.3687999999999985,1.4374291982564038,93.687999999999988,15.342724770049571,"uygun","uygun","--------","--------","--------","--------","uygun değil","uygun değil","--------","--------","--------","--------","uygun değil","uygun değil","--------","--------","--------","--------","uygun değil","uygun değil",null,8,"4,4'-DDE",50,44.893999999999998,4.6770779873763058,89.787999999999997,10.418046926930783,"uygun","uygun",45.863,3.0893517928523448,91.725999999999999,6.7360438542013057,"uygun","uygun",45.7194,3.6136320094885162,91.438800000000001,7.9039357679420901,"uygun","uygun","--------","--------","--------","--------","uygun değil","uygun değil","--------","--------","--------","--------","uygun değil","uygun değil","--------","--------","--------","--------","uygun değil","uygun değil",{"$nulls":31},8,"4,4'-DDE",10,9.8803599999999873E-3,3.5043840000000014E-2,3.5834490000000011E-2,1.6952039999999995E-2,1.3322499999999984E-3,6.1622500000000019E-3,3.6519210000000017E-2,1.2904959999999983E-2,2.2710490000000017E-2,1.907161000000003E-2,4.0322499999999864E-3,1.5681600000000064E-3,2.1228490000000017E-2,7.5735040000000003E-2,4.8399999999999113E-6,"","","","","","","","","","","","","","","",5.8430736000000096E-3,3.4739236000000122E-3,7.0905038399999981E-2,1.040707599999997E-3,5.8798224000000121E-3,2.9412250000000032E-2,5.0268100000000109E-3,3.2400000000000859E-6,1.0683289600000001E-2,4.3744996000000119E-3,1.1448999999999855E-4,5.9598399999999897E-3,1.6777215999999996E-3,9.8922915999999986E-3,3.9896067600000008E-2,"","","","","","","","","","","","","","","",1.0712249999999984E-2,1.5850810000000003E-2,2.3592959999999986E-2,2.3136100000000028E-3,1.3688999999999998E-2,1.2996000000000174E-4,1.4496160000000015E-2,4.1216399999999898E-3,7.9210000000000148E-3,1.444804000000002E-2,4.0240360000000003E-2,8.9680899999999807E-3,2.0220840000000028E-2,5.0836899999999888E-3,6.656399999999909E-4,"","","","","","","","","","","","","","","",3.8966760000000357E-4,1.6858425599999987E-2,3.8181159999999573E-4,9.8287396000000006E-3,1.6112195999999962E-3,2.0689945599999992E-2,1.7913145599999989E-2,5.1839999999999775E-5,1.6853232400000012E-2,3.8068899999999972E-3,4.8525155999999924E-3,6.4288324000000042E-3,7.9352464000000088E-3,3.4456899999999969E-3,2.0033571600000001E-2,"","","","","","","","","","","","","","","",60,0.80669816920000015,0.11595244493613177,null,8,"4,4'-DDE",10,9.7143333333333342,9.6660000000000004,9.8239999999999998,10.101333333333335,10.876666666666665,3,5,1.320666666666666,-0.92500000000000071,1.7119999999999997,0.37966666666666526,0.29333333333333478,0.39966666666666661,1.5380000000000003,-0.4659999999999993,-0.99133333333333518,0.32533333333333481,-1.7203333333333344,-0.61299999999999955,-1.2460000000000004,0.61166666666666458,-0.61866666666666603,"","","","","","","","","","","","","","","",10.036466666666666,100.36466666666666,0.74722593333333098,15.236554,10,1.5236554,0,1.5236554,1.2343643708403123,0.12298794105896953,{"$f":"QI18*100","v":12.298794105896953},15,"UYGUN  ","UYGUN  ",0.21176447104294388,null,8,"4,4'-DDE",50,46.770666666666671,44.269000000000005,51.690333333333335,47.162333333333329,45.943666666666672,3,5,4.2163333333333313,-0.76100000000000279,-0.71333333333333826,-2.11933333333333,2.0493333333333297,-3.9626666666666708,-0.96100000000000563,-2.0503333333333345,-3.6533333333333289,0.97133333333332672,-0.2536666666666676,1.7219999999999942,2.7636666666666656,5.7726666666666731,-3.0206666666666706,"","","","","","","","","","","","","","","",47.167200000000001,94.334400000000002,22.884445933333307,115.79281266666672,10,11.579281266666673,3.7683882222222116,15.347669488888885,3.9176101757179573,8.3057933812436549E-2,{"$f":"SM18*100","v":8.3057933812436548},15,"UYGUN  ","UYGUN  ",9.6580685168675268E-2,0.10493963506491638]
[9,"4,4'-DDT","GC-MS/MS",759639,844838,null,2437606,3070132,null,4907503,5012023,null,14158775,15952621,null,30772875,30264055,null,60966039,59047118,{"$nulls":8},9,"4,4'-DDT",10,11.43,11.914,11.909000000000001,10.111000000000001,11.069000000000001,11.382,11.721,9.6649999999999991,11.743,11.423,11.423999999999999,11.631,11.282999999999999,10.696999999999999,9.7050000000000001,{"$nulls":16},9,"4,4'-DDT",50,35.094000000000001,36.049999999999997,43.75,43.32,35,35.17,40,37.46,38.1,35.4,47.863999999999997,41.98,48.173000000000002,39.932000000000002,37.746000000000002,{"$nulls":16},9,"4,4'-DDT",10,9.0180000000000007,7.8170000000000002,9.1820000000000004,9.327,9.3420000000000005,8.3309999999999995,8.782,8.2230000000000008,8.7260000000000009,9.5060000000000002,10.887,9.5879999999999992,9.25,10.206,8.9499999999999993,{"$nulls":16},9,"4,4'-DDT",50,44.54,44.14,36.9,36.619999999999997,41.7,41.73,35.68,42.87,44.65,43.03,50.219000000000001,49.674999999999997,55.759,54.633000000000003,54.04,{"$nulls":16},9,"4,4'-DDT",10,11.286600000000002,0.74682012559919653,112.86600000000003,6.6168742189782259,"uygun","uygun",11.186800000000002,0.86667421791582144,111.86800000000001,7.7472933986110535,"uygun","uygun",10.947999999999999,0.77674641936735056,109.47999999999998,7.0948704728475587,"uygun","uygun","--------","--------","--------","--------","uygun değil","uygun değil","--------","--------","--------","--------","uygun değil","uygun değil","--------","--------","--------","--------","uygun değil","uygun değil",null,9,"4,4'-DDT",50,38.642800000000001,4.4873788785882756,77.285600000000002,11.612457892772458,"uygun","uygun",37.225999999999999,2.0046895021424143,74.451999999999998,5.3851864345952141,"uygun","uygun",43.139000000000003,4.7005148654163396,86.278000000000006,10.896207295988177,"uygun","uygun","--------","--------","--------","--------","uygun değil","uygun değil","--------","--------","--------","--------","uygun değil","uygun değil","--------","--------","--------","--------","uygun değil","uygun değil",{"$nulls":31},9,"4,4'-DDT",10,2.0449000000000005E-2,3.6633960000000007E-2,3.6442810000000027E-2,1.2321000000000245E-4,1.142761E-2,1.9099239999999965E-2,2.9618409999999974E-2,1.1222500000000056E-3,3.0380490000000041E-2,2.0249290000000027E-2,2.0277759999999961E-2,2.6601610000000008E-2,1.6460889999999964E-2,4.8580899999999825E-3,8.702499999999983E-4,"","","","","","","","","","","","","","","",8.887553439999997E-2,7.7841000000000021E-2,1.5625E-2,1.7848959999999983E-2,9.0000000000000024E-2,8.797155999999999E-2,3.999999999999998E-2,6.2900640000000008E-2,5.6643999999999993E-2,8.526400000000002E-2,1.8249984000000077E-3,2.5728160000000031E-2,1.3351716000000013E-3,4.0545849599999996E-2,6.006420639999998E-2,"","","","","","","","","","","","","","","",9.6432399999999904E-3,4.7654889999999971E-2,6.6912399999999976E-3,4.5292900000000035E-3,4.3296399999999957E-3,2.7855610000000017E-2,1.4835240000000005E-2,3.1577289999999987E-2,1.623075999999999E-2,2.4403599999999999E-3,7.8676900000000001E-3,1.6974400000000103E-3,5.6249999999999937E-3,4.2435999999999803E-4,1.1025000000000019E-2,"","","","","","","","","","","","","","","",1.1924639999999992E-2,1.3735839999999994E-2,6.8644000000000011E-2,7.1609760000000036E-2,2.7555999999999976E-2,2.7357160000000033E-2,8.2024959999999994E-2,2.0334760000000018E-2,1.1448999999999997E-2,1.9432359999999992E-2,1.9184400000000443E-5,4.2250000000000797E-5,1.3266432400000014E-2,8.5858755999999939E-3,6.528639999999997E-3,"","","","","","","","","","","","","","","",60,1.6020218628,0.16340246136457065,null,9,"4,4'-DDT",10,9.4120000000000008,8.7289999999999992,8.8849999999999998,9.4196666666666662,9.266,3,5,-0.39400000000000013,-0.91199999999999903,0.2970000000000006,-9.2666666666666231E-2,7.6000000000000512E-2,-1.0810000000000013,5.3000000000000824E-2,-0.66199999999999903,-0.69366666666666532,0.24000000000000021,1.4749999999999996,0.85899999999999999,0.36500000000000021,0.78633333333333333,-0.31600000000000072,"","","","","","","","","","","","","","","",9.1423333333333314,91.423333333333318,0.3014941666666674,7.0028466666666658,10,0.70028466666666656,0,0.70028466666666656,0.83683013011403129,9.1533539590261212E-2,9.1533539590261217,15,"UYGUN  ","UYGUN  ",0.11729744417890683,null,9,"4,4'-DDT",50,45.496333333333332,43.164999999999999,45.176333333333332,45.300999999999995,46.256666666666668,3,5,-0.95633333333333326,0.97500000000000142,-8.2763333333333335,-8.6809999999999974,-4.5566666666666649,-3.7663333333333355,-7.4849999999999994,-2.3063333333333347,-0.65099999999999625,-3.2266666666666666,4.7226666666666688,6.509999999999998,10.582666666666668,9.3320000000000078,7.7833333333333314,"","","","","","","","","","","","","","","",45.079066666666662,90.158133333333325,3.9624147333333353,577.19372400000009,10,57.719372400000012,0,57.719372400000012,7.5973266613987329,0.16853336200539645,{"$f":"SM19*100","v":16.853336200539644},15,"UYGUN  ","UYGUN  ",0.39764891752378811,0.13561320543878447]
[10,"4,4-Dichlorobenzophenone","GC-MS/MS",931075,961828,null,1967782,2082009,null,3065307,3782577,null,9671409,9450436,null,17482781,18216366,null,37799247,36065613,{"$nulls":8},10,"4,4-Dichlorobenzophenone",10,9.4220000000000006,10.654999999999999,11.686999999999999,8.1300000000000008,9.4420000000000002,11.225,11.204000000000001,8.077,10.898,11.896000000000001,11.169,11.176,9.3309999999999995,8.3620000000000001,7.3929999999999998,{"$nulls":16},10,"4,4-Dichlorobenzophenone",50,41.25,41.860999999999997,35,45.350999999999999,41.75,39.648000000000003,41.314999999999998,47.902999999999999,40.588000000000001,47.301000000000002,41.847000000000001,38.865000000000002,38.902000000000001,37.209000000000003,35.424999999999997,{"$nulls":16},10,"4,4-Dichlorobenzophenone",10,10.811,8.6159999999999997,11.247999999999999,11.862,11.914999999999999,10.057,11.013999999999999,8.9719999999999995,10.337999999999999,11.353999999999999,10.775,9.56,9.6029999999999998,8.5280000000000005,10.047000000000001,{"$nulls":16},10,"4,4-Dichlorobenzophenone",50,42.917000000000002,38.423999999999999,44.176000000000002,42.604999999999997,49.11,47.384999999999998,40.753999999999998,43.731999999999999,39.185000000000002,45.225999999999999,36.537999999999997,45.000999999999998,49.091000000000001,47.875,37.03,{"$nulls":16},10,"4,4-Dichlorobenzophenone",10,9.8672000000000004,1.3536213281416636,98.671999999999997,13.718393547730495,"uygun","uygun",10.66,1.4892439356935467,106.60000000000001,13.970393392997623,"uygun","uygun",9.4862000000000002,1.6849806230339892,94.861999999999995,17.762440419071801,"uygun","uygun","--------","--------","--------","--------","uygun değil","uygun değil","--------","--------","--------","--------","uygun değil","uygun değil","--------","--------","--------","--------","uygun değil","uygun değil",null,10,"4,4-Dichlorobenzophenone",50,41.042400000000001,3.7512842201038299,82.084800000000001,9.1400215876845152,"uygun","uygun",43.350999999999999,3.9311219136526399,86.701999999999998,9.0681227968273852,"uygun","uygun",38.449599999999997,2.3773327070479651,76.899199999999993,6.1829842366317607,"uygun","uygun","--------","--------","--------","--------","uygun değil","uygun değil","--------","--------","--------","--------","uygun değil","uygun değil","--------","--------","--------","--------","uygun değil","uygun değil",{"$nulls":31},10,"4,4-Dichlorobenzophenone",10,3.3408399999999955E-3,4.2902499999999859E-3,2.8459689999999951E-2,3.4968999999999979E-2,3.1136399999999956E-3,1.5006250000000013E-2,1.4496160000000015E-2,3.6979290000000012E-2,8.0640399999999789E-3,3.594816E-2,1.3665610000000002E-2,1.3829759999999983E-2,4.4756100000000092E-3,2.6830439999999983E-2,6.7964490000000016E-2,"","","","","","","","","","","","","","","",3.0625000000000017E-2,2.6497328400000013E-2,9.0000000000000024E-2,8.6452804000000123E-3,2.7225000000000013E-2,4.2865561599999956E-2,3.0171690000000025E-2,1.7589635999999981E-3,3.5434297599999984E-2,2.913840399999991E-3,2.6588563599999993E-2,4.9595290000000007E-2,4.9266241599999969E-2,6.5443872399999964E-2,8.4972250000000055E-2,"","","","","","","","","","","","","","","",6.5772099999999922E-3,1.9154560000000022E-2,1.5575040000000005E-2,3.4670439999999969E-2,3.6672250000000003E-2,3.2490000000000436E-5,1.0281959999999988E-2,1.056784E-2,1.1424399999999885E-3,1.8333159999999991E-2,6.0062500000000194E-3,1.9359999999999937E-3,1.5760900000000055E-3,2.1667840000000001E-2,2.2090000000001396E-5,"","","","","","","","","","","","","","","",2.0067555600000002E-2,5.3601510400000024E-2,1.356759039999998E-2,2.1874410000000011E-2,3.1684000000000134E-4,2.7352900000000013E-3,3.4195406400000031E-2,1.5715129600000006E-2,4.678568999999997E-2,9.1164304000000019E-3,7.2490177600000025E-2,9.9960004000000137E-3,3.3051239999999903E-4,1.8062499999999984E-3,6.7288359999999978E-2,"","","","","","","","","","","","","","","",60,1.4375392227999997,0.15478690851188501,null,10,"4,4-Dichlorobenzophenone",10,10.547666666666666,9.7299999999999986,9.9410000000000007,10.242666666666667,11.105333333333334,3,5,0.26333333333333364,-1.113999999999999,1.3069999999999986,1.6193333333333335,0.80966666666666498,-0.49066666666666592,1.2840000000000007,-0.96900000000000119,9.5333333333332604E-2,0.24866666666666504,0.22733333333333405,-0.16999999999999815,-0.33800000000000097,-1.7146666666666661,-1.0583333333333336,"","","","","","","","","","","","","","","",10.313333333333333,103.13333333333333,0.87455983333333487,13.450659999999996,10,1.3450659999999997,0,1.3450659999999997,1.1597698047457519,0.11245343937418409,11.24534393741841,15,"UYGUN  ","UYGUN  ",0.17704086437916616,null,10,"4,4-Dichlorobenzophenone",50,42.279999999999994,41.393000000000001,45.666333333333334,43.221666666666664,43.788666666666664,3,5,0.63700000000000756,-2.9690000000000012,-1.4903333333333322,-0.61666666666666714,5.3213333333333352,5.105000000000004,-0.6390000000000029,-1.9343333333333348,-4.0366666666666617,1.4373333333333349,-5.7419999999999973,3.607999999999997,3.424666666666667,4.653333333333336,-6.758666666666663,"","","","","","","","","","","","","","","",43.269933333333334,86.539866666666668,7.8877452333333427,213.75994199999997,10,21.375994199999997,0,21.375994199999997,4.623418021334432,0.10685059266714297,{"$f":"SM20*100","v":10.685059266714298},15,"UYGUN  ","UYGUN  ",0.15983868814647592,0.10968779599482115]
[11,"Acetochlor","GC-MS/MS",9171510,9823990,null,21117792,26983324,null,46536882,48441290,null,126681718,135516450,null,262761897,239526837,null,528960411,524540391,{"$nulls":8},11,"Acetochlor",10,9.4350000000000005,11.214,11.250999999999999,9.0129999999999999,9.3320000000000007,10.375,11.712,9.1010000000000009,11.223000000000001,10.957000000000001,11.51,9.7219999999999995,10.476000000000001,9.27,8.5589999999999993,{"$nulls":16},11,"Acetochlor",50,47.747999999999998,47.642000000000003,40.627000000000002,53.786000000000001,43.915999999999997,42.198999999999998,46.215000000000003,52.295999999999999,43.051000000000002,49.076000000000001,46.95,44.848999999999997,50.451000000000001,44.298999999999999,35.613,{"$nulls":16},11,"Acetochlor",10,10.583,8.2609999999999992,10.832000000000001,10.895,10.853999999999999,9.74,11.438000000000001,9.0850000000000009,9.8140000000000001,11.2,8.7040000000000006,8.5879999999999992,7.3339999999999996,8.8770000000000007,7.29,{"$nulls":16},11,"Acetochlor",50,51.576999999999998,43.34,51.386000000000003,41.491,42.686999999999998,42.87,38.866,50.506,43.956000000000003,51.484999999999999,44.024999999999999,42.963000000000001,48.097999999999999,45.771000000000001,54.8,{"$nulls":16},11,"Acetochlor",10,10.048999999999999,1.0916054690225767,100.49,10.86282683871606,"uygun","uygun",10.6736,1.002828898666168,106.736,9.3954139059564525,"uygun","uygun",9.9073999999999991,1.1347320388532491,99.073999999999998,11.453378675063581,"uygun","uygun","--------","--------","--------","--------","uygun değil","uygun değil","--------","--------","--------","--------","uygun değil","uygun değil","--------","--------","--------","--------","uygun değil","uygun değil",null,11,"Acetochlor",50,46.7438,4.9198439202885291,93.4876,10.525126156385509,"uygun","uygun",46.567400000000006,4.2036325124825078,93.134800000000013,9.0269856433524467,"uygun","uygun",44.432400000000001,5.4894221735989266,88.864800000000002,12.354547973098294,"uygun","uygun","--------","--------","--------","--------","uygun değil","uygun değil","--------","--------","--------","--------","uygun değil","uygun değil","--------","--------","--------","--------","uygun değil","uygun değil",{"$nulls":31},11,"Acetochlor",10,3.1922499999999993E-3,1.4737959999999989E-2,1.5650009999999999E-2,9.7416900000000025E-3,4.4622399999999958E-3,1.4062500000000067E-3,2.9309440000000006E-2,8.0820099999999763E-3,1.4957290000000019E-2,9.1584900000000226E-3,2.2801000000000005E-2,7.7284000000000261E-4,2.2657600000000081E-3,5.3290000000000091E-3,2.0764810000000033E-2,"","","","","","","","","","","","","","","",2.0286016000000072E-3,2.2240655999999979E-3,3.5141251599999986E-2,5.7335184000000018E-3,1.4806022400000002E-2,2.4342240400000013E-2,5.7304899999999813E-3,2.1086463999999963E-3,1.9315440399999998E-2,3.4151039999999781E-4,3.720999999999993E-3,1.0613120400000023E-2,8.1360400000000509E-5,1.3000560400000003E-2,8.2794307599999992E-2,"","","","","","","","","","","","","","","",3.3988900000000021E-3,3.0241210000000018E-2,6.9222400000000274E-3,8.0102499999999844E-3,7.293159999999986E-3,6.7600000000000125E-4,2.0678440000000044E-2,8.3722499999999839E-3,3.4595999999999813E-4,1.4399999999999972E-2,1.6796159999999984E-2,1.9937440000000028E-2,7.1075560000000038E-2,1.261128999999999E-2,7.3441000000000006E-2,"","","","","","","","","","","","","","","",9.9477159999999368E-4,1.7742239999999996E-2,7.6839839999999818E-4,2.8961232399999998E-2,2.1391987600000016E-2,2.0334760000000018E-2,4.9586382399999997E-2,1.0241439999999812E-4,1.4611974399999996E-2,8.8209000000000356E-4,1.4280250000000012E-2,1.9807747599999995E-2,1.4470416000000057E-3,7.1537763999999981E-3,9.2159999999999742E-3,"","","","","","","","","","","","","","","",60,0.88609409280000018,0.12152462664003541,null,11,"Acetochlor",10,9.6756666666666664,9.4290000000000003,9.0836666666666677,9.8620000000000001,9.7813333333333325,3,5,0.90733333333333377,-1.168000000000001,1.7483333333333331,1.0329999999999995,1.0726666666666667,6.4333333333333798E-2,2.0090000000000003,1.3333333333331865E-3,-4.8000000000000043E-2,1.4186666666666667,-0.97166666666666579,-0.84100000000000108,-1.749666666666668,-0.98499999999999943,-2.4913333333333325,"","","","","","","","","","","","","","","",9.5663333333333327,95.663333333333327,0.29806883333333234,25.406708000000002,10,2.5406708,0,2.5406708,1.5939481798352166,0.16662059791301614,16.662059791301616,15,"UYGUN  ","UYGUN  ",0.38867393108447401,null,11,"Acetochlor",50,46.157333333333334,41.723000000000006,49.99666666666667,43.739333333333342,49.657333333333327,3,5,5.4196666666666644,1.6169999999999973,1.3893333333333331,-2.248333333333342,-6.9703333333333291,-3.2873333333333363,-2.8570000000000064,0.50933333333333053,0.21666666666666146,1.8276666666666728,-2.1323333333333352,1.2399999999999949,-1.8986666666666707,2.0316666666666592,5.1426666666666705,"","","","","","","","","","","","","","","",46.254733333333334,92.509466666666668,39.339812066666575,150.43808266666673,10,15.043808266666673,8.0986679333333011,23.142476199999976,4.810662760992499,0.10400368598656928,{"$f":"SM21*100","v":10.400368598656929},15,"UYGUN  ","UYGUN  ",0.15143473378310071,0.13888698705725441]
[12,"Aclonifen","GC-MS/MS",3109720,3454718,null,6978433,9105857,null,13406067,15094827,null,41424731,44662017,null,75409361,75641409,null,157621066,157127182,{"$nulls":8},12,"Aclonifen",10,10.932,11.648,11.88,10.202999999999999,11.467000000000001,10.91,11.492000000000001,10.615,11.366,11.657999999999999,11.602,10.874000000000001,10.363,10.427,8.843,{"$nulls":16},12,"Aclonifen",50,41.16,41.45,35.35,35.932000000000002,43.8,38.25,39.76,42.5,41.83,42.47,44.478999999999999,40.192999999999998,45.698999999999998,39.497,38.271999999999998,{"$nulls":16},12,"Aclonifen",10,11.500999999999999,9.5609999999999999,11.976000000000001,11.355,11.8,10.039,10.98,9.7650000000000006,10.819000000000001,11.522,9.0540000000000003,8.7850000000000001,7.5030000000000001,9.2859999999999996,7.2750000000000004,{"$nulls":16},12,"Aclonifen",50,38.5,44.16,35.950000000000003,37.93,42.53,43.45,35.51,40.26,40.07,41.68,49.834000000000003,47.944000000000003,56.725000000000001,56.883000000000003,37.526000000000003,{"$nulls":16},12,"Aclonifen",10,11.225999999999999,0.67023242237301572,112.25999999999998,5.9703582965706019,"uygun","uygun",11.208200000000001,0.43260050855263665,112.08200000000002,3.8596787044542085,"uygun","uygun",10.421799999999999,1.0116139085639344,104.21799999999999,9.7067100554984211,"uygun","uygun","--------","--------","--------","--------","uygun değil","uygun değil","--------","--------","--------","--------","uygun değil","uygun değil","--------","--------","--------","--------","uygun değil","uygun değil",null,12,"Aclonifen",50,39.538400000000003,3.7078919617486146,79.076800000000006,9.3779514642692021,"uygun","uygun",40.961999999999996,1.8836586739640491,81.923999999999992,4.5985515208340644,"uygun","uygun",41.628,3.2620685155281457,83.256,7.836236464706797,"uygun","uygun","--------","--------","--------","--------","uygun değil","uygun değil","--------","--------","--------","--------","uygun değil","uygun değil","--------","--------","--------","--------","uygun değil","uygun değil",{"$nulls":31},12,"Aclonifen",10,8.6862399999999909E-3,2.715904000000002E-2,3.5344000000000063E-2,4.120899999999994E-4,2.1520890000000015E-2,8.280999999999995E-3,2.2260639999999998E-2,3.7822500000000135E-3,1.8659560000000016E-2,2.7489639999999982E-2,2.5664040000000037E-2,7.6387600000000248E-3,1.3176899999999998E-3,1.8232899999999965E-3,1.3386490000000006E-2,"","","","","","","","","","","","","","","",3.1258240000000027E-2,2.9240999999999975E-2,8.5848999999999953E-2,7.9163449599999963E-2,1.5376000000000027E-2,5.5224999999999996E-2,4.1943040000000036E-2,2.2500000000000006E-2,2.6699559999999997E-2,2.2680360000000021E-2,1.2192576399999992E-2,3.8470899600000039E-2,7.3994403999999977E-3,4.412520360000001E-2,5.5018393599999993E-2,"","","","","","","","","","","","","","","",2.2530009999999968E-2,1.9272100000000045E-3,3.9045759999999999E-2,1.8360249999999988E-2,3.2400000000000061E-2,1.5210000000000114E-5,9.604000000000017E-3,5.5224999999999838E-4,6.707610000000014E-3,2.3164840000000034E-2,8.9491600000000029E-3,1.4762249999999985E-2,6.2350090000000018E-2,5.0979600000000029E-3,7.4256249999999982E-2,"","","","","","","","","","","","","","","",5.2899999999999989E-2,1.3642240000000003E-2,7.8960999999999948E-2,5.8273960000000027E-2,2.2320359999999994E-2,1.7160999999999971E-2,8.3984040000000038E-2,3.7947040000000036E-2,3.9441959999999998E-2,2.7688959999999999E-2,1.1022399999999932E-5,1.6908543999999946E-3,1.8090250000000016E-2,1.8950275600000031E-2,6.2240270399999964E-2,"","","","","","","","","","","","","","","",60,1.6435938660000005,0.16550900609936611,null,12,"Aclonifen",10,10.198,9.7753333333333341,9.7479999999999993,10.486666666666666,10.199,3,5,1.302999999999999,-0.21433333333333415,2.2280000000000015,0.86833333333333407,1.6010000000000009,-0.1590000000000007,1.2046666666666663,1.7000000000001236E-2,0.33233333333333448,1.3230000000000004,-1.1440000000000001,-0.99033333333333395,-2.2449999999999992,-1.2006666666666668,-2.9239999999999995,"","","","","","","","","","","","","","","",10.081399999999999,100.81399999999998,0.29737406666666649,30.683399333333337,10,3.0683399333333337,0,3.0683399333333337,1.7516677576907482,0.17375243098089041,17.37524309808904,15,"UYGUN  ","UYGUN  ",0.42265870180476717,null,12,"Aclonifen",50,43.927999999999997,42.537999999999997,44.311666666666667,44.961000000000006,40.57866666666667,3,5,-5.4279999999999973,1.6219999999999999,-8.3616666666666646,-7.0310000000000059,1.9513333333333307,-0.47799999999999443,-7.0279999999999987,-4.0516666666666694,-4.8910000000000053,1.1013333333333293,5.9060000000000059,5.4060000000000059,12.413333333333334,11.921999999999997,-3.0526666666666671,"","","","","","","","","","","","","","","",43.263466666666673,86.526933333333346,9.1173001000000014,616.07566133333341,10,61.607566133333343,0,61.607566133333343,7.8490487406649061,0.18142440598067897,13.24,15,"UYGUN  ","UYGUN  ",0.46080741119619112,0.17762984315313024]
[13,"Alachlor","GC-MS/MS",2081344,2123268,null,4328517,5409411,null,9185487,9859923,null,29552234,30323835,null,52496098,53627423,null,116049020,116955188,{"$nulls":8},13,"Alachlor",10,8.7189999999999994,10.613,11.055999999999999,8.8369999999999997,9.4220000000000006,9.4649999999999999,10.802,8.1609999999999996,11.372999999999999,11.88,11.96,10.417,10.685,9.2240000000000002,8.468,{"$nulls":16},13,"Alachlor",50,48.216000000000001,49.96,42.881999999999998,53.956000000000003,44.71,43.265000000000001,45.783000000000001,53.73,41.948999999999998,51.45,48.753,44.6,48.19,43.94,39.430999999999997,{"$nulls":16},13,"Alachlor",10,10.15,7.9429999999999996,11.503,10.221,10.816000000000001,9.2739999999999991,10.128,8.9789999999999992,8.58,10.255000000000001,11.808999999999999,11.401,10.807,11.93,11.286,{"$nulls":16},13,"Alachlor",50,51.484999999999999,43.991999999999997,52.188000000000002,41.283000000000001,42.923999999999999,43.174999999999997,37.948,53.341000000000001,45.456000000000003,51.054000000000002,37.293999999999997,39.878,42.642000000000003,38.707999999999998,39.880000000000003,{"$nulls":16},13,"Alachlor",10,9.7293999999999983,1.055035212682496,97.293999999999983,10.843784947504432,"uygun","uygun",10.3362,1.5137475681235735,103.36199999999999,14.645107177914257,"uygun","uygun",10.1508,1.3527944041871294,101.508,13.326973284737454,"uygun","uygun","--------","--------","--------","--------","uygun değil","uygun değil","--------","--------","--------","--------","uygun değil","uygun değil","--------","--------","--------","--------","uygun değil","uygun değil",null,13,"Alachlor",50,47.944800000000001,4.3693529498084747,95.889600000000002,9.1132989392144186,"uygun","uygun",47.235399999999991,5.1420387299202632,94.470799999999983,10.885985362504105,"uygun","uygun",44.982799999999997,3.7602191026587808,89.965599999999995,8.3592375367002081,"uygun","uygun","--------","--------","--------","--------","uygun değil","uygun değil","--------","--------","--------","--------","uygun değil","uygun değil","--------","--------","--------","--------","uygun değil","uygun değil",{"$nulls":31},13,"Alachlor",10,1.6409610000000026E-2,3.7576899999999889E-3,1.1151359999999982E-2,1.3525690000000016E-2,3.3408399999999955E-3,2.8622499999999993E-3,6.4320400000000078E-3,3.3819210000000023E-2,1.8851289999999993E-2,3.5344000000000063E-2,3.8416000000000068E-2,1.738890000000006E-3,4.6922500000000011E-3,6.0217600000000001E-3,2.347024E-2,"","","","","","","","","","","","","","","",1.2730623999999953E-3,6.4000000000003665E-7,2.0266369600000011E-2,6.2599744000000129E-3,1.1193640000000001E-2,1.8144090000000012E-2,7.1132355999999949E-3,5.5651599999999996E-3,2.5927440400000015E-2,8.4100000000000797E-4,6.2200359999999813E-4,1.1663999999999997E-2,1.3104400000000008E-3,1.4689440000000021E-2,4.4681504400000002E-2,"","","","","","","","","","","","","","","",2.2500000000000373E-4,4.2312489999999994E-2,2.2590090000000031E-2,4.8841000000000043E-4,6.6585600000000191E-3,5.2707600000000158E-3,1.6383999999999802E-4,1.0424410000000016E-2,2.0164000000000005E-2,6.5025000000000401E-4,3.2724809999999944E-2,1.962800999999997E-2,6.5124899999999993E-3,3.7249000000000025E-2,1.6537960000000011E-2,"","","","","","","","","","","","","","","",8.8209000000000356E-4,1.4438425600000011E-2,1.9149376000000017E-3,3.0394435599999978E-2,2.0027910399999994E-2,1.8632250000000017E-2,5.8100281600000019E-2,4.4649124000000137E-3,8.2591743999999925E-3,4.4436639999999945E-4,6.4576974400000001E-2,4.0981953599999982E-2,2.1656065599999986E-2,5.1003705600000018E-2,4.0965759999999962E-2,"","","","","","","","","","","","","","","",60,0.98772844360000012,0.12830487413448746,null,13,"Alachlor",10,10.411,9.8239999999999998,10.429666666666668,10.243666666666668,10.785666666666666,3,5,-0.26099999999999923,-1.8810000000000002,1.0733333333333324,-2.2666666666667723E-2,3.0333333333334878E-2,-1.1370000000000005,0.30400000000000027,-1.4506666666666685,-1.6636666666666677,-0.53066666666666507,1.3979999999999997,1.577,0.37733333333333263,1.6863333333333319,0.50033333333333374,"","","","","","","","","","","","","","","",10.338800000000001,103.38800000000002,0.36542159999999951,18.976539999999996,10,1.8976539999999997,0,1.8976539999999997,1.3775536287201307,0.13324115262120659,13.324115262120658,15,"UYGUN  ","UYGUN  ",0.24854486652558735,null,13,"Alachlor",50,43.984666666666669,40.606000000000002,49.390333333333331,41.815666666666665,44.619333333333337,3,5,7.5003333333333302,3.3859999999999957,2.7976666666666716,-0.53266666666666396,-1.6953333333333376,-0.80966666666667209,-2.6580000000000013,3.9506666666666703,3.6403333333333379,6.434666666666665,-6.6906666666666723,-0.72800000000000153,-6.7483333333333277,-3.1076666666666668,-4.7393333333333345,"","","","","","","","","","","","","","","",44.083199999999998,88.166399999999996,34.271579433333315,279.64395666666672,10,27.964395666666672,2.1023945888888811,30.066790255555553,5.4833192735382053,0.12438569054737872,{"$f":"SM23*100","v":12.438569054737872},15,"UYGUN  ","UYGUN  ",0.21660520018127563,0.12888949678848141]
[14,"Aldrin","GC-MS/MS",3086230,3109966,null,5690759,5628365,null,10527923,10023621,null,25041780,18388452,null,50083560,50095711,null,100167120,100191422,{"$nulls":8},14,"Aldrin",2,2.17,1.84,1.72,2.0299999999999998,2.25,2.27,2.09,1.99,2.54,2.16,2.14,2.02,1.97,2.12,2.41,{"$nulls":16},14,"Aldrin",50,37.03,48.509,53.317999999999998,52.398000000000003,43.031999999999996,54.106000000000002,53.11,52.938000000000002,53.866,54.320999999999998,49.253999999999998,48.305,50.119,51.265999999999998,51.29,{"$nulls":16},14,"Aldrin",2,2.0979999999999999,1.76,2.15,2.06,2.04,2.17,2.13,2.29,2.16,2.11,2.13,1.95,2.29,2.11,2.08,{"$nulls":16},14,"Aldrin",50,49.292000000000002,50.58,44.862000000000002,40.811999999999998,53.143000000000001,53.429000000000002,42.152000000000001,53.716000000000001,54.216000000000001,52.344000000000001,51.36,46.37,49.29,47.51,52.34,{"$nulls":16},14,"Aldrin",10,{"$f":"IFERROR(AVERAGE(AF24:AJ24),\"--------\")","v":2.0019999999999998},{"$f":"IFERROR(_xlfn.STDEV.S(AF24:AJ24),\"--------\")","v":0.22151749366585022},98.88,{"$f":"IFERROR(FM24/FL24*100,\"--------\")","v":11.064809873419094},{"$f":"IF(FN24<70,\"uygun değil\",IF(FN24>120,\"uygun değil\",\"uygun\"))","v":"uygun"},{"$f":"IF(FO24<0,\"uygun değil\",IF(FO24<20,\"uygun\",\"uygun değil\"))","v":"uygun"},{"$f":"IFERROR(AVERAGE(AK24:AO24),\"--------\")","v":2.21},{"$f":"IFERROR(_xlfn.STDEV.S(AK24:AO24),\"--------\")","v":0.21083168642308017},102.2,{"$f":"IFERROR(FS24/FR24*100,\"--------\")","v":9.5398953132615461},{"$f":"IF(FT24<70,\"uygun değil\",IF(FT24>120,\"uygun değil\",\"uygun\"))","v":"uygun"},"uygun",{"$f":"IFERROR(AVERAGE(AP24:AT24),\"--------\")","v":2.1320000000000001},{"$f":"IFERROR(_xlfn.STDEV.S(AP24:AT24),\"--------\")","v":0.17049926686059391},100,{"$f":"IFERROR(FY24/FX24*100,\"--------\")","v":7.9971513536863936},{"$f":"IF(FZ24<70,\"uygun değil\",IF(FZ24>120,\"uygun değil\",\"uygun\"))","v":"uygun"},{"$f":"IF(GA24<0,\"uygun değil\",IF(GA24<20,\"uygun\",\"uygun değil\"))","v":"uygun"},{"$nulls":219},2.1326666666666667,1.9466666666666665,2.2433333333333332,2.11,2.0766666666666667,3,null,-3.4666666666666845E-2,-0.18666666666666654,-9.3333333333333268E-2,-4.9999999999999822E-2,-3.6666666666666625E-2,3.7333333333333218E-2,0.18333333333333335,4.6666666666666856E-2,5.0000000000000266E-2,3.3333333333333215E-2,-2.6666666666668171E-3,3.3333333333334103E-3,4.6666666666666856E-2,0,3.3333333333334103E-3,"","","","","","","","","","","","","","","",2.1018666666666665,null,null,9.1602666666666652E-2,{"$nulls":7},15,{"$nulls":7},51.360333333333337,46.367333333333335,49.289333333333332,47.512666666666661,52.609000000000002,3,null,-2.0683333333333351,4.2126666666666637,-4.4273333333333298,-6.7006666666666632,0.53399999999999892,2.0686666666666653,-4.2153333333333336,4.4266666666666694,6.7033333333333402,-0.26500000000000057,-3.3333333333729342E-4,2.6666666666628203E-3,6.6666666666748142E-4,-2.6666666666628203E-3,-0.26899999999999835,"","","","","","","","","","","","","","","",49.427733333333336,null,null,173.53100666666668,{"$nulls":7},15]
[15,"Amitraz","GC-MS/MS",1080493,1052418,null,2145685,2276333,null,3695998,3811834,null,9757752,10538478,null,18914714,17808383,null,37500345,31100660,{"$nulls":8},15,"Amitraz",10,11.85,11.54,11.62,10.07,11.5,11.31,11.99,10.6,11.42,11.83,10.771000000000001,11.007999999999999,9.3469999999999995,8.7409999999999997,8.2530000000000001,{"$nulls":16},15,"Amitraz",50,39.25,41.63,43.6,48.9,45.47,41.45,44.54,47.15,43.51,48.49,49.039000000000001,42.491999999999997,48.805,44.79,43.862000000000002,{"$nulls":16},15,"Amitraz",10,11.23,10.68,11.86,11.89,11.68,11.69,11.87,11.23,11.54,11.62,11.529,10.368,8.9909999999999997,10.651,8.6560000000000006,{"$nulls":16},15,"Amitraz",50,41.33,37.35,42.89,40.47,40.94,40.06,40.450000000000003,36.729999999999997,36.44,37.619999999999997,48.127000000000002,46.03,56.362000000000002,55.420999999999999,37.731000000000002,{"$nulls":16},15,"Amitraz",10,11.315999999999999,0.70959847801415099,113.16,6.2707536056393689,"uygun","uygun",11.43,0.54244815420462089,114.3,4.7458281207753359,"uygun","uygun",9.6239999999999988,1.2213848697278091,96.24,12.691031480962275,"uygun","uygun","--------","--------","--------","--------","uygun değil","uygun değil","--------","--------","--------","--------","uygun değil","uygun değil","--------","--------","--------","--------","uygun değil","uygun değil",null,15,"Amitraz",50,43.769999999999996,3.6825874056157843,87.539999999999992,8.4134964715919232,"uygun","uygun",45.028000000000006,2.821031726159775,90.056000000000012,6.2650611312067479,"uygun","uygun",45.797600000000003,2.9681612658344569,91.595200000000006,6.4810410716597735,"uygun","uygun","--------","--------","--------","--------","uygun değil","uygun değil","--------","--------","--------","--------","uygun değil","uygun değil","--------","--------","--------","--------","uygun değil","uygun değil",{"$nulls":31},15,"Amitraz",10,3.4225000000000019E-2,2.3715999999999973E-2,2.6243999999999976E-2,4.9000000000001638E-5,2.2499999999999975E-2,1.7161000000000003E-2,3.9601000000000025E-2,3.6000000000000064E-3,2.0163999999999974E-2,3.3489000000000019E-2,5.9444100000000258E-3,1.016064E-2,4.2640900000000034E-3,1.5850810000000003E-2,3.0520089999999989E-2,"","","","","","","","","","","","","","","",4.6224999999999988E-2,2.8022759999999997E-2,1.6383999999999999E-2,4.8400000000000087E-4,8.2083600000000031E-3,2.9240999999999975E-2,1.1924639999999992E-2,3.2490000000000058E-3,1.6848040000000009E-2,9.1204000000000025E-4,3.6940840000000057E-4,2.2548025600000021E-2,5.7121000000000157E-4,1.0857640000000014E-2,1.5070017599999996E-2,"","","","","","","","","","","","","","","",1.5129E-2,4.6240000000000083E-3,3.4595999999999981E-2,3.5721000000000024E-2,2.8223999999999975E-2,2.8561000000000013E-2,3.4968999999999938E-2,1.5129E-2,2.3715999999999973E-2,2.6243999999999976E-2,2.3378410000000013E-2,1.3542399999999959E-3,1.0180809999999998E-2,4.2380099999999917E-3,1.806335999999999E-2,"","","","","","","","","","","","","","","",3.006756E-2,6.4008999999999996E-2,2.0220839999999997E-2,3.6328359999999997E-2,3.2833440000000012E-2,3.9521439999999991E-2,3.6480999999999979E-2,7.043716000000004E-2,7.3549439999999994E-2,6.1305760000000022E-2,1.4032515999999953E-3,6.3043600000000045E-3,1.6190017600000006E-2,1.1754896399999992E-2,6.0211344399999964E-2,"","","","","","","","","","","","","","","",60,1.3631498815999994,0.15072877858369757,null,15,"Amitraz",10,11.482999999999999,10.972666666666667,10.693666666666667,11.360333333333335,10.651999999999999,3,5,-0.25299999999999834,-0.2926666666666673,1.1663333333333323,0.52966666666666562,1.0280000000000005,0.20700000000000074,0.89733333333333221,0.53633333333333333,0.1796666666666642,0.96799999999999997,4.6000000000001151E-2,-0.60466666666666669,-1.7026666666666674,-0.70933333333333515,-1.9959999999999987,"","","","","","","","","","","","","","","",11.032333333333334,110.32333333333332,0.43019483333333353,12.706321999999997,10,1.2706321999999997,0,1.2706321999999997,1.127223225452705,0.10217450754926775,10.217450754926775,15,"UYGUN  ","UYGUN  ",0.14615481990109522,null,15,"Amitraz",50,43.172333333333334,41.276666666666671,45.327333333333335,44.11033333333333,38.763666666666666,3,5,-1.842333333333336,-3.9266666666666694,-2.4373333333333349,-3.6403333333333308,2.1763333333333321,-3.1123333333333321,-0.82666666666666799,-8.5973333333333386,-7.6703333333333319,-1.1436666666666682,4.9546666666666681,4.7533333333333303,11.034666666666666,11.31066666666667,-1.032666666666664,"","","","","","","","","","","","","","","",42.53006666666667,85.06013333333334,19.868422899999999,485.07242333333346,10,48.507242333333345,0,48.507242333333345,6.9647140884126282,0.16375977359732866,{"$f":"SM25*100","v":16.375977359732865},15,"UYGUN  ","UYGUN  ",0.37544168828107671,0.1364860678633239]
[16,"Atrazine","GC-MS/MS",794359,769373,null,1553398,2013002,null,3034735,3457816,null,9542318,9301869,null,19123837,17588147,null,38597978,34073120,{"$nulls":8},16,"Atrazine",10,9.548,11.113,11.894,8.5809999999999995,9.8420000000000005,9.8949999999999996,10.965999999999999,9.3580000000000005,11.635999999999999,11.414,11.337,10.653,10.627000000000001,9.5500000000000007,8.5329999999999995,{"$nulls":16},16,"Atrazine",50,44.344999999999999,46.988999999999997,38.585999999999999,48.854999999999997,43.603000000000002,39.776000000000003,43.567,51.131,39.247999999999998,47.631,43.66,42.572000000000003,46.420999999999999,41.393999999999998,36.31,{"$nulls":16},16,"Atrazine",10,10.224,8.4030000000000005,11.752000000000001,10.903,10.821,9.4440000000000008,11.318,9.3849999999999998,9.3840000000000003,10.874000000000001,11.58,11.51,10.52,10.56,9.35,{"$nulls":16},16,"Atrazine",50,45.834000000000003,40.268000000000001,45.9,40.094999999999999,44.283000000000001,43.045000000000002,36.677,46.465000000000003,40.74,46.094000000000001,55.101999999999997,51.277000000000001,57.341000000000001,58.658999999999999,43.948,{"$nulls":16},16,"Atrazine",10,10.195599999999999,1.311252950425672,101.95599999999997,12.860968951564129,"uygun","uygun",10.6538,0.98678325887704399,106.538,9.2622656599245712,"uygun","uygun",10.14,1.1026894395068814,101.4,10.874649304801592,"uygun","uygun","--------","--------","--------","--------","uygun değil","uygun değil","--------","--------","--------","--------","uygun değil","uygun değil","--------","--------","--------","--------","uygun değil","uygun değil",null,16,"Atrazine",50,44.4756,3.9039146763217039,88.9512,8.7776548856489924,"uygun","uygun",44.270599999999995,5.1058880030804037,88.541199999999989,11.533360747494735,"uygun","uygun",42.071399999999997,3.7197402866329243,84.142799999999994,8.8414939522643046,"uygun","uygun","--------","--------","--------","--------","uygun değil","uygun değil","--------","--------","--------","--------","uygun değil","uygun değil","--------","--------","--------","--------","uygun değil","uygun değil",{"$nulls":31},16,"Atrazine",10,2.0430400000000016E-3,1.2387689999999989E-2,3.5872360000000006E-2,2.0135610000000009E-2,2.4963999999999764E-4,1.1025000000000137E-4,9.3315600000000044E-3,4.1216399999999898E-3,2.676495999999999E-2,1.9993959999999991E-2,1.7875689999999982E-2,4.2640900000000181E-3,3.931289999999997E-3,2.0249999999999938E-3,2.1520890000000015E-2,"","","","","","","","","","","","","","","",1.2791609999999995E-2,3.6264484000000062E-3,5.211175840000002E-2,5.2441000000000141E-4,1.6368643599999986E-2,4.181207039999995E-2,1.65533956E-2,5.1166440000000382E-4,4.6242201600000005E-2,2.244864399999998E-3,1.6078240000000008E-2,2.2070073599999976E-2,5.1236963999999963E-3,2.9625294400000019E-2,7.4966439999999968E-2,"","","","","","","","","","","","","","","",5.0175999999999888E-4,2.5504089999999986E-2,3.0695040000000007E-2,8.1540900000000079E-3,6.74041000000001E-3,3.0913599999999857E-3,1.7371239999999979E-2,3.78225E-3,3.7945599999999985E-3,7.6387600000000248E-3,2.4963999999999976E-2,2.2801000000000005E-2,2.704000000000005E-3,3.1360000000000055E-3,4.2250000000000074E-3,"","","","","","","","","","","","","","","",6.942222399999992E-3,3.7884729600000014E-2,6.7240000000000121E-3,3.9243610000000019E-2,1.3073635599999999E-2,1.9348810000000001E-2,7.1000931600000011E-2,4.9984899999999978E-3,3.4299039999999968E-2,6.1027343999999952E-3,1.0412161599999982E-2,6.52291600000006E-4,2.1556112399999987E-2,2.9991312399999963E-2,1.4650681600000008E-2,"","","","","","","","","","","","","","","",60,1.0032628044,0.1293098864743141,null,16,"Atrazine",10,10.415999999999999,10.410333333333334,10.552333333333333,10.282333333333334,10.348333333333334,3,5,-0.19199999999999839,-2.0073333333333334,1.1996666666666673,0.6206666666666667,0.47266666666666524,-0.97199999999999775,0.90766666666666573,-1.1673333333333336,-0.89833333333333343,0.52566666666666606,1.1640000000000015,1.0996666666666659,-3.2333333333333769E-2,0.27766666666666673,-0.99833333333333485,"","","","","","","","","","","","","","","",10.401866666666667,104.01866666666666,3.0049266666666474E-2,13.967706666666668,10,1.3967706666666668,0,1.3967706666666668,1.1818505263639167,0.11361908052053959,11.361908052053959,15,"UYGUN  ","UYGUN  ",0.18073013641666005,null,16,"Atrazine",50,47.993666666666662,42.740666666666662,49.902000000000008,46.497999999999998,44.775000000000006,3,5,-2.1596666666666593,-2.4726666666666617,-4.0020000000000095,-6.4029999999999987,-0.49200000000000443,-4.9486666666666608,-6.0636666666666628,-3.4370000000000047,-5.7579999999999956,1.3189999999999955,7.1083333333333343,8.5363333333333387,7.438999999999993,12.161000000000001,-0.82700000000000529,"","","","","","","","","","","","","","","",46.381866666666667,92.763733333333334,23.132312100000043,503.30932733333327,10,50.330932733333327,0,50.330932733333327,7.0944296975397059,0.15295696804368314,14,15,"UYGUN  ","UYGUN  ",0.3275416770236283,0.1347314542552131]
[17,"Benfluralin","GC-MS/MS",6880763,6811236,null,15772752,15504586,null,30189636,30769193,null,74399362,78134709,null,127636557,117984325,null,216707997,217256503,{"$nulls":8},17,"Benfluralin",10,10.375999999999999,11.686,11.593,10.579000000000001,10.619,11.241,11.814,10.255000000000001,11.657999999999999,11.522,11.874000000000001,9.923,11.095000000000001,10.362,9.734,{"$nulls":16},17,"Benfluralin",50,43.512,42.158000000000001,40.030999999999999,43.341999999999999,38.399000000000001,41.32,42.298999999999999,44.777000000000001,35.378,44.281999999999996,42.19,41.093000000000004,43.664999999999999,42.787999999999997,37.999000000000002,{"$nulls":16},17,"Benfluralin",10,11.327999999999999,10.021000000000001,11.44,11.500999999999999,11.805,10.87,11.875,10.762,10.512,11.223000000000001,11.817,9.6950000000000003,10.348000000000001,11.029,10.731999999999999,{"$nulls":16},17,"Benfluralin",50,44.808,38.136000000000003,44.491,39.438000000000002,37.134,40.511000000000003,37.378,44.491,40.585000000000001,43.994,38.406999999999996,41.158999999999999,48.424999999999997,43.878,57.04,{"$nulls":16},17,"Benfluralin",10,10.970600000000001,0.6184054495232072,109.70600000000002,5.6369337093979102,"uygun","uygun",11.298,0.61990523469317427,112.97999999999999,5.4868581580206612,"uygun","uygun",10.597600000000002,0.88501429366988216,105.97600000000003,8.3510822607937829,"uygun","uygun","--------","--------","--------","--------","uygun değil","uygun değil","--------","--------","--------","--------","uygun değil","uygun değil","--------","--------","--------","--------","uygun değil","uygun değil",null,17,"Benfluralin",50,41.488399999999999,2.2162784797944504,82.976799999999997,5.341923235879066,"uygun","uygun",41.611199999999997,3.7605222642606435,83.222399999999993,9.0372838665086412,"uygun","uygun",41.546999999999997,2.1928220402029872,83.093999999999994,5.2779311146484407,"uygun","uygun","--------","--------","--------","--------","uygun değil","uygun değil","--------","--------","--------","--------","uygun değil","uygun değil","--------","--------","--------","--------","uygun değil","uygun değil",{"$nulls":31},17,"Benfluralin",10,1.4137599999999892E-3,2.8425960000000028E-2,2.5376489999999998E-2,3.3524100000000071E-3,3.8316100000000083E-3,1.540080999999997E-2,3.2905960000000005E-2,6.5025000000000401E-4,2.7489639999999982E-2,2.3164840000000034E-2,3.5118760000000006E-2,5.929000000000062E-5,1.1990250000000034E-2,1.3104400000000008E-3,7.075599999999977E-4,"","","","","","","","","","","","","","","",1.6837657599999997E-2,2.4598785599999992E-2,3.97523844E-2,1.7731585600000016E-2,5.3833280400000003E-2,3.013695999999999E-2,2.3722160400000015E-2,1.0911891599999999E-2,8.5521153600000024E-2,1.3078209600000003E-2,2.439844E-2,3.173385959999999E-2,1.6052890000000007E-2,2.0805177600000009E-2,5.7609600399999954E-2,"","","","","","","","","","","","","","","",1.7635840000000007E-2,4.4099999999999612E-6,2.0735999999999973E-2,2.2530009999999968E-2,3.2580249999999956E-2,7.5689999999999941E-3,3.515625E-2,5.8064400000000073E-3,2.6214400000000139E-3,1.4957290000000019E-2,3.3014889999999991E-2,9.3024999999999824E-4,1.2110400000000115E-3,1.0588409999999998E-2,5.3582399999999898E-3,"","","","","","","","","","","","","","","",1.078274560000001E-2,5.6301798399999971E-2,1.2139632400000011E-2,4.4622337599999992E-2,6.6213582399999998E-2,3.6016448399999977E-2,6.3725953599999996E-2,1.2139632400000011E-2,3.5456890000000012E-2,1.4428814400000002E-2,5.3759059600000034E-2,3.1265312399999995E-2,9.9225000000000528E-4,1.4991553599999999E-2,1.9824640000000011E-2,"","","","","","","","","","","","","","","",60,1.3612824771999998,0.1506255001208848,null,17,"Benfluralin",10,11.338333333333333,10.530333333333333,10.85,11.014000000000001,11.253333333333332,3,5,-1.0333333333333528E-2,-0.50933333333333231,0.58999999999999986,0.48699999999999832,0.55166666666666764,-0.46833333333333371,1.3446666666666669,-8.799999999999919E-2,-0.50200000000000067,-3.0333333333331325E-2,0.47866666666666724,-0.83533333333333282,-0.50199999999999889,1.4999999999998792E-2,-0.52133333333333276,"","","","","","","","","","","","","","","",10.997199999999999,109.97200000000001,0.31641809999999959,4.8881859999999975,10,0.48881859999999977,0,0.48881859999999977,0.69915563360384914,6.3575785982236316E-2,6.3575785982236317,15,"UYGUN  ","UYGUN  ",5.6586327885627619E-2,null,17,"Benfluralin",50,41.241999999999997,38.890999999999998,45.80233333333333,41.300333333333334,46.056000000000004,3,5,3.5660000000000025,-0.75499999999999545,-1.3113333333333301,-1.8623333333333321,-8.9220000000000041,-0.73099999999999454,-1.5129999999999981,-1.3113333333333301,-0.7153333333333336,-2.0620000000000047,-2.8350000000000009,2.2680000000000007,2.6226666666666674,2.5776666666666657,10.983999999999995,"","","","","","","","","","","","","","","",42.658333333333331,85.316666666666663,29.603879500000023,254.73506733333329,10,25.47350673333333,1.3767909222222308,26.850297655555561,5.1817272849461657,0.12147045793974212,11.24,15,"UYGUN  ","UYGUN  ",0.20657101012926926,9.6945739244563442E-2]
[18,"Benfuresate","GC-MS/MS",2071061,2110690,null,5049073,6270304,null,9679588,10042096,null,26604301,28705170,null,54789127,53318119,null,104990849,107767482,{"$nulls":8},18,"Benfuresate",10,8.9939999999999998,10.584,10.827999999999999,8.7149999999999999,10.132999999999999,9.2940000000000005,11.805,8.1170000000000009,11.581,11,10.798,10.958,10.699,9.6020000000000003,9.1609999999999996,{"$nulls":16},18,"Benfuresate",50,45.575000000000003,48.432000000000002,41.871000000000002,55.085000000000001,44.218000000000004,42.597000000000001,42.417000000000002,51.247,43.712000000000003,49.192,48.234999999999999,45.265000000000001,46.194000000000003,42.893999999999998,36.593000000000004,{"$nulls":16},18,"Benfuresate",10,9.3460000000000001,8.3469999999999995,11.512,9.5760000000000005,10.657,8.2309999999999999,10.414999999999999,9.36,9.9009999999999998,10.932,11.132,11.122,9.7170000000000005,10.226000000000001,9.282,{"$nulls":16},18,"Benfuresate",50,49.363,42.759,49.808999999999997,41.963999999999999,45.698999999999998,42.469000000000001,41.296999999999997,52.377000000000002,41.042000000000002,49.981999999999999,48.59,46.636000000000003,52.988999999999997,50.027000000000001,36.590000000000003,{"$nulls":16},18,"Benfuresate",10,9.8507999999999978,0.94819391476638348,98.507999999999967,9.6255523893123787,"uygun","uygun",10.359399999999999,1.5934137253080243,103.59399999999998,15.381332174720781,"uygun","uygun",10.243600000000001,0.80758733273869521,102.43600000000002,7.8838233896159089,"uygun","uygun","--------","--------","--------","--------","uygun değil","uygun değil","--------","--------","--------","--------","uygun değil","uygun değil","--------","--------","--------","--------","uygun değil","uygun değil",null,18,"Benfuresate",50,47.036200000000008,5.0864547280006329,94.072400000000016,10.813915086679264,"uygun","uygun",45.833000000000006,4.0998070076529203,91.666000000000011,8.9450985265047454,"uygun","uygun",43.836200000000005,4.4805641051099796,87.67240000000001,10.221150795712171,"uygun","uygun","--------","--------","--------","--------","uygun değil","uygun değil","--------","--------","--------","--------","uygun değil","uygun değil","--------","--------","--------","--------","uygun değil","uygun değil",{"$nulls":31},18,"Benfuresate",10,1.0120360000000005E-2,3.4105600000000008E-3,6.8558399999999976E-3,1.6512250000000016E-2,1.7688999999999647E-4,4.9843599999999993E-3,3.2580249999999956E-2,3.545688999999997E-2,2.499560999999997E-2,1.0000000000000018E-2,6.3680400000000149E-3,9.1776400000000199E-3,4.8860100000000101E-3,1.5840399999999958E-3,7.0392100000000145E-3,"","","","","","","","","","","","","","","",7.8322499999999851E-3,9.8344959999999647E-4,2.6432256399999982E-2,1.0342890000000025E-2,1.3372609599999991E-2,2.1921763599999991E-2,2.3000755600000006E-2,6.2200359999999813E-4,1.5815577599999995E-2,2.6114559999999848E-4,1.2460899999999998E-3,8.9680900000000015E-3,5.7942543999999945E-3,2.0198094400000009E-2,7.1899059599999968E-2,"","","","","","","","","","","","","","","",4.2771600000000021E-3,2.7324090000000002E-2,2.286144E-2,1.7977599999999994E-3,4.3164900000000122E-3,3.129361000000002E-2,1.7222499999999892E-3,4.0960000000000076E-3,9.8010000000000398E-5,8.6862399999999909E-3,1.2814239999999992E-2,1.2588840000000018E-2,8.0088999999999952E-4,5.1076000000000788E-4,5.1552399999999967E-3,"","","","","","","","","","","","","","","",1.6230759999999933E-4,2.0972832399999985E-2,1.4592400000000348E-5,2.5830918399999993E-2,7.3994403999999977E-3,2.2686384399999992E-2,3.0296883600000036E-2,2.2600516000000131E-3,3.2098305599999995E-2,1.2960000000001942E-7,7.9523999999999394E-4,4.526598399999986E-3,3.5736483999999932E-3,2.9159999999998374E-7,7.1931239999999938E-2,"","","","","","","","","","","","","","","",60,0.7637301244000001,0.11282214058715012,null,18,"Benfuresate",10,9.5696666666666648,9.961333333333334,10.196333333333333,9.9010000000000016,10.290333333333333,3,5,-0.22366666666666468,-1.6143333333333345,1.315666666666667,-0.32500000000000107,0.36666666666666714,-1.3386666666666649,0.45366666666666511,-0.83633333333333404,-1.7763568394002505E-15,0.6416666666666675,1.5623333333333349,1.1606666666666658,-0.47933333333333294,0.32499999999999929,-1.0083333333333329,"","","","","","","","","","","","","","","",9.9837333333333333,99.837333333333333,0.23850006666666748,12.876332666666668,10,1.2876332666666668,0,1.2876332666666668,1.134739294581212,0.11365881446298098,11.365881446298099,15,"UYGUN  ","UYGUN  ",0.18085656547182472,null,18,"Benfuresate",50,46.807333333333332,43.564,51.725000000000001,44.344333333333338,44.090333333333341,3,5,2.5556666666666672,-0.80499999999999972,-1.9160000000000039,-2.3803333333333399,1.6086666666666574,-4.3383333333333312,-2.267000000000003,0.65200000000000102,-3.3023333333333369,5.8916666666666586,1.7826666666666711,3.0720000000000027,1.2639999999999958,5.6826666666666625,-7.5003333333333373,"","","","","","","","","","","","","","","",46.106200000000001,92.212400000000002,34.269881099999971,191.86745999999997,10,19.186745999999996,5.0277116999999913,24.214457699999986,4.9208188038171032,0.10672791953830728,11,15,"UYGUN  ","UYGUN  ",0.15947188332565548,0.11024784558916725]
[19,"Bentazone-Methyl","GC-MS/MS",1429452,1894598,null,3704228,3912813,null,8244598,7919661,null,24866699,28329613,null,46852343,49119078,null,111276039,111549621,{"$nulls":8},19,"Bentazone-Methyl",10,9.32,11.483000000000001,11.706,8.6509999999999998,9.5069999999999997,10.661,11.808,8.7739999999999991,11.641999999999999,11.657,11.472,10.693,10.202,9.0009999999999994,8.125,{"$nulls":16},19,"Bentazone-methyl",50,45.792000000000002,47.436,40.396999999999998,51.465000000000003,42.475999999999999,41.929000000000002,44.496000000000002,51.222000000000001,41.71,49.14,48.679000000000002,46.319000000000003,47.600999999999999,45.006,38.840000000000003,{"$nulls":16},19,"Bentazone-Methyl",10,10.25,8.9939999999999998,11.156000000000001,11.683,11.103,10.571,10.888,9.2170000000000005,9.7249999999999996,11.282,11.532999999999999,11.423,9.3520000000000003,11.185,10.412000000000001,{"$nulls":16},19,"Bentazone-Methyl",50,47.646000000000001,40.441000000000003,47.845999999999997,40.454999999999998,43.561,42.201000000000001,38.149000000000001,48.427,41.665999999999997,49.835000000000001,48.459000000000003,45.529000000000003,51.154000000000003,51.881999999999998,37.098999999999997,{"$nulls":16},19,"Bentazone-Methyl",10,10.133399999999998,1.3734989261007908,101.33399999999999,13.554176545885793,"uygun","uygun",10.9084,1.2771766909867963,109.084,11.708194519698546,"uygun","uygun",9.8985999999999983,1.336979169620834,98.98599999999999,13.506750142654864,"uygun","uygun","--------","--------","--------","--------","uygun değil","uygun değil","--------","--------","--------","--------","uygun değil","uygun değil","--------","--------","--------","--------","uygun değil","uygun değil",null,19,"Bentazone-Methyl",50,45.513199999999998,4.3185327022033793,91.026399999999995,9.488527948382842,"uygun","uygun",45.699400000000004,4.2987276954931675,91.398800000000008,9.4065298351688789,"uygun","uygun",45.289000000000001,3.8590165197884283,90.578000000000003,8.5208693497061709,"uygun","uygun","--------","--------","--------","--------","uygun değil","uygun değil","--------","--------","--------","--------","uygun değil","uygun değil","--------","--------","--------","--------","uygun değil","uygun değil",{"$nulls":31},19,"Bentazone-Methyl",10,4.6239999999999927E-3,2.1992890000000029E-2,2.9104359999999954E-2,1.8198010000000004E-2,2.4304900000000009E-3,4.3692100000000062E-3,3.2688640000000026E-2,1.5030760000000011E-2,2.6961639999999967E-2,2.7456489999999986E-2,2.1667840000000001E-2,4.8024899999999883E-3,4.0803999999999981E-4,9.98001000000002E-3,3.515625E-2,"","","","","","","","","","","","","","","",7.0829056000000024E-3,2.6296383999999994E-3,3.6887043600000002E-2,8.5849000000000613E-4,2.2644230400000017E-2,2.6056416400000004E-2,1.2117606399999991E-2,5.9731360000000089E-4,2.7489639999999982E-2,2.9583999999999974E-4,6.980163999999999E-4,5.4199043999999868E-3,2.3020804000000021E-3,9.9760143999999933E-3,4.9818239999999979E-2,"","","","","","","","","","","","","","","",6.2499999999999557E-4,1.0120360000000005E-2,1.3363360000000034E-2,2.8324889999999964E-2,1.2166090000000015E-2,3.2604099999999918E-3,7.8854399999999988E-3,6.1308899999999887E-3,7.5625000000000442E-4,1.6435240000000025E-2,2.3500889999999997E-2,2.0249290000000027E-2,4.1990399999999959E-3,1.4042250000000011E-2,1.6974400000000103E-3,"","","","","","","","","","","","","","","",2.2165264000000009E-3,3.6549792399999961E-2,1.8558864000000103E-3,3.6442810000000027E-2,1.6584288400000001E-2,2.4329760400000001E-2,5.6178480400000001E-2,9.8973160000000279E-4,2.7782222400000018E-2,1.0889999999999799E-5,9.4987239999999747E-4,7.9959363999999901E-3,5.3268639999999947E-4,1.4167695999999922E-3,6.6574320400000012E-2,"","","","","","","","","","","","","","","",60,0.90291131360000043,0.1226724170028998,null,19,"Bentazone-Methyl",10,10.784666666666666,10.435,9.9083333333333332,10.864333333333335,10.932333333333332,3,5,-0.5346666666666664,-1.4410000000000007,1.2476666666666674,0.81866666666666532,0.17066666666666741,-0.21366666666666667,0.4529999999999994,-0.69133333333333269,-1.1393333333333349,0.34966666666666768,0.74833333333333307,0.98799999999999955,-0.5563333333333329,0.32066666666666599,-0.52033333333333154,"","","","","","","","","","","","","","","",10.584933333333334,105.84933333333333,0.53918406666666652,8.9867426666666663,10,0.89867426666666661,0,0.89867426666666661,0.94798431773245417,8.9559781614035119E-2,8.9559781614035128,15,"UYGUN  ","UYGUN  ",0.11229336275855129,null,19,"Bentazone-Methyl",50,46.102000000000004,41.372999999999998,49.142333333333333,44.667666666666662,43.498333333333335,3,5,1.5439999999999969,-0.93199999999999505,-1.2963333333333367,-4.2126666666666637,6.2666666666665094E-2,-3.9010000000000034,-3.2239999999999966,-0.7153333333333336,-3.0016666666666652,6.336666666666666,2.3569999999999993,4.1560000000000059,2.0116666666666703,7.2143333333333359,-6.3993333333333382,"","","","","","","","","","","","","","","",44.956666666666663,89.913333333333327,25.413388333333351,217.8432140000001,10,21.78432140000001,1.2096889777777804,22.994010377777791,4.7952070213680855,0.1066628684222159,{"$f":"SM29*100","v":10.66628684222159},15,"UYGUN  ","UYGUN  ",0.15927754500076916,9.8483303109736839E-2]
[20,"BIFENAZATE","GC-MS/MS",809389,808472,null,1561195,1828792,null,2827101,3037990,null,8238267,8968029,null,16589877,15752611,null,30574664,31641896,{"$nulls":8},20,"BIFENAZATE",10,9.6859999999999999,11.433,11.728999999999999,8.2970000000000006,10.420999999999999,11.942,11.85,8.4659999999999993,11.124000000000001,10.66,11.326000000000001,10.484999999999999,9.7010000000000005,9.6750000000000007,9.093,{"$nulls":16},20,"Bifenazate",50,40.325000000000003,40.909999999999997,35.549999999999997,45.874000000000002,46.421999999999997,44.976999999999997,45.387,46.09,44.302,46.576999999999998,43.822000000000003,41.441000000000003,45.374000000000002,40.506999999999998,38.866999999999997,{"$nulls":16},20,"BIFENAZATE",10,10.276999999999999,8.5489999999999995,10.475,11.242000000000001,11.38,9.1910000000000007,10.183,9.2590000000000003,11.615,11.932,9.4770000000000003,9.1080000000000005,8.8030000000000008,9.9689999999999994,8.3379999999999992,{"$nulls":16},20,"BIFENAZATE",50,42.061,47.396999999999998,45.595999999999997,50.046999999999997,58.36,59.55,45.863,40.558999999999997,42.554000000000002,50.585000000000001,48.723999999999997,47.515000000000001,50.731000000000002,52.795999999999999,43.225999999999999,{"$nulls":16},20,"BIFENAZATE",10,10.313199999999998,1.3900094244284817,103.13199999999998,13.477964399298781,"uygun","uygun",10.808400000000001,1.4123069071558079,108.084,13.066752777060506,"uygun","uygun",10.056000000000001,0.86537506319514435,100.56,8.6055594987583959,"uygun","uygun","--------","--------","--------","--------","uygun değil","uygun değil","--------","--------","--------","--------","uygun değil","uygun değil","--------","--------","--------","--------","uygun değil","uygun değil",null,20,"BIFENAZATE",50,41.816199999999995,4.4718361105926059,83.63239999999999,10.694027937958509,"uygun","uygun",45.4666,0.89776851136582025,90.933199999999999,1.974567069817889,"uygun","uygun",42.002200000000002,2.6009976355237256,84.004400000000004,6.1925271426823487,"uygun","uygun","--------","--------","--------","--------","uygun değil","uygun değil","--------","--------","--------","--------","uygun değil","uygun değil","--------","--------","--------","--------","uygun değil","uygun değil",{"$nulls":31},20,"BIFENAZATE",10,9.8595999999999905E-4,2.0534889999999997E-2,2.9894409999999941E-2,2.9002089999999963E-2,1.7724100000000023E-3,3.7713639999999972E-2,3.4225000000000019E-2,2.3531560000000028E-2,1.2633760000000013E-2,4.3560000000000074E-3,1.7582760000000013E-2,2.3522499999999989E-3,8.9400999999999565E-4,1.0562499999999982E-3,8.2264900000000012E-3,"","","","","","","","","","","","","","","",3.7442249999999962E-2,3.3051240000000023E-2,8.3521000000000026E-2,6.8095503999999881E-3,5.1208336000000097E-3,1.009221160000002E-2,8.5119076000000019E-3,6.1152399999999897E-3,1.2986881600000014E-2,4.6867716000000108E-3,1.5267073599999974E-2,2.9302592400000001E-2,8.5599503999999882E-3,3.6046819600000009E-2,4.9577475600000039E-2,"","","","","","","","","","","","","","","",7.672899999999909E-4,2.1054010000000001E-2,2.2562499999999883E-3,1.5425640000000022E-2,1.9044000000000033E-2,6.5448099999999955E-3,3.3488999999999936E-4,5.4908099999999918E-3,2.6082249999999991E-2,3.7326240000000017E-2,2.7352900000000013E-3,7.9566399999999905E-3,1.4328089999999981E-2,9.6100000000006364E-6,2.7622440000000043E-2,"","","","","","","","","","","","","","","",2.5211088400000012E-2,2.7102435999999995E-3,7.7580864000000079E-3,8.8359999999988882E-7,2.7955840000000006E-2,3.6480999999999937E-2,6.8459076000000063E-3,3.5652992400000035E-2,2.2177166399999983E-2,1.3689000000000103E-4,6.5127040000000503E-4,2.4700899999999968E-3,2.1374440000000226E-4,3.1270463999999967E-3,1.8354830400000011E-2,"","","","","","","","","","","","","","","",60,0.94857861799999965,0.12573640536190514,null,20,"BIFENAZATE",10,9.6483333333333334,9.2799999999999994,9.5123333333333342,10.942,10.549999999999999,3,5,0.62866666666666582,-0.73099999999999987,0.96266666666666545,0.30000000000000071,0.83000000000000185,-0.4573333333333327,0.90300000000000047,-0.25333333333333385,0.67300000000000004,1.3820000000000014,-0.17133333333333312,-0.17199999999999882,-0.70933333333333337,-0.97300000000000075,-2.2119999999999997,"","","","","","","","","","","","","","","",9.9865333333333322,99.865333333333311,1.5516340999999993,12.488569333333338,10,1.2488569333333337,0.10092572222222189,1.3497826555555557,1.1618014699403489,0.11633681390342486,11.633681390342486,15,"UYGUN  ","UYGUN  ",0.18947955976880151,null,20,"BIFENAZATE",50,50.111666666666657,46.92499999999999,45.628666666666668,48.465666666666664,50.723666666666666,3,5,-8.0506666666666575,0.47200000000000841,-3.2666666666671063E-2,1.5813333333333333,7.636333333333333,9.4383333333333397,-1.0619999999999905,-5.0696666666666701,-5.9116666666666617,-0.13866666666666561,-1.3876666666666608,0.59000000000001052,5.1023333333333341,4.3303333333333356,-7.4976666666666674,"","","","","","","","","","","","","","","",48.370933333333326,96.741866666666652,13.638923066666658,380.00413466666652,10,38.00041346666665,0,38.00041346666665,6.1644475394528788,0.12744115349134355,12.42,15,"UYGUN  ","UYGUN  ",0.22737746644485859,0.12201537172095223]
[21,"Bifenthrin","GC-MS/MS",42938,41125,null,120491,137185,null,284957,303623,null,796280,891208,null,1651911,1582972,null,3451352,3447910,{"$nulls":8},21,"Bifenthrin",10,8.9540000000000006,11.507999999999999,11.577,8.2840000000000007,9.6479999999999997,10.673,11.702999999999999,8.4009999999999998,11.212999999999999,11.516,11.055999999999999,10.641,8.8569999999999993,7.8550000000000004,7.8979999999999997,{"$nulls":16},21,"Bifenthrin",50,42.731999999999999,43.404000000000003,37.966999999999999,49.203000000000003,46.195999999999998,41.481000000000002,45.095999999999997,50.030999999999999,44.51,48.701000000000001,42.811,40.383000000000003,44.222999999999999,38.270000000000003,37.813000000000002,{"$nulls":16},21,"Bifenthrin",10,10.412000000000001,8.1780000000000008,11.56,11.163,11.387,9.7560000000000002,11.347,8.98,9.7759999999999998,11.44,11.202999999999999,9.8170000000000002,8.8490000000000002,10.433999999999999,8.7959999999999994,{"$nulls":16},21,"Bifenthrin",50,48.667000000000002,41.503999999999998,50.250999999999998,46.095999999999997,47.536999999999999,47.875,45.774000000000001,48.741999999999997,42.029000000000003,47.036999999999999,50.22,47.728999999999999,55.786999999999999,57.003999999999998,36.533000000000001,{"$nulls":16},21,"Bifenthrin",10,9.9942000000000011,1.4936114621948948,99.942000000000007,14.944782595854541,"uygun","uygun",10.701199999999998,1.3436105090389865,107.01199999999997,12.555699445286386,"uygun","uygun",9.2614000000000001,1.5103182777149862,92.61399999999999,16.30766706669603,"uygun","uygun","--------","--------","--------","--------","uygun değil","uygun değil","--------","--------","--------","--------","uygun değil","uygun değil","--------","--------","--------","--------","uygun değil","uygun değil",null,21,"Bifenthrin",50,43.900399999999998,4.1893959349767851,87.800799999999995,9.5429561803008287,"uygun","uygun",45.963799999999999,3.4276991845843181,91.927599999999998,7.4573886070871387,"uygun","uygun",40.700000000000003,2.7932064012528666,81.400000000000006,6.8629149907932838,"uygun","uygun","--------","--------","--------","--------","uygun değil","uygun değil","--------","--------","--------","--------","uygun değil","uygun değil","--------","--------","--------","--------","uygun değil","uygun değil",{"$nulls":31},21,"Bifenthrin",10,1.0941159999999983E-2,2.2740639999999947E-2,2.4869289999999985E-2,2.944655999999999E-2,1.2390400000000007E-3,4.5292899999999888E-3,2.9002089999999963E-2,2.5568010000000013E-2,1.4713689999999991E-2,2.2982559999999989E-2,1.1151359999999982E-2,4.1088100000000061E-3,1.3064490000000015E-2,4.6010249999999961E-2,4.4184040000000022E-2,"","","","","","","","","","","","","","","",2.1129529600000013E-2,1.740288639999998E-2,5.7917235599999992E-2,2.5408359999999852E-4,5.7881664000000053E-3,2.9029344399999994E-2,9.6196864000000111E-3,3.8440000000008055E-7,1.2056040000000002E-2,6.7496040000000019E-4,2.0672688400000007E-2,3.6994675599999985E-2,1.3349491599999994E-2,5.503715999999996E-2,5.9409187599999976E-2,"","","","","","","","","","","","","","","",1.6974400000000103E-3,3.3196839999999971E-2,2.4336000000000042E-2,1.3525690000000016E-2,1.9237690000000012E-2,5.9535999999999888E-4,1.8144090000000012E-2,1.0403999999999997E-2,5.0175999999999888E-4,2.0735999999999973E-2,1.4472089999999964E-2,3.3488999999999936E-4,1.3248009999999996E-2,1.8835599999999899E-3,1.4496160000000015E-2,"","","","","","","","","","","","","","","",7.1075560000000094E-4,2.8872806400000024E-2,2.5200400000000244E-5,6.0964864000000061E-3,2.426547599999997E-3,1.8062499999999984E-3,7.1436303999999878E-3,6.3302560000000362E-4,2.5414736399999967E-2,3.5117475999999976E-3,1.9359999999999645E-5,2.0629764000000017E-3,1.339574759999999E-2,1.9622406399999993E-2,7.2544035600000015E-2,"","","","","","","","","","","","","","","",60,1.0149820927999997,0.13006293943062078,null,21,"Bifenthrin",10,10.456999999999999,9.7806666666666668,9.7963333333333331,10.457666666666666,10.540999999999999,3,5,-4.4999999999998153E-2,-1.602666666666666,1.7636666666666674,0.70533333333333381,0.84600000000000186,-0.70099999999999874,1.5663333333333327,-0.81633333333333269,-0.68166666666666664,0.89900000000000091,0.74600000000000044,3.6333333333333329E-2,-0.94733333333333292,-2.3666666666667169E-2,-1.7449999999999992,"","","","","","","","","","","","","","","",10.206533333333333,102.06533333333331,0.44047193333333218,16.279229999999998,10,1.6279229999999998,0,1.6279229999999998,1.27590085821744,0.1250082487900665,12.50082487900665,15,"UYGUN  ","UYGUN  ",0.21877887171782828,null,21,"Bifenthrin",50,48.920666666666669,45.002333333333333,51.593333333333334,48.376333333333328,43.702333333333335,3,5,-0.2536666666666676,-3.4983333333333348,-1.342333333333336,-2.2803333333333313,3.8346666666666636,-1.0456666666666692,0.77166666666666828,-2.8513333333333364,-6.3473333333333244,3.3346666666666636,1.2993333333333297,2.7266666666666666,4.1936666666666653,8.6276666666666699,-7.1693333333333342,"","","","","","","","","","","","","","","",47.518999999999998,95.037999999999997,30.150328166666661,247.78255333333325,10,24.778255333333327,1.7906909444444448,26.568946277777773,5.1545073748882899,0.10847255571220543,12.42,15,"UYGUN  ","UYGUN  ",0.16472813479832515,0.11703281080170781]
[22,"Biphenyl","GC-MS/MS",1223550,1214560,null,3071613,3233615,null,5319425,5376784,null,17679955,16712560,null,34922933,31599074,null,73491508,54552122,{"$nulls":8},22,"Biphenyl",10,8.3350000000000009,10.946999999999999,11.526999999999999,9.8829999999999991,9.6769999999999996,10.747,10.728,8.6940000000000008,8.5739999999999998,8.5060000000000002,10.246,11.085000000000001,7.907,8.4909999999999997,7.6840000000000002,{"$nulls":16},22,"Biphenyl",50,49.067999999999998,55.869,50.03,50.944000000000003,49.298000000000002,47.664999999999999,48.823,55.161999999999999,43.661999999999999,56.365000000000002,53.298000000000002,50.319000000000003,48.465000000000003,55.843000000000004,38.607999999999997,{"$nulls":16},22,"Biphenyl",10,11.097,10.409000000000001,10.406000000000001,11.487,11.98,11.414999999999999,10.676,10.492000000000001,10.901999999999999,10.595000000000001,10.303000000000001,9.7789999999999999,8.5739999999999998,11.154,7.8650000000000002,{"$nulls":16},22,"Biphenyl",50,55.537999999999997,49.887,57.795999999999999,56.317999999999998,39.334000000000003,49.179000000000002,45.523000000000003,54.256,52.561,59.698999999999998,35.78,45.259,46.972999999999999,41.209000000000003,49.65,{"$nulls":16},22,"Biphenyl",10,10.073799999999999,1.2340531593087931,100.738,12.250125665675251,"uygun","uygun",9.4497999999999998,1.1774485976041493,94.49799999999999,12.460037224112144,"uygun","uygun",9.0825999999999993,1.5042617126019096,90.825999999999993,16.562016521721858,"uygun","uygun","--------","--------","--------","--------","uygun değil","uygun değil","--------","--------","--------","--------","uygun değil","uygun değil","--------","--------","--------","--------","uygun değil","uygun değil",null,22,"Biphenyl",50,51.041800000000002,2.7960636974146347,102.0836,5.4779880361089033,"uygun","uygun",50.335400000000007,5.3292776527405668,100.67080000000001,10.587534126560167,"uygun","uygun",49.306600000000003,6.6115256408789902,98.613200000000006,13.409007396330288,"uygun","uygun","--------","--------","--------","--------","uygun değil","uygun değil","--------","--------","--------","--------","uygun değil","uygun değil","--------","--------","--------","--------","uygun değil","uygun değil",{"$nulls":31},22,"Biphenyl",10,2.7722249999999955E-2,8.9680900000000015E-3,2.3317289999999949E-2,1.3689000000000103E-4,1.0432899999999997E-3,5.5800899999999985E-3,5.2998399999999966E-3,1.7056359999999982E-2,2.0334760000000018E-2,2.2320359999999994E-2,6.0515999999999782E-4,1.1772250000000008E-2,4.3806490000000017E-2,2.2770810000000009E-2,5.3638560000000016E-2,"","","","","","","","","","","","","","","",3.4744959999999961E-4,1.377806440000001E-2,3.5999999999992069E-7,3.5645440000000027E-4,1.9712159999999836E-4,2.1808899999999965E-3,5.5413160000000023E-4,1.06584976E-2,1.6068097599999998E-2,1.6205289999999994E-2,4.350721600000002E-3,4.0704400000000667E-5,9.4248999999999689E-4,1.3656259599999991E-2,5.1911065600000021E-2,"","","","","","","","","","","","","","","",1.203408999999998E-2,1.6728100000000131E-3,1.6483599999999976E-3,2.2111690000000017E-2,3.9203999999999982E-2,2.0022249999999988E-2,4.5697600000000138E-3,2.420640000000013E-3,8.1360399999999711E-3,3.540250000000013E-3,9.1808999999999966E-4,4.8841000000000043E-4,2.0334760000000018E-2,1.3317159999999988E-2,4.5582250000000012E-2,"","","","","","","","","","","","","","","",1.2267777599999993E-2,5.1076000000001796E-6,2.4311046400000019E-2,1.5966849600000006E-2,4.5505422399999981E-2,2.6961639999999968E-4,8.017411599999991E-3,7.2454144000000144E-3,2.6234884000000042E-3,3.7628240400000013E-2,8.0883359999999987E-2,8.9908324000000026E-3,3.6650916000000046E-3,3.091267239999999E-2,4.9000000000000087E-5,"","","","","","","","","","","","","","","",60,0.86996197920000007,0.12041331454619128,null,22,"Biphenyl",10,10.938333333333333,10.288,9.8239999999999998,11.180999999999999,10.146666666666668,3,5,0.15866666666666696,0.12100000000000044,0.58200000000000074,0.30600000000000094,1.8333333333333321,0.47666666666666657,0.3879999999999999,0.66800000000000104,-0.27899999999999991,0.44833333333333236,-0.63533333333333175,-0.50900000000000034,-1.25,-2.6999999999999247E-2,-2.2816666666666681,"","","","","","","","","","","","","","","",10.4756,104.756,0.95976356666666462,12.368071333333337,10,1.2368071333333337,0,1.2368071333333337,1.1121183090540923,0.10616273140002408,10.616273140002408,15,"UYGUN  ","UYGUN  ",0.15778735753639123,null,22,"Biphenyl",50,46.832333333333338,46.889666666666663,53.008333333333326,50.029333333333334,49.561,3,5,8.7056666666666587,2.9973333333333372,4.7876666666666736,6.2886666666666642,-10.226999999999997,2.346666666666664,-1.36666666666666,1.2476666666666745,2.5316666666666663,10.137999999999998,-11.052333333333337,-1.6306666666666629,-6.0353333333333268,-8.8203333333333305,8.8999999999998636E-2,"","","","","","","","","","","","","","","",49.264133333333334,98.528266666666667,19.683328266666617,608.99751866666634,10,60.899751866666634,0,60.899751866666634,7.8038293078889565,0.15840792844332233,{"$f":"SM32*100","v":15.840792844332233},15,"UYGUN  ","UYGUN  ",0.35130300511186613,0.13483990012607244]
[23,"Bromocyclen","GC-MS/MS",1817885,1873240,null,3801607,4021690,null,6859245,6940666,null,18998002,19900859,null,34383214,34612608,null,67481802,66764142,{"$nulls":8},23,"Bromocyclen",10,11.007999999999999,10.281000000000001,11.37,11.442,9.2579999999999991,11.086,11.522,11.196,11.164999999999999,11.670999999999999,10.352,8.2279999999999998,10.484,8.7769999999999992,7.8739999999999997,{"$nulls":16},23,"Bromocyclen",50,44.826000000000001,45.555999999999997,35.81,42.076999999999998,39.197000000000003,43.706000000000003,42.502000000000002,40.796999999999997,38.314,46.881999999999998,45.628,45.542999999999999,45.162999999999997,47.496000000000002,41.518999999999998,{"$nulls":16},23,"Bromocyclen",10,11.003,10.47,11.25,11.333,11.388999999999999,11.019,11.962999999999999,10.127000000000001,10.298999999999999,11.111000000000001,11.949,10.388,9.8010000000000002,10.946,10.579000000000001,{"$nulls":16},23,"Bromocyclen",50,56.162999999999997,38.024000000000001,48.732999999999997,41.091999999999999,35.191000000000003,35.087000000000003,36.915999999999997,50.93,44.027000000000001,49.109000000000002,41.033999999999999,41.856999999999999,47.557000000000002,45.823,50.39,{"$nulls":16},23,"Bromocyclen",10,10.671799999999999,0.91450489337127128,106.718,8.5693593711582992,"uygun","uygun",11.327999999999999,0.25389072452533584,113.28,2.2412669891007755,"uygun","uygun",9.1430000000000007,1.2084601772503645,91.43,13.217326667946674,"uygun","uygun","--------","--------","--------","--------","uygun değil","uygun değil","--------","--------","--------","--------","uygun değil","uygun değil","--------","--------","--------","--------","uygun değil","uygun değil",null,23,"Bromocyclen",50,41.493200000000002,4.0474071576751438,82.986400000000003,9.7543866408836717,"uygun","uygun",42.440199999999997,3.203954150733122,84.880399999999995,7.5493380114446254,"uygun","uygun",45.069800000000001,2.1816747466109621,90.139600000000002,4.8406577056276312,"uygun","uygun","--------","--------","--------","--------","uygun değil","uygun değil","--------","--------","--------","--------","uygun değil","uygun değil","--------","--------","--------","--------","uygun değil","uygun değil",{"$nulls":31},23,"Bromocyclen",10,1.016064E-2,7.8961000000000081E-4,1.8769000000000004E-2,2.079364000000003E-2,5.5056400000000061E-3,1.1793960000000006E-2,2.3164840000000034E-2,1.4304159999999982E-2,1.3572249999999959E-2,2.7922410000000009E-2,1.2390400000000085E-3,3.1399840000000005E-2,2.34256E-3,1.4957290000000019E-2,4.5198760000000004E-2,"","","","","","","","","","","","","","","",1.0708110400000003E-2,7.899654400000013E-3,8.0542439999999965E-2,2.5109571600000016E-2,4.6681923599999967E-2,1.5845774399999998E-2,2.2488001599999995E-2,3.3878083600000039E-2,5.462503840000002E-2,3.8887696000000104E-3,7.6457535999999932E-3,7.9459396000000002E-3,9.3586276000000093E-3,2.5080063999999903E-3,2.8770944399999998E-2,"","","","","","","","","","","","","","","",1.0060090000000011E-2,2.2090000000000143E-3,1.5625E-2,1.7768889999999992E-2,1.9293210000000005E-2,1.0383610000000021E-2,3.8533689999999968E-2,1.6129000000000395E-4,8.9401000000000226E-4,1.2343209999999995E-2,3.7986010000000028E-2,1.5054399999999957E-3,3.9601000000000116E-4,8.9491600000000029E-3,3.3524100000000071E-3,"","","","","","","","","","","","","","","",1.5193027599999982E-2,5.7369830399999981E-2,6.4211560000000147E-4,3.1740985599999993E-2,8.7722592399999993E-2,8.8959027599999976E-2,6.8476422400000014E-2,3.4595999999999813E-4,1.4270691600000003E-2,3.175523999999981E-4,3.2155662400000014E-2,2.6523379600000001E-2,2.3872995999999905E-3,6.9789315999999914E-3,6.0840000000000454E-5,"","","","","","","","","","","","","","","",60,1.2124156280000002,0.1421510715166556,null,23,"Bromocyclen",10,11.323666666666666,10.940333333333333,10.392666666666669,10.859333333333332,11.026333333333334,3,5,-0.32066666666666599,-0.4703333333333326,0.85733333333333128,0.47366666666666823,0.3626666666666658,-0.30466666666666598,1.0226666666666659,-0.26566666666666805,-0.56033333333333246,8.4666666666667112E-2,0.62533333333333374,-0.55233333333333334,-0.59166666666666856,8.666666666666778E-2,-0.44733333333333292,"","","","","","","","","","","","","","","",10.908466666666666,109.08466666666665,0.34182209999999819,4.1991393333333296,10,0.41991393333333293,0,0.41991393333333293,0.64800766456372483,5.9404101819723353E-2,5.9404101819723349,15,"UYGUN  ","UYGUN  ",4.9403862382112834E-2,null,23,"Bromocyclen",50,44.094666666666662,38.932333333333332,49.073333333333331,43.647333333333336,44.896666666666668,3,5,12.068333333333335,-0.90833333333333144,-0.3403333333333336,-2.555333333333337,-9.7056666666666658,-9.0076666666666583,-2.0163333333333355,1.8566666666666691,0.37966666666666526,4.2123333333333335,-3.0606666666666626,2.924666666666667,-1.5163333333333284,2.1756666666666646,5.4933333333333323,"","","","","","","","","","","","","","","",44.128866666666667,88.257733333333334,39.205702599999988,408.98488733333318,10,40.898488733333316,0,40.898488733333316,6.3951926267574866,0.14492084455883344,14.492084455883344,15,"UYGUN  ","UYGUN  ",0.29402871662703794,0.11074948871361355]
[24,"Bromophos Methyl","GC-MS/MS",1882789,1863636,null,4126915,4144497,null,7537815,7906687,null,20554749,21504886,null,42011014,41359075,null,80703732,80497910,{"$nulls":8},24,"Bromophos Methyl",10,9.6280000000000001,11.617000000000001,11.821,8.41,10.029,10.196,11.552,8.8170000000000002,11.888,11.372,10.946999999999999,11.065,10.507,8.9130000000000003,8.0299999999999994,{"$nulls":16},24,"Bromophos-ethyl",50,46.575000000000003,45.591999999999999,39.234000000000002,51.293999999999997,43.027999999999999,39.880000000000003,43.649000000000001,50.832000000000001,41.177,49.332999999999998,50.427999999999997,47.006999999999998,51.497999999999998,44.253,39.805,{"$nulls":16},24,"Bromophos Methyl",10,10.419,7.9450000000000003,11.696999999999999,11.228,10.835000000000001,9.07,10.673999999999999,8.8350000000000009,9.3889999999999993,11.023999999999999,11.638,10.067,10.016,10.342000000000001,10.374000000000001,{"$nulls":16},24,"Bromophos Methyl",50,46.103000000000002,37.033999999999999,44.731000000000002,37.79,43.588000000000001,42.12,36.17,43.978000000000002,39.090000000000003,44.927,54.296999999999997,47.817999999999998,56.853999999999999,58.883000000000003,45.082999999999998,{"$nulls":16},24,"Bromophos Methyl",10,10.300999999999998,1.4269766991790793,103.00999999999998,13.852797778653331,"uygun","uygun",10.764999999999999,1.2616865696360737,107.64999999999998,11.720265393739655,"uygun","uygun",9.8924000000000003,1.3502465700752526,98.924000000000007,13.649332518653235,"uygun","uygun","--------","--------","--------","--------","uygun değil","uygun değil","--------","--------","--------","--------","uygun değil","uygun değil","--------","--------","--------","--------","uygun değil","uygun değil",null,24,"Bromophos Methyl",50,45.144599999999997,4.4574802074714803,90.289199999999994,9.8737838135047848,"uygun","uygun",44.974199999999996,4.8846370080078616,89.948399999999992,10.860975866180748,"uygun","uygun",46.598199999999999,4.7563130363759685,93.196399999999997,10.207074600254879,"uygun","uygun","--------","--------","--------","--------","uygun değil","uygun değil","--------","--------","--------","--------","uygun değil","uygun değil","--------","--------","--------","--------","uygun değil","uygun değil",{"$nulls":31},24,"Bromophos Methyl",10,1.3838400000000008E-3,2.6146890000000058E-2,3.3160409999999974E-2,2.5281000000000008E-2,8.409999999999435E-6,3.8416000000000242E-4,2.4087040000000001E-2,1.3994889999999991E-2,3.5645440000000028E-2,1.8823839999999998E-2,8.9680900000000015E-3,1.1342250000000009E-2,2.5704899999999969E-3,1.1815690000000004E-2,3.8809000000000024E-2,"","","","","","","","","","","","","","","",4.6922499999999855E-3,7.7721856000000028E-3,4.6362702399999983E-2,6.6977439999999497E-4,1.9443513600000004E-2,4.0965759999999962E-2,1.6134080400000004E-2,2.7688959999999961E-4,3.1138131600000021E-2,1.7795560000000049E-4,7.3273599999998309E-5,3.5832196000000027E-3,8.9760159999999916E-4,1.3211203600000009E-2,4.1575209999999987E-2,"","","","","","","","","","","","","","","",1.755610000000004E-3,4.2230250000000004E-2,2.8798089999999988E-2,1.5079840000000006E-2,6.9722500000000218E-3,8.6489999999999952E-3,4.5427599999999868E-3,1.3572249999999985E-2,3.7332100000000055E-3,1.0485759999999964E-2,2.6830439999999983E-2,4.4889999999999037E-5,2.5600000000001466E-6,1.1696400000000007E-3,1.3987600000000076E-3,"","","","","","","","","","","","","","","",6.0746436000000013E-3,6.7246862399999996E-2,1.1104944399999983E-2,5.9633639999999988E-2,1.6445497600000004E-2,2.4837760000000025E-2,7.6507559999999974E-2,1.4505793599999999E-2,4.7611239999999978E-2,1.0294131599999999E-2,7.3856835999999834E-3,1.904449600000001E-3,1.8790926400000026E-2,3.1563075600000053E-2,9.6707555999999972E-3,"","","","","","","","","","","","","","","",60,1.0482374656000002,0.13217648968960657,null,24,"Bromophos Methyl",10,10.375666666666667,9.5619999999999994,10.182666666666668,10.319666666666665,10.744333333333335,3,5,4.3333333333333002E-2,-1.6169999999999991,1.5143333333333313,0.90833333333333499,9.0666666666665563E-2,-1.3056666666666672,1.1120000000000001,-1.347666666666667,-0.93066666666666542,0.27966666666666384,1.2623333333333324,0.50500000000000078,-0.16666666666666785,2.2333333333335759E-2,-0.37033333333333474,"","","","","","","","","","","","","","","",10.236866666666668,102.36866666666668,0.55651976666666858,13.45886466666666,10,1.3458864666666659,0,1.3458864666666659,1.1601234704403949,0.11332798484305694,11.332798484305693,15,"UYGUN  ","UYGUN  ",0.17980525008023401,null,24,"Bromophos Methyl",50,47.506666666666661,40.340666666666671,48.520999999999994,45.254333333333335,44.532666666666671,3,5,-1.4036666666666591,-3.306666666666672,-3.789999999999992,-7.4643333333333359,-0.9446666666666701,-5.3866666666666632,-4.1706666666666692,-4.5429999999999922,-6.1643333333333317,0.39433333333332854,6.7903333333333364,7.4773333333333269,8.3330000000000055,13.628666666666668,0.55033333333332735,"","","","","","","","","","","","","","","",45.231066666666663,90.462133333333327,30.304749566666572,546.58253466666667,10,54.658253466666665,0,54.658253466666665,7.3931220378583404,0.16345230353160675,16.345230353160677,15,"UYGUN  ","UYGUN  ",0.37403317741703906,0.14064118827423325]
[25,"Bromophos-Ethyl","GC-MS/MS",2293786,2361038,null,4520651,5328274,null,8529223,9321229,null,24147042,24105658,null,46269138,46525591,null,90568366,91116123,{"$nulls":8},25,"Bromophos-Ethyl",10,9.0609999999999999,11.459,11.882,8.74,10.170999999999999,10.625,11.611000000000001,8.7159999999999993,11.991,11.180999999999999,11.510999999999999,11.563000000000001,11.28,11.31,11.247999999999999,{"$nulls":16},25,"Bromophos-methyl",50,45.661000000000001,47.043999999999997,38.74,48.893000000000001,44.811,40.756999999999998,43.975000000000001,49.783999999999999,43.213999999999999,48.697000000000003,52.607999999999997,50.201000000000001,54.994999999999997,47.875999999999998,42.661000000000001,{"$nulls":16},25,"Bromophos-Ethyl",10,10.95,9.1630000000000003,11.647,10.916,11.077,10.185,11.481999999999999,9.5809999999999995,9.4619999999999997,11.504,8.0380000000000003,10.493,11.87,9.6890000000000001,8.2070000000000007,{"$nulls":16},25,"Bromophos-Ethyl",50,46.731999999999999,43.375999999999998,49.734000000000002,42.786999999999999,44.445999999999998,43.578000000000003,42.823,46.188000000000002,42.637999999999998,47.898000000000003,49.613,46.820999999999998,54.454000000000001,42.161999999999999,50.94,{"$nulls":16},25,"Bromophos-Ethyl",10,10.262600000000001,1.3986040540481757,102.62600000000002,13.628164929434798,"uygun","uygun",10.8248,1.283741484879259,108.24799999999999,11.859262849006532,"uygun","uygun",11.382400000000001,0.14400104166289932,113.82400000000001,1.2651202001590114,"uygun","uygun","--------","--------","--------","--------","uygun değil","uygun değil","--------","--------","--------","--------","uygun değil","uygun değil","--------","--------","--------","--------","uygun değil","uygun değil",null,25,"Bromophos-Ethyl",50,45.029800000000002,3.8402209181243716,90.059600000000003,8.5281767143633136,"uygun","uygun",45.285399999999996,3.8206893749688691,90.570799999999991,8.4369120620969884,"uygun","uygun",49.668199999999999,4.7332317395200487,99.336399999999998,9.5297025853967909,"uygun","uygun","--------","--------","--------","--------","uygun değil","uygun değil","--------","--------","--------","--------","uygun değil","uygun değil","--------","--------","--------","--------","uygun değil","uygun değil",{"$nulls":31},25,"Bromophos-Ethyl",10,8.8172099999999972E-3,2.1286809999999975E-2,3.541923999999997E-2,1.5876000000000001E-2,2.9240999999999637E-4,3.90625E-3,2.5953210000000008E-2,1.6486560000000018E-2,3.9640810000000019E-2,1.394760999999997E-2,2.2831210000000005E-2,2.4429690000000032E-2,1.6383999999999972E-2,1.7161000000000003E-2,1.5575040000000005E-2,"","","","","","","","","","","","","","","",7.5307683999999942E-3,3.4951744000000073E-3,5.0715039999999982E-2,4.9017959999999726E-4,1.0770288399999996E-2,3.4173219600000006E-2,1.4520249999999986E-2,1.8662399999999918E-5,1.8419918400000016E-2,6.7912359999999859E-4,2.7206655999999982E-3,1.6160399999999297E-5,9.9800099999999749E-3,1.8045504000000062E-3,2.1544368400000007E-2,"","","","","","","","","","","","","","","",9.0249999999999948E-3,7.0056899999999993E-3,2.7126090000000023E-2,8.3905600000000226E-3,1.1599289999999979E-2,3.4224999999999853E-4,2.1963239999999967E-2,1.755610000000004E-3,2.8944400000000077E-3,2.2620159999999959E-2,3.849443999999997E-2,2.4304900000000121E-3,3.4968999999999938E-2,9.6721000000000101E-4,3.2148489999999967E-2,"","","","","","","","","","","","","","","",4.2719295999999966E-3,1.7550950400000011E-2,2.8302399999999907E-5,2.0810947600000015E-2,1.2338766400000015E-2,1.6496833599999972E-2,2.0603731600000001E-2,5.8125375999999963E-3,2.167961760000001E-2,1.7673615999999972E-3,5.9907599999999521E-5,4.0424164000000106E-3,7.9352464000000088E-3,2.4573697600000003E-2,3.5343999999999729E-4,"","","","","","","","","","","","","","","",60,0.83494307599999995,0.11796490127717368,null,25,"Bromophos-Ethyl",10,9.7243333333333322,10.379333333333333,11.032666666666666,10.022333333333334,10.262666666666666,3,5,1.2256666666666671,-1.216333333333333,0.61433333333333451,0.89366666666666639,0.8143333333333338,0.46066666666666833,1.102666666666666,-1.4516666666666662,-0.56033333333333424,1.2413333333333334,-1.6863333333333319,0.11366666666666703,0.83733333333333348,-0.33333333333333393,-2.0556666666666654,"","","","","","","","","","","","","","","",10.284266666666667,102.84266666666669,0.71380589999999966,18.105859333333324,10,1.8105859333333325,0,1.8105859333333325,1.3455801474952478,0.13083870645405743,13.083870645405742,15,"UYGUN  ","UYGUN  ",0.23966273949199413,null,25,"Bromophos-Ethyl",50,46.640999999999998,44.339999999999996,50.125333333333337,42.528999999999996,47.761333333333333,3,5,9.100000000000108E-2,-0.96399999999999864,-0.39133333333333553,0.25800000000000267,-3.315333333333335,-3.0629999999999953,-1.5169999999999959,-3.9373333333333349,0.10900000000000176,0.13666666666667027,2.9720000000000013,2.4810000000000016,4.3286666666666633,-0.36699999999999733,3.1786666666666648,"","","","","","","","","","","","","","","",46.279333333333334,92.558666666666667,26.208642500000053,83.329239333333291,10,8.3329239333333298,5.9585728555555741,14.291496788888903,3.7804096059671766,8.1686777524175871E-2,8.1686777524175866,15,"UYGUN  ","UYGUN  ",9.3418214711978864E-2,0.10906763206573987]
[26,"Bromopropylate","GC-MS/MS",29831,30886,null,100828,90829,null,184963,197728,null,503548,509699,null,971266,1020753,null,2024739,1994966,{"$nulls":8},26,"Bromopropylate",10,8.5570000000000004,11.242000000000001,11.117000000000001,7.6239999999999997,9.2509999999999994,10.263999999999999,11.381,7.6,11.013,10.811,11.648,11.319000000000001,9.3390000000000004,8.7070000000000007,7.8390000000000004,{"$nulls":16},26,"Bromopropylate",50,47.136000000000003,46.296999999999997,35.914999999999999,52.93,50.22,45.094999999999999,49.307000000000002,54.841000000000001,47.991999999999997,53.389000000000003,44.024000000000001,41.725999999999999,45.895000000000003,38.436,36.658999999999999,{"$nulls":16},26,"Bromopropylate",10,10.124000000000001,7.2450000000000001,11.510999999999999,11,10.829000000000001,8.8689999999999998,10.632999999999999,8.0589999999999993,9.5579999999999998,11.372999999999999,9.9489999999999998,8.4860000000000007,8.1430000000000007,9.75,7.2249999999999996,{"$nulls":16},26,"Bromopropylate",50,52.850999999999999,44.353000000000002,54.615000000000002,50.573,53.884999999999998,54.61,49.08,50.79,45.195999999999998,49.616,47.822000000000003,44.701999999999998,56.51,53.83,53.05,{"$nulls":16},26,"Bromopropylate",10,9.5581999999999994,1.5892563355230103,95.581999999999994,16.627150881159743,"uygun","uygun",10.213799999999999,1.5159316277457837,102.13799999999999,14.841994436407447,"uygun","uygun",9.7703999999999986,1.6561080278774123,97.703999999999994,16.950258207211704,"uygun","uygun","--------","--------","--------","--------","uygun değil","uygun değil","--------","--------","--------","--------","uygun değil","uygun değil","--------","--------","--------","--------","uygun değil","uygun değil",null,26,"Bromopropylate",50,46.499600000000001,6.4743962884581201,92.999200000000002,13.923552650900481,"uygun","uygun",50.1248,3.9816474228640599,100.2496,7.9434679497256049,"uygun","uygun",41.347999999999999,3.8224839437203668,82.695999999999998,9.2446646602504767,"uygun","uygun","--------","--------","--------","--------","uygun değil","uygun değil","--------","--------","--------","--------","uygun değil","uygun değil","--------","--------","--------","--------","uygun değil","uygun değil",{"$nulls":31},26,"Bromopropylate",10,2.0822489999999996E-2,1.5425640000000022E-2,1.247689000000003E-2,5.6453760000000013E-2,5.6100100000000116E-3,6.9695999999999886E-4,1.907161000000003E-2,5.7599999999999998E-2,1.0261689999999988E-2,6.5772099999999922E-3,2.715904000000002E-2,1.7397610000000036E-2,4.3692099999999914E-3,1.6718489999999992E-2,4.6699209999999984E-2,"","","","","","","","","","","","","","","",3.2809983999999995E-3,5.4848836000000022E-3,7.9354890000000039E-2,3.4339599999999985E-3,1.9359999999999645E-5,9.6236100000000151E-3,1.9209959999999955E-4,9.3741124000000248E-3,1.6128256000000067E-3,4.5941283999999935E-3,1.428503039999999E-2,2.7383630400000025E-2,6.7404099999999918E-3,5.349043840000002E-2,7.119291240000003E-2,"","","","","","","","","","","","","","","",1.5375999999999918E-4,7.5900249999999989E-2,2.2831210000000005E-2,1.0000000000000018E-2,6.8724099999999955E-3,1.2791609999999995E-2,4.0068899999999887E-3,3.7674810000000017E-2,1.9536400000000017E-3,1.8851289999999993E-2,2.6009999999999932E-5,2.2921959999999995E-2,3.4484489999999993E-2,6.250000000000011E-4,7.700625000000004E-2,"","","","","","","","","","","","","","","",3.251280400000008E-3,1.2755443599999984E-2,8.5192900000000092E-3,1.3133160000000058E-4,6.0372899999999816E-3,8.5008400000000112E-3,3.3856000000000305E-4,2.4964000000000117E-4,9.2313664000000101E-3,5.8982400000000311E-5,1.8974735999999941E-3,1.1227521600000012E-2,1.6952039999999967E-2,5.86756E-3,3.720999999999993E-3,"","","","","","","","","","","","","","","",60,1.0222423092000006,0.13052728381453438,null,26,"Bromopropylate",10,9.647333333333334,8.7880000000000003,9.2376666666666676,10.102666666666666,9.8089999999999993,3,5,0.47666666666666657,-1.5430000000000001,2.2733333333333317,0.89733333333333398,1.0200000000000014,-0.77833333333333421,1.8449999999999989,-1.1786666666666683,-0.54466666666666619,1.5640000000000001,0.30166666666666586,-0.3019999999999996,-1.0946666666666669,-0.35266666666666602,-2.5839999999999996,"","","","","","","","","","","","","","","",9.5169333333333324,95.169333333333327,0.79104323333333182,25.945483999999993,10,2.5945483999999994,0,2.5945483999999994,1.6107601932007134,0.1692520202446916,16.925202024469161,15,"UYGUN  ","UYGUN  ",0.40104744899673295,null,26,"Bromopropylate",50,51.761000000000003,46.044999999999995,53.971666666666664,49.86633333333333,52.18366666666666,3,5,1.0899999999999963,-1.6919999999999931,0.64333333333333798,0.70666666666667055,1.7013333333333378,2.8489999999999966,3.0350000000000037,-3.1816666666666649,-4.6703333333333319,-2.5676666666666605,-3.9390000000000001,-1.3429999999999964,2.538333333333334,3.9636666666666684,0.86633333333333695,"","","","","","","","","","","","","","","",50.76553333333333,101.53106666666667,27.280006933333354,103.93840199999997,10,10.393840199999996,5.6287222444444529,16.02256244444445,4.0028193119905433,7.884915313914842E-2,7.884915313914842,15,"UYGUN  ","UYGUN  ",8.7040645310652309E-2,0.13202923030085112]
[27,"Butachlor","GC-MS/MS",9031136,9804437,null,20856070,21464472,null,33007090,37470477,null,87138762,84518176,null,161540045,165221280,null,327881817,330992130,{"$nulls":8},27,"Butachlor",10,8.6880000000000006,10.897,11.122999999999999,8.3059999999999992,9.3510000000000009,9.6359999999999992,10.959,8.4670000000000005,11.305999999999999,10.731,11.313000000000001,10.771000000000001,9.8140000000000001,8.69,7.8410000000000002,{"$nulls":16},27,"Butachlor",50,45.722000000000001,48.213000000000001,40.633000000000003,51.957999999999998,49.774000000000001,43.281999999999996,45.902999999999999,52.320999999999998,45.262,50.936999999999998,49.314,46.988,51.484000000000002,43.618000000000002,39.645000000000003,{"$nulls":16},27,"Butachlor",10,9.4809999999999999,8.1479999999999997,11.63,10.012,10.44,9.0389999999999997,10.754,8.5519999999999996,8.407,9.827,11.175000000000001,9.8260000000000005,9.2750000000000004,10.648,9.1649999999999991,{"$nulls":16},27,"Butachlor",50,50.253999999999998,43.689,50.045000000000002,43.509,46.149000000000001,43.198,42.613999999999997,49.767000000000003,44.058,49.930999999999997,49.795999999999999,47.079000000000001,55.323,55.859000000000002,35.625,{"$nulls":16},27,"Butachlor",10,9.6729999999999983,1.2789912040354467,96.72999999999999,13.222280616514492,"uygun","uygun",10.219799999999999,1.1619706106438417,102.19799999999999,11.369797947551241,"uygun","uygun",9.6858000000000004,1.4349894424698761,96.858000000000004,14.815394107558241,"uygun","uygun","--------","--------","--------","--------","uygun değil","uygun değil","--------","--------","--------","--------","uygun değil","uygun değil","--------","--------","--------","--------","uygun değil","uygun değil",null,27,"Butachlor",50,47.260000000000005,4.3469006774942525,94.52000000000001,9.1978431601655775,"uygun","uygun",47.540999999999997,3.8857811955898907,95.081999999999994,8.173536937779792,"uygun","uygun",46.209800000000001,4.6870263707387005,92.419600000000003,10.14292719453168,"uygun","uygun","--------","--------","--------","--------","uygun değil","uygun değil","--------","--------","--------","--------","uygun değil","uygun değil","--------","--------","--------","--------","uygun değil","uygun değil",{"$nulls":31},27,"Butachlor",10,1.7213439999999997E-2,8.0460900000000196E-3,1.2611289999999964E-2,2.8696360000000035E-2,4.2120099999999943E-3,1.3249600000000072E-3,9.1968099999999754E-3,2.3500889999999997E-2,1.7056359999999954E-2,5.3436099999999917E-3,1.7239689999999992E-2,5.9444100000000258E-3,3.4595999999999813E-4,1.7161000000000003E-2,4.6612809999999991E-2,"","","","","","","","","","","","","","","",7.3205135999999948E-3,1.2773475999999996E-3,3.5096275599999983E-2,1.5335055999999893E-3,2.0430399999999715E-5,1.8052609600000009E-2,6.7141636000000024E-3,2.1548163999999914E-3,8.9794575999999921E-3,3.5118759999999921E-4,1.8823839999999875E-4,3.6288575999999951E-3,8.8090239999999572E-4,1.6291969599999994E-2,4.2890409999999983E-2,"","","","","","","","","","","","","","","",2.693610000000006E-3,3.429904000000001E-2,2.6569000000000009E-2,1.4400000000002158E-6,1.9360000000000035E-3,9.2352100000000145E-3,5.6851599999999869E-3,2.0967040000000013E-2,2.5376489999999998E-2,2.9928999999999937E-4,1.3806250000000037E-2,3.0275999999999898E-4,5.2562500000000014E-3,4.1990399999999959E-3,6.9722500000000218E-3,"","","","","","","","","","","","","","","",2.580639999999973E-5,1.5931488399999999E-2,8.1000000000022126E-7,1.6853232400000012E-2,5.9320803999999968E-3,1.8506881599999983E-2,2.1821198400000023E-2,2.1715599999998942E-5,1.4122945600000013E-2,1.9044000000001321E-6,1.6646399999999777E-5,3.4128964000000031E-3,1.1333731599999999E-2,1.3731152400000014E-2,8.2656249999999987E-2,"","","","","","","","","","","","","","","",60,0.72185394560000005,0.10968545524969724,null,27,"Butachlor",10,9.8983333333333334,9.5760000000000005,9.8190000000000008,9.6890000000000001,9.8106666666666662,3,5,-0.41733333333333356,-1.4280000000000008,1.8109999999999999,0.3230000000000004,0.6293333333333333,-0.85933333333333373,1.177999999999999,-1.2670000000000012,-1.282,1.6333333333333755E-2,1.2766666666666673,0.25,-0.54400000000000048,0.95899999999999963,-0.64566666666666706,"","","","","","","","","","","","","","","",9.7586000000000013,97.586000000000013,4.8053566666666575E-2,14.693559333333337,10,1.4693559333333337,0,1.4693559333333337,1.2121699275816629,0.12421555628693283,12.421555628693284,15,"UYGUN  ","UYGUN  ",0.21601306193141048,null,27,"Butachlor",50,47.749333333333333,44.460666666666668,51.711666666666673,47.808666666666674,43.901666666666664,3,5,2.5046666666666653,-0.77166666666666828,-1.6666666666666714,-4.2996666666666741,2.2473333333333372,-4.5513333333333321,-1.8466666666666711,-1.9446666666666701,-3.7506666666666746,6.0293333333333337,2.0466666666666669,2.6183333333333323,3.6113333333333273,8.0503333333333273,-8.2766666666666637,"","","","","","","","","","","","","","","",47.126400000000004,94.252800000000008,29.537432566666723,268.90846533333331,10,26.890846533333331,0.88219534444446401,27.773041877777796,5.2700134608725424,0.1118272021812093,11.182720218120929,15,"UYGUN  ","UYGUN  ",0.17507452406747886,0.11818381355191844]
[28,"Butafenacil","GC-MS/MS",110119,115916,null,254587,250723,null,419331,475266,null,993351,1023297,null,1851847,1954380,null,3679414,3879427,{"$nulls":8},28,"Butafenacil",10,9.593,11.906000000000001,11.337999999999999,7.9960000000000004,10.228999999999999,11.772,11.981999999999999,8.1929999999999996,11.753,11.69,10.746,10.923,8.1319999999999997,8.0489999999999995,7.0890000000000004,{"$nulls":16},28,"Butafenacil",50,39.704000000000001,42.695999999999998,42.04,53.445999999999998,50.207000000000001,37.835000000000001,47.43,50.273000000000003,46.098999999999997,47.935000000000002,43.603000000000002,40.063000000000002,44.247,39.301000000000002,38.360999999999997,{"$nulls":16},28,"Butafenacil",10,11.536,7.7549999999999999,11.144,10.885,11.53,9.2609999999999992,10.388999999999999,8.9109999999999996,10.683,11.436,10.875,9.3239999999999998,7.3140000000000001,9.2759999999999998,7.5129999999999999,{"$nulls":16},28,"Butafenacil",50,47.625999999999998,40.707000000000001,51.414000000000001,51.926000000000002,56.176000000000002,58.204999999999998,47.689,44.05,42.706000000000003,44.552,53.459000000000003,53.573,48.984000000000002,58.341999999999999,55.26,{"$nulls":16},28,"Butafenacil",10,10.212400000000001,1.5355469058286604,102.12400000000001,15.036102246569468,"uygun","uygun",11.077999999999999,1.6164966749115333,110.77999999999999,14.591954097414096,"uygun","uygun",8.9878,1.7360477239983907,89.878,19.315602527853208,"uygun","uygun","--------","--------","--------","--------","uygun değil","uygun değil","--------","--------","--------","--------","uygun değil","uygun değil","--------","--------","--------","--------","uygun değil","uygun değil",null,28,"Butafenacil",50,45.618600000000001,5.8875306198779258,91.237200000000001,12.905987075179699,"uygun","uygun",45.914400000000001,4.7615134988782719,91.828800000000001,10.37041429024069,"uygun","uygun",41.114999999999995,2.644871641497939,82.22999999999999,6.4328630463284426,"uygun","uygun","--------","--------","--------","--------","uygun değil","uygun değil","--------","--------","--------","--------","uygun değil","uygun değil","--------","--------","--------","--------","uygun değil","uygun değil",{"$nulls":31},28,"Butafenacil",10,1.6564899999999966E-3,3.6328360000000039E-2,1.7902439999999978E-2,4.0160159999999966E-2,5.2440999999999632E-4,3.1399840000000005E-2,3.9283239999999976E-2,3.2652490000000027E-2,3.0730090000000005E-2,2.8561000000000013E-2,5.5651599999999996E-3,8.5192900000000092E-3,3.4894240000000028E-2,3.8064010000000023E-2,8.4739209999999954E-2,"","","","","","","","","","","","","","","",4.2403046399999998E-2,2.1339366399999997E-2,2.5344640000000002E-2,4.7499663999999824E-3,1.7139600000000269E-5,5.9194889999999979E-2,2.6419600000000001E-3,2.9811600000000221E-5,6.0871204000000137E-3,1.7056900000000004E-3,1.6368643599999986E-2,3.9497587599999967E-2,1.3238803600000012E-2,4.5787440399999976E-2,5.4186528400000045E-2,"","","","","","","","","","","","","","","",2.3592959999999986E-2,5.0400250000000014E-2,1.3087360000000013E-2,7.8322500000000041E-3,2.3409000000000006E-2,5.4612100000000115E-3,1.5132099999999949E-3,1.1859209999999999E-2,4.664890000000004E-3,2.0620959999999987E-2,7.6562499999999842E-3,4.5697599999999991E-3,7.2145959999999967E-2,5.2417600000000033E-3,6.1851690000000015E-2,"","","","","","","","","","","","","","","",2.2543504000000075E-3,3.4543939600000011E-2,7.9975840000000471E-4,1.4837904000000084E-3,1.5257190400000018E-2,2.692880999999997E-2,2.1362884000000037E-3,1.4161000000000026E-2,2.1280974399999972E-2,1.1872281600000012E-2,4.7858724000000028E-3,5.1065316000000116E-3,4.1290240000000018E-4,2.7835585599999959E-2,1.1067039999999992E-2,"","","","","","","","","","","","","","","",60,1.2574061000000005,0.14476452719272542,null,28,"Butafenacil",10,10.557333333333332,9.1559999999999988,9.1229999999999993,10.281333333333333,10.159666666666666,3,5,0.97866666666666724,-1.4009999999999989,2.0210000000000008,0.60366666666666724,1.370333333333333,-1.2963333333333331,1.2330000000000005,-0.21199999999999974,0.40166666666666728,1.2763333333333335,0.31766666666666765,0.16800000000000104,-1.8089999999999993,-1.0053333333333327,-2.6466666666666665,"","","","","","","","","","","","","","","",9.8554666666666666,98.554666666666662,1.3442084333333337,25.700490000000002,10,2.570049,0,2.570049,1.6031372367954031,0.1626647718486596,16.266477184865959,15,"UYGUN  ","UYGUN  ",0.37043759200807075,null,28,"Butafenacil",50,53.096666666666664,47.323,48.149333333333338,50.99133333333333,51.996000000000002,3,5,-5.4706666666666663,-6.6159999999999997,3.2646666666666633,0.93466666666667209,4.18,5.1083333333333343,0.36599999999999966,-4.099333333333341,-8.2853333333333268,-7.4440000000000026,0.36233333333333917,6.25,0.83466666666666356,7.3506666666666689,3.2639999999999958,"","","","","","","","","","","","","","","",50.311266666666668,100.62253333333334,18.497222733333309,374.37359400000003,10,37.437359400000005,0,37.437359400000005,6.1186076357289005,0.12161505843745206,12.161505843745205,15,"UYGUN  ","UYGUN  ",0.20706311414242831,0.14361415396701219]
[29,"Butamifos","GC-MS/MS",74727,73076,null,141800,154619,null,258352,270109,null,731405,725810,null,1279885,1344395,null,2744352,2493989,{"$nulls":8},29,"Butamifos",10,9.1039999999999992,10.992000000000001,11.971,8.5530000000000008,9.5399999999999991,9.93,11.401999999999999,8.6739999999999995,11.555,11.212999999999999,10.939,10.69,10.625,9.8559999999999999,9.1479999999999997,{"$nulls":16},29,"Butamifos",50,41.718000000000004,45.686,35.893000000000001,49.877000000000002,46.372,39.049999999999997,42.951000000000001,49.944000000000003,42.286999999999999,46.945999999999998,43.354999999999997,41.63,47.098999999999997,38.432000000000002,36.134999999999998,{"$nulls":16},29,"Butamifos",10,10.025,7.5209999999999999,11.689,10.587999999999999,10.769,9.7080000000000002,11.28,9.1329999999999991,9.0350000000000001,11.223000000000001,9.7889999999999997,7.7629999999999999,8.3859999999999992,9.2149999999999999,7.5519999999999996,{"$nulls":16},29,"Butamifos",50,46.19,40.683999999999997,45.253999999999998,40.892000000000003,45.643000000000001,43.612000000000002,42.363,45.109000000000002,41.606000000000002,43.81,52.774000000000001,49.420999999999999,58.292999999999999,58.384999999999998,36.039000000000001,{"$nulls":16},29,"Butamifos",10,10.032,1.4117374047605273,100.32000000000001,14.072342551440665,"uygun","uygun",10.5548,1.2327975097314197,105.548,11.679970342701138,"uygun","uygun",10.2516,0.73799952574510519,102.51600000000001,7.1988716468171328,"uygun","uygun","--------","--------","--------","--------","uygun değil","uygun değil","--------","--------","--------","--------","uygun değil","uygun değil","--------","--------","--------","--------","uygun değil","uygun değil",null,29,"Butamifos",50,43.909199999999998,5.3361469901043552,87.818399999999997,12.152685519445482,"uygun","uygun",44.235599999999998,4.2505818778139091,88.471199999999996,9.6089617362800759,"uygun","uygun",41.330200000000005,4.2678570383741761,82.66040000000001,10.326243372580283,"uygun","uygun","--------","--------","--------","--------","uygun değil","uygun değil","--------","--------","--------","--------","uygun değil","uygun değil","--------","--------","--------","--------","uygun değil","uygun değil",{"$nulls":31},29,"Butamifos",10,8.028160000000022E-3,9.8406400000000359E-3,3.8848410000000021E-2,2.0938089999999982E-2,2.1160000000000037E-3,4.9000000000000087E-5,1.9656039999999965E-2,1.7582760000000013E-2,2.418024999999999E-2,1.4713689999999991E-2,8.817210000000018E-3,4.7609999999999935E-3,3.90625E-3,2.073599999999991E-4,7.2590400000000091E-3,"","","","","","","","","","","","","","","",2.7436609599999967E-2,7.4442384000000042E-3,7.9602979599999971E-2,6.0515999999995407E-6,5.2649535999999943E-3,4.7961000000000038E-2,1.98753604E-2,1.2543999999997734E-6,2.3796147600000019E-2,3.7307664000000027E-3,1.7662410000000003E-2,2.8022759999999997E-2,3.3663204000000083E-3,5.3527449600000006E-2,7.6895289999999991E-2,"","","","","","","","","","","","","","","",6.2499999999997335E-6,6.1454410000000008E-2,2.8527210000000018E-2,3.4574399999999957E-3,5.9136099999999954E-3,8.5264000000000021E-4,1.6383999999999972E-2,7.5168900000000191E-3,9.3122500000000063E-3,1.4957290000000019E-2,4.452100000000003E-4,5.0041690000000007E-2,2.6049960000000032E-2,6.1622500000000019E-3,5.9927040000000008E-2,"","","","","","","","","","","","","","","",5.8064400000000073E-3,3.4715142400000017E-2,9.0098064000000005E-3,3.3182265599999997E-2,7.5933795999999993E-3,1.6322617599999995E-2,2.3329507599999997E-2,9.5687524000000034E-3,2.8183694399999973E-2,1.5326439999999978E-2,3.0780303999999969E-3,1.3409640000000081E-4,2.7509539599999966E-2,2.8123289999999988E-2,7.7963808400000015E-2,"","","","","","","","","","","","","","","",60,1.1863524424000003,0.14061486659193143,null,29,"Butamifos",10,9.8406666666666656,8.8546666666666667,9.7359999999999989,9.6126666666666658,9.8480000000000008,3,5,0.18433333333333479,-1.3336666666666668,1.9530000000000012,0.97533333333333339,0.92099999999999937,-0.13266666666666538,2.4253333333333327,-0.60299999999999976,-0.57766666666666566,1.375,-5.1666666666665861E-2,-1.0916666666666668,-1.3499999999999996,-0.39766666666666595,-2.2960000000000012,"","","","","","","","","","","","","","","",9.5783999999999985,95.783999999999978,0.51845239999999948,24.360806,10,2.4360805999999999,0,2.4360805999999999,1.5607948616009728,0.16294943431063361,16.294943431063359,15,"UYGUN  ","UYGUN  ",0.37173525399017693,null,29,"Butamifos",50,47.525333333333329,44.155999999999999,49.552,46.961000000000006,41.830666666666666,3,5,-1.335333333333331,-3.4720000000000013,-4.2980000000000018,-6.0690000000000026,3.8123333333333349,-3.9133333333333269,-1.7929999999999993,-4.4429999999999978,-5.355000000000004,1.9793333333333365,5.2486666666666721,5.2650000000000006,8.7409999999999997,11.423999999999992,-5.7916666666666643,"","","","","","","","","","","","","","","",46.005000000000003,92.01,27.487813666666671,450.26539733333328,10,45.02653973333333,0,45.02653973333333,6.7101817958482561,0.14585766320722215,14.585766320722215,15,"UYGUN  ","UYGUN  ",0.29784241082780027,0.15463986558844867]
[30,"Butralin","GC-MS/MS",1298415,1318039,null,3426889,3472099,null,5868395,5698399,null,15434447,15196828,null,28091965,27953294,null,56343686,48733272,{"$nulls":8},30,"Butralin",10,9.92,11.3,11.497,9.4619999999999997,10.052,10.509,11.746,9.6470000000000002,11.609,11.276,10.989000000000001,10.317,10.715999999999999,9.5489999999999995,9.0190000000000001,{"$nulls":16},30,"Butralin",50,42.384,43.834000000000003,38.475000000000001,49.12,41.537999999999997,41.128,41.152999999999999,47.069000000000003,40.587000000000003,44.716000000000001,45.332000000000001,43.823999999999998,47.908999999999999,41.598999999999997,36.292000000000002,{"$nulls":16},30,"Butralin",10,10.397,9.9269999999999996,11.712,11.221,11.425000000000001,10.435,11.7,10.371,10.579000000000001,10.65,9.5739999999999998,8.5679999999999996,7.1230000000000002,8.8409999999999993,7.0220000000000002,{"$nulls":16},30,"Butralin",50,44.273000000000003,39.689,45.009,37.503999999999998,38.417000000000002,39.679000000000002,36.542999999999999,44.930999999999997,37.793999999999997,44.372999999999998,39.637999999999998,47.567999999999998,53.246000000000002,44.215000000000003,51.41,{"$nulls":16},30,"Butralin",10,10.446200000000001,0.89917806912757858,104.46200000000002,8.607704898695971,"uygun","uygun",10.957400000000002,0.87552686994746198,109.57400000000001,7.9902793541119417,"uygun","uygun",10.117999999999999,0.81966578554920799,101.17999999999998,8.1010652851275768,"uygun","uygun","--------","--------","--------","--------","uygun değil","uygun değil","--------","--------","--------","--------","uygun değil","uygun değil","--------","--------","--------","--------","uygun değil","uygun değil",null,30,"Butralin",50,43.0702,3.9088950101019586,86.1404,9.0756370067981074,"uygun","uygun",42.930600000000005,2.8379436745643849,85.861200000000011,6.6105381116601789,"uygun","uygun",42.991199999999999,4.3924696584040284,85.982399999999998,10.217136666117783,"uygun","uygun","--------","--------","--------","--------","uygun değil","uygun değil","--------","--------","--------","--------","uygun değil","uygun değil","--------","--------","--------","--------","uygun değil","uygun değil",{"$nulls":31},30,"Butralin",10,6.4000000000000119E-5,1.690000000000003E-2,2.2410089999999983E-2,2.8944400000000077E-3,2.7039999999998664E-5,2.5908099999999946E-3,3.0485160000000032E-2,1.2460899999999998E-3,2.5888810000000016E-2,1.6281759999999982E-2,9.7812099999999968E-3,1.0048900000000039E-3,5.126559999999984E-3,2.0340100000000028E-3,9.6236099999999925E-3,"","","","","","","","","","","","","","","",2.3201382400000005E-2,1.5207822399999996E-2,5.3130249999999969E-2,3.0976000000000213E-4,2.864217760000002E-2,3.1484953600000018E-2,3.1307763599999996E-2,3.4363043999999878E-3,3.5441827599999996E-2,1.1168262399999998E-2,8.7160895999999991E-3,1.5257190400000018E-2,1.7489123999999974E-3,2.823072040000002E-2,7.5163705599999978E-2,"","","","","","","","","","","","","","","",1.5760900000000055E-3,5.3290000000001226E-5,2.9309440000000006E-2,1.4908410000000023E-2,2.0306250000000019E-2,1.8922500000000083E-3,2.8899999999999974E-2,1.3764100000000098E-3,3.3524100000000071E-3,4.2249999999999927E-3,1.8147599999999975E-3,2.0506239999999998E-2,8.277128999999997E-2,1.3432810000000026E-2,8.8684839999999973E-2,"","","","","","","","","","","","","","","",1.3119411599999995E-2,4.2526688399999985E-2,9.9640324000000047E-3,6.2460006400000018E-2,5.3666355599999986E-2,4.2609216399999976E-2,7.2436339600000024E-2,1.0277904400000005E-2,5.9594574400000058E-2,1.2665251600000019E-2,4.2948417600000038E-2,2.3658496000000017E-3,4.2146064000000115E-3,1.338648999999998E-2,7.9524000000000012E-4,"","","","","","","","","","","","","","","",60,1.2649454768000004,0.14519788088444452,null,30,"Butralin",10,10.135333333333334,10.065,9.7353333333333332,10.213666666666667,9.6989999999999998,3,5,0.26166666666666671,-0.1379999999999999,1.9766666666666666,1.0073333333333334,1.7260000000000009,0.29966666666666697,1.6349999999999998,0.63566666666666727,0.36533333333333395,0.95100000000000051,-0.56133333333333368,-1.4969999999999999,-2.612333333333333,-1.3726666666666674,-2.6769999999999996,"","","","","","","","","","","","","","","",9.9696666666666651,99.696666666666658,0.16818183333333342,30.624420000000004,10,3.0624420000000003,0,3.0624420000000003,1.7499834284929672,0.17553078623420718,15,15,"UYGUN  ","UYGUN  ",0.43135479682398509,null,30,"Butralin",50,41.196666666666665,41.266666666666666,47.728666666666669,39.837666666666671,44.733333333333327,3,5,3.0763333333333378,-1.5776666666666657,-2.7196666666666687,-2.333666666666673,-6.3163333333333256,-1.5176666666666634,-4.7236666666666665,-2.7976666666666716,-2.0436666666666738,-0.36033333333332962,-1.5586666666666673,6.3013333333333321,5.5173333333333332,4.3773333333333326,6.6766666666666694,"","","","","","","","","","","","","","","",42.952600000000004,85.905200000000008,31.207730066666656,237.75733933333339,10,23.775733933333338,2.4773320444444393,26.253065977777776,5.123774583037175,0.11928904380729397,14.423999999999999,15,"UYGUN  ","UYGUN  ",0.19921826361441897,0.15006820597391279]
[31,"Butylate","GC-MS/MS",1144577,1193254,null,2751756,2701663,null,4539433,4308776,null,11192888,10749015,null,23041812,20658381,null,37859455,39743667,{"$nulls":8},31,"Butylate",10,10.153,11.159000000000001,11.593,10.196999999999999,10.685,10.148999999999999,10.714,9.4139999999999997,9.5410000000000004,9.0519999999999996,11.481,7.6189999999999998,10.279,9.1760000000000002,8.7170000000000005,{"$nulls":16},31,"Butylate",50,41.298999999999999,50.743000000000002,45.447000000000003,45.753,42.365000000000002,40.695,43.030999999999999,52.645000000000003,37.923999999999999,55.125999999999998,56.031999999999996,58.68,57.051000000000002,55.511000000000003,48.615000000000002,{"$nulls":16},31,"Butylate",10,11.567,11.36,10.025,11.47,11.343,11.526,11.37,11.792999999999999,11.398999999999999,11.260999999999999,10.593999999999999,8.4120000000000008,8.8179999999999996,10.012,8,{"$nulls":16},31,"Butylate",50,49.021999999999998,45.222000000000001,52.192999999999998,50.695999999999998,50.372,44.268999999999998,40.506,43.122999999999998,45.938000000000002,55.579000000000001,47.59,44.67,50.878,52.029000000000003,46.13,{"$nulls":16},31,"Butylate",10,10.757400000000001,0.62130894086597543,107.57400000000001,5.7756422636136557,"uygun","uygun",9.7739999999999991,0.65753288891126971,97.74,6.7273673921758714,"uygun","uygun",9.4543999999999997,1.4813027374578103,94.543999999999997,15.667866151821483,"uygun","uygun","--------","--------","--------","--------","uygun değil","uygun değil","--------","--------","--------","--------","uygun değil","uygun değil","--------","--------","--------","--------","uygun değil","uygun değil",null,31,"Butylate",50,45.121400000000008,3.6849627949275154,90.242800000000017,8.1667740693496089,"uygun","uygun",45.884200000000007,7.5754969275948687,91.768400000000014,16.510033797243644,"uygun","uygun",55.177799999999991,3.862813314153299,110.35559999999998,7.0006656919146826,"uygun","uygun","--------","--------","--------","--------","uygun değil","uygun değil","--------","--------","--------","--------","uygun değil","uygun değil","--------","--------","--------","--------","uygun değil","uygun değil",{"$nulls":31},31,"Butylate",10,2.340900000000028E-4,1.3432810000000026E-2,2.5376489999999998E-2,3.8808999999999323E-4,4.6922500000000011E-3,2.2200999999999742E-4,5.0979600000000186E-3,3.4339599999999985E-3,2.1068099999999946E-3,8.98704E-3,2.1933609999999971E-2,5.669160999999999E-2,7.7841000000000206E-4,6.7897600000000049E-3,1.6460889999999992E-2,"","","","","","","","","","","","","","","",3.0282960400000024E-2,2.2081960000000283E-4,8.2919235999999851E-3,7.2148036000000025E-3,2.3317289999999984E-2,3.4633210000000018E-2,1.9426784400000018E-2,2.7984100000000181E-3,5.8331910399999978E-2,1.0510350399999988E-2,1.4554009599999966E-2,3.013695999999999E-2,1.9886640400000041E-2,1.2148448399999996E-2,7.6728999999999708E-4,"","","","","","","","","","","","","","","",2.455489000000002E-2,1.8495999999999971E-2,6.2499999999997335E-6,2.1609000000000007E-2,1.8036490000000023E-2,2.3286760000000021E-2,1.8769000000000004E-2,3.2148490000000009E-2,1.9572009999999977E-2,1.5901209999999968E-2,3.5283599999999878E-3,2.521743999999998E-2,1.397124000000002E-2,1.4400000000002158E-6,3.999999999999998E-2,"","","","","","","","","","","","","","","",3.8259360000000083E-4,9.1317135999999955E-3,1.9236996000000009E-3,1.9376639999999813E-4,5.5353599999998379E-5,1.3137744400000012E-2,3.6054414400000019E-2,1.8917251599999997E-2,6.5999375999999969E-3,1.2450096400000003E-2,2.3232399999999912E-3,1.1363559999999983E-2,3.0835360000000073E-4,1.6467364000000049E-3,5.9907599999999865E-3,"","","","","","","","","","","","","","","",60,0.83472540200000012,0.11794952324334904,null,31,"Butylate",10,11.228999999999999,10.380666666666665,10.211999999999998,10.960333333333333,10.201333333333332,3,5,0.33800000000000097,0.97933333333333472,-0.18699999999999761,0.50966666666666782,1.1416666666666675,0.2970000000000006,0.98933333333333451,1.5810000000000013,0.43866666666666632,1.0596666666666668,-0.63499999999999979,-1.9686666666666639,-1.3939999999999984,-0.94833333333333236,-2.2013333333333325,"","","","","","","","","","","","","","","",10.596666666666664,105.96666666666663,0.66225883333333457,19.520655999999992,10,1.9520655999999992,0,1.9520655999999992,1.3971634120603069,0.13184933111610322,{"$f":"QI41*100","v":13.184933111610322},15,"UYGUN  ","UYGUN  ",0.24337944562069355,null,31,"Butylate",50,46.960333333333331,43.466000000000008,48.731333333333339,49.554333333333339,50.693666666666665,3,5,2.0616666666666674,1.7559999999999931,3.4616666666666589,1.1416666666666586,-0.32166666666666544,-2.6913333333333327,-2.960000000000008,-5.6083333333333414,-3.616333333333337,4.8853333333333353,0.62966666666667237,1.2039999999999935,2.1466666666666612,2.4746666666666641,-4.5636666666666628,"","","","","","","","","","","","","","","",47.881133333333338,95.762266666666676,23.830542766666632,138.53194266666665,10,13.853194266666666,3.3257828333333221,17.178977099999987,4.1447529600689093,8.6563384605256671E-2,10.24,15,"UYGUN  ","UYGUN  ",0.10490507376044624,0.11152906722034713]
[32,"Cadusafos","GC-MS/MS",1808438,1775112,null,5716616,5971293,null,10546073,11512844,null,30199202,32484121,null,62278609,60023792,null,127828692,128337108,{"$nulls":8},32,"Cadusafos",10,9.4719999999999995,11.198,11.42,9.3970000000000002,9.9819999999999993,10.576000000000001,11.87,9.1679999999999993,11.521000000000001,10.997,11.792,8.6709999999999994,10.959,9.6029999999999998,8.782,{"$nulls":16},32,"Cadusafos",50,45.872,46.808999999999997,40.984999999999999,47.045000000000002,39.290999999999997,39.948,42.734000000000002,50.005000000000003,36.343000000000004,48.954999999999998,48.116,46.323999999999998,48.597000000000001,47.13,36.521000000000001,{"$nulls":16},32,"Cadusafos",10,10.577999999999999,9.5350000000000001,11.337,10.871,11.122999999999999,9.8719999999999999,11.398999999999999,9.7219999999999995,9.8190000000000008,10.861000000000001,11.324999999999999,10.971,9.609,10.53,8.641,{"$nulls":16},32,"Cadusafos",50,48.61,38.122999999999998,48.951000000000001,40.475999999999999,35.24,39.417999999999999,35.097999999999999,47.201999999999998,42.124000000000002,49.667000000000002,46.78,41.194000000000003,50.781999999999996,49.895000000000003,35.759,{"$nulls":16},32,"Cadusafos",10,10.293800000000001,0.9569128486962647,102.93800000000002,9.2960116642664961,"uygun","uygun",10.8264,1.050436242710618,108.26400000000001,9.7025441763708891,"uygun","uygun",9.9614000000000011,1.3721214596383156,99.614000000000019,13.774383717532832,"uygun","uygun","--------","--------","--------","--------","uygun değil","uygun değil","--------","--------","--------","--------","uygun değil","uygun değil","--------","--------","--------","--------","uygun değil","uygun değil",null,32,"Cadusafos",50,44.000399999999999,3.6031859235959511,88.000799999999998,8.1889844719501443,"uygun","uygun",43.597000000000001,5.8406145652662165,87.194000000000003,13.396826766213769,"uygun","uygun",45.337599999999995,5.0065285677802738,90.67519999999999,11.042773697284979,"uygun","uygun","--------","--------","--------","--------","uygun değil","uygun değil","--------","--------","--------","--------","uygun değil","uygun değil","--------","--------","--------","--------","uygun değil","uygun değil",{"$nulls":31},32,"Cadusafos",10,2.7878400000000071E-3,1.4352040000000031E-2,2.0163999999999974E-2,3.6360900000000024E-3,3.2400000000000859E-6,3.3177600000000112E-3,3.4968999999999938E-2,6.9222400000000083E-3,2.3134410000000039E-2,9.9400899999999796E-3,3.2112640000000012E-2,1.7662410000000003E-2,9.1968099999999754E-3,1.5760900000000055E-3,1.4835240000000005E-2,"","","","","","","","","","","","","","","",6.8161535999999943E-3,4.0729924000000124E-3,3.2508090000000003E-2,3.4928099999999916E-3,4.5873072400000013E-2,4.0417081600000002E-2,2.1117902400000003E-2,9.9999999999977966E-9,7.4605459599999965E-2,4.3681000000000123E-4,1.4197824000000035E-3,5.4051904000000043E-3,7.8736359999999849E-4,3.2947599999999882E-3,7.2673376399999962E-2,"","","","","","","","","","","","","","","",3.340839999999983E-3,2.1622499999999988E-3,1.7875689999999982E-2,7.5864099999999922E-3,1.2611289999999964E-2,1.6384000000000087E-4,1.9572009999999977E-2,7.7284000000000261E-4,3.2760999999999614E-4,7.4132100000000112E-3,1.7556249999999957E-2,9.428409999999993E-3,1.5288100000000018E-3,2.8089999999999934E-3,1.8468810000000006E-2,"","","","","","","","","","","","","","","",7.7284000000000261E-4,5.6425251600000038E-2,4.4016039999999996E-4,3.6282630399999995E-2,8.7143039999999949E-2,4.4791489600000019E-2,8.8827841599999985E-2,3.131521600000001E-3,2.4812550399999998E-2,4.4355599999999993E-5,4.1473600000000018E-3,3.101825439999998E-2,2.4460959999999615E-4,4.4099999999999612E-6,8.1122432399999972E-2,"","","","","","","","","","","","","","","",60,1.0883567723999998,0.13468214261734923,null,32,"Cadusafos",10,10.591666666666667,10.635,10.222666666666667,10.406666666666666,10.208333333333334,3,5,-1.3666666666667382E-2,-1.0999999999999996,1.1143333333333327,0.46433333333333415,0.91466666666666541,-0.7196666666666669,0.76399999999999935,-0.50066666666666748,-0.58766666666666545,0.65266666666666673,0.7333333333333325,0.3360000000000003,-0.61366666666666703,0.12333333333333307,-1.5673333333333339,"","","","","","","","","","","","","","","",10.412866666666668,104.12866666666667,0.11952076666666636,9.1267606666666623,10,0.91267606666666623,0,0.91267606666666623,0.95534081178743024,9.1746186940589225E-2,{"$f":"QI42*100","v":9.1746186940589229},15,"UYGUN  ","UYGUN  ",0.11784307945392564,null,32,"Cadusafos",50,44.936,38.138333333333335,48.978333333333332,44.164999999999999,40.222000000000001,3,5,3.6739999999999995,-1.5333333333337862E-2,-2.7333333333331211E-2,-3.6890000000000001,-4.9819999999999993,-5.5180000000000007,-3.0403333333333364,-1.7763333333333335,-2.0409999999999968,9.4450000000000003,1.8440000000000012,3.0556666666666672,1.8036666666666648,5.730000000000004,-4.463000000000001,"","","","","","","","","","","","","","","",43.287933333333328,86.575866666666656,53.838261899999964,256.89123733333344,10,25.689123733333343,9.3830460555555408,35.072169788888885,5.9221761024887538,0.13680893603503258,{"$f":"SM42*100","v":13.680893603503257},15,"UYGUN  ","UYGUN  ",0.2620335897065269,0.11647756822061316]
[33,"Carbosulfan","GC-MS/MS",7041798,7877019,null,13443193,15255734,null,28954626,35232468,null,65288050,62515457,null,159091277,162186898,null,318182554,324373796,{"$nulls":8},33,"Carbosulfan",2,2.09,2.0219999999999998,2.35,2.27,2.41,2.11,2.5,2.2000000000000002,2.6,1.8,2.23,2.2400000000000002,2.48,1.98,1.57,{"$nulls":16},33,"Carbosulfan",50,40.796999999999997,46.848999999999997,50.765000000000001,51.430999999999997,36.725000000000001,48.58,51.203000000000003,53.033000000000001,51.575000000000003,54.701000000000001,45.31,51.82,36.479999999999997,48.75,58.45,{"$nulls":16},33,"Carbosulfan",2,1.66,1.76,2.4,2.11,2.38,2.4700000000000002,1.87,2.5,2,1.9,2.14,2.06,2.4500000000000002,1.82,2.0699999999999998,{"$nulls":16},33,"Carbosulfan",50,47.540999999999997,50.436999999999998,36.253999999999998,36.084000000000003,53.832999999999998,53.683,40.22,53.656999999999996,56.27,57.731999999999999,50.61,45.33,44.96,46.18,55.78,{"$nulls":16},33,"Carbosulfan",2,{"$f":"IFERROR(AVERAGE(AF43:AJ43),\"--------\")","v":2.2283999999999997},{"$f":"IFERROR(_xlfn.STDEV.S(AF43:AJ43),\"--------\")","v":0.16677170023718066},98.45,{"$f":"IFERROR(FM43/FL43*100,\"--------\")","v":7.4839212097101369},{"$f":"IF(FN43<70,\"uygun değil\",IF(FN43>120,\"uygun değil\",\"uygun\"))","v":"uygun"},{"$f":"IF(FO43<0,\"uygun değil\",IF(FO43<20,\"uygun\",\"uygun değil\"))","v":"uygun"},{"$f":"IFERROR(AVERAGE(AK43:AO43),\"--------\")","v":2.242},{"$f":"IFERROR(_xlfn.STDEV.S(AK43:AO43),\"--------\")","v":0.3198749755763971},{"$f":"IFERROR(FR43/$FK43*100,\"--------\")","v":112.1},{"$f":"IFERROR(FS43/FR43*100,\"--------\")","v":14.26739409350567},{"$f":"IF(FT43<70,\"uygun değil\",IF(FT43>120,\"uygun değil\",\"uygun\"))","v":"uygun"},{"$f":"IF(FU43<0,\"uygun değil\",IF(FU43<20,\"uygun\",\"uygun değil\"))","v":"uygun"},{"$f":"IFERROR(AVERAGE(AP43:AT43),\"--------\")","v":2.1000000000000005},{"$f":"IFERROR(_xlfn.STDEV.S(AP43:AT43),\"--------\")","v":0.34503622998172057},{"$f":"IFERROR(FX43/$FK43*100,\"--------\")","v":105.00000000000003},{"$f":"IFERROR(FY43/FX43*100,\"--------\")","v":16.430296665796213},{"$f":"IF(FZ43<70,\"uygun değil\",IF(FZ43>120,\"uygun değil\",\"uygun\"))","v":"uygun"},{"$f":"IF(GA43<0,\"uygun değil\",IF(GA43<20,\"uygun\",\"uygun değil\"))","v":"uygun"},{"$nulls":34},48.161999999999999,8.1266949001423647,null,16.873665753378937,null,"uygun",{"$nulls":179},2.09,1.8966666666666665,2.4500000000000002,1.9766666666666666,2.1166666666666667,3,null,-0.42999999999999994,-0.13666666666666649,-5.0000000000000266E-2,0.1333333333333333,0.2633333333333332,0.38000000000000034,-2.6666666666666394E-2,4.9999999999999822E-2,2.3333333333333428E-2,-0.21666666666666679,5.0000000000000266E-2,0.16333333333333355,0,-0.15666666666666651,-4.6666666666666856E-2,"","","","","","","","","","","","","","","",2.1060000000000003,null,null,0.54420000000000024,{"$nulls":7},15,{"$nulls":7},50.611333333333334,45.329000000000001,44.957000000000001,46.178000000000004,55.781666666666666,3,null,-3.0703333333333376,5.107999999999997,-8.703000000000003,-10.094000000000001,-1.9486666666666679,3.0716666666666654,-5.1090000000000018,8.6999999999999957,10.091999999999999,1.950333333333333,-1.3333333333349628E-3,9.9999999999766942E-4,3.0000000000001137E-3,1.9999999999953388E-3,-1.6666666666651508E-3,"","","","","","","","","","","","","","","",48.571399999999997,null,null,433.82625733333322,{"$nulls":7},15]
[34,"Captan","GC-MS/MS",845237,846117,null,1765500,1745577,null,2989389,2806800,null,7953420,8095126,null,14039631,14020997,null,27681317,27527397,{"$nulls":8},34,"Captan",10,8.4410000000000007,10.497,10.218,8.2330000000000005,11.413,11.449,11.237,8.125,9.5920000000000005,11.090999999999999,10.09,11.59,7.94,11.81,11.041,{"$nulls":16},34,"Captan",50,45.274000000000001,50.234999999999999,39.018999999999998,59.356999999999999,41.932000000000002,48.301000000000002,52.113,57.417000000000002,49.927,56.915999999999997,44.26,39.340000000000003,44.31,47.58,36.159999999999997,{"$nulls":16},34,"Captan",10,11.103999999999999,7.3120000000000003,10.664999999999999,8.2989999999999995,11.095000000000001,10.49,11.04,9.4190000000000005,7.45,10.590999999999999,11.673999999999999,11.109,8.8780000000000001,11.708,11.657999999999999,{"$nulls":16},34,"Captan",50,40.831000000000003,38.633000000000003,50.066000000000003,50.537999999999997,59.771000000000001,47.648000000000003,39.290999999999997,55.122999999999998,50.042000000000002,51.881,52.87,46.417000000000002,53.143000000000001,55.764000000000003,43.848999999999997,{"$nulls":16},34,"Captan",10,9.7604000000000006,1.3744845579343428,97.603999999999999,14.082256443735325,"uygun","uygun",10.2988,1.4191311426362248,102.98799999999999,13.779577646291068,"uygun","uygun",10.494200000000001,1.5746755856366053,104.94200000000001,15.005198925469355,"uygun","uygun","--------","--------","--------","--------","uygun değil","uygun değil","--------","--------","--------","--------","uygun değil","uygun değil","--------","--------","--------","--------","uygun değil","uygun değil",null,33,"Captan",50,47.163400000000003,7.9904198450394128,94.326800000000006,16.941992827148621,"uygun","uygun",52.934799999999996,4.0967788810234795,105.86959999999999,7.7392922633569601,"uygun","uygun",42.33,4.5336740068072832,84.66,10.710309489268328,"uygun","uygun","--------","--------","--------","--------","uygun değil","uygun değil","--------","--------","--------","--------","uygun değil","uygun değil","--------","--------","--------","--------","uygun değil","uygun değil",{"$nulls":31},33,"Captan",10,2.4304809999999979E-2,2.4700900000000077E-3,4.7524000000000183E-4,3.1222889999999989E-2,1.9965689999999994E-2,2.0996010000000009E-2,1.5301689999999981E-2,3.515625E-2,1.6646399999999957E-3,1.1902809999999995E-2,8.0999999999998147E-5,2.5281000000000008E-2,4.2435999999999981E-2,3.2761000000000019E-2,1.0836810000000016E-2,"","","","","","","","","","","","","","","",8.9340303999999888E-3,2.2089999999999309E-5,4.8232944400000019E-2,3.5021379600000034E-2,2.6037049599999983E-2,1.1546404000000008E-3,1.7859075999999969E-3,2.200475560000004E-2,2.1316000000000492E-6,1.9132422399999998E-2,1.3179040000000003E-2,4.5454239999999979E-2,1.2950439999999978E-2,2.34256E-3,7.6618240000000032E-2,"","","","","","","","","","","","","","","",1.2188159999999964E-2,7.225343999999996E-2,4.4222500000000008E-3,2.893401000000001E-2,1.1990250000000034E-2,2.4009999999999934E-3,1.0815999999999973E-2,3.375609999999992E-3,6.5024999999999999E-2,3.4928099999999916E-3,2.8022759999999997E-2,1.229881E-2,1.2588839999999992E-2,2.917264000000002E-2,2.7489639999999982E-2,"","","","","","","","","","","","","","","",3.3628224399999997E-2,5.1683475599999994E-2,1.7423999999999679E-6,1.1577759999999744E-4,3.818897639999997E-2,2.2127615999999973E-3,4.5873072400000013E-2,1.0498051599999999E-2,7.0559999999991918E-7,1.4152643999999991E-3,3.2947599999999882E-3,5.1351555999999922E-3,3.9513795999999895E-3,1.3289478400000011E-2,1.5133920400000004E-2,"","","","","","","","","","","","","","","",60,1.1366217675999999,0.13763610037583404,null,33,"Captan",10,11.089333333333334,9.8203333333333322,9.6539999999999999,9.152333333333333,11.114666666666666,3,5,1.4666666666665051E-2,-2.508333333333332,1.0109999999999992,-0.8533333333333335,-1.9666666666665833E-2,-0.59933333333333394,1.2196666666666669,-0.23499999999999943,-1.7023333333333328,-0.52366666666666717,0.58466666666666534,1.2886666666666677,-0.7759999999999998,2.5556666666666672,0.543333333333333,"","","","","","","","","","","","","","","",10.166133333333333,101.66133333333333,2.3712467666666686,22.548130666666662,10,2.2548130666666664,3.8811233333334062E-2,2.2936243000000003,1.5144716240326197,0.14897223697301692,14,15,"UYGUN  ","UYGUN  ",0.31069818344242595,null,33,"Captan",50,47.116333333333337,41.447000000000003,52.777333333333331,52.114666666666665,51.833666666666666,3,5,-6.2853333333333339,-2.8140000000000001,-2.7113333333333287,-1.576666666666668,7.9373333333333349,0.53166666666666629,-2.1560000000000059,2.3456666666666663,-2.0726666666666631,4.7333333333334338E-2,5.7536666666666605,4.9699999999999989,0.36566666666666947,3.6493333333333382,-7.9846666666666692,"","","","","","","","","","","","","","","",49.0578,98.115600000000001,69.433775433333267,270.00565066666672,10,27.000565066666674,14.144403455555532,41.144968522222207,6.4144343883324746,0.13075258956440106,13.075258956440106,15,"UYGUN  ","UYGUN  ",0.23934735548915409,0.14015877972239454]
[35,"Chinomethionat","GC-MS/MS",3279541,3301810,null,7364838,7454857,null,12540845,12609528,null,35252695,35493611,null,61377074,60575495,null,126630034,113548569,{"$nulls":8},35,"Chinomethionat",10,9.702,11.374000000000001,11.108000000000001,8.343,9.625,10.779,11.516999999999999,7.1029999999999998,9.8010000000000002,11.173999999999999,11.821,11.692,10.852,9.9870000000000001,8.4190000000000005,{"$nulls":16},35,"Chinomethionat",50,40.271999999999998,45.274999999999999,41.57,48.29,42.642000000000003,50.36,47.555,50.344000000000001,42.688000000000002,53.222999999999999,43.923000000000002,40.335000000000001,40.277999999999999,39.177,38.331000000000003,{"$nulls":16},35,"Chinomethionat",10,10.711,8.3710000000000004,11.481999999999999,11.423,11.185,8.9760000000000009,10.981,9.1389999999999993,9.8219999999999992,11.295,11.356999999999999,9.7210000000000001,7.3970000000000002,9.8729999999999993,8.8520000000000003,{"$nulls":16},35,"Chinomethionat",50,42.311,40.201999999999998,44.822000000000003,45.72,49.951000000000001,50.79,43.042999999999999,38.651000000000003,41.262,40.734999999999999,50.408000000000001,45.732999999999997,54.302,54.506,39.045000000000002,{"$nulls":16},35,"Chinomethionat",10,10.0304,1.2334906971680013,100.30399999999999,12.297522503270072,"uygun","uygun",10.0748,1.7811962834005597,100.74799999999999,17.6797185393314,"uygun","uygun",10.5542,1.4025735987818979,105.542,13.289245975838035,"uygun","uygun","--------","--------","--------","--------","uygun değil","uygun değil","--------","--------","--------","--------","uygun değil","uygun değil","--------","--------","--------","--------","uygun değil","uygun değil",null,35,"Chinomethionat",50,43.609799999999993,3.1982609649620524,87.219599999999986,7.3338125030659462,"uygun","uygun",48.834000000000003,3.977475769882199,97.668000000000006,8.1448903835077999,"uygun","uygun",40.408799999999999,2.1334678811737477,80.817599999999999,5.2797110559426352,"uygun","uygun","--------","--------","--------","--------","uygun değil","uygun değil","--------","--------","--------","--------","uygun değil","uygun değil","--------","--------","--------","--------","uygun değil","uygun değil",{"$nulls":31},35,"Chinomethionat",{"$f":"$AE45","v":10},8.8804000000000292E-4,1.8878759999999991E-2,1.2276640000000002E-2,2.7456489999999986E-2,1.4062499999999984E-3,6.0684100000000128E-3,2.3012889999999984E-2,8.3926090000000036E-2,3.9601000000000116E-4,1.3782759999999988E-2,3.3160409999999974E-2,2.8628640000000007E-2,7.25903999999999E-3,1.6899999999999165E-6,2.499560999999997E-2,"","","","","","","","","","","","","","","",3.7853593600000027E-2,8.9302500000000059E-3,2.842595999999999E-2,1.1696400000000007E-3,2.1656065599999986E-2,5.1840000000001374E-5,2.3912100000000052E-3,4.7334399999999965E-5,2.138613759999998E-2,4.1550915999999946E-3,1.4771971599999996E-2,3.7364890000000012E-2,3.7806913600000019E-2,4.6854931599999997E-2,5.4466224399999964E-2,"","","","","","","","","","","","","","","",5.0552099999999914E-3,2.6536409999999979E-2,2.1963239999999967E-2,2.0249290000000027E-2,1.4042250000000011E-2,1.0485759999999986E-2,9.6236100000000151E-3,7.4132100000000112E-3,3.1684000000000134E-4,1.6770249999999987E-2,1.8414489999999981E-2,7.7841000000000206E-4,6.7756089999999991E-2,1.6129000000000113E-4,1.3179040000000003E-2,"","","","","","","","","","","","","","","",2.3648288400000009E-2,3.8400321600000009E-2,1.0724673599999996E-2,7.3273600000000015E-3,9.6039999999996246E-7,2.4964000000000117E-4,1.9359939600000011E-2,5.1519920399999981E-2,3.0541057600000008E-2,3.4336090000000007E-2,6.6585599999999107E-5,7.2829156000000141E-3,7.402881599999982E-3,8.1216143999999959E-3,4.8004809999999981E-2,"","","","","","","","","","","","","","","",60,1.1192022327999998,0.13657734272809186,null,35,"Chinomethionat",10,10.348000000000001,9.6910000000000007,9.3393333333333342,10.372666666666666,10.444000000000001,3,5,0.36299999999999955,-1.3200000000000003,2.1426666666666652,1.0503333333333345,0.74099999999999966,-1.3719999999999999,1.2899999999999991,-0.20033333333333481,-0.55066666666666642,0.85099999999999909,1.0089999999999986,2.9999999999999361E-2,-1.9423333333333339,-0.49966666666666626,-1.5920000000000005,"","","","","","","","","","","","","","","",10.039000000000001,100.39000000000003,0.73610766666666572,20.30729333333332,10,2.0307293333333321,0,2.0307293333333321,1.4250366077169148,0.14195005555502685,14.42,15,"UYGUN  ","UYGUN  ",0.28209745580905293,null,35,"Chinomethionat",50,47.836333333333336,42.992666666666672,45.925000000000004,47.162666666666667,43.243666666666662,3,5,-5.5253333333333359,-2.7906666666666737,-1.1030000000000015,-1.4426666666666677,6.707333333333338,2.9536666666666633,5.0333333333327346E-2,-7.2740000000000009,-5.9006666666666661,-2.508666666666663,2.5716666666666654,2.7403333333333251,8.3769999999999953,7.3433333333333337,-4.1986666666666608,"","","","","","","","","","","","","","","",45.432066666666671,90.864133333333342,14.818668566666675,345.20274866666654,10,34.520274866666654,0,34.520274866666654,5.8753957200061562,0.12932266020636282,12.932266020636282,15,"UYGUN  ","UYGUN  ",0.23414090619990527,0.13578322561149736]
[36,"Chlorbenside","GC-MS/MS",1413392,1465450,null,3354023,3404168,null,6270235,6131173,null,13323629,13286109,null,25390331,23983134,null,40830508,46317305,{"$nulls":8},36,"Chlorbenside",10,9.6630000000000003,11.436,11.782999999999999,7.8159999999999998,10.333,10.888,11.773,8.0619999999999994,11.349,11.170999999999999,10.292999999999999,10.58,9.3279999999999994,7.7460000000000004,7.3380000000000001,{"$nulls":16},36,"Chlorbenside",50,41.204999999999998,43.1,35.71,47.753,43.512999999999998,40.115000000000002,44.100999999999999,50.018999999999998,42.552,48.432000000000002,42.253999999999998,40.613999999999997,40.316000000000003,39.256,37.093000000000004,{"$nulls":16},36,"Chlorbenside",10,9.9339999999999993,8.3620000000000001,11.621,10.481,10.507999999999999,10.153,11.872999999999999,9.9109999999999996,10.696,11.010999999999999,8.84,11.84,10.32,10.76,9.98,{"$nulls":16},36,"Chlorbenside",50,46.384999999999998,40.093000000000004,46.908000000000001,44.985999999999997,51.177,50.118000000000002,43.427,43.811999999999998,40.578000000000003,45.542999999999999,42.31,39.06,49.24,47.35,38.46,{"$nulls":16},36,"Chlorbenside",10,10.206199999999999,1.5829487357460432,102.06199999999998,15.509677801199695,"uygun","uygun",10.6486,1.481177673339688,106.48599999999999,13.909600072682682,"uygun","uygun",9.0569999999999986,1.4658059216690389,90.569999999999979,16.184232324931425,"uygun","uygun","--------","--------","--------","--------","uygun değil","uygun değil","--------","--------","--------","--------","uygun değil","uygun değil","--------","--------","--------","--------","uygun değil","uygun değil",null,36,"Chlorbenside",50,42.256200000000007,4.372187976288302,84.512400000000014,10.346855553240237,"uygun","uygun",45.043799999999997,4.1116761424022679,90.087599999999995,9.1281733388441211,"uygun","uygun",39.906600000000005,1.9051204161417179,79.813200000000009,4.7739482094232972,"uygun","uygun","--------","--------","--------","--------","uygun değil","uygun değil","--------","--------","--------","--------","uygun değil","uygun değil","--------","--------","--------","--------","uygun değil","uygun değil",{"$nulls":31},36,"Chlorbenside",10,1.1356899999999967E-3,2.0620959999999987E-2,3.1790889999999968E-2,4.7698560000000015E-2,1.1088900000000071E-3,7.8854399999999988E-3,3.1435290000000005E-2,3.7558440000000033E-2,1.8198010000000004E-2,1.3712409999999996E-2,8.5848999999999312E-4,3.3640000000000059E-3,4.5158400000000053E-3,5.0805159999999967E-2,7.0862439999999999E-2,"","","","","","","","","","","","","","","",3.094081000000002E-2,1.9044000000000002E-2,8.1681639999999972E-2,2.0196035999999981E-3,1.6832467600000019E-2,3.9085289999999995E-2,1.3919280399999994E-2,1.444000000000357E-7,2.2189081599999994E-2,9.8344959999999647E-4,2.4000206400000019E-2,3.5238798400000042E-2,3.7511942399999984E-2,4.617341439999998E-2,6.6636259599999956E-2,"","","","","","","","","","","","","","","",4.356000000000066E-5,2.6830439999999983E-2,2.6276410000000042E-2,2.3136100000000028E-3,2.5806399999999956E-3,2.340900000000028E-4,3.5081290000000008E-2,7.9210000000000334E-5,4.8441599999999837E-3,1.0221209999999993E-2,1.3455999999999997E-2,3.3855999999999976E-2,1.0240000000000019E-3,5.7760000000000103E-3,4.0000000000000074E-6,"","","","","","","","","","","","","","","",5.2272900000000042E-3,3.9259459599999991E-2,3.8241856000000005E-3,1.0056078400000007E-2,5.5413159999999503E-4,5.5696000000006598E-6,1.7281731600000006E-2,1.5316537600000023E-2,3.5509633599999979E-2,7.9459396000000002E-3,2.3654439999999981E-2,4.7873439999999996E-2,2.3103999999999974E-4,2.8089999999999934E-3,5.3268639999999999E-2,"","","","","","","","","","","","","","","",60,1.2032446355999997,0.1416124191587729,null,36,"Chlorbenside",10,9.6423333333333332,10.691666666666668,10.617333333333333,10.645666666666665,10.499666666666666,3,5,0.29166666666666607,-2.3296666666666681,1.0036666666666676,-0.16466666666666541,8.3333333333328596E-3,0.51066666666666727,1.1813333333333311,-0.70633333333333326,5.0333333333334451E-2,0.51133333333333297,-0.80233333333333334,1.1483333333333317,-0.29733333333333256,0.11433333333333451,-0.51966666666666583,"","","","","","","","","","","","","","","",10.419333333333332,104.19333333333331,0.58108400000000004,11.300119333333331,10,1.1300119333333332,0,1.1300119333333332,1.0630201942264941,0.10202382054768323,{"$f":"QI46*100","v":10.202382054768323},15,"UYGUN  ","UYGUN  ",0.14572403942804221,null,36,"Chlorbenside",50,46.270999999999994,40.860000000000007,46.653333333333336,44.304666666666662,45.06,3,5,0.11400000000000432,-0.76700000000000301,0.25466666666666526,0.68133333333333468,6.1169999999999973,3.8470000000000084,2.5669999999999931,-2.8413333333333384,-3.7266666666666595,0.48299999999999699,-3.9609999999999914,-1.8000000000000043,2.586666666666666,3.045333333333339,-6.6000000000000014,"","","","","","","","","","","","","","","",44.629800000000003,89.259600000000006,15.967800266666625,160.58587133333327,10,16.058587133333326,0,16.058587133333326,4.0073166999044796,8.979015590265875E-2,8.9790155902658757,15,"UYGUN  ","UYGUN  ",0.1128718093583327,9.610185236552321E-2]
[37,"Chlordane-Cis-(Alpha)","GC-MS/MS",5516394,5859807,null,10862729,10090987,null,20780782,20312793,null,47624308,47606584,null,74586341,74879169,null,126822234,127240987,{"$nulls":8},37,"Chlordane-Cis-(Alpha)",10,10.209,11.589,11.589,9.1120000000000001,9.4109999999999996,10.795999999999999,11.423,9.1449999999999996,11.260999999999999,11.842000000000001,11.286,10.058999999999999,10.183,8.2550000000000008,7.57,{"$nulls":16},37,"Chlordane-Cis-(Alpha)",50,48.957000000000001,49.95,40.963000000000001,51.374000000000002,48.174999999999997,42.63,47.399000000000001,53.055999999999997,44.018999999999998,49.953000000000003,47.933999999999997,46.088999999999999,48.752000000000002,43.423000000000002,39.511000000000003,{"$nulls":16},37,"Chlordane-Cis-(Alpha)",10,11.189,9.3309999999999995,11.510999999999999,11.821999999999999,11.692,10.614000000000001,11.061,10.375999999999999,10.519,11.353999999999999,9.4480000000000004,9.5280000000000005,9.3330000000000002,11.635999999999999,8.718,{"$nulls":16},37,"Chlordane-Cis-(Alpha)",50,53.832000000000001,47.362000000000002,55.305,44.031999999999996,45.930999999999997,43.741,44.896000000000001,54.149000000000001,47.960999999999999,50.911999999999999,43.161000000000001,43.042000000000002,47.365000000000002,43.838999999999999,40.274999999999999,{"$nulls":16},37,"Chlordane-Cis-(Alpha)",10,10.382000000000001,1.1725365665939689,103.82000000000002,11.293937262511738,"uygun","uygun",10.8934,1.0466419158432365,108.934,9.60803712195675,"uygun","uygun",9.470600000000001,1.5198165349804513,94.706000000000017,16.047732297641662,"uygun","uygun","--------","--------","--------","--------","uygun değil","uygun değil","--------","--------","--------","--------","uygun değil","uygun değil","--------","--------","--------","--------","uygun değil","uygun değil",null,37,"Chlordane-Cis-(Alpha)",50,47.883799999999994,4.0492192704273258,95.767599999999987,8.4563448816245295,"uygun","uygun",47.4114,4.2629671943377652,94.822800000000001,8.991439177787969,"uygun","uygun",45.141800000000003,3.7545737041640281,90.283600000000007,8.3172884204086408,"uygun","uygun","--------","--------","--------","--------","uygun değil","uygun değil","--------","--------","--------","--------","uygun değil","uygun değil","--------","--------","--------","--------","uygun değil","uygun değil",{"$nulls":31},37,"Chlordane-Cis-(Alpha)",10,4.3680999999999663E-4,2.5249210000000012E-2,2.5249210000000012E-2,7.8854399999999988E-3,3.4692100000000073E-3,6.3361599999999831E-3,2.0249290000000027E-2,7.3102500000000034E-3,1.5901209999999968E-2,3.3929640000000053E-2,1.6537960000000011E-2,3.481000000000019E-5,3.3488999999999936E-4,3.0450249999999957E-2,5.9048999999999997E-2,"","","","","","","","","","","","","","","",4.3513959999999958E-4,9.9999999999977973E-7,3.2666947600000003E-2,7.5515039999999721E-4,1.3322500000000064E-3,2.1726759999999994E-2,2.7060803999999954E-3,3.7356543999999808E-3,1.4308944400000015E-2,8.8359999999988882E-7,1.707342400000002E-3,6.1183684000000104E-3,6.230015999999991E-4,1.7302771599999999E-2,4.4007648399999988E-2,"","","","","","","","","","","","","","","",1.4137210000000001E-2,4.4756100000000092E-3,2.2831210000000005E-2,3.3196839999999971E-2,2.8628640000000007E-2,3.7699600000000149E-3,1.1257210000000017E-2,1.4137599999999892E-3,2.693610000000006E-3,1.8333159999999991E-2,3.0470399999999909E-3,2.2278399999999914E-3,4.4488899999999979E-3,2.676495999999999E-2,1.6435239999999993E-2,"","","","","","","","","","","","","","","",5.8736896000000059E-3,2.7836175999999915E-3,1.1257210000000017E-2,1.4246809600000005E-2,6.6227044000000011E-3,1.5670032399999988E-2,1.042032639999999E-2,6.8856804000000087E-3,1.6630084000000031E-3,3.3269760000000125E-4,1.8708768400000002E-2,1.9365505599999985E-2,2.7772899999999969E-3,1.5183168399999999E-2,3.7830250000000003E-2,"","","","","","","","","","","","","","","",60,0.76313322159999997,0.11277804319399529,null,37,"Chlordane-Cis-(Alpha)",10,10.417,9.9733333333333345,10.406666666666666,11.325666666666669,10.587999999999999,3,5,0.77200000000000024,-0.64233333333333498,1.1043333333333329,0.49633333333333063,1.104000000000001,0.19700000000000095,1.0876666666666654,-3.0666666666666842E-2,-0.80666666666666842,0.76600000000000001,-0.96899999999999942,-0.44533333333333402,-1.0736666666666661,0.31033333333333069,-1.8699999999999992,"","","","","","","","","","","","","","","",10.542133333333334,105.42133333333335,0.73017843333333454,12.036775999999994,10,1.2036775999999993,0,1.2036775999999993,1.0971224179643762,0.10407024681573396,10.407024681573397,15,"UYGUN  ","UYGUN  ",0.15162862781202896,null,37,"Chlordane-Cis-(Alpha)",50,46.911333333333339,45.1,52.273000000000003,45.277333333333331,45.705999999999996,3,5,6.9206666666666621,2.2620000000000005,3.0319999999999965,-1.2453333333333347,0.22500000000000142,-3.170333333333339,-0.20400000000000063,1.8759999999999977,2.6836666666666673,5.2060000000000031,-3.7503333333333373,-2.0579999999999998,-4.9080000000000013,-1.4383333333333326,-5.4309999999999974,"","","","","","","","","","","","","","","",47.053533333333334,94.107066666666668,27.037558600000033,185.67667533333332,10,18.567667533333331,2.8232970222222336,21.390964555555566,4.625036708563032,9.8293079837356148E-2,9.8293079837356157,15,"UYGUN  ","UYGUN  ",0.13526141361478017,0.10122288727407615]
[38,"Chlordane-Cis-(Beta)","GC-MS/MS",762616,722699,null,2551763,2281581,null,4559345,4995003,null,13082263,15083646,null,27992496,25873461,null,57119557,55326315,{"$nulls":8},38,"Chlordane-Cis-(Beta)",10,11.475,11.557,11.510999999999999,11.135,11.295999999999999,11.313000000000001,11.91,11.134,11.204000000000001,11.141,11.323,11.183,10.927,9.17,8.3379999999999992,{"$nulls":16},38,"Chlordane-Cis-(Beta)",50,46.241999999999997,45.472999999999999,54.99,49.329000000000001,45.811999999999998,40.46,45.655000000000001,49.664999999999999,44.097999999999999,50.209000000000003,50.523000000000003,47.127000000000002,50.66,45.073999999999998,40.286999999999999,{"$nulls":16},38,"Chlordane-Cis-(Beta)",10,11.641,10.756,11.496,11.193,10.808,10.664,11.441000000000001,11.476000000000001,11.577999999999999,11.349,10.53,10.31,10.69,9.65,9.48,{"$nulls":16},38,"Chlordane-Cis-(Beta)",50,51.85,44.933,51.917000000000002,41.354999999999997,44.518000000000001,42.177,43.935000000000002,53.408000000000001,44.344000000000001,51.256999999999998,50.057000000000002,46.076000000000001,56.073,55.011000000000003,56.63,{"$nulls":16},38,"Chlordane-Cis-(Beta)",10,11.3948,0.17571340301752747,113.94800000000001,1.5420490312908297,"uygun","uygun",11.340399999999999,0.32640511638146841,113.404,2.8782504707194496,"uygun","uygun",10.1882,1.3493697417683499,101.88200000000001,13.244437111249777,"uygun","uygun","--------","--------","--------","--------","uygun değil","uygun değil","--------","--------","--------","--------","uygun değil","uygun değil","--------","--------","--------","--------","uygun değil","uygun değil",null,38,"Chlordane-Cis-(Beta)",50,48.369199999999999,4.0065082927656617,96.738399999999999,8.2831808108582781,"uygun","uygun",46.017399999999995,4.0489079144875602,92.03479999999999,8.798645543832464,"uygun","uygun",46.734200000000001,4.3082436908791504,93.468400000000003,9.218610120381113,"uygun","uygun","--------","--------","--------","--------","uygun değil","uygun değil","--------","--------","--------","--------","uygun değil","uygun değil","--------","--------","--------","--------","uygun değil","uygun değil",{"$nulls":31},38,"Chlordane-Cis-(Beta)",10,2.1756249999999991E-2,2.4242489999999985E-2,2.2831210000000005E-2,1.2882249999999986E-2,1.6796159999999984E-2,1.7239689999999992E-2,3.648100000000002E-2,1.2859559999999987E-2,1.4496160000000015E-2,1.3018810000000021E-2,1.7503290000000022E-2,1.3994890000000017E-2,8.5932900000000017E-3,6.8889999999999941E-3,2.7622440000000043E-2,"","","","","","","","","","","","","","","",5.6490256000000004E-3,8.1974916000000109E-3,9.9600400000000224E-3,1.8009639999999965E-4,7.0157376000000091E-3,3.6404639999999988E-2,7.5516099999999959E-3,4.4890000000000527E-5,1.3933441600000008E-2,1.7472400000000605E-5,1.0941160000000285E-4,3.3016515999999951E-3,1.7423999999999679E-4,9.7061904000000105E-3,3.7736947599999994E-2,"","","","","","","","","","","","","","","",2.692880999999997E-2,5.7153600000000165E-3,2.2380159999999986E-2,1.423248999999999E-2,6.528639999999997E-3,4.4089600000000017E-3,2.0764810000000033E-2,2.1785760000000053E-2,2.490083999999998E-2,1.8198010000000004E-2,2.8089999999999934E-3,9.6100000000000861E-4,4.7609999999999935E-3,1.2249999999999943E-3,2.7039999999999933E-3,"","","","","","","","","","","","","","","",1.3689999999999941E-3,1.0269795599999998E-2,1.469955600000003E-3,2.9894410000000017E-2,1.202092959999999E-2,2.4479731600000013E-2,1.4713689999999991E-2,4.6457855999999997E-3,1.2796134399999999E-2,6.32019599999997E-4,1.2996000000003213E-6,6.159110399999999E-3,1.4752531599999976E-2,1.0044048399999995E-2,1.7582760000000013E-2,"","","","","","","","","","","","","","","",60,0.74632441840000008,0.111529100716659,null,38,"Chlordane-Cis-(Beta)",10,10.945,10.835666666666668,11.220666666666666,10.807,10.545666666666667,3,5,0.69599999999999973,-7.9666666666668107E-2,0.2753333333333341,0.38599999999999923,0.26233333333333242,-0.28100000000000058,0.60533333333333239,0.25533333333333452,0.77099999999999902,0.80333333333333279,-0.41500000000000092,-0.52566666666666784,-0.53066666666666684,-1.157,-1.065666666666667,"","","","","","","","","","","","","","","",10.870800000000001,108.708,0.17919659999999937,5.7392079999999996,10,0.57392080000000001,0,0.57392080000000001,0.75757560678786384,6.9689039149636076E-2,6.9689039149636072,15,"UYGUN  ","UYGUN  ",6.799187048639313E-2,null,38,"Chlordane-Cis-(Beta)",50,48.027999999999999,44.981333333333332,53.79933333333333,46.903333333333336,50.801666666666669,3,5,3.8220000000000027,-4.8333333333332007E-2,-1.8823333333333281,-5.5483333333333391,-6.2836666666666687,-5.8509999999999991,-1.0463333333333296,-0.39133333333332843,-2.5593333333333348,0.45533333333332848,2.0290000000000035,1.0946666666666687,2.2736666666666707,8.1076666666666668,5.8283333333333331,"","","","","","","","","","","","","","","",48.90273333333333,97.805466666666661,35.792082066666651,240.84976466666683,10,24.084976466666681,3.9023685333333233,27.987345000000005,5.2903067018841172,0.10818018424091054,10.818018424091054,15,"UYGUN  ","UYGUN  ",0.16384133167356291,9.0993171282236496E-2]
[39,"Chlordecone","GC-MS/MS",121756,134834,null,374098,404355,null,638902,761898,null,1992380,2208743,null,3995984,3864070,null,8348704,8078915,{"$nulls":8},39,"Chlordecone",10,10.645,11.55,11.9,9.93,11.218999999999999,11.571,10.863,9.9039999999999999,10.744999999999999,11.260999999999999,11.259,11.294,10.397,9.3309999999999995,8.5909999999999993,{"$nulls":16},39,"Chlordecone",50,44.075000000000003,44.265999999999998,35.045999999999999,46.161999999999999,43.6,38.640999999999998,40.786000000000001,43.743000000000002,40.030999999999999,42.793999999999997,44.868000000000002,42.341999999999999,46.121000000000002,39.481999999999999,37.212000000000003,{"$nulls":16},39,"Chlordecone",10,10.644,9.2089999999999996,11.878,11.291,11.48,10.381,11.679,10.193,10.641999999999999,11.999000000000001,9.4640000000000004,8.5139999999999993,7.5949999999999998,7.46,7.41,{"$nulls":16},39,"Chlordecone",50,44.713000000000001,38.892000000000003,46.143000000000001,38.957999999999998,39.466000000000001,37.704999999999998,37.790999999999997,40.722000000000001,36.316000000000003,39.506,36.753,41.706000000000003,49.012999999999998,47.207999999999998,45.28,{"$nulls":16},39,"Chlordecone",10,11.0488,0.77773369478247534,110.48800000000001,7.0390784047360375,"uygun","uygun",10.868799999999998,0.63109127707487755,108.68799999999999,5.8064485230648977,"uygun","uygun",10.174400000000002,1.193512798423193,101.74400000000001,11.730547240360048,"uygun","uygun","--------","--------","--------","--------","uygun değil","uygun değil","--------","--------","--------","--------","uygun değil","uygun değil","--------","--------","--------","--------","uygun değil","uygun değil",null,39,"Chlordecone",50,42.629800000000003,4.3502155348901974,85.259600000000006,10.204635102417081,"uygun","uygun",41.198999999999998,2.0672516779531231,82.397999999999996,5.0177229494723736,"uygun","uygun",42.00500000000001,3.6942581122601599,84.010000000000019,8.7948056475661449,"uygun","uygun","--------","--------","--------","--------","uygun değil","uygun değil","--------","--------","--------","--------","uygun değil","uygun değil","--------","--------","--------","--------","uygun değil","uygun değil",{"$nulls":31},39,"Chlordecone",10,4.1602499999999999E-3,2.4025000000000008E-2,3.6099999999999979E-2,4.9000000000000087E-5,1.4859609999999975E-2,2.4680410000000007E-2,7.4476900000000077E-3,9.2160000000001015E-5,5.5502500000000014E-3,1.5901209999999968E-2,1.5850810000000031E-2,1.6744359999999989E-2,1.5760900000000055E-3,4.4756100000000092E-3,1.9852810000000005E-2,"","","","","","","","","","","","","","","",1.4042249999999985E-2,1.3151502400000001E-2,8.9448846400000004E-2,5.8920976000000078E-3,1.6383999999999999E-2,5.1610752400000022E-2,3.3959118400000002E-2,1.5660019599999981E-2,3.97523844E-2,2.0770574400000009E-2,1.0534969599999991E-2,2.3457985600000023E-2,6.0186563999999974E-3,4.4251329599999993E-2,6.5413177599999997E-2,"","","","","","","","","","","","","","","",4.1473600000000018E-3,6.2568100000000093E-3,3.5268839999999989E-2,1.6666809999999997E-2,2.1904000000000038E-2,1.4516100000000018E-3,2.8190409999999978E-2,3.7248999999999507E-4,4.1216400000000045E-3,3.9960009999999983E-2,2.8729599999999978E-3,2.2081960000000019E-2,5.7840250000000024E-2,6.4516000000000004E-2,6.7081000000000002E-2,"","","","","","","","","","","","","","","",1.1180947599999989E-2,4.9355065599999963E-2,5.9505795999999977E-3,4.8770305600000015E-2,4.4386062399999988E-2,6.0466810000000003E-2,5.9623872400000034E-2,3.4432513599999978E-2,7.4900742399999956E-2,4.4049614399999978E-2,7.0193203599999976E-2,2.7516174399999972E-2,3.8966760000000357E-4,3.1181056000000001E-3,8.9113599999999862E-3,"","","","","","","","","","","","","","","",60,1.5576900991999996,0.16112573243691811,null,39,"Chlordecone",10,10.162999999999998,9.8006666666666664,9.8886666666666656,9.7976666666666663,10.296333333333333,3,5,0.48100000000000165,-0.59166666666666679,1.9893333333333345,1.4933333333333341,1.1836666666666673,0.21800000000000175,1.8783333333333339,0.30433333333333401,0.84433333333333316,1.7026666666666674,-0.69899999999999807,-1.2866666666666671,-2.2936666666666659,-2.3376666666666663,-2.886333333333333,"","","","","","","","","","","","","","","",9.9892666666666656,99.892666666666656,0.15515556666666649,36.650864666666678,10,3.6650864666666676,0,3.6650864666666676,1.9144415547795308,0.19164985966065554,19.164985966065554,15,"UYGUN  ","UYGUN  ",0.51421536191128547,null,39,"Chlordecone",50,39.723666666666666,39.463000000000001,45.292666666666669,40.827333333333335,41.417333333333339,3,5,4.9893333333333345,-0.57099999999999795,0.85033333333333161,-1.8693333333333371,-1.9513333333333378,-2.0186666666666682,-1.6720000000000041,-4.5706666666666678,-4.511333333333333,-1.9113333333333387,-2.9706666666666663,2.2430000000000021,3.7203333333333291,6.3806666666666629,3.8626666666666623,"","","","","","","","","","","","","","","",41.344800000000006,82.689600000000013,16.520946433333343,168.34147066666662,10,16.834147066666663,0,16.834147066666663,4.1029437074698771,9.9237236786001534E-2,9.9237236786001528,15,"UYGUN  ","UYGUN  ",0.13787240830889311,0.15260684433024277]
[40,"Chlorfenapyr","GC-MS/MS",1000688,1038442,null,2905317,3035769,null,7003975,6272244,null,16532695,16995145,null,42089176,44898154,null,83093613,87294721,{"$nulls":8},40,"Chlorfenapyr",10,8.0869999999999997,11.065,11.125999999999999,8.4979999999999993,9.4809999999999999,9.9610000000000003,11.612,9.0340000000000007,10.281000000000001,11.305999999999999,10.798,11.263999999999999,9.4410000000000007,7.97,7.3380000000000001,{"$nulls":16},40,"Chlorfenapyr",50,43.573999999999998,45.243000000000002,36.113999999999997,51.621000000000002,48.874000000000002,42.121000000000002,44.021000000000001,49.616,41.68,50.045999999999999,43.52,39.545000000000002,42.287999999999997,37.005000000000003,37.609000000000002,{"$nulls":16},40,"Chlorfenapyr",10,11.435,8.8710000000000004,11.765000000000001,10.214,10.53,9.8859999999999992,10.769,8.2460000000000004,9.1229999999999993,11.667999999999999,11.486000000000001,10.476000000000001,9.0220000000000002,10.541,8.0860000000000003,{"$nulls":16},40,"Chlorfenapyr",50,49.865000000000002,43.41,49.140999999999998,46.973999999999997,53.680999999999997,54.209000000000003,50.610999999999997,45.811,41.591999999999999,46.875,47.463999999999999,46.643000000000001,57.11,53.024000000000001,57.27,{"$nulls":16},40,"Chlorfenapyr",10,9.6513999999999989,1.4123938190179195,96.513999999999982,14.634082299126755,"uygun","uygun",10.438799999999999,1.0434427152460259,104.38799999999999,9.9958109672187039,"uygun","uygun",9.3621999999999996,1.7117374798724234,93.622,18.283496185431027,"uygun","uygun","--------","--------","--------","--------","uygun değil","uygun değil","--------","--------","--------","--------","uygun değil","uygun değil","--------","--------","--------","--------","uygun değil","uygun değil",null,40,"Chlorfenapyr",50,45.0852,5.9131789842689138,90.170400000000001,13.115565605273824,"uygun","uygun",45.496799999999993,4.0560141395217046,90.993599999999986,8.9149437752143115,"uygun","uygun",39.993400000000001,2.8512741537775699,79.986800000000002,7.1293617291292311,"uygun","uygun","--------","--------","--------","--------","uygun değil","uygun değil","--------","--------","--------","--------","uygun değil","uygun değil","--------","--------","--------","--------","uygun değil","uygun değil",{"$nulls":31},40,"Chlorfenapyr",10,3.6595690000000007E-2,1.1342250000000009E-2,1.2678760000000008E-2,2.2560040000000035E-2,2.693610000000006E-3,1.5210000000000114E-5,2.5985440000000002E-2,9.3315599999999818E-3,7.8961000000000081E-4,1.7056359999999954E-2,6.3680400000000149E-3,1.597695999999996E-2,3.1248099999999944E-3,4.120900000000003E-2,7.0862439999999999E-2,"","","","","","","","","","","","","","","",1.6517390400000019E-2,9.0516195999999997E-3,7.7128398400000048E-2,1.0510564000000074E-3,5.0715039999999932E-4,2.4831456399999983E-2,1.4299376400000004E-2,5.8982400000000311E-5,2.7688959999999999E-2,8.4640000000005872E-7,1.6796159999999984E-2,4.372280999999998E-2,2.3789977600000012E-2,6.754800999999995E-2,6.1414752399999967E-2,"","","","","","","","","","","","","","","",2.0592249999999989E-2,1.274641E-2,3.1152250000000034E-2,4.5796000000000367E-4,2.8089999999999934E-3,1.2996000000000174E-4,5.9136099999999954E-3,3.076516E-2,7.6912900000000199E-3,2.7822239999999946E-2,2.2081960000000019E-2,2.2657600000000081E-3,9.5648399999999998E-3,2.9268100000000041E-3,3.6633960000000007E-2,"","","","","","","","","","","","","","","",7.2899999999995931E-6,1.7371240000000007E-2,2.9515240000000287E-4,3.6626704000000021E-3,5.4199044000000024E-3,7.0862724000000238E-3,1.4932839999999748E-4,7.0190883999999946E-3,2.827778559999999E-2,3.90625E-3,2.5725183999999986E-3,4.5077795999999967E-3,2.0220839999999966E-2,3.6578304000000109E-3,2.1141159999999992E-2,"","","","","","","","","","","","","","","",60,0.99984529719999993,0.12908945846453407,null,40,"Chlorfenapyr",10,10.935666666666668,10.038666666666666,9.6776666666666671,9.9593333333333334,10.094666666666667,3,5,0.49933333333333252,-1.1676666666666655,2.0873333333333335,0.25466666666666704,0.43533333333333246,-1.0496666666666687,0.73033333333333417,-1.4316666666666666,-0.83633333333333404,1.5733333333333324,0.55033333333333267,0.43733333333333491,-0.65566666666666684,0.581666666666667,-2.0086666666666666,"","","","","","","","","","","","","","","",10.141200000000001,101.41200000000001,0.66884576666666795,18.380901333333334,10,1.8380901333333335,0,1.8380901333333335,1.3557618276575474,0.13368850112980191,13.368850112980191,15,"UYGUN  ","UYGUN  ",0.25021661468066264,null,40,"Chlorfenapyr",50,50.512666666666668,46.887999999999998,50.687333333333335,47.196666666666665,52.608666666666664,3,5,-0.64766666666666595,-3.4780000000000015,-1.5463333333333367,-0.22266666666666879,1.0723333333333329,3.6963333333333352,3.722999999999999,-4.876333333333335,-5.6046666666666667,-5.7336666666666645,-3.0486666666666693,-0.24499999999999744,6.4226666666666645,5.8273333333333355,4.6613333333333387,"","","","","","","","","","","","","","","",49.578666666666663,99.157333333333327,18.147006666666673,237.98692266666677,10,23.798692266666677,0,23.798692266666677,4.8783903356195966,9.8396965138626766E-2,9.8396965138626769,15,"UYGUN  ","UYGUN  ",0.13554747847888984,0.11737669718224564]
[41,"Chlorfenprop Methyl","GC-MS/MS",879294,611917,null,1767294,1840789,null,3109893,3140023,null,11434133,10067897,null,19486163,17778635,null,38781984,36538315,{"$nulls":8},41,"Chlorfenprop Methyl",10,9.6920000000000002,10.881,11.311,9.2959999999999994,10.023999999999999,10.523999999999999,11.441000000000001,9.0310000000000006,11.404999999999999,11.034000000000001,11.173,8.3450000000000006,10.289,9.4440000000000008,8.6839999999999993,{"$nulls":16},41,"Chlorfenprop Methyl",50,45.892000000000003,48.444000000000003,41.228999999999999,47.179000000000002,41.151000000000003,42.762999999999998,44.192,52.384999999999998,38.131999999999998,51.398000000000003,44.174999999999997,42.575000000000003,43.015999999999998,43.042000000000002,40.369,{"$nulls":16},41,"Chlorfenprop Methyl",10,10.794,9.3680000000000003,10.997,11.07,11.515000000000001,10.278,11.593,10.239000000000001,10.112,11.074999999999999,9.5969999999999995,8.1189999999999998,7.3810000000000002,8.5299999999999994,10.74,{"$nulls":16},41,"Chlorfenprop Methyl",50,50.722000000000001,37.825000000000003,48.463999999999999,42.378,35.698,42.51,35.923000000000002,46.17,42.183,50.317999999999998,47.642000000000003,44.911000000000001,56.767000000000003,56.701999999999998,44.456000000000003,{"$nulls":16},41,"Chlorfenprop Methyl",10,10.2408,0.83606441139424204,102.40800000000002,8.1640537008265177,"uygun","uygun",10.687000000000001,0.99666368449944021,106.87000000000002,9.3259444605543198,"uygun","uygun",9.5869999999999997,1.1604548677135174,95.87,12.104462998993611,"uygun","uygun","--------","--------","--------","--------","uygun değil","uygun değil","--------","--------","--------","--------","uygun değil","uygun değil","--------","--------","--------","--------","uygun değil","uygun değil",null,41,"Chlorfenprop Methyl",50,44.779000000000003,3.3983774805044842,89.558000000000007,7.5892214665456663,"uygun","uygun",45.774000000000001,6.0270993437971594,91.548000000000002,13.167080315893651,"uygun","uygun",42.635399999999997,1.3982815524778971,85.270799999999994,3.2796257393571939,"uygun","uygun","--------","--------","--------","--------","uygun değil","uygun değil","--------","--------","--------","--------","uygun değil","uygun değil","--------","--------","--------","--------","uygun değil","uygun değil",{"$nulls":31},41,"Chlorfenprop Methyl",10,9.4863999999999626E-4,7.7616100000000117E-3,1.7187209999999998E-2,4.9561600000000029E-3,5.7599999999997975E-6,2.7457600000000003E-3,2.0764810000000033E-2,9.3896099999999979E-3,1.9740249999999956E-2,1.0691560000000032E-2,1.375928999999999E-2,2.7390249999999994E-2,8.3520999999999574E-4,3.0913599999999857E-3,1.7318560000000014E-2,"","","","","","","","","","","","","","","",6.7502655999999838E-3,9.6845439999999536E-4,3.0772176400000007E-2,3.1832163999999902E-3,3.1321920399999967E-2,2.0949667600000027E-2,1.349314560000001E-2,2.2752899999999862E-3,5.6339769600000006E-2,7.8176159999999919E-4,1.3572250000000011E-2,2.2052249999999989E-2,1.9510502400000008E-2,1.9365505599999985E-2,3.7102464400000007E-2,"","","","","","","","","","","","","","","",6.3043600000000219E-3,3.9942399999999901E-3,9.9400899999999796E-3,1.1448999999999997E-2,2.295224999999999E-2,7.7284000000000261E-4,2.5376489999999998E-2,5.7121000000000157E-4,1.2544000000000221E-4,1.1556249999999985E-2,1.6240900000000001E-3,3.5381610000000015E-2,6.8591610000000011E-2,2.1609000000000007E-2,5.4760000000000095E-3,"","","","","","","","","","","","","","","",2.0851360000000025E-4,5.929224999999997E-2,9.4371840000000498E-4,2.3237953600000007E-2,8.1818881599999976E-2,2.2440040000000012E-2,7.9264771600000006E-2,5.86756E-3,2.4442195600000011E-2,4.0449599999998997E-5,2.2240655999999979E-3,1.0359168399999997E-2,1.8316915600000004E-2,1.7966721599999982E-2,1.2294374399999995E-2,"","","","","","","","","","","","","","","",60,1.0194667395999999,0.13034996097685134,null,41,"Chlorfenprop Methyl",10,10.223000000000001,9.6933333333333334,9.5389999999999997,9.9040000000000017,11.11,3,5,0.57099999999999973,-0.32533333333333303,1.4580000000000002,1.1659999999999986,0.40500000000000114,5.4999999999999716E-2,1.8996666666666666,0.70000000000000107,0.20799999999999841,-3.5000000000000142E-2,-0.62600000000000122,-1.5743333333333336,-2.1579999999999995,-1.3740000000000023,-0.36999999999999922,"","","","","","","","","","","","","","","",10.093866666666667,100.93866666666666,1.1651667666666656,17.779616666666669,10,1.7779616666666669,0,1.7779616666666669,1.3334022898835396,0.13210024799385167,13.210024799385167,15,"UYGUN  ","UYGUN  ",0.24430665728051959,null,41,"Chlorfenprop Methyl",50,46.957999999999998,39.553000000000004,50.467000000000006,47.087666666666671,43.490666666666662,3,5,3.7640000000000029,-1.7280000000000015,-2.0030000000000072,-4.7096666666666707,-7.792666666666662,-4.4480000000000004,-3.6300000000000026,-4.2970000000000041,-4.9046666666666709,6.8273333333333355,0.6840000000000046,5.357999999999997,6.2999999999999972,9.6143333333333274,0.9653333333333407,"","","","","","","","","","","","","","","",45.511266666666671,91.022533333333342,51.540849900000019,388.3996453333333,10,38.83996453333333,4.2336284555555634,43.07359298888889,6.5630475382164413,0.14420709461429568,14.420709461429567,15,"UYGUN  ","UYGUN  ",0.29113960591934995,0.13828622790634926]
[42,"Chlorfenson","GC-MS/MS",758359,745775,null,1873945,2156825,null,3134705,3408367,null,9074171,9701282,null,18236531,16518667,null,38112113,29792341,{"$nulls":8},42,"Chlorfenson",10,9.2639999999999993,10.96,11.624000000000001,8.0869999999999997,9.6359999999999992,10.423,10.96,8.2230000000000008,11.111000000000001,11.6,11.849,11.093999999999999,10.087,8.8490000000000002,7.9340000000000002,{"$nulls":16},42,"Chlorfenson",50,37.350999999999999,39.340000000000003,42.1,44.398000000000003,40.875999999999998,36.119999999999997,41.453000000000003,46.087000000000003,40.167000000000002,45.139000000000003,44.853000000000002,42.494,43.755000000000003,39.850999999999999,37.725000000000001,{"$nulls":16},42,"Chlorfenson",10,10.663,8.282,10.922000000000001,11.632,11.282999999999999,9.2899999999999991,10.406000000000001,9.0869999999999997,9.9339999999999993,11.65,11.67,9.8849999999999998,9.4510000000000005,10.614000000000001,8.484,{"$nulls":16},42,"Chlorfenson",50,40.621000000000002,35.840000000000003,43.134999999999998,41.387999999999998,47.555999999999997,45.755000000000003,39.664999999999999,38.874000000000002,37.445,40.411999999999999,51.616999999999997,45.182000000000002,56.539000000000001,58.356000000000002,35.719000000000001,{"$nulls":16},42,"Chlorfenson",10,9.9141999999999992,1.4014214926281114,99.141999999999996,14.135497494786383,"uygun","uygun",10.4634,1.3208786091083509,104.634,12.623799234554264,"uygun","uygun",9.9626000000000001,1.597605176506379,99.626000000000005,16.036026504189458,"uygun","uygun","--------","--------","--------","--------","uygun değil","uygun değil","--------","--------","--------","--------","uygun değil","uygun değil","--------","--------","--------","--------","uygun değil","uygun değil",null,42,"Chlorfenson",50,40.813000000000002,2.6771129972416192,81.626000000000005,6.5594614393492732,"uygun","uygun",41.793199999999999,4.0179770034185136,83.586399999999998,9.6139491673729545,"uygun","uygun",41.735599999999998,2.9158171753386739,83.471199999999996,6.9864029158288705,"uygun","uygun","--------","--------","--------","--------","uygun değil","uygun değil","--------","--------","--------","--------","uygun değil","uygun değil","--------","--------","--------","--------","uygun değil","uygun değil",{"$nulls":31},42,"Chlorfenson",10,5.4169600000000158E-3,9.2160000000000158E-3,2.6373760000000031E-2,3.6595690000000007E-2,1.3249600000000072E-3,1.7892900000000005E-3,9.2160000000000158E-3,3.1577289999999987E-2,1.2343209999999995E-2,2.5599999999999973E-2,3.4188010000000026E-2,1.1968359999999987E-2,7.5689999999998782E-5,1.3248009999999996E-2,4.2683560000000002E-2,"","","","","","","","","","","","","","","",6.3998880399999986E-2,4.5454239999999979E-2,2.4963999999999976E-2,1.2552961599999982E-2,3.3298950400000034E-2,7.7061760000000035E-2,2.9220483599999993E-2,6.1246275999999817E-3,3.8675155599999976E-2,9.4517283999999945E-3,1.0596643599999983E-2,2.2536014400000009E-2,1.5600009999999975E-2,4.1200880400000021E-2,6.027024999999997E-2,"","","","","","","","","","","","","","","",4.3956900000000033E-3,2.9515239999999984E-2,8.5008400000000112E-3,2.6634240000000003E-2,1.6460889999999964E-2,5.041000000000009E-3,1.6483599999999976E-3,8.3356900000000084E-3,4.356000000000066E-5,2.7225000000000013E-2,2.7889000000000011E-2,1.3225000000000151E-4,3.0140099999999945E-3,3.7699600000000149E-3,2.2982559999999989E-2,"","","","","","","","","","","","","","","",3.5186256399999991E-2,8.0202239999999939E-2,1.8851290000000024E-2,2.9666617600000021E-2,2.3892544000000035E-3,7.2080099999999956E-3,4.2724889999999995E-2,4.9515150399999971E-2,6.3051209999999996E-2,3.6771897600000013E-2,1.0458756000000023E-3,9.2852496E-3,1.710340840000003E-2,2.7929094399999979E-2,8.1578784399999993E-2,"","","","","","","","","","","","","","","",60,1.4407208947999999,0.15495810696227974,null,42,"Chlorfenson",10,10.540999999999999,9.5243333333333329,9.82,10.726666666666667,10.472333333333333,3,5,0.12200000000000166,-1.2423333333333328,1.1020000000000003,0.9053333333333331,0.8106666666666662,-1.2509999999999994,0.88166666666666771,-0.73300000000000054,-0.7926666666666673,1.1776666666666671,1.1290000000000013,0.36066666666666691,-0.36899999999999977,-0.1126666666666658,-1.9883333333333333,"","","","","","","","","","","","","","","",10.216866666666665,102.16866666666664,0.80049543333333273,14.651380000000005,10,1.4651380000000005,0,1.4651380000000005,1.210428849623141,0.11847358775584894,14.24,15,"UYGUN  ","UYGUN  ",0.19650387394039975,null,42,"Chlorfenson",50,45.997666666666667,40.228999999999999,46.18266666666667,45.729666666666667,41.228999999999992,3,5,-5.3766666666666652,-4.3889999999999958,-3.0476666666666716,-4.3416666666666686,6.3270000000000053,-0.24266666666666481,-0.56400000000000006,-7.3086666666666673,-8.2846666666666664,-0.81699999999999307,5.61933333333333,4.953000000000003,10.356333333333332,12.626333333333335,-5.5099999999999909,"","","","","","","","","","","","","","","",43.873599999999996,87.747199999999992,25.174087400000047,592.58506799999998,10,59.258506799999999,0,59.258506799999999,7.6979547153773256,0.17545755797056375,17.545755797056376,15,"UYGUN  ","UYGUN  ",0.4309949650859124,0.14970194662184019]
[43,"Chlorfenvinphos","GC-MS/MS",758359,712659,null,1873945,1825918,null,3059384,3171184,null,8194495,9832200,null,16831690,17494556,null,35083119,28417964,{"$nulls":8},43,"Chlorfenvinphos",10,9.5210000000000008,11.696999999999999,11.426,8.9,10.090999999999999,10.167999999999999,11.952,9.0489999999999995,11.772,11.388,11.641999999999999,11.34,10.33,9.2919999999999998,8.5210000000000008,{"$nulls":16},43,"Chlorfenvinphos",50,40.332000000000001,41.204000000000001,36.299999999999997,46.69,41.259,39.872999999999998,40.143000000000001,46.048000000000002,41.648000000000003,42.795000000000002,44.860999999999997,41.241999999999997,47.756,41.195,36.936999999999998,{"$nulls":16},43,"Chlorfenvinphos",10,10.005000000000001,8.4169999999999998,11.837,10.784000000000001,11.15,9.1140000000000008,10.291,8.7769999999999992,9.673,11.249000000000001,9.6750000000000007,7.5190000000000001,7.2779999999999996,8.2840000000000007,7.1909999999999998,{"$nulls":16},43,"Chlorfenvinphos",50,40.649000000000001,38.204999999999998,41.66,39.911000000000001,42.031999999999996,40.625999999999998,37.109000000000002,38.841000000000001,35.418999999999997,40.917999999999999,48.003,48.273000000000003,56.814,53.095999999999997,52.63,{"$nulls":16},43,"Chlorfenvinphos",10,10.327,1.2068929115708669,103.27,11.686771681716538,"uygun","uygun",10.865799999999998,1.2309964256650188,108.65799999999999,11.329091513418422,"uygun","uygun",10.225,1.3262959699855845,102.25,12.971109730910364,"uygun","uygun","--------","--------","--------","--------","uygun değil","uygun değil","--------","--------","--------","--------","uygun değil","uygun değil","--------","--------","--------","--------","uygun değil","uygun değil",null,43,"Chlorfenvinphos",50,41.157000000000004,3.7046516705353016,82.314000000000007,9.001267513509978,"uygun","uygun",42.101399999999998,2.5031680526884337,84.202799999999996,5.9455696311486879,"uygun","uygun",42.398199999999996,4.1042843103274418,84.796399999999991,9.6803267835130775,"uygun","uygun","--------","--------","--------","--------","uygun değil","uygun değil","--------","--------","--------","--------","uygun değil","uygun değil","--------","--------","--------","--------","uygun değil","uygun değil",{"$nulls":31},43,"Chlorfenvinphos",10,2.2944099999999946E-3,2.8798089999999988E-2,2.0334760000000018E-2,1.2099999999999998E-2,8.2809999999997928E-5,2.8223999999999751E-4,3.8103040000000019E-2,9.0440100000000138E-3,3.1399840000000005E-2,1.9265440000000009E-2,2.6961639999999967E-2,1.7955999999999972E-2,1.0889999999999947E-3,5.0126399999999962E-3,2.1874409999999976E-2,"","","","","","","","","","","","","","","",3.7388089599999993E-2,3.0947846399999989E-2,7.5076000000000018E-2,4.3824400000000048E-3,3.0562032399999991E-2,4.1022451600000023E-2,3.8864179599999993E-2,6.2473215999999995E-3,2.7902361599999988E-2,2.0764810000000002E-2,1.0563728400000019E-2,3.0681025600000033E-2,2.0142144000000026E-3,3.1011210000000011E-2,6.8256787600000021E-2,"","","","","","","","","","","","","","","",2.5000000000016696E-7,2.505889E-2,3.3745689999999988E-2,6.146560000000004E-3,1.3224999999999997E-2,7.8499599999999822E-3,8.468100000000073E-4,1.4957290000000019E-2,1.0692899999999968E-3,1.5600010000000003E-2,1.0562499999999982E-3,6.1553609999999995E-2,7.4092839999999993E-2,2.944655999999999E-2,7.890481000000002E-2,"","","","","","","","","","","","","","","",3.4976480399999989E-2,5.564881E-2,2.7822240000000019E-2,4.0715168399999981E-2,2.5395609600000018E-2,3.5148750400000033E-2,6.6471152399999969E-2,4.9809312399999972E-2,8.504222440000006E-2,3.2993089600000011E-2,1.5952035999999982E-3,1.1930115999999934E-3,1.8572238399999989E-2,3.8340863999999971E-3,2.7667599999999979E-3,"","","","","","","","","","","","","","","",60,1.5358207864,0.15999066568605391,null,43,"Chlorfenvinphos",10,9.5980000000000008,8.7423333333333328,9.2973333333333326,9.5803333333333338,9.8633333333333333,3,5,0.40700000000000003,-0.32533333333333303,2.5396666666666672,1.2036666666666669,1.2866666666666671,-0.48399999999999999,1.5486666666666675,-0.52033333333333331,9.2666666666666231E-2,1.3856666666666673,7.6999999999999957E-2,-1.2233333333333327,-2.019333333333333,-1.2963333333333331,-2.6723333333333334,"","","","","","","","","","","","","","","",9.416266666666667,94.162666666666667,0.54610856666666763,29.05977866666667,10,2.9059778666666669,0,2.9059778666666669,1.7046928951182576,0.18103702406313799,{"$f":"QI53*100","v":18.103702406313797},15,"UYGUN  ","UYGUN  ",0.45884165714292086,null,43,"Chlorfenvinphos",50,43.092666666666673,41.195666666666661,45.771666666666668,42.80866666666666,45.193333333333328,3,5,-2.4436666666666724,-2.9906666666666624,-4.1116666666666717,-2.8976666666666588,-3.1613333333333316,-2.4666666666666757,-4.0866666666666589,-6.9306666666666672,-7.3896666666666633,-4.2753333333333288,4.9103333333333268,7.0773333333333426,11.042333333333332,10.287333333333336,7.4366666666666745,"","","","","","","","","","","","","","","",43.612399999999994,87.224799999999988,10.438869566666684,551.18335933333344,10,55.118335933333341,0,55.118335933333341,7.4241724073012572,0.17023076939818166,17.023076939818164,15,"UYGUN  ","UYGUN  ",0.40569920789855662,0.1757169868446618]
[44,"Chlormephos","GC-MS/MS",142954,139550,null,277323,309243,null,487726,610689,null,1303177,1409305,null,2486336,2661838,null,5090724,5066353,{"$nulls":8},44,"Chlormephos",10,10.074,11.456,11.442,10.009,11.01,11.476000000000001,11.358000000000001,9.6270000000000007,9.9879999999999995,9.9250000000000007,11.109,7.6710000000000003,10.304,9.4269999999999996,8.42,{"$nulls":16},44,"Chlormephos",50,42.314999999999998,47.558999999999997,44.427,45.43,42.164999999999999,41.991,43.234999999999999,51.079000000000001,40.86,52.862000000000002,57.747,54.241999999999997,54.030999999999999,55.573999999999998,47.854999999999997,{"$nulls":16},44,"Chlormephos",10,11.632999999999999,10.423999999999999,10.555999999999999,11.065,11.23,11.464,11.474,11.362,11.218,10.86,9.5660000000000007,10.638,9.093,8.6129999999999995,10.24,{"$nulls":16},44,"Chlormephos",50,48.661000000000001,41.125,48.46,47.252000000000002,44.210999999999999,42.274999999999999,41.908000000000001,43.58,45.45,53.267000000000003,42.582999999999998,48.167999999999999,57.228000000000002,56.066000000000003,52.57,{"$nulls":16},44,"Chlormephos",10,10.7982,0.71402745045271176,107.982,6.6124673598628645,"uygun","uygun",10.474800000000002,0.87184614468379695,104.74800000000002,8.3232724699640741,"uygun","uygun",9.3862000000000005,1.3863183977715816,93.861999999999995,14.76975131332788,"uygun","uygun","--------","--------","--------","--------","uygun değil","uygun değil","--------","--------","--------","--------","uygun değil","uygun değil","--------","--------","--------","--------","uygun değil","uygun değil",null,44,"Chlormephos",50,44.379199999999997,2.2572769435760422,88.758399999999995,5.0863398699752187,"uygun","uygun",46.005400000000002,5.5457200885006586,92.010800000000003,12.054498142610777,"uygun","uygun",53.889800000000001,3.6836569737151161,107.7796,6.8355365462761348,"uygun","uygun","--------","--------","--------","--------","uygun değil","uygun değil","--------","--------","--------","--------","uygun değil","uygun değil","--------","--------","--------","--------","uygun değil","uygun değil",{"$nulls":31},44,"Chlormephos",10,5.4760000000001082E-5,2.1199359999999987E-2,2.079364000000003E-2,8.1000000000022126E-7,1.0200999999999997E-2,2.1785760000000053E-2,1.844164000000004E-2,1.3912899999999916E-3,1.4400000000002158E-6,5.6249999999999267E-5,1.229881E-2,5.4242409999999998E-2,9.2415999999999896E-4,3.2832900000000021E-3,2.496400000000001E-2,"","","","","","","","","","","","","","","",2.3623690000000017E-2,2.3833924000000082E-3,1.24233316E-2,8.3539600000000075E-3,2.455489000000002E-2,2.5657632399999998E-2,1.8306089999999994E-2,4.6569639999999708E-4,3.3415839999999988E-2,3.2764175999999952E-3,2.4006403600000024E-2,7.1978256000000043E-3,6.4995843999999863E-3,1.2427790400000005E-2,1.8404100000000041E-3,"","","","","","","","","","","","","","","",2.6666889999999999E-2,1.7977599999999994E-3,3.0913599999999857E-3,1.1342250000000009E-2,1.5129E-2,2.1432960000000025E-2,2.1726759999999994E-2,1.8550440000000026E-2,1.4835239999999977E-2,7.3959999999999746E-3,1.8835599999999899E-3,4.0704400000000102E-3,8.2264900000000012E-3,1.9237690000000012E-2,5.7600000000000099E-4,"","","","","","","","","","","","","","","",7.1716840000000134E-4,3.150625E-2,9.4863999999999626E-4,3.0206015999999889E-3,1.3405008399999998E-2,2.3870250000000027E-2,2.6192185599999994E-2,1.6486560000000018E-2,8.280999999999995E-3,4.2693155999999942E-3,2.2004755600000009E-2,1.3424896000000005E-3,2.0897593600000007E-2,1.4718542400000022E-2,2.6419600000000113E-3,"","","","","","","","","","","","","","","",60,0.76033673520000022,0.11257121710277455,null,44,"Chlormephos",10,10.887666666666668,10.845333333333334,10.337,10.298666666666668,10.776666666666666,3,5,0.74533333333333118,-0.42133333333333489,0.21899999999999942,0.76633333333333198,0.45333333333333492,0.57633333333333248,0.62866666666666582,1.0250000000000004,0.91933333333333245,8.3333333333333925E-2,-1.3216666666666672,-0.20733333333333448,-1.2439999999999998,-1.685666666666668,-0.53666666666666529,"","","","","","","","","","","","","","","",10.629066666666668,106.2906666666667,0.24742356666666696,10.670716666666667,10,1.0670716666666666,0,1.0670716666666666,1.0329916101627674,9.7185542490036803E-2,9.7185542490036809,15,"UYGUN  ","UYGUN  ",0.13223041536715846,null,44,"Chlormephos",50,44.506333333333338,43.733666666666664,49.756,49.589333333333336,50.015999999999998,3,5,4.1546666666666638,-2.6086666666666645,-1.2959999999999994,-2.3373333333333335,-5.8049999999999997,-2.2313333333333389,-1.8256666666666632,-6.1760000000000019,-4.1393333333333331,3.2510000000000048,-1.9233333333333391,4.4343333333333348,7.4720000000000013,6.4766666666666666,2.554000000000002,"","","","","","","","","","","","","","","",47.520266666666672,95.040533333333343,29.197769233333329,266.72856400000012,10,26.672856400000011,0.8416376111111058,27.514494011111118,5.245426008544122,0.11038292451804679,11.038292451804679,15,"UYGUN  ","UYGUN  ",0.17058146035219543,0.1039937971569448]
[45,"Chlorobenzilate/Chloropropylate","GC-MS/MS",1246231,1228309,null,2975861,2801255,null,6099145,6581830,null,12699015,14990550,null,32138287,31066888,null,68885842,62948746,{"$nulls":8},45,"Chlorobenzilate/Chloropropylate",10,8.5310000000000006,10.7,11.599,7.4880000000000004,9.0990000000000002,9.6790000000000003,11.068,7.71,11.552,10.347,11.847,11.31,9.3879999999999999,8.4559999999999995,7.75,{"$nulls":16},45,"Chlorobenzilate/Chloropropylate",50,45.914000000000001,47.664999999999999,37.570999999999998,53.573,49.003,43.225000000000001,47.640999999999998,53.460999999999999,46.622999999999998,52.607999999999997,43.76,40.588999999999999,44.215000000000003,39.048999999999999,36.723999999999997,{"$nulls":16},45,"Chlorobenzilate/Chloropropylate",10,9.7289999999999992,7.1459999999999999,11.006,10.695,10.375,8.6649999999999991,10.429,8.4019999999999992,9.0020000000000007,10.871,11.051,9.1950000000000003,7.8949999999999996,9.9030000000000005,9.1940000000000008,{"$nulls":16},45,"Chlorobenzilate/Chloropropylate",50,51.941000000000003,44.552999999999997,53.320999999999998,47.540999999999997,51.006,50.390999999999998,48.222000000000001,51.146999999999998,44.97,51.134999999999998,48.933999999999997,43.402000000000001,51.220999999999997,53.265000000000001,37.735999999999997,{"$nulls":16},45,"Chlorobenzilate/Chloropropylate",10,9.4833999999999996,1.6577340860343095,94.834000000000003,17.480377143580462,"uygun","uygun",10.071200000000001,1.4992940672196382,100.712,14.886945619386349,"uygun","uygun",9.7502000000000013,1.7773919657745645,97.50200000000001,18.229287253333922,"uygun","uygun","--------","--------","--------","--------","uygun değil","uygun değil","--------","--------","--------","--------","uygun değil","uygun değil","--------","--------","--------","--------","uygun değil","uygun değil",null,45,"Chlorobenzilate/Chloropropylate",50,46.745199999999997,5.8613007259481522,93.490399999999994,12.538829068969976,"uygun","uygun",48.711599999999997,4.2822291858330042,97.423199999999994,8.7909844592109572,"uygun","uygun",40.867399999999996,3.1672310146246057,81.734799999999993,7.7500183878216031,"uygun","uygun","--------","--------","--------","--------","uygun değil","uygun değil","--------","--------","--------","--------","uygun değil","uygun değil","--------","--------","--------","--------","uygun değil","uygun değil",{"$nulls":31},45,"Chlorobenzilate/Chloropropylate",10,2.1579609999999975E-2,4.8999999999999773E-3,2.5568009999999978E-2,6.3101439999999995E-2,8.1180099999999932E-3,1.0304100000000011E-3,1.1406240000000002E-2,5.2440999999999995E-2,2.4087040000000001E-2,1.2040899999999966E-3,3.4114089999999951E-2,1.7161000000000003E-2,3.745440000000004E-3,2.3839360000000028E-2,5.0624999999999989E-2,"","","","","","","","","","","","","","","",6.6781584000000027E-3,2.1808899999999965E-3,6.1792016400000011E-2,5.1065316000000116E-3,3.9760359999999832E-4,1.8360249999999988E-2,2.2259523999999999E-3,4.7914084000000084E-3,4.5616516000000062E-3,2.7206655999999982E-3,1.5575040000000005E-2,3.5426768400000024E-2,1.338648999999998E-2,4.7969760399999999E-2,7.0500870400000054E-2,"","","","","","","","","","","","","","","",7.3441000000000673E-4,8.1453159999999997E-2,1.0120360000000005E-2,4.830250000000016E-3,1.4062500000000067E-3,1.7822250000000015E-2,1.8404099999999948E-3,2.5536040000000017E-2,9.9600399999999773E-3,7.5864099999999922E-3,1.1046009999999993E-2,6.4802500000000025E-3,4.4310250000000009E-2,9.408999999999866E-5,6.4963599999999832E-3,"","","","","","","","","","","","","","","",1.506992400000006E-3,1.1867923600000009E-2,4.4116163999999899E-3,2.4186724000000112E-3,4.0481439999999659E-4,6.1152399999999039E-5,1.2645135999999947E-3,5.2624359999999817E-4,1.0120360000000005E-2,5.1528999999999735E-4,4.5454240000000024E-4,1.7413441599999992E-2,5.9633639999999443E-4,4.2640899999999886E-3,6.0162278400000026E-2,"","","","","","","","","","","","","","","",60,0.9802996048,0.12782146434252217,null,45,"Chlorobenzilate/Chloropropylate",10,9.8149999999999995,8.9233333333333338,9.1010000000000009,9.8666666666666671,10.146666666666668,3,5,-8.6000000000000298E-2,-1.7773333333333339,1.9049999999999994,0.82833333333333314,0.22833333333333172,-1.1500000000000004,1.5056666666666665,-0.69900000000000162,-0.86466666666666647,0.72433333333333216,1.2360000000000007,0.2716666666666665,-1.2060000000000013,3.6333333333333329E-2,-0.95266666666666744,"","","","","","","","","","","","","","","",9.5705333333333336,95.705333333333328,0.83903843333333372,16.848876000000004,10,1.6848876000000004,0,1.6848876000000004,1.2980322029903575,0.1356279903931189,13.562799039311891,15,"UYGUN  ","UYGUN  ",0.25752932489306335,null,45,"Chlorobenzilate/Chloropropylate",50,50.421999999999997,45.39233333333334,51.896333333333331,48.592000000000006,46.62566666666666,3,5,1.5190000000000055,-0.83933333333334303,1.424666666666667,-1.051000000000009,4.3803333333333399,-3.0999999999998806E-2,2.829666666666661,-0.74933333333333252,-3.622000000000007,4.5093333333333376,-1.4879999999999995,-1.9903333333333393,-0.67533333333333445,4.6729999999999947,-8.8896666666666633,"","","","","","","","","","","","","","","",48.585666666666668,97.171333333333337,21.2787388333333,174.85063200000008,10,17.485063200000006,1.2645585444444312,18.749621744444436,4.3300833415125437,8.9122649509372653E-2,8.9122649509372653,15,"UYGUN  ","UYGUN  ",0.11119985317798674,0.11475582432636358]
[46,"Chloroneb","GC-MS/MS",199338,157976,null,363165,410164,null,734901,873527,null,2279046,2472837,null,4746591,4239017,null,10676596,9561090,{"$nulls":8},46,"Chloroneb",10,9.8369999999999997,11.048999999999999,11.773999999999999,9.5239999999999991,10.436,11.022,11.877000000000001,9.5060000000000002,11.048,10.619,11.249000000000001,8.8390000000000004,10.712,9.5359999999999996,8.6159999999999997,{"$nulls":16},46,"Chloroneb",50,44.051000000000002,47.915999999999997,41.905000000000001,46.058,42.552999999999997,42.521999999999998,44.158000000000001,51.621000000000002,38.643999999999998,52.529000000000003,49.505000000000003,48.301000000000002,47.709000000000003,51.195,41.488999999999997,{"$nulls":16},46,"Chloroneb",10,11.223000000000001,9.5749999999999993,11.108000000000001,11.212999999999999,11.904,10.862,11.946999999999999,10.634,10.868,11.301,10.016999999999999,8.9220000000000006,8.5030000000000001,9.5549999999999997,7.34,{"$nulls":16},46,"Chloroneb",50,52.555999999999997,41.021000000000001,50.322000000000003,46.048999999999999,36.116,43.12,39.146999999999998,48.36,45.786000000000001,54.414000000000001,46.463999999999999,47.197000000000003,53.406999999999996,51.414000000000001,54.69,{"$nulls":16},46,"Chloroneb",10,10.523999999999999,0.91074667169306733,105.24,8.6539972604814466,"uygun","uygun",10.814400000000001,0.86268145917250372,108.14400000000002,7.9771550818584824,"uygun","uygun",9.7904,1.1539017722492679,97.903999999999996,11.786053401794288,"uygun","uygun","--------","--------","--------","--------","uygun değil","uygun değil","--------","--------","--------","--------","uygun değil","uygun değil","--------","--------","--------","--------","uygun değil","uygun değil",null,46,"Chloroneb",50,44.496600000000001,2.4911241036929481,88.993200000000002,5.5984594411549375,"uygun","uygun",45.894800000000004,5.9951716155585943,91.789600000000007,13.062855956575895,"uygun","uygun",47.639800000000001,3.687571450155239,95.279600000000002,7.7405267237797784,"uygun","uygun","--------","--------","--------","--------","uygun değil","uygun değil","--------","--------","--------","--------","uygun değil","uygun değil","--------","--------","--------","--------","uygun değil","uygun değil",{"$nulls":31},46,"Chloroneb",10,2.6568999999999936E-4,1.1004009999999998E-2,3.147076E-2,2.2657600000000081E-3,1.9009600000000073E-3,1.0444840000000014E-2,3.5231289999999992E-2,2.4403599999999999E-3,1.0983040000000001E-2,3.8316100000000083E-3,1.5600010000000003E-2,1.3479209999999995E-2,5.0694399999999902E-3,2.1529599999999998E-3,1.9154560000000022E-2,"","","","","","","","","","","","","","","",1.4156240399999994E-2,1.7372224000000041E-3,2.6211609999999979E-2,6.2157456000000036E-3,2.2183123600000021E-2,2.236819360000001E-2,1.3651585599999986E-2,1.0510564000000074E-3,5.1583494399999992E-2,2.5583364000000071E-3,9.8009999999998189E-5,1.1546404000000008E-3,2.0994723999999973E-3,5.7121000000000157E-4,2.8974848400000013E-2,"","","","","","","","","","","","","","","",1.4957290000000019E-2,1.8062500000000079E-3,1.2276640000000002E-2,1.4713689999999991E-2,3.6252159999999964E-2,7.4304400000000095E-3,3.790808999999995E-2,4.0195600000000158E-3,7.5342399999999976E-3,1.6926010000000026E-2,2.8900000000001184E-6,1.1620839999999978E-2,2.2410089999999983E-2,1.9802499999999985E-3,7.0756000000000013E-2,"","","","","","","","","","","","","","","",2.6132544000000055E-3,3.2248976399999983E-2,4.1473600000000016E-5,6.244160399999997E-3,7.7106182400000015E-2,1.8933760000000015E-2,4.711504360000001E-2,1.0758400000000035E-3,7.1031184000000039E-3,7.7933584000000238E-3,5.0013184000000004E-3,3.1427235999999998E-3,4.6430595999999817E-3,7.9975840000000471E-4,8.7984399999999786E-3,"","","","","","","","","","","","","","","",60,0.84316419720000002,0.1185442390839808,null,46,"Chloroneb",10,10.700666666666669,10.148,10.081666666666667,10.545333333333334,10.181666666666667,3,5,0.52233333333333221,-0.5730000000000004,1.0263333333333335,0.66766666666666552,1.7223333333333333,0.16133333333333155,1.7989999999999995,0.55233333333333334,0.32266666666666666,1.1193333333333335,-0.68366666666666909,-1.2259999999999991,-1.5786666666666669,-0.99033333333333395,-2.8416666666666668,"","","","","","","","","","","","","","","",10.331466666666667,103.31466666666667,0.22541076666666779,23.509748666666667,10,2.3509748666666668,0,2.3509748666666668,1.5332889051534504,0.14840960675026299,14.840960675026299,15,"UYGUN  ","UYGUN  ",0.30835575926074787,null,46,"Chloroneb",50,47.379999999999995,42.455000000000005,50.696333333333335,47.749666666666677,48.406666666666666,3,5,5.1760000000000019,-1.4340000000000046,-0.37433333333333252,-1.7006666666666774,-12.290666666666667,-4.259999999999998,-3.3080000000000069,-2.3363333333333358,-1.9636666666666756,6.0073333333333352,-0.91599999999999682,4.7419999999999973,2.7106666666666612,3.6643333333333246,6.2833333333333314,"","","","","","","","","","","","","","","",47.33753333333334,94.67506666666668,27.326529433333313,341.01411999999999,10,34.101411999999996,0,34.101411999999996,5.8396414273480861,0.12336176002723882,12.336176002723882,15,"UYGUN  ","UYGUN  ",0.21305373371825281,0.13646159755181267]
[47,"CHLOROTHALONIL","GC-MS/MS",1779002,1672709,null,3851449,4195037,null,6478322,7079228,null,19160470,21096380,null,36997948,38725021,null,76431234,74528559,{"$nulls":8},47,"CHLOROTHALONIL",10,9.3960000000000008,11.37,11.319000000000001,8.4459999999999997,9.2070000000000007,10.172000000000001,10.925000000000001,8.6560000000000006,9.7729999999999997,11.648,11.717000000000001,10.944000000000001,11.711,10.752000000000001,10.548999999999999,{"$nulls":16},47,"Chlorothalonil",50,53.448999999999998,58.655999999999999,46.683999999999997,56.984000000000002,52.77,40.149000000000001,49.731000000000002,54.127000000000002,47.796999999999997,50.912999999999997,53.468000000000004,58.505000000000003,52.064,56.941000000000003,40.585000000000001,{"$nulls":16},47,"CHLOROTHALONIL",10,8.1959999999999997,7.282,8.6449999999999996,8.1579999999999995,8.1110000000000007,7.5380000000000003,7.9340000000000002,7.0839999999999996,7.1289999999999996,7.9930000000000003,9.0980000000000008,8.3699999999999992,7.8949999999999996,7.8040000000000003,11.07,{"$nulls":16},47,"CHLOROTHALONIL",50,40.529000000000003,35.168999999999997,37.978999999999999,37.680999999999997,46.052999999999997,43.369,35.712000000000003,41.15,35.97,35.72,41.658000000000001,41.817999999999998,46.05,51.682000000000002,44.21,{"$nulls":16},47,"CHLOROTHALONIL",10,9.9475999999999996,1.32396310371551,99.475999999999999,13.30937214720646,"uygun","uygun",10.234799999999998,1.138345597786542,102.34799999999997,11.122304273523099,"uygun","uygun",11.134600000000001,0.54705237409228036,111.34600000000002,4.913085104918725,"uygun","uygun","--------","--------","--------","--------","uygun değil","uygun değil","--------","--------","--------","--------","uygun değil","uygun değil","--------","--------","--------","--------","uygun değil","uygun değil",null,47,"CHLOROTHALONIL",50,53.708600000000004,4.6232666806058251,107.41720000000001,8.6080565879688269,"uygun","uygun",48.543399999999998,5.2255394745423178,97.086799999999997,10.764675475023006,"uygun","uygun",52.312599999999996,7.048071672450563,104.62519999999999,13.472990584391836,"uygun","uygun","--------","--------","--------","--------","uygun değil","uygun değil","--------","--------","--------","--------","uygun değil","uygun değil","--------","--------","--------","--------","uygun değil","uygun değil",{"$nulls":31},47,"CHLOROTHALONIL",10,3.6481599999999875E-3,1.8769000000000004E-2,1.7397610000000036E-2,2.4149159999999996E-2,6.2884899999999886E-3,2.9584000000000359E-4,8.5562500000000048E-3,1.806335999999999E-2,5.1529000000000245E-4,2.715904000000002E-2,2.9480889999999989E-2,8.9113600000000071E-3,2.927521000000001E-2,5.6550400000000235E-3,3.0140099999999945E-3,"","","","","","","","","","","","","","","",4.7582404000000057E-3,2.9970534399999981E-2,4.3983424000000057E-3,1.9510502400000008E-2,3.069160000000013E-3,3.881688039999999E-2,2.894439999999936E-5,6.8128516000000097E-3,1.9412836000000087E-3,3.3342759999999789E-4,4.8108096000000124E-3,2.8934010000000048E-2,1.7040383999999986E-3,1.9270992399999985E-2,3.5456890000000012E-2,"","","","","","","","","","","","","","","",3.2544160000000003E-2,7.3875240000000023E-2,1.8360250000000019E-2,3.3929640000000011E-2,3.5683209999999986E-2,6.0614439999999985E-2,4.2683560000000002E-2,8.5030560000000047E-2,8.2426410000000019E-2,4.0280489999999995E-2,8.1360399999999902E-3,2.6569000000000009E-2,4.4310250000000009E-2,4.8224160000000009E-2,1.1448999999999997E-2,"","","","","","","","","","","","","","","",3.5879936399999972E-2,8.7983424400000065E-2,5.7801776399999984E-2,6.070310440000002E-2,6.231523600000002E-3,1.7588064399999988E-2,8.165877759999994E-2,3.1329000000000017E-2,7.8736360000000047E-2,8.1567360000000047E-2,2.7835585599999997E-2,2.6778049600000003E-2,6.2410000000000113E-3,1.1316496000000078E-3,1.3409640000000004E-2,"","","","","","","","","","","","","","","",60,1.6599872796000001,0.16633236203457222,null,47,"CHLOROTHALONIL",10,8.277333333333333,7.8619999999999992,7.8746666666666663,7.6970000000000001,9.0579999999999998,3,5,-8.1333333333333258E-2,-0.57999999999999918,0.77033333333333331,0.46099999999999941,-0.94699999999999918,-0.73933333333333273,7.2000000000000952E-2,-0.79066666666666663,-0.5680000000000005,-1.0649999999999995,0.82066666666666777,0.50800000000000001,2.0333333333333314E-2,0.10700000000000021,2.0120000000000005,"","","","","","","","","","","","","","","",8.1538000000000004,81.537999999999997,0.90342526666666689,9.671123333333334,10,0.96711233333333335,0,0.96711233333333335,0.98341869685975225,0.12060863607885308,12.060863607885308,15,"UYGUN  ","UYGUN  ",0.20365020335521708,null,47,"CHLOROTHALONIL",50,41.851999999999997,37.566333333333333,41.726333333333329,41.777666666666669,41.994333333333337,3,5,-1.3229999999999933,-2.3973333333333358,-3.7473333333333301,-4.0966666666666711,4.0586666666666602,1.517000000000003,-1.8543333333333294,-0.5763333333333307,-5.8076666666666696,-6.2743333333333382,-0.19399999999999551,4.2516666666666652,4.3236666666666679,9.9043333333333337,2.2156666666666638,"","","","","","","","","","","","","","","",40.983333333333334,81.966666666666669,10.97670466666667,273.77714466666669,10,27.377714466666667,0,27.377714466666667,5.2323717821525895,0.12767072262267401,12.767072262267401,15,"UYGUN  ","UYGUN  ",0.22819738780994073,0.12418988789711702]
[48,"Chlorpropham","GC-MS/MS",574291,601644,null,1920186,1824229,null,3208505,3525755,null,10485695,10289583,null,19696373,18602425,null,37615617,35738480,{"$nulls":8},48,"Chlorpropham",10,9.2089999999999996,10.826000000000001,11.340999999999999,8.4559999999999995,9.9499999999999993,10.079000000000001,11.025,8.74,11.313000000000001,11.9,11.045,8.4049999999999994,9.1140000000000008,8.5030000000000001,8.36,{"$nulls":16},48,"Chlorpropham",50,46.502000000000002,46.43,40.917999999999999,50.110999999999997,40.841999999999999,41.246000000000002,44.371000000000002,53.466000000000001,39.511000000000003,49.600999999999999,42.23,41.17,42.862000000000002,42.106000000000002,41.786999999999999,{"$nulls":16},48,"Chlorpropham",10,10.173999999999999,8.7840000000000007,11.247999999999999,11.502000000000001,11.355,10.220000000000001,11.483000000000001,9.4440000000000008,9.75,11.257,11.246,11.119,8.7680000000000007,11.206,11.518000000000001,{"$nulls":16},48,"Chlorpropham",50,51.371000000000002,39.165999999999997,49.127000000000002,41.8,40.954000000000001,44.064,40.000999999999998,48.823,42.857999999999997,50.164999999999999,52.981000000000002,46.978000000000002,55.033000000000001,57.985999999999997,44.991999999999997,{"$nulls":16},48,"Chlorpropham",10,9.9563999999999986,1.1708083959384787,99.563999999999993,11.759354746077689,"uygun","uygun",10.6114,1.23585852750224,106.114,11.6465172126415,"uygun","uygun",9.0853999999999999,1.1367925492366675,90.853999999999999,12.512300495703741,"uygun","uygun","--------","--------","--------","--------","uygun değil","uygun değil","--------","--------","--------","--------","uygun değil","uygun değil","--------","--------","--------","--------","uygun değil","uygun değil",null,48,"Chlorpropham",50,44.960599999999999,4.011457066952107,89.921199999999999,8.9221608852019472,"uygun","uygun",45.638999999999996,5.8184626405949986,91.277999999999992,12.748882842733186,"uygun","uygun",42.030999999999999,0.619807228095962,84.061999999999998,1.4746430684398706,"uygun","uygun","--------","--------","--------","--------","uygun değil","uygun değil","--------","--------","--------","--------","uygun değil","uygun değil","--------","--------","--------","--------","uygun değil","uygun değil",{"$nulls":31},48,"Chlorpropham",10,6.2568100000000093E-3,6.8227600000000015E-3,1.7982809999999971E-2,2.3839360000000028E-2,2.5000000000001153E-5,6.2410000000000292E-5,1.0506250000000007E-2,1.5876000000000001E-2,1.7239689999999992E-2,3.6099999999999979E-2,1.0920250000000008E-2,2.5440250000000029E-2,7.8499599999999822E-3,2.2410089999999983E-2,2.689600000000001E-2,"","","","","","","","","","","","","","","",4.8944015999999877E-3,5.0979600000000029E-3,3.2993089600000011E-2,4.9283999999995063E-6,3.3547585599999999E-2,3.0653006399999967E-2,1.2674256399999978E-2,4.8052624000000065E-3,4.4007648399999988E-2,6.3680399999999798E-5,2.4149160000000031E-2,3.1187559999999993E-2,2.0380417599999999E-2,2.4926094400000008E-2,2.6981347600000025E-2,"","","","","","","","","","","","","","","",3.0275999999999513E-4,1.4786559999999983E-2,1.5575040000000005E-2,2.2560040000000035E-2,1.8360249999999988E-2,4.8400000000000087E-4,2.1992890000000029E-2,3.0913599999999857E-3,6.250000000000011E-4,1.580048999999998E-2,1.5525160000000012E-2,1.2521609999999975E-2,1.5178239999999994E-2,1.454436000000001E-2,2.3043240000000048E-2,"","","","","","","","","","","","","","","",7.5185639999999999E-4,4.695022240000004E-2,3.0485159999999719E-4,2.689600000000001E-2,3.2732046399999992E-2,1.4094438400000011E-2,3.9992000400000019E-2,5.5413160000000023E-4,2.0403265600000022E-2,1.0890000000000533E-5,3.5545444000000008E-3,3.6529935999999926E-3,1.0132435599999995E-2,2.5510478399999956E-2,1.0032025600000005E-2,"","","","","","","","","","","","","","","",60,0.95455721920000003,0.12613202205097113,null,48,"Chlorpropham",10,10.546666666666667,10.462000000000002,9.82,10.819333333333333,11.376666666666667,3,5,-0.37266666666666737,-1.6780000000000008,1.427999999999999,0.68266666666666787,-2.1666666666666501E-2,-0.32666666666666622,1.020999999999999,-0.37599999999999945,-1.0693333333333328,-0.11966666666666725,0.69933333333333358,0.65699999999999825,-1.0519999999999996,0.38666666666666671,0.14133333333333375,"","","","","","","","","","","","","","","",10.604933333333333,106.04933333333332,0.96111373333333283,10.105479999999998,10,1.0105479999999998,0,1.0105479999999998,1.0052601653303486,9.4791747739764065E-2,9.479174773976407,15,"UYGUN  ","UYGUN  ",0.12579665615382693,null,48,"Chlorpropham",50,49.472000000000001,42.048333333333339,50.994333333333337,47.547999999999995,45.370333333333328,3,5,1.8990000000000009,-2.8823333333333423,-1.8673333333333346,-5.7479999999999976,-4.416333333333327,-5.4080000000000013,-2.0473333333333414,-2.1713333333333367,-4.6899999999999977,4.7946666666666715,3.5090000000000003,4.9296666666666624,4.0386666666666642,10.438000000000002,-0.3783333333333303,"","","","","","","","","","","","","","","",47.086599999999997,94.173199999999994,37.127328899999995,313.10264200000006,10,31.310264200000006,1.939021566666663,33.249285766666667,5.7662193651184195,0.12245987956485327,12.245987956485326,15,"UYGUN  ","UYGUN  ",0.20994990944253714,0.10950319069003751]
[49,"CHLORPYRIFOS","GC-MS/MS",11608581,10608346,null,23558188,26942925,null,43518720,49427304,null,131181709,153344624,null,278086574,255644821,null,579653685,564100819,{"$nulls":8},49,"CHLORPYRIFOS",10,9.4730000000000008,11.054,11.635,9.2409999999999997,9.81,10.64,11.355,9.4369999999999994,11.461,11.872,10.625999999999999,10.234,9.74,8.51,8.0090000000000003,{"$nulls":16},49,"Chlorpyrifos",50,45.926000000000002,47.029000000000003,39.625,50.494,43.454000000000001,40.24,44.688000000000002,50.637,41.722000000000001,48.274999999999999,53.222999999999999,47.466999999999999,54.095999999999997,47.091000000000001,41.256,{"$nulls":16},49,"CHLORPYRIFOS",10,10.69,9.2629999999999999,11.983000000000001,11.516,11.414,9.9730000000000008,11.195,10.071999999999999,9.8179999999999996,11.951000000000001,10.170999999999999,8.5820000000000007,7.9779999999999998,9.1769999999999996,7.2539999999999996,{"$nulls":16},49,"CHLORPYRIFOS",50,48.131999999999998,42.262,48.953000000000003,40.709000000000003,43.445,42.945999999999998,39.807000000000002,49.363999999999997,42.948,49.517000000000003,47.978999999999999,47.463999999999999,56.164000000000001,53.838000000000001,53.88,{"$nulls":16},49,"CHLORPYRIFOS",10,10.242599999999999,1.0463958619948761,102.42599999999999,10.216115654178394,"uygun","uygun",10.952999999999999,0.95661564904615715,109.53,8.7338231447654255,"uygun","uygun",9.4238,1.1223168892964264,94.238,11.909387819100855,"uygun","uygun","--------","--------","--------","--------","uygun değil","uygun değil","--------","--------","--------","--------","uygun değil","uygun değil","--------","--------","--------","--------","uygun değil","uygun değil",null,49,"CHLORPYRIFOS",50,45.305600000000005,4.0611616934074419,90.611200000000011,8.9639287271494954,"uygun","uygun",45.112400000000001,4.3571336105288294,90.224800000000002,9.6583946110799452,"uygun","uygun",48.626600000000003,5.2218223160119104,97.253200000000007,10.738612849781621,"uygun","uygun","--------","--------","--------","--------","uygun değil","uygun değil","--------","--------","--------","--------","uygun değil","uygun değil","--------","--------","--------","--------","uygun değil","uygun değil",{"$nulls":31},49,"CHLORPYRIFOS",10,2.7772899999999969E-3,1.1109159999999988E-2,2.6732249999999992E-2,5.760810000000012E-3,3.6099999999999641E-4,4.0960000000000076E-3,1.8360249999999988E-2,3.1696900000000019E-3,2.1345210000000035E-2,3.5043840000000014E-2,3.9187599999999986E-3,5.4756000000000412E-4,6.7600000000000125E-4,2.2201000000000005E-2,3.9640809999999978E-2,"","","","","","","","","","","","","","","",6.6389903999999993E-3,3.5307363999999902E-3,4.3056250000000004E-2,9.761439999999781E-5,1.7140046400000008E-2,3.810303999999997E-2,1.12869376E-2,1.6230759999999933E-4,2.7410113599999977E-2,1.1902499999999984E-3,4.1550915999999946E-3,2.5664356000000038E-3,6.7108863999999985E-3,3.3849124000000009E-3,3.0583014400000011E-2,"","","","","","","","","","","","","","","",4.7609999999999935E-3,5.4316899999999986E-3,3.9322890000000055E-2,2.2982559999999989E-2,1.9993959999999991E-2,7.2899999999995931E-6,1.4280249999999986E-2,5.1839999999998176E-5,3.3123999999999979E-4,3.8064010000000023E-2,2.9240999999999637E-4,2.0107239999999978E-2,4.0884840000000019E-2,6.7732900000000065E-3,7.540516000000004E-2,"","","","","","","","","","","","","","","",1.3957696000000044E-3,2.3950657600000001E-2,4.3848359999999829E-4,3.4529072399999992E-2,1.7187209999999998E-2,1.9903566400000027E-2,4.155889959999997E-2,1.6179840000000165E-4,1.9892281599999985E-2,9.3315599999997897E-5,1.633776400000001E-3,2.5725183999999986E-3,1.5197958400000013E-2,5.8920975999999904E-3,6.0217600000000175E-3,"","","","","","","","","","","","","","","",60,0.87087509240000005,0.12047649095708812,null,49,"CHLORPYRIFOS",10,10.278,9.68,10.011000000000001,10.170333333333334,10.206333333333333,3,5,0.41199999999999903,-0.41699999999999982,1.9719999999999995,1.3456666666666663,1.2076666666666664,-0.30499999999999972,1.5150000000000006,6.0999999999998167E-2,-0.35233333333333405,1.7446666666666673,-0.10700000000000109,-1.097999999999999,-2.0330000000000013,-0.99333333333333407,-2.9523333333333337,"","","","","","","","","","","","","","","",10.069133333333333,100.69133333333333,0.17062110000000028,28.11479133333334,10,2.811479133333334,0,2.811479133333334,1.6767465918657278,0.16652342722634797,16.652342722634796,15,"UYGUN  ","UYGUN  ",0.3882207254129233,null,49,"CHLORPYRIFOS",50,46.352333333333341,43.177666666666674,51.493666666666662,45.831666666666671,48.94733333333334,3,5,1.7796666666666567,-0.91566666666667373,-2.5406666666666595,-5.1226666666666674,-5.5023333333333397,-3.4063333333333432,-3.370666666666672,-2.1296666666666653,-2.8836666666666702,0.56966666666666299,1.626666666666658,4.2863333333333244,4.670333333333339,8.0063333333333304,4.9326666666666625,"","","","","","","","","","","","","","","",47.160533333333341,94.321066666666681,30.188249599999928,234.3813513333333,10,23.438135133333329,2.2500381555555329,25.688173288888862,5.0683501545265068,0.10747016194034785,10.747016194034785,15,"UYGUN  ","UYGUN  ",0.16169769990478428,0.14014258368300014]
[50,"CHLORPYRIFOS-METHYL","GC-MS/MS",1051349,1108595,null,3245603,3340862,null,5329096,5876501,null,16851455,16854131,null,33351350,30178808,null,64468932,54630733,{"$nulls":8},50,"CHLORPYRIFOS-METHYL",10,10.151999999999999,11.734999999999999,11.24,9.6620000000000008,9.9359999999999999,10.489000000000001,11.198,8.5359999999999996,11.259,11.436999999999999,11.807,9.0830000000000002,9.5830000000000002,8.3699999999999992,7.5170000000000003,{"$nulls":16},50,"Chlorpyrifos-methyl",50,45.481999999999999,46.45,39.533000000000001,49.371000000000002,41.066000000000003,40.707000000000001,42.216999999999999,49.093000000000004,37.506999999999998,48.96,46.625,43.661999999999999,49.948,44.256999999999998,39.286999999999999,{"$nulls":16},50,"CHLORPYRIFOS-METHYL",10,11.148999999999999,9.2210000000000001,11.316000000000001,10.757999999999999,11.625999999999999,9.8460000000000001,11.407,10.013,9.8919999999999995,11.872999999999999,11.617000000000001,10.321,9.6690000000000005,11.996,10.839,{"$nulls":16},50,"CHLORPYRIFOS-METHYL",50,46.206000000000003,35.588999999999999,45.350999999999999,37.956000000000003,39.762999999999998,40.212000000000003,35.15,46.195999999999998,37.494999999999997,46.837000000000003,52.991,48.573,55.816000000000003,56.652999999999999,43.869,{"$nulls":16},50,"CHLORPYRIFOS-METHYL",10,10.545,0.89500614523029931,105.45,8.4874930794717809,"uygun","uygun",10.5838,1.2003706510907428,105.83800000000001,11.341584790819393,"uygun","uygun",9.2720000000000002,1.6165005412928253,92.72,17.434216364245312,"uygun","uygun","--------","--------","--------","--------","uygun değil","uygun değil","--------","--------","--------","--------","uygun değil","uygun değil","--------","--------","--------","--------","uygun değil","uygun değil",null,50,"CHLORPYRIFOS-METHYL",50,44.380400000000002,4.0275733761161945,88.760800000000003,9.0751173403488803,"uygun","uygun",43.696800000000003,5.1541872492178795,87.393600000000006,11.795342563340746,"uygun","uygun",44.755800000000008,3.9308339700374022,89.511600000000016,8.7828481895919666,"uygun","uygun","--------","--------","--------","--------","uygun değil","uygun değil","--------","--------","--------","--------","uygun değil","uygun değil","--------","--------","--------","--------","uygun değil","uygun değil",{"$nulls":31},50,"CHLORPYRIFOS-METHYL",10,2.3103999999999635E-4,3.0102249999999997E-2,1.5376000000000027E-2,1.1424399999999961E-3,4.0959999999999506E-5,2.391210000000016E-3,1.4352040000000031E-2,2.1432960000000025E-2,1.5850810000000031E-2,2.0649689999999981E-2,3.2652490000000027E-2,8.4088900000000005E-3,1.7388899999999966E-3,2.6569000000000009E-2,6.1652889999999981E-2,"","","","","","","","","","","","","","","",8.1649295999999989E-3,5.0409999999999934E-3,4.3823235599999989E-2,1.5825639999999811E-4,3.192654239999998E-2,3.4543939600000011E-2,2.4230035600000005E-2,3.2905959999999758E-4,6.2430019600000039E-2,4.3263999999999705E-4,4.5562500000000004E-3,1.6068097599999998E-2,1.0816000000000851E-6,1.3192819600000016E-2,4.5907347600000002E-2,"","","","","","","","","","","","","","","",1.320201E-2,6.0684099999999954E-3,1.7318560000000042E-2,5.7456399999999798E-3,2.6438759999999954E-2,2.3715999999999906E-4,1.9796490000000014E-2,1.6900000000002051E-6,1.1664000000000069E-4,3.5081290000000008E-2,2.6146890000000058E-2,1.0304100000000011E-3,1.0956099999999938E-3,3.9840159999999999E-2,7.0392100000000145E-3,"","","","","","","","","","","","","","","",5.7577743999999917E-3,8.3070768400000022E-2,8.6452804000000123E-3,5.8023174399999995E-2,4.1918467600000016E-2,3.8321977599999973E-2,8.8209000000000024E-2,5.7881664000000053E-3,6.2550010000000045E-2,4.0018275999999979E-3,3.5784323999999983E-3,8.145316000000006E-4,1.3530342399999996E-2,1.7704963599999988E-2,1.5035664399999989E-2,"","","","","","","","","","","","","","","",60,1.1895061260000006,0.14080164097055123,null,50,"CHLORPYRIFOS-METHYL",10,10.870666666666665,10.316333333333333,10.332666666666666,10.882,11.446,3,5,0.27833333333333421,-1.0953333333333326,0.98333333333333428,-0.12400000000000055,0.17999999999999972,-1.0246666666666648,1.0906666666666673,-0.31966666666666654,-0.99000000000000021,0.4269999999999996,0.74633333333333596,4.6666666666670409E-3,-0.66366666666666596,1.1140000000000008,-0.60699999999999932,"","","","","","","","","","","","","","","",10.769533333333332,107.69533333333332,0.6575449333333333,8.4029900000000026,10,0.84029900000000024,0,0.84029900000000024,0.91667824235115358,8.5117731101114286E-2,8.5117731101114291,15,"UYGUN  ","UYGUN  ",0.10143039406922237,null,50,"CHLORPYRIFOS-METHYL",50,46.469666666666662,39.770666666666671,49.121000000000002,44.034666666666659,43.489666666666665,3,5,-0.2636666666666585,-4.181666666666672,-3.7700000000000031,-6.0786666666666562,-3.7266666666666666,-6.2576666666666583,-4.620666666666672,-2.9250000000000043,-6.5396666666666619,3.3473333333333386,6.5213333333333381,8.8023333333333298,6.6950000000000003,12.618333333333339,0.37933333333333508,"","","","","","","","","","","","","","","",44.577133333333329,89.154266666666658,36.605536766666646,529.84156266666673,10,52.984156266666673,0,52.984156266666673,7.2790216558729011,0.16329048351859551,5.24,15,"UYGUN  ","UYGUN  ",0.37329294810831398,0.13020908216314694]
[51,"Chlorthal-dimethyl","GC-MS/MS",491399,481948,null,1120472,1369080,null,2362794,2409249,null,6350950,6882630,null,13252031,13327314,null,25947737,25981301,{"$nulls":8},51,"Chlorthal-dimethyl",10,9.9740000000000002,10.032,11.537000000000001,9.6839999999999993,10.164,11.606,11.337999999999999,10.688000000000001,10.443,11.513999999999999,9.6660000000000004,10.645,10.589,9.5649999999999995,9.7710000000000008,{"$nulls":16},51,"Chlorthal-dimethyl",50,51.807000000000002,49.957000000000001,53.250999999999998,51.837000000000003,45.296999999999997,55.546999999999997,46.695999999999998,54.524999999999999,45.863,40.838999999999999,51.98,53.634999999999998,49.762999999999998,51.548999999999999,43.12,{"$nulls":16},51,"Chlorthal-dimethyl",10,11.638,10.067,10.016,10.342000000000001,10.374000000000001,9.9489999999999998,8.4860000000000007,8.1430000000000007,9.75,7.2249999999999996,10.875,9.3239999999999998,7.3140000000000001,9.2759999999999998,7.5129999999999999,{"$nulls":16},51,"Chlorthal-dimethyl",50,48.59,46.636000000000003,52.988999999999997,50.027000000000001,36.590000000000003,54.296999999999997,47.817999999999998,56.853999999999999,58.883000000000003,45.082999999999998,49.795999999999999,47.079000000000001,55.323,55.859000000000002,35.625,{"$nulls":16},51,"Chlorthal-dimethyl",10,{"$f":"IFERROR(AVERAGE(AF61:AJ61),\"--------\")","v":10.2782},{"$f":"IFERROR(_xlfn.STDEV.S(AF61:AJ61),\"--------\")","v":0.72523182500494332},{"$f":"IFERROR(FL61/$FK$11*100,\"--------\")","v":102.782},{"$f":"IFERROR(FM61/FL61*100,\"--------\")","v":7.0560197797760624},{"$f":"IF(FN61<70,\"uygun değil\",IF(FN61>120,\"uygun değil\",\"uygun\"))","v":"uygun"},{"$f":"IF(FO61<0,\"uygun değil\",IF(FO61<20,\"uygun\",\"uygun değil\"))","v":"uygun"},{"$f":"IFERROR(AVERAGE(AK61:AO61),\"--------\")","v":11.117799999999999},{"$f":"IFERROR(_xlfn.STDEV.S(AK61:AO61),\"--------\")","v":0.52054894102283955},{"$f":"IFERROR(FR61/$FK61*100,\"--------\")","v":111.178},{"$f":"IFERROR(FS61/FR61*100,\"--------\")","v":4.6821218318627746},{"$f":"IF(FT61<70,\"uygun değil\",IF(FT61>120,\"uygun değil\",\"uygun\"))","v":"uygun"},{"$f":"IF(FU61<0,\"uygun değil\",IF(FU61<20,\"uygun\",\"uygun değil\"))","v":"uygun"},{"$f":"IFERROR(AVERAGE(AP61:AT61),\"--------\")","v":10.0472},{"$f":"IFERROR(_xlfn.STDEV.S(AP61:AT61),\"--------\")","v":0.52560175037760282},{"$f":"IFERROR(FX61/$FK61*100,\"--------\")","v":100.47200000000001},{"$f":"IFERROR(FY61/FX61*100,\"--------\")","v":5.2313256467234934},{"$f":"IF(FZ61<70,\"uygun değil\",IF(FZ61>120,\"uygun değil\",\"uygun\"))","v":"uygun"},{"$f":"IF(GA61<0,\"uygun değil\",IF(GA61<20,\"uygun\",\"uygun değil\"))","v":"uygun"},{"$f":"IFERROR(AVERAGE(AU61:AY61),\"--------\")","v":"--------"},{"$f":"IFERROR(_xlfn.STDEV.S(AU61:AY61),\"--------\")","v":"--------"},{"$f":"IFERROR(GD61/$FK61*100,\"--------\")","v":"--------"},{"$f":"IFERROR(GE61/GD61*100,\"--------\")","v":"--------"},{"$f":"IF(GF61<70,\"uygun değil\",IF(GF61>120,\"uygun değil\",\"uygun\"))","v":"uygun değil"},{"$f":"IF(GG61<0,\"uygun değil\",IF(GG61<20,\"uygun\",\"uygun değil\"))","v":"uygun değil"},{"$f":"IFERROR(AVERAGE(AZ61:BD61),\"--------\")","v":"--------"},{"$f":"IFERROR(_xlfn.STDEV.S(AZ61:BD61),\"--------\")","v":"--------"},{"$f":"IFERROR(GJ61/$FK61*100,\"--------\")","v":"--------"},{"$f":"IFERROR(GK61/GJ61*100,\"--------\")","v":"--------"},{"$f":"IF(GL61<70,\"uygun değil\",IF(GL61>120,\"uygun değil\",\"uygun\"))","v":"uygun değil"},{"$f":"IF(GM61<0,\"uygun değil\",IF(GM61<20,\"uygun\",\"uygun değil\"))","v":"uygun değil"},{"$f":"IFERROR(AVERAGE(BE61:BI61),\"--------\")","v":"--------"},{"$f":"IFERROR(_xlfn.STDEV.S(BE61:BI61),\"--------\")","v":"--------"},{"$f":"IFERROR(GP61/$FK61*100,\"--------\")","v":"--------"},{"$f":"IFERROR(GQ61/GP61*100,\"--------\")","v":"--------"},{"$f":"IF(GR61<70,\"uygun değil\",IF(GR61>120,\"uygun değil\",\"uygun\"))","v":"uygun değil"},{"$f":"IF(GS61<0,\"uygun değil\",IF(GS61<20,\"uygun\",\"uygun değil\"))","v":"uygun değil"},null,50,"Chlorthal-dimethyl",50,{"$f":"IFERROR(AVERAGE(BN61:BR61),\"--------\")","v":50.429800000000007},{"$f":"IFERROR(_xlfn.STDEV.S(BN61:BR61),\"--------\")","v":3.0985979410049325},{"$f":"IFERROR(GZ61/$GY61*100,\"--------\")","v":100.8596},{"$f":"IFERROR(HA61/GZ61*100,\"--------\")","v":6.1443788018293395},{"$f":"IF(HB61<70,\"uygun değil\",IF(HB61>120,\"uygun değil\",\"uygun\"))","v":"uygun"},{"$f":"IF(HC61<0,\"uygun değil\",IF(HC61<20,\"uygun\",\"uygun değil\"))","v":"uygun"},{"$f":"IFERROR(AVERAGE(BS61:BW61),\"--------\")","v":48.694000000000003},{"$f":"IFERROR(_xlfn.STDEV.S(BS61:BW61),\"--------\")","v":6.2183550879633609},{"$f":"IFERROR(HF61/$GY61*100,\"--------\")","v":97.388000000000005},{"$f":"IFERROR(HG61/HF61*100,\"--------\")","v":12.770269618358238},{"$f":"IF(HH61<70,\"uygun değil\",IF(HH61>120,\"uygun değil\",\"uygun\"))","v":"uygun"},{"$f":"IF(HI61<0,\"uygun değil\",IF(HI61<20,\"uygun\",\"uygun değil\"))","v":"uygun"},{"$f":"IFERROR(AVERAGE(BX61:CB61),\"--------\")","v":50.009399999999999},{"$f":"IFERROR(_xlfn.STDEV.S(BX61:CB61),\"--------\")","v":4.0903286298291484},{"$f":"IFERROR(HL61/$GY61*100,\"--------\")","v":100.01880000000001},{"$f":"IFERROR(HM61/HL61*100,\"--------\")","v":8.1791195851762843},{"$f":"IF(HN61<70,\"uygun değil\",IF(HN61>120,\"uygun değil\",\"uygun\"))","v":"uygun"},{"$f":"IF(HO61<0,\"uygun değil\",IF(HO61<20,\"uygun\",\"uygun değil\"))","v":"uygun"},{"$f":"IFERROR(AVERAGE(CC61:CG61),\"--------\")","v":"--------"},{"$f":"IFERROR(_xlfn.STDEV.S(CC61:CG61),\"--------\")","v":"--------"},{"$f":"IFERROR(HR61/$GY61*100,\"--------\")","v":"--------"},{"$f":"IFERROR(HS61/HR61*100,\"--------\")","v":"--------"},{"$f":"IF(HT61<70,\"uygun değil\",IF(HT61>120,\"uygun değil\",\"uygun\"))","v":"uygun değil"},{"$f":"IF(HU61<0,\"uygun değil\",IF(HU61<20,\"uygun\",\"uygun değil\"))","v":"uygun değil"},{"$f":"IFERROR(AVERAGE(CH61:CL61),\"--------\")","v":"--------"},{"$f":"IFERROR(_xlfn.STDEV.S(CH61:CL61),\"--------\")","v":"--------"},{"$f":"IFERROR(HX61/$GY61*100,\"--------\")","v":"--------"},{"$f":"IFERROR(HY61/HX61*100,\"--------\")","v":"--------"},{"$f":"IF(HZ61<70,\"uygun değil\",IF(HZ61>120,\"uygun değil\",\"uygun\"))","v":"uygun değil"},{"$f":"IF(IA61<0,\"uygun değil\",IF(IA61<20,\"uygun\",\"uygun değil\"))","v":"uygun değil"},{"$f":"IFERROR(AVERAGE(CM61:CQ61),\"--------\")","v":"--------"},{"$f":"IFERROR(_xlfn.STDEV.S(CM61:CQ61),\"--------\")","v":"--------"},{"$f":"IFERROR(ID61/$GY61*100,\"--------\")","v":"--------"},{"$f":"IFERROR(IE61/ID61*100,\"--------\")","v":"--------"},{"$f":"IF(IF61<70,\"uygun değil\",IF(IF61>120,\"uygun değil\",\"uygun\"))","v":"uygun değil"},{"$f":"IF(IG61<0,\"uygun değil\",IF(IG61<20,\"uygun\",\"uygun değil\"))","v":"uygun değil"},{"$nulls":31},50,"Chlorthal-dimethyl",10,{"$f":"IF((((AF61/($AE61))-1)^2)=1,\"\",(((AF61/($AE61))-1)^2))","v":6.7599999999996659E-6},{"$f":"IF((((AG61/($AE61))-1)^2)=1,\"\",(((AG61/($AE61))-1)^2))","v":1.0240000000000586E-5},{"$f":"IF((((AH61/($AE61))-1)^2)=1,\"\",(((AH61/($AE61))-1)^2))","v":2.3623690000000051E-2},{"$f":"IF((((AI61/($AE61))-1)^2)=1,\"\",(((AI61/($AE61))-1)^2))","v":9.9856000000000467E-4},{"$f":"IF((((AJ61/($AE61))-1)^2)=1,\"\",(((AJ61/($AE61))-1)^2))","v":2.6895999999999902E-4},{"$f":"IF((((AK61/($AE61))-1)^2)=1,\"\",(((AK61/($AE61))-1)^2))","v":2.5792360000000025E-2},{"$f":"IF((((AL61/($AE61))-1)^2)=1,\"\",(((AL61/($AE61))-1)^2))","v":1.7902439999999978E-2},{"$f":"IF((((AM61/($AE61))-1)^2)=1,\"\",(((AM61/($AE61))-1)^2))","v":4.7334399999999959E-3},{"$f":"IF((((AN61/($AE61))-1)^2)=1,\"\",(((AN61/($AE61))-1)^2))","v":1.9624900000000003E-3},{"$f":"IF((((AO61/($AE61))-1)^2)=1,\"\",(((AO61/($AE61))-1)^2))","v":2.2921959999999995E-2},{"$f":"IF((((AP61/($AE61))-1)^2)=1,\"\",(((AP61/($AE61))-1)^2))","v":1.1155599999999989E-3},{"$f":"IF((((AQ61/($AE61))-1)^2)=1,\"\",(((AQ61/($AE61))-1)^2))","v":4.1602499999999999E-3},{"$f":"IF((((AR61/($AE61))-1)^2)=1,\"\",(((AR61/($AE61))-1)^2))","v":3.4692099999999943E-3},{"$f":"IF((((AS61/($AE61))-1)^2)=1,\"\",(((AS61/($AE61))-1)^2))","v":1.8922500000000083E-3},{"$f":"IF((((AT61/($AE61))-1)^2)=1,\"\",(((AT61/($AE61))-1)^2))","v":5.2440999999999632E-4},{"$f":"IF((((AU61/($AE61))-1)^2)=1,\"\",(((AU61/($AE61))-1)^2))","v":""},{"$f":"IF((((AV61/($AE61))-1)^2)=1,\"\",(((AV61/($AE61))-1)^2))","v":""},{"$f":"IF((((AW61/($AE61))-1)^2)=1,\"\",(((AW61/($AE61))-1)^2))","v":""},{"$f":"IF((((AX61/($AE61))-1)^2)=1,\"\",(((AX61/($AE61))-1)^2))","v":""},{"$f":"IF((((AY61/($AE61))-1)^2)=1,\"\",(((AY61/($AE61))-1)^2))","v":""},{"$f":"IF((((AZ61/($AE61))-1)^2)=1,\"\",(((AZ61/($AE61))-1)^2))","v":""},{"$f":"IF((((BA61/($AE61))-1)^2)=1,\"\",(((BA61/($AE61))-1)^2))","v":""},{"$f":"IF((((BB61/($AE61))-1)^2)=1,\"\",(((BB61/($AE61))-1)^2))","v":""},{"$f":"IF((((BC61/($AE61))-1)^2)=1,\"\",(((BC61/($AE61))-1)^2))","v":""},{"$f":"IF((((BD61/($AE61))-1)^2)=1,\"\",(((BD61/($AE61))-1)^2))","v":""},{"$f":"IF((((BE61/($AE61))-1)^2)=1,\"\",(((BE61/($AE61))-1)^2))","v":""},{"$f":"IF((((BF61/($AE61))-1)^2)=1,\"\",(((BF61/($AE61))-1)^2))","v":""},{"$f":"IF((((BG61/($AE61))-1)^2)=1,\"\",(((BG61/($AE61))-1)^2))","v":""},{"$f":"IF((((BH61/($AE61))-1)^2)=1,\"\",(((BH61/($AE61))-1)^2))","v":""},{"$f":"IF((((BI61/($AE61))-1)^2)=1,\"\",(((BI61/($AE61))-1)^2))","v":""},{"$f":"IF((((BN61/$BM61)-1)^2)=1,\"\",(((BN61/$BM61)-1)^2))","v":1.3060996000000043E-3},{"$f":"IF((((BO61/$BM61)-1)^2)=1,\"\",(((BO61/$BM61)-1)^2))","v":7.395999999999517E-7},{"$f":"IF((((BP61/$BM61)-1)^2)=1,\"\",(((BP61/$BM61)-1)^2))","v":4.2276003999999808E-3},{"$f":"IF((((BQ61/$BM61)-1)^2)=1,\"\",(((BQ61/$BM61)-1)^2))","v":1.3498275999999996E-3},{"$f":"IF((((BR61/$BM61)-1)^2)=1,\"\",(((BR61/$BM61)-1)^2))","v":8.8472836000000055E-3},{"$f":"IF((((BS61/$BM61)-1)^2)=1,\"\",(((BS61/$BM61)-1)^2))","v":1.2307683600000008E-2},{"$f":"IF((((BT61/$BM61)-1)^2)=1,\"\",(((BT61/$BM61)-1)^2))","v":4.3665664000000033E-3},{"$f":"IF((((BU61/$BM61)-1)^2)=1,\"\",(((BU61/$BM61)-1)^2))","v":8.1902500000000048E-3},{"$f":"IF((((BV61/$BM61)-1)^2)=1,\"\",(((BV61/$BM61)-1)^2))","v":6.8459076000000063E-3},{"$f":"IF((((BW61/$BM61)-1)^2)=1,\"\",(((BW61/$BM61)-1)^2))","v":3.356956840000002E-2},{"$f":"IF((((BX61/$BM61)-1)^2)=1,\"\",(((BX61/$BM61)-1)^2))","v":1.5681599999999888E-3},{"$f":"IF((((BY61/$BM61)-1)^2)=1,\"\",(((BY61/$BM61)-1)^2))","v":5.285289999999998E-3},{"$f":"IF((((BZ61/$BM61)-1)^2)=1,\"\",(((BZ61/$BM61)-1)^2))","v":2.2467600000000733E-5},{"$f":"IF((((CA61/$BM61)-1)^2)=1,\"\",(((CA61/$BM61)-1)^2))","v":9.597604000000005E-4},{"$f":"IF((((CB61/$BM61)-1)^2)=1,\"\",(((CB61/$BM61)-1)^2))","v":1.8933760000000015E-2},{"$f":"IF((((CC61/$BM61)-1)^2)=1,\"\",(((CC61/$BM61)-1)^2))","v":""},{"$f":"IF((((CD61/$BM61)-1)^2)=1,\"\",(((CD61/$BM61)-1)^2))","v":""},{"$f":"IF((((CE61/$BM61)-1)^2)=1,\"\",(((CE61/$BM61)-1)^2))","v":""},{"$f":"IF((((CF61/$BM61)-1)^2)=1,\"\",(((CF61/$BM61)-1)^2))","v":""},{"$f":"IF((((CG61/$BM61)-1)^2)=1,\"\",(((CG61/$BM61)-1)^2))","v":""},{"$f":"IF((((CH61/$BM61)-1)^2)=1,\"\",(((CH61/$BM61)-1)^2))","v":""},{"$f":"IF((((CI61/$BM61)-1)^2)=1,\"\",(((CI61/$BM61)-1)^2))","v":""},{"$f":"IF((((CJ61/$BM61)-1)^2)=1,\"\",(((CJ61/$BM61)-1)^2))","v":""},{"$f":"IF((((CK61/$BM61)-1)^2)=1,\"\",(((CK61/$BM61)-1)^2))","v":""},{"$f":"IF((((CL61/$BM61)-1)^2)=1,\"\",(((CL61/$BM61)-1)^2))","v":""},{"$f":"IF((((CM61/$BM61)-1)^2)=1,\"\",(((CM61/$BM61)-1)^2))","v":""},{"$f":"IF((((CN61/$BM61)-1)^2)=1,\"\",(((CN61/$BM61)-1)^2))","v":""},{"$f":"IF((((CO61/$BM61)-1)^2)=1,\"\",(((CO61/$BM61)-1)^2))","v":""},{"$f":"IF((((CP61/$BM61)-1)^2)=1,\"\",(((CP61/$BM61)-1)^2))","v":""},{"$f":"IF((((CQ61/$BM61)-1)^2)=1,\"\",(((CQ61/$BM61)-1)^2))","v":""},{"$f":"IF((((CV61/$CU61)-1)^2)=1,\"\",(((CV61/$CU61)-1)^2))","v":2.6830439999999983E-2},{"$f":"IF((((CW61/$CU61)-1)^2)=1,\"\",(((CW61/$CU61)-1)^2))","v":4.4889999999999037E-5},{"$f":"IF((((CX61/$CU61)-1)^2)=1,\"\",(((CX61/$CU61)-1)^2))","v":2.5600000000001466E-6},{"$f":"IF((((CY61/$CU61)-1)^2)=1,\"\",(((CY61/$CU61)-1)^2))","v":1.1696400000000007E-3},{"$f":"IF((((CZ61/$CU61)-1)^2)=1,\"\",(((CZ61/$CU61)-1)^2))","v":1.3987600000000076E-3},{"$f":"IF((((DA61/$CU61)-1)^2)=1,\"\",(((DA61/$CU61)-1)^2))","v":2.6009999999999932E-5},{"$f":"IF((((DB61/$CU61)-1)^2)=1,\"\",(((DB61/$CU61)-1)^2))","v":2.2921959999999995E-2},{"$f":"IF((((DC61/$CU61)-1)^2)=1,\"\",(((DC61/$CU61)-1)^2))","v":3.4484489999999993E-2},{"$f":"IF((((DD61/$CU61)-1)^2)=1,\"\",(((DD61/$CU61)-1)^2))","v":6.250000000000011E-4},{"$f":"IF((((DE61/$CU61)-1)^2)=1,\"\",(((DE61/$CU61)-1)^2))","v":7.700625000000004E-2},{"$f":"IF((((DF61/$CU61)-1)^2)=1,\"\",(((DF61/$CU61)-1)^2))","v":7.6562499999999842E-3},{"$f":"IF((((DG61/$CU61)-1)^2)=1,\"\",(((DG61/$CU61)-1)^2))","v":4.5697599999999991E-3},{"$f":"IF((((DH61/$CU61)-1)^2)=1,\"\",(((DH61/$CU61)-1)^2))","v":7.2145959999999967E-2},{"$f":"IF((((DI61/$CU61)-1)^2)=1,\"\",(((DI61/$CU61)-1)^2))","v":5.2417600000000033E-3},{"$f":"IF((((DJ61/$CU61)-1)^2)=1,\"\",(((DJ61/$CU61)-1)^2))","v":6.1851690000000015E-2},{"$f":"IF((((DK61/$CU61)-1)^2)=1,\"\",(((DK61/$CU61)-1)^2))","v":""},{"$f":"IF((((DL61/$CU61)-1)^2)=1,\"\",(((DL61/$CU61)-1)^2))","v":""},{"$f":"IF((((DM61/$CU61)-1)^2)=1,\"\",(((DM61/$CU61)-1)^2))","v":""},{"$f":"IF((((DN61/$CU61)-1)^2)=1,\"\",(((DN61/$CU61)-1)^2))","v":""},{"$f":"IF((((DO61/$CU61)-1)^2)=1,\"\",(((DO61/$CU61)-1)^2))","v":""},{"$f":"IF((((DP61/$CU61)-1)^2)=1,\"\",(((DP61/$CU61)-1)^2))","v":""},{"$f":"IF((((DQ61/$CU61)-1)^2)=1,\"\",(((DQ61/$CU61)-1)^2))","v":""},{"$f":"IF((((DR61/$CU61)-1)^2)=1,\"\",(((DR61/$CU61)-1)^2))","v":""},{"$f":"IF((((DS61/$CU61)-1)^2)=1,\"\",(((DS61/$CU61)-1)^2))","v":""},{"$f":"IF((((DT61/$CU61)-1)^2)=1,\"\",(((DT61/$CU61)-1)^2))","v":""},{"$f":"IF((((DU61/$CU61)-1)^2)=1,\"\",(((DU61/$CU61)-1)^2))","v":""},{"$f":"IF((((DV61/$CU61)-1)^2)=1,\"\",(((DV61/$CU61)-1)^2))","v":""},{"$f":"IF((((DW61/$CU61)-1)^2)=1,\"\",(((DW61/$CU61)-1)^2))","v":""},{"$f":"IF((((DX61/$CU61)-1)^2)=1,\"\",(((DX61/$CU61)-1)^2))","v":""},{"$f":"IF((((DY61/$CU61)-1)^2)=1,\"\",(((DY61/$CU61)-1)^2))","v":""},{"$f":"IF((((ED61/$EC61)-1)^2)=1,\"\",((ED61/$EC61)-1)^2)","v":7.9523999999999394E-4},{"$f":"IF((((EE61/$EC61)-1)^2)=1,\"\",((EE61/$EC61)-1)^2)","v":4.526598399999986E-3},{"$f":"IF((((EF61/$EC61)-1)^2)=1,\"\",((EF61/$EC61)-1)^2)","v":3.5736483999999932E-3},{"$f":"IF((((EG61/$EC61)-1)^2)=1,\"\",((EG61/$EC61)-1)^2)","v":2.9159999999998374E-7},{"$f":"IF((((EH61/$EC61)-1)^2)=1,\"\",((EH61/$EC61)-1)^2)","v":7.1931239999999938E-2},{"$f":"IF((((EI61/$EC61)-1)^2)=1,\"\",((EI61/$EC61)-1)^2)","v":7.3856835999999834E-3},{"$f":"IF((((EJ61/$EC61)-1)^2)=1,\"\",((EJ61/$EC61)-1)^2)","v":1.904449600000001E-3},{"$f":"IF((((EK61/$EC61)-1)^2)=1,\"\",((EK61/$EC61)-1)^2)","v":1.8790926400000026E-2},{"$f":"IF((((EL61/$EC61)-1)^2)=1,\"\",((EL61/$EC61)-1)^2)","v":3.1563075600000053E-2},{"$f":"IF((((EM61/$EC61)-1)^2)=1,\"\",((EM61/$EC61)-1)^2)","v":9.6707555999999972E-3},{"$f":"IF((((EN61/$EC61)-1)^2)=1,\"\",((EN61/$EC61)-1)^2)","v":1.6646399999999777E-5},{"$f":"IF((((EO61/$EC61)-1)^2)=1,\"\",((EO61/$EC61)-1)^2)","v":3.4128964000000031E-3},{"$f":"IF((((EP61/$EC61)-1)^2)=1,\"\",((EP61/$EC61)-1)^2)","v":1.1333731599999999E-2},{"$f":"IF((((EQ61/$EC61)-1)^2)=1,\"\",((EQ61/$EC61)-1)^2)","v":1.3731152400000014E-2},{"$f":"IF((((ER61/$EC61)-1)^2)=1,\"\",((ER61/$EC61)-1)^2)","v":8.2656249999999987E-2},{"$f":"IF((((ES61/$EC61)-1)^2)=1,\"\",((ES61/$EC61)-1)^2)","v":""},{"$f":"IF((((ET61/$EC61)-1)^2)=1,\"\",((ET61/$EC61)-1)^2)","v":""},{"$f":"IF((((EU61/$EC61)-1)^2)=1,\"\",((EU61/$EC61)-1)^2)","v":""},{"$f":"IF((((EV61/$EC61)-1)^2)=1,\"\",((EV61/$EC61)-1)^2)","v":""},{"$f":"IF((((EW61/$EC61)-1)^2)=1,\"\",((EW61/$EC61)-1)^2)","v":""},{"$f":"IF((((EX61/$EC61)-1)^2)=1,\"\",((EX61/$EC61)-1)^2)","v":""},{"$f":"IF((((EY61/$EC61)-1)^2)=1,\"\",((EY61/$EC61)-1)^2)","v":""},{"$f":"IF((((EZ61/$EC61)-1)^2)=1,\"\",((EZ61/$EC61)-1)^2)","v":""},{"$f":"IF((((FA61/$EC61)-1)^2)=1,\"\",((FA61/$EC61)-1)^2)","v":""},{"$f":"IF((((FB61/$EC61)-1)^2)=1,\"\",((FB61/$EC61)-1)^2)","v":""},{"$f":"IF((((FC61/$EC61)-1)^2)=1,\"\",((FC61/$EC61)-1)^2)","v":""},{"$f":"IF((((FD61/$EC61)-1)^2)=1,\"\",((FD61/$EC61)-1)^2)","v":""},{"$f":"IF((((FE61/$EC61)-1)^2)=1,\"\",((FE61/$EC61)-1)^2)","v":""},{"$f":"IF((((FF61/$EC61)-1)^2)=1,\"\",((FF61/$EC61)-1)^2)","v":""},{"$f":"IF((((FG61/$EC61)-1)^2)=1,\"\",((FG61/$EC61)-1)^2)","v":""},{"$f":"COUNT(JR61:OG61)","v":60},{"$f":"SUM(JR61:OG61)","v":0.79443155079999994},{"$f":"SQRT(OI61/OH61)","v":0.11506748388083693},null,50,"Chlorthal-dimethyl",{"$f":"CU61","v":10},{"$f":"AVERAGE(CV61,DA61,DF61,DK61,DP61,DU61)","v":10.820666666666668},{"$f":"AVERAGE(CW61,DB61,DG61,DL61,DQ61,DV61)","v":9.2923333333333336},{"$f":"AVERAGE(CX61,DC61,DH61,DM61,DR61,DW61)","v":8.4909999999999997},{"$f":"AVERAGE(CY61,DD61,DI61,DN61,DS61,DX61)","v":9.7893333333333334},{"$f":"AVERAGE(CZ61,DE61,DJ61,DO61,DT61,DY61)","v":8.3706666666666667},{"$f":"COUNT(CV61,DA61,DF61,DK61,DP61,DU61)","v":3},5,{"$f":"IF(CV61=0,\"\",(CV61-OO61))","v":0.81733333333333213},{"$f":"IF(CW61=0,\"\",(CW61-OP61))","v":0.77466666666666661},{"$f":"IF(CX61=0,\"\",(CX61-OQ61))","v":1.5250000000000004},{"$f":"IF(CY61=0,\"\",(CY61-OR61))","v":0.55266666666666708},{"$f":"IF(CZ61=0,\"\",(CZ61-OS61))","v":2.0033333333333339},{"$f":"IF(DA61=0,\"\",DA61-OO61)","v":-0.87166666666666792},{"$f":"IF(DB61=0,\"\",DB61-OP61)","v":-0.8063333333333329},{"$f":"IF(DC61=0,\"\",DC61-OQ61)","v":-0.34799999999999898},{"$f":"IF(DD61=0,\"\",DD61-OR61)","v":-3.9333333333333442E-2},{"$f":"IF(DE61=0,\"\",DE61-OS61)","v":-1.1456666666666671},{"$f":"IF(DF61=0,\"\",DF61-OO61)","v":5.4333333333332234E-2},{"$f":"IF(DG61=0,\"\",DG61-OP61)","v":3.1666666666666288E-2},{"$f":"IF(DH61=0,\"\",DH61-OQ61)","v":-1.1769999999999996},{"$f":"IF(DI61=0,\"\",DI61-OR61)","v":-0.51333333333333364},{"$f":"IF(DJ61=0,\"\",DJ61-OS61)","v":-0.8576666666666668},{"$f":"IF(DK61=0,\"\",DK61-OO61)","v":""},{"$f":"IF(DL61=0,\"\",DL61-OP61)","v":""},{"$f":"IF(DM61=0,\"\",DM61-OQ61)","v":""},{"$f":"IF(DN61=0,\"\",DN61-OR61)","v":""},{"$f":"IF(DO61=0,\"\",DO61-OS61)","v":""},{"$f":"IF(DP61=0,\"\",DP61-OO61)","v":""},{"$f":"IF(DQ61=0,\"\",DQ61-OP61)","v":""},{"$f":"IF(DR61=0,\"\",DR61-OQ61)","v":""},{"$f":"IF(DS61=0,\"\",DS61-OR61)","v":""},{"$f":"IF(DT61=0,\"\",DT61-OS61)","v":""},{"$f":"IF(DU61=0,\"\",DU61-OO61)","v":""},{"$f":"IF(DV61=0,\"\",DV61-OP61)","v":""},{"$f":"IF(DW61=0,\"\",DW61-OQ61)","v":""},{"$f":"IF(DX61=0,\"\",DX61-OR61)","v":""},{"$f":"IF(DY61=0,\"\",DY61-OS61)","v":""},{"$f":"AVERAGE(OO61:OS61)","v":9.3527999999999984},{"$f":"(PZ61/ON61*100)","v":93.527999999999992},{"$f":"(SUMSQ((PZ61-OO61),(PZ61-OP61),(PZ61-OQ61),(PZ61-OR61),(PZ61-OS61)))*(1/(OU61-1))*OT61","v":3.042101433333336},{"$f":"SUMSQ(OV61:PY61)","v":13.14611866666667},{"$f":"OU61*(OT61-1)","v":10},{"$f":"QC61/QD61","v":1.3146118666666671},{"$f":"IF(((QB61-QE61)/OT61)<0,0,((QB61-QE61)/OT61))","v":0.57582985555555632},{"$f":"QE61+IF(QF61>=0,QF61,0)","v":1.8904417222222234},{"$f":"SQRT(QG61)","v":1.3749333519200935},{"$f":"QH61/PZ61","v":0.14700767170474016},{"$f":"QI61*100","v":14.700767170474016},{"$f":"COUNT(CV61:DY61)","v":15},{"$f":"IF(QA61<70,\"UYGUN DEĞİL\",IF(QA61>120,\"UYGUN DEĞİL\",\"UYGUN  \"))","v":"UYGUN  "},{"$f":"IF(QJ61<20,\"UYGUN  \",\"UYGUN DEĞİL\")","v":"UYGUN  "},{"$f":"(QI61^2)*(QK61-1)","v":0.30255757756068125},null,50,"Chlorthal-dimethyl",{"$f":"EC61","v":50},{"$f":"(SUM(ED61,EI61,EN61,ES61,EX61,FC61))/(COUNT(ED61,EI61,EN61,ES61,EX61,FC61))","v":50.894333333333329},{"$f":"(SUM(EE61,EJ61,EO61,ET61,EY61,FD61))/(COUNT(EE61,EJ61,EO61,ET61,EY61,FD61))","v":47.177666666666674},{"$f":"(SUM(EF61,EK61,EP61,EU61,EZ61,FE61))/(COUNT(EF61,EK61,EP61,EU61,EZ61,FE61))","v":55.05533333333333},{"$f":"(SUM(EG61,EL61,EQ61,EV61,FA61,FF61))/(COUNT(EG61,EL61,EQ61,EV61,FA61,FF61))","v":54.923000000000002},{"$f":"(SUM(EH61,EM61,ER61,EW61,FB61,FG61))/(COUNT(EH61,EM61,ER61,EW61,FB61,FG61))","v":39.099333333333334},{"$f":"COUNT(ED61,EI61,EN61,ES61,EX61,FC61)","v":3},5,{"$f":"IF(ED61=0,\"\",(ED61-QS61))","v":-2.3043333333333251},{"$f":"IF(EE61=0,\"\",(EE61-QT61))","v":-0.5416666666666714},{"$f":"IF(EF61=0,\"\",(EF61-QU61))","v":-2.0663333333333327},{"$f":"IF(EG61=0,\"\",(EG61-QV61))","v":-4.8960000000000008},{"$f":"IF(EH61=0,\"\",(EH61-QW61))","v":-2.5093333333333305},{"$f":"IF(EI61=0,\"\",EI61-QS61)","v":3.4026666666666685},{"$f":"IF(EJ61=0,\"\",EJ61-QT61)","v":0.64033333333332365},{"$f":"IF(EK61=0,\"\",EK61-QU61)","v":1.7986666666666693},{"$f":"IF(EL61=0,\"\",EL61-QV61)","v":3.9600000000000009},{"$f":"IF(EM61=0,\"\",EM61-QW61)","v":5.9836666666666645},{"$f":"IF(EN61=0,\"\",EN61-QS61)","v":-1.0983333333333292},{"$f":"IF(EO61=0,\"\",EO61-QT61)","v":-9.8666666666673564E-2},{"$f":"IF(EP61=0,\"\",EP61-QU61)","v":0.26766666666667049},{"$f":"IF(EQ61=0,\"\",EQ61-QV61)","v":0.93599999999999994},{"$f":"IF(ER61=0,\"\",ER61-QW61)","v":-3.4743333333333339},{"$f":"IF(ES61=0,\"\",ES61-QS61)","v":""},{"$f":"IF(ET61=0,\"\",ET61-QT61)","v":""},{"$f":"IF(EU61=0,\"\",EU61-QU61)","v":""},{"$f":"IF(EV61=0,\"\",EV61-QV61)","v":""},{"$f":"IF(EW61=0,\"\",EW61-QW61)","v":""},{"$f":"IF(EX61=0,\"\",EX61-QS61)","v":""},{"$f":"IF(EY61=0,\"\",EY61-QT61)","v":""},{"$f":"IF(EZ61=0,\"\",EZ61-QU61)","v":""},{"$f":"IF(FA61=0,\"\",FA61-QV61)","v":""},{"$f":"IF(FB61=0,\"\",FB61-QW61)","v":""},{"$f":"IF(FC61=0,\"\",FC61-QS61)","v":""},{"$f":"IF(FD61=0,\"\",FD61-QT61)","v":""},{"$f":"IF(FE61=0,\"\",FE61-QU61)","v":""},{"$f":"IF(FF61=0,\"\",FF61-QV61)","v":""},{"$f":"IF(FG61=0,\"\",FG61-QW61)","v":""},{"$f":"AVERAGE(QS61:QW61)","v":49.429933333333331},{"$f":"(SD61/QR61*100)","v":98.859866666666662},{"$f":"(SUMSQ((SD61-QS61),(SD61-QT61),(SD61-QU61),(SD61-QV61),(SD61-QW61)))*(1/(QY61-1))*QX61","v":131.8180315666666},{"$f":"SUMSQ(QZ61:SC61)","v":121.0846986666666},{"$f":"QY61*(QX61-1)","v":10},{"$f":"SG61/SH61","v":12.10846986666666},{"$f":"IF(((SF61-SI61)/QX61)<0,0,((SF61-SI61)/QX61))","v":39.903187233333313},{"$f":"SI61+IF(SJ61>=0,SJ61,0)","v":52.011657099999972},{"$f":"SQRT(SK61)","v":7.2119107800914986},{"$f":"SL61/SD61","v":0.14590168939653636},5.24,{"$f":"COUNT(ED61:FG61)","v":15},{"$f":"IF(SE61<70,\"UYGUN DEĞİL\",IF(SE61>120,\"UYGUN DEĞİL\",\"UYGUN  \"))","v":"UYGUN  "},{"$f":"IF(SN61<20,\"UYGUN  \",\"UYGUN DEĞİL\")","v":"UYGUN  "},{"$f":"(SM61^2)*(SO61-1)","v":0.2980222415626872},{"$f":"IFERROR(SQRT((QN61+SR61)/((QK61-1)+(SO61-1))),\"--------\")","v":0.14645572455321101}]
[52,"Chlorthiopos","GC-MS/MS",771716,637060,null,1817871,1853436,null,2860951,3019527,null,7811562,8408181,null,14422179,14782337,null,31512151,23893082,{"$nulls":8},52,"Chlorthiopos",10,8.7469999999999999,11.189,11.084,8.6660000000000004,9.0969999999999995,10.089,10.997,8.7639999999999993,11.53,11.073,11.752000000000001,11.618,9.8759999999999994,8.8960000000000008,8.0440000000000005,{"$nulls":16},52,"Chlorthiopos",50,44.066000000000003,45.371000000000002,38.100999999999999,49.331000000000003,46.959000000000003,41.231000000000002,46.432000000000002,50.125999999999998,44.365000000000002,49.756,43.814,41.753,45.276000000000003,37.601999999999997,38.945999999999998,{"$nulls":16},52,"Chlorthiopos",10,10.048999999999999,8.702,11.417,10.609,11.148999999999999,8.5510000000000002,10.603999999999999,8.3780000000000001,8.9870000000000001,11.167999999999999,8.0069999999999997,11.76,11.63,7.085,11.39,{"$nulls":16},52,"Chlorthiopos",50,47.981999999999999,42.002000000000002,49.292000000000002,43.871000000000002,48.261000000000003,47.77,45.021000000000001,46.710999999999999,42.564999999999998,45.697000000000003,44.478000000000002,43.4,41.167999999999999,49.292999999999999,47.633000000000003,{"$nulls":16},52,"Chlorthiopos",10,9.7566000000000006,1.2705838421765012,97.566000000000003,13.022813707403206,"uygun","uygun",10.490599999999999,1.0975442132324329,104.90599999999999,10.46216816228274,"uygun","uygun",10.037200000000002,1.6386455382418654,100.37200000000001,16.325723690290769,"uygun","uygun","--------","--------","--------","--------","uygun değil","uygun değil","--------","--------","--------","--------","uygun değil","uygun değil","--------","--------","--------","--------","uygun değil","uygun değil",null,52,"Chlorthiopos",50,44.765600000000006,4.2109002362915238,89.531200000000013,9.4065537740843936,"uygun","uygun",46.382000000000005,3.7418244881340961,92.76400000000001,8.0674065114356761,"uygun","uygun",41.478200000000001,3.2168200447025344,82.956400000000002,7.7554475476335387,"uygun","uygun","--------","--------","--------","--------","uygun değil","uygun değil","--------","--------","--------","--------","uygun değil","uygun değil","--------","--------","--------","--------","uygun değil","uygun değil",{"$nulls":31},52,"Chlorthiopos",10,1.5700089999999993E-2,1.4137210000000001E-2,1.1750560000000011E-2,1.7795559999999992E-2,8.1540900000000079E-3,7.9210000000002313E-5,9.9400899999999796E-3,1.5276960000000011E-2,2.3409000000000006E-2,1.151328999999999E-2,3.0695040000000007E-2,2.6179239999999982E-2,1.5376000000000192E-4,1.2188159999999988E-2,3.8259359999999999E-2,"","","","","","","","","","","","","","","",1.4084942399999975E-2,8.5710563999999989E-3,5.6634480399999985E-2,1.790243999999986E-4,3.6990723999999983E-3,3.0758144399999993E-2,5.0922495999999968E-3,6.3503999999992726E-6,1.270128999999998E-2,2.3814399999999956E-5,1.5306638400000013E-2,2.7205203599999991E-2,8.9264703999999799E-3,6.1484161600000031E-2,4.8876366400000024E-2,"","","","","","","","","","","","","","","",2.4009999999999064E-5,1.6848040000000009E-2,2.0078889999999981E-2,3.7088099999999942E-3,1.320201E-2,2.0996010000000009E-2,3.648160000000001E-3,2.6308840000000003E-2,1.0261689999999988E-2,1.3642240000000003E-2,3.9720490000000011E-2,3.0975999999999976E-2,2.6569000000000009E-2,8.4972249999999985E-2,1.9321000000000005E-2,"","","","","","","","","","","","","","","",1.6289296000000051E-3,2.5587201599999998E-2,2.005055999999986E-4,1.5025856399999978E-2,1.2096483999999945E-3,1.9891599999999976E-3,9.9161764000000006E-3,4.3270084000000082E-3,2.2111690000000017E-2,7.4063235999999848E-3,1.2196993599999996E-2,1.7424000000000002E-2,3.1201689600000006E-2,1.9993960000000118E-4,2.2410755999999941E-3,"","","","","","","","","","","","","","","",60,1.0117245236000001,0.12985405420445423,null,52,"Chlorthiopos",10,8.8689999999999998,10.355333333333332,10.475000000000001,8.8936666666666664,11.235666666666667,3,5,1.1799999999999997,-1.6533333333333324,0.94199999999999839,1.7153333333333336,-8.666666666666778E-2,-0.31799999999999962,0.24866666666666681,-2.0970000000000013,9.3333333333333712E-2,-6.7666666666667652E-2,-0.8620000000000001,1.4046666666666674,1.1549999999999994,-1.8086666666666664,0.15433333333333366,"","","","","","","","","","","","","","","",9.9657333333333344,99.657333333333341,3.282016733333335,19.882063999999996,10,1.9882063999999997,0.43127011111111174,2.4194765111111116,1.5554666538087891,0.1560815046702155,15.608150467021551,15,"UYGUN  ","UYGUN  ",0.34106010540165904,null,52,"Chlorthiopos",50,46.743333333333339,43.474333333333334,45.723666666666666,45.243000000000002,47.197000000000003,3,5,1.2386666666666599,-1.4723333333333315,3.5683333333333351,-1.3719999999999999,1.0640000000000001,1.0266666666666637,1.5466666666666669,0.98733333333333206,-2.6780000000000044,-1.5,-2.2653333333333379,-7.4333333333335361E-2,-4.5556666666666672,4.0499999999999972,0.43599999999999994,"","","","","","","","","","","","","","","",45.67626666666667,91.352533333333341,6.3673037333333458,75.776232000000007,10,7.5776232000000006,0,7.5776232000000006,2.7527482994273198,6.0266490681389305E-2,{"$f":"SM62*100","v":6.0266490681389309},15,"UYGUN  ","UYGUN  ",5.084869858669977E-2,0.11830783152261833]
[53,"Clomazone","GC-MS/MS",858200,964824,null,2530697,2639526,null,4677388,4830200,null,12251472,12703624,null,23120992,24497817,null,43253761,43525991,{"$nulls":8},53,"Clomazone",10,9.7159999999999993,11.798,11.712,9.6989999999999998,10.084,10.726000000000001,11.711,9.2550000000000008,10.984999999999999,11.195,11.832000000000001,8.3480000000000008,9.5719999999999992,8.3350000000000009,7.8230000000000004,{"$nulls":16},53,"Clomazone",50,46.381999999999998,46.884,41.026000000000003,48.997999999999998,40.872999999999998,40.173999999999999,41.947000000000003,50.14,37.884999999999998,48.031999999999996,49.232999999999997,46.808,49.890999999999998,46.930999999999997,42.125,{"$nulls":16},53,"Clomazone",10,10.693,9.0410000000000004,11.728999999999999,11.093999999999999,11.388999999999999,9.7449999999999992,11.125999999999999,9.452,9.7050000000000001,10.824,8.8960000000000008,8.1940000000000008,8.8680000000000003,7.8860000000000001,10.88,{"$nulls":16},53,"Clomazone",50,43.33,35.630000000000003,42.993000000000002,37.356000000000002,36.234999999999999,40.621000000000002,44.188000000000002,41.401000000000003,35.472000000000001,42.906999999999996,46.018000000000001,46.031999999999996,52.463999999999999,55.04,36.368000000000002,{"$nulls":16},53,"Clomazone",10,10.601800000000001,1.0643360371611967,106.01800000000001,10.039201240932641,"uygun","uygun",10.7744,0.92322738260950632,107.744,8.5687127135571952,"uygun","uygun",9.1820000000000004,1.6151196550101201,91.820000000000007,17.590063766174254,"uygun","uygun","--------","--------","--------","--------","uygun değil","uygun değil","--------","--------","--------","--------","uygun değil","uygun değil","--------","--------","--------","--------","uygun değil","uygun değil",null,53,"Clomazone",50,44.832599999999999,3.6785892404561822,89.665199999999999,8.2051659739925462,"uygun","uygun",43.635599999999997,5.2330439803234832,87.271199999999993,11.992602325448679,"uygun","uygun",46.997599999999998,3.0475970534176584,93.995199999999997,6.4845801773232221,"uygun","uygun","--------","--------","--------","--------","uygun değil","uygun değil","--------","--------","--------","--------","uygun değil","uygun değil","--------","--------","--------","--------","uygun değil","uygun değil",{"$nulls":31},53,"Clomazone",10,8.0656000000000521E-4,3.2328039999999988E-2,2.9309440000000006E-2,9.0601000000000093E-4,7.0559999999999379E-5,5.2707599999999993E-3,2.927521000000001E-2,5.5502499999999849E-3,9.702250000000006E-3,1.4280249999999986E-2,3.3562240000000014E-2,2.7291039999999968E-2,1.8318400000000051E-3,2.7722249999999955E-2,4.7393290000000005E-2,"","","","","","","","","","","","","","","",5.2359696000000133E-3,3.883782400000005E-3,3.2213070399999988E-2,4.0160160000000234E-4,3.3320851600000014E-2,3.8620110400000011E-2,2.5940323599999995E-2,7.8399999999995167E-6,5.8709290000000032E-2,1.5492096000000049E-3,2.3531560000000063E-4,4.0755456000000009E-3,4.7524000000003088E-6,3.7675044000000124E-3,2.4806249999999992E-2,"","","","","","","","","","","","","","","",4.8024899999999883E-3,9.196809999999998E-3,2.9894409999999941E-2,1.1968359999999987E-2,1.9293210000000005E-2,6.5025000000000401E-4,1.2678760000000008E-2,3.0030399999999955E-3,8.702499999999983E-4,6.7897600000000049E-3,1.2188159999999988E-2,3.2616359999999955E-2,1.2814239999999992E-2,4.4689960000000015E-2,7.7440000000000139E-3,"","","","","","","","","","","","","","","",1.7795560000000019E-2,8.2598759999999993E-2,1.963921959999998E-2,6.3948294399999994E-2,7.5790089999999991E-2,3.5186256399999991E-2,1.3511737599999976E-2,2.9577120399999969E-2,8.4425113599999962E-2,2.0124259600000027E-2,6.3425295999999893E-3,6.2980096000000152E-3,2.428518399999999E-3,1.016064E-2,7.4332569599999995E-2,"","","","","","","","","","","","","","","",60,1.2494301459999995,0.14430466301082115,null,53,"Clomazone",10,9.7780000000000005,9.4536666666666687,10.016333333333334,9.5616666666666656,11.031000000000001,3,5,0.91499999999999915,-0.41266666666666829,1.7126666666666654,1.5323333333333338,0.35799999999999876,-3.3000000000001251E-2,1.6723333333333308,-0.5643333333333338,0.14333333333333442,-0.20700000000000074,-0.88199999999999967,-1.2596666666666678,-1.1483333333333334,-1.6756666666666655,-0.1509999999999998,"","","","","","","","","","","","","","","",9.9681333333333342,99.681333333333342,1.1985379333333332,16.110621999999989,10,1.6110621999999988,0,1.6110621999999988,1.2692762504671702,0.12733339412934253,12.733339412934253,15,"UYGUN  ","UYGUN  ",0.22699310564697872,null,53,"Clomazone",50,43.323,41.95,45.619333333333337,42.622666666666667,38.50333333333333,3,5,6.9999999999978968E-3,-6.32,-2.626333333333335,-5.2666666666666657,-2.2683333333333309,-2.7019999999999982,2.2379999999999995,-4.2183333333333337,-7.1506666666666661,4.4036666666666662,2.6950000000000003,4.0819999999999936,6.8446666666666616,12.417333333333332,-2.1353333333333282,"","","","","","","","","","","","","","","",42.403666666666666,84.807333333333332,19.989045333333369,409.87631399999975,10,40.987631399999977,0,40.987631399999977,6.4021583391853074,0.15098124389837295,15.098124389837295,15,"UYGUN  ","UYGUN  ",0.31913470412739969,0.1396587434957054]
[57,"Cyanophos","GC-MS/MS",1068483,937324,null,2101942,2201785,null,3806865,4401628,null,12070362,11795364,null,21836642,22006325,null,46182514,45421942,{"$nulls":8},57,"Cyanophos",10,9.7409999999999997,11.845000000000001,11.6,9.0760000000000005,10.061999999999999,10.807,11.502000000000001,9.3109999999999999,11.683999999999999,11.632999999999999,11.452999999999999,8.3680000000000003,8.6910000000000007,7.702,7.0019999999999998,{"$nulls":16},57,"Cyanophos",50,43.517000000000003,42.436,38.012999999999998,47.225000000000001,38.902000000000001,38.06,41.000999999999998,48.912999999999997,37.624000000000002,46.289000000000001,44.781999999999996,43.344999999999999,48.448,41.369,35.302,{"$nulls":16},57,"Cyanophos",10,11.093999999999999,9.2949999999999999,11.619,11.776,11.57,10.071999999999999,11.241,9.7469999999999999,10.012,11.805,10.627000000000001,8.8960000000000008,7.5629999999999997,9.3450000000000006,8.9169999999999998,{"$nulls":16},57,"Cyanophos",50,42.085999999999999,40.204999999999998,40.680999999999997,36.414000000000001,40.003999999999998,40.142000000000003,36.375999999999998,40.335999999999999,46.006,42.756,51.289000000000001,51.603000000000002,52.14,52.183,36.768999999999998,{"$nulls":16},57,"Cyanophos",10,10.4648,1.2050446879680525,104.64800000000001,11.515219478327847,"uygun","uygun",10.987399999999999,1.0012149119944227,109.87399999999998,9.112391575754252,"uygun","uygun",8.6432000000000002,1.6994404078990246,86.432000000000002,19.662166881467797,"uygun","uygun","--------","--------","--------","--------","uygun değil","uygun değil","--------","--------","--------","--------","uygun değil","uygun değil","--------","--------","--------","--------","uygun değil","uygun değil",null,57,"Cyanophos",50,42.018600000000006,3.7176623434626239,84.037200000000013,8.8476587593651939,"uygun","uygun",42.377400000000002,5.0285165108608672,84.754800000000003,11.866033571811547,"uygun","uygun",42.649199999999993,4.8548767955531078,85.298399999999987,11.383277518811861,"uygun","uygun","--------","--------","--------","--------","uygun değil","uygun değil","--------","--------","--------","--------","uygun değil","uygun değil","--------","--------","--------","--------","uygun değil","uygun değil",{"$nulls":31},57,"Cyanophos",10,6.7081000000000172E-4,3.4040250000000043E-2,2.5599999999999973E-2,8.5377599999999863E-3,3.8439999999999795E-5,6.5124899999999993E-3,2.2560040000000035E-2,4.7472099999999948E-3,2.835855999999996E-2,2.6666889999999999E-2,2.1112089999999997E-2,2.6634240000000003E-2,1.7134809999999976E-2,5.2808040000000001E-2,8.9880040000000036E-2,"","","","","","","","","","","","","","","",1.6811715599999971E-2,2.2885638399999991E-2,5.7475267600000032E-2,3.0802499999999992E-3,4.9266241599999969E-2,5.7025439999999955E-2,3.2392800400000012E-2,4.7262760000000404E-4,6.1266150399999983E-2,5.5086083999999931E-3,1.0891009600000025E-2,1.771561E-2,9.6348159999999725E-4,2.97976644E-2,8.6412481599999993E-2,"","","","","","","","","","","","","","","",1.1968359999999987E-2,4.9702500000000007E-3,2.6211609999999979E-2,3.1541759999999995E-2,2.4649000000000008E-2,5.1839999999998176E-5,1.540080999999997E-2,6.4008999999999941E-4,1.4400000000002158E-6,3.2580249999999956E-2,3.931289999999997E-3,1.2188159999999988E-2,5.9389690000000016E-2,4.2902499999999859E-3,1.1728890000000014E-2,"","","","","","","","","","","","","","","",2.5052558399999994E-2,3.8376810000000032E-2,3.4737504400000035E-2,7.3831758399999975E-2,3.996800640000004E-2,3.8872065599999957E-2,7.4245350400000035E-2,3.73571584E-2,6.3808143999999926E-3,2.0990214400000002E-2,6.6460840000000698E-4,1.0278435999999985E-3,1.8318399999999956E-3,1.9061956000000029E-3,7.0023744400000046E-2,"","","","","","","","","","","","","","","",60,1.5220768199999997,0.15927318355580136,null,57,"Cyanophos",10,10.597666666666667,9.810666666666668,9.6429999999999989,10.377666666666668,10.764000000000001,3,5,0.4963333333333324,-0.51566666666666805,1.9760000000000009,1.3983333333333317,0.80599999999999916,-0.52566666666666784,1.4303333333333317,0.10400000000000098,-0.36566666666666769,1.0409999999999986,2.9333333333333655E-2,-0.91466666666666718,-2.0799999999999992,-1.0326666666666675,-1.8470000000000013,"","","","","","","","","","","","","","","",10.238600000000002,102.38600000000002,0.72163490000000152,20.21388,10,2.021388,0,2.021388,1.4217552531993682,0.13886227152143535,13.886227152143535,15,"UYGUN  ","UYGUN  ",0.26995822632929967,null,57,"Cyanophos",50,44.505666666666663,42.728000000000002,44.385666666666658,44.867666666666672,39.842999999999996,3,5,-2.4196666666666644,-2.5230000000000032,-3.704666666666661,-8.4536666666666704,0.16100000000000136,-4.3636666666666599,-6.3520000000000039,-4.0496666666666599,1.1383333333333283,2.9130000000000038,6.7833333333333385,8.875,7.7543333333333422,7.3153333333333279,-3.0739999999999981,"","","","","","","","","","","","","","","",43.265999999999998,86.531999999999996,13.02160200000001,430.87843400000008,10,43.087843400000011,0,43.087843400000011,6.5641331034646164,0.15171573761070162,15.171573761070162,15,"UYGUN  ","UYGUN  ",0.32224731054262967,0.14543107558368001]
[60,"Cyflufenamid","GC-MS/MS",1446882,1470854,null,4136186,4536105,null,6761577,7730671,null,21517318,21651539,null,37648599,39283354,null,79869179,71608143,{"$nulls":8},60,"Cyflufenamid",10,10.161,11.183,11.117000000000001,9.5060000000000002,9.8719999999999999,10.912000000000001,10.956,9.7149999999999999,11.849,10.922000000000001,11.356999999999999,11.340999999999999,10.608000000000001,9.4890000000000008,8.8719999999999999,{"$nulls":16},60,"Cyflufenamid",50,43.841000000000001,45.072000000000003,53.572000000000003,49.71,45.634999999999998,51.66,44.79,48.594999999999999,42.838000000000001,45.566000000000003,54.485999999999997,51.235999999999997,56.261000000000003,46.728000000000002,44.03,{"$nulls":16},60,"Cyflufenamid",10,10.91,8.8580000000000005,11.646000000000001,11.505000000000001,11.53,10.153,11.625999999999999,9.7189999999999994,10.552,11.541,10.811,9.657,7.8339999999999996,10.420999999999999,9.0879999999999992,{"$nulls":16},60,"Cyflufenamid",50,49.267000000000003,42.825000000000003,48.874000000000002,44.488,45.235999999999997,42.807000000000002,44,46.868000000000002,43.707999999999998,48.515000000000001,44.167000000000002,41.22,47.963999999999999,49.512,36.747,{"$nulls":16},60,"Cyflufenamid",10,10.367799999999999,0.75118819213297017,103.67799999999998,7.245396247352093,"uygun","uygun",10.870799999999999,0.75900046113292985,108.70799999999998,6.9820110859635891,"uygun","uygun",10.333400000000001,1.1165931667353151,103.33400000000002,10.805670609241053,"uygun","uygun","--------","--------","--------","--------","uygun değil","uygun değil","--------","--------","--------","--------","uygun değil","uygun değil","--------","--------","--------","--------","uygun değil","uygun değil",null,60,"Cyflufenamid",50,47.566000000000003,4.015382733937078,95.132000000000005,8.4417078037612523,"uygun","uygun",46.689799999999998,3.46558814633245,93.379599999999996,7.4225808342131483,"uygun","uygun",50.548200000000001,5.1404348259656008,101.0964,10.16937265019447,"uygun","uygun","--------","--------","--------","--------","uygun değil","uygun değil","--------","--------","--------","--------","uygun değil","uygun değil","--------","--------","--------","--------","uygun değil","uygun değil",{"$nulls":31},60,"Cyflufenamid",10,2.5921000000000012E-4,1.3994890000000017E-2,1.247689000000003E-2,2.4403599999999999E-3,1.6384000000000087E-4,8.3174400000000318E-3,9.1393599999999818E-3,8.122499999999983E-4,3.4188010000000026E-2,8.5008400000000112E-3,1.8414489999999981E-2,1.7982809999999971E-2,3.6966399999999958E-3,2.6112099999999923E-3,1.2723840000000002E-2,"","","","","","","","","","","","","","","",1.5173312399999989E-2,9.714073599999996E-3,5.1036735999999928E-3,3.3640000000000315E-5,7.621290000000008E-3,1.1022399999999931E-3,1.0857640000000014E-2,7.8961000000000081E-4,2.0517697600000009E-2,7.864142399999996E-3,8.0496784000000047E-3,6.1107839999999269E-4,1.5680048400000028E-2,4.2823935999999922E-3,1.4256359999999989E-2,"","","","","","","","","","","","","","","",8.280999999999995E-3,1.3041639999999993E-2,2.7093160000000026E-2,2.2650250000000025E-2,2.3409000000000006E-2,2.340900000000028E-4,2.6438759999999954E-2,7.8961000000000081E-4,3.0470399999999909E-3,2.3746810000000038E-2,6.5772099999999922E-3,1.1764899999999999E-3,4.6915560000000009E-2,1.7724100000000023E-3,8.317440000000011E-3,"","","","","","","","","","","","","","","",2.1491559999999694E-4,2.0592249999999989E-2,5.0715039999999932E-4,1.2152857600000001E-2,9.0782784000000057E-3,2.0695699599999996E-2,1.44E-2,3.9237695999999895E-3,1.5835705600000017E-2,8.8208999999999694E-4,1.3609555599999996E-2,3.0835359999999992E-2,1.6581183999999983E-3,9.5257599999999825E-5,7.0256803599999987E-2,"","","","","","","","","","","","","","","",60,0.69560724039999977,0.10767290284313256,null,60,"Cyflufenamid",10,10.624666666666668,10.047000000000001,9.7330000000000005,10.826000000000001,10.719666666666667,3,5,0.28533333333333211,-1.1890000000000001,1.9130000000000003,0.67900000000000027,0.81033333333333246,-0.47166666666666757,1.5789999999999988,-1.4000000000001123E-2,-0.27400000000000091,0.82133333333333347,0.18633333333333191,-0.39000000000000057,-1.8990000000000009,-0.40500000000000114,-1.6316666666666677,"","","","","","","","","","","","","","","",10.390066666666666,103.90066666666667,0.67735690000000015,16.357339333333339,10,1.6357339333333338,0,1.6357339333333338,1.2789581436987427,0.1230943154389843,12.30943154389843,15,"UYGUN  ","UYGUN  ",0.21213094690749038,null,60,"Cyflufenamid",50,45.413666666666671,42.681666666666672,47.902000000000008,45.902666666666669,43.499333333333333,3,5,3.8533333333333317,0.14333333333333087,0.9719999999999942,-1.414666666666669,1.7366666666666646,-2.6066666666666691,1.318333333333328,-1.034000000000006,-2.1946666666666701,5.015666666666668,-1.2466666666666697,-1.4616666666666731,6.1999999999990507E-2,3.609333333333332,-6.7523333333333326,"","","","","","","","","","","","","","","",45.079866666666675,90.159733333333349,12.751730766666689,122.7219266666667,10,12.272192666666671,0.15984603333333958,12.43203870000001,3.5259096273160506,7.8214730611064737E-2,7.8214730611064738,15,"UYGUN  ","UYGUN  ",8.5645617183859976E-2,0.10312554139967847]
[64,"Cymiazole","GC-MS/MS",1479999,1212156,null,3133775,3443108,null,7131025,7777467,null,21487167,21721941,null,43371954,39851113,null,90188013,67987048,{"$nulls":8},64,"Cymiazole",10,9.1159999999999997,10.955,11.689,8.1489999999999991,9.3170000000000002,11.016,10.731999999999999,8,11.005000000000001,11.368,11.058,9.952,9.3360000000000003,8.2550000000000008,7.4160000000000004,{"$nulls":16},64,"Cymiazole",50,44.670999999999999,44.48,37.956000000000003,47.533999999999999,40.561,39.765999999999998,43.499000000000002,50.534999999999997,39.786999999999999,47.079000000000001,44.365000000000002,40.869,41.881999999999998,41.500999999999998,36.494,{"$nulls":16},64,"Cymiazole",10,9.5850000000000009,8.0350000000000001,11.44,10.384,9.7949999999999999,9.2530000000000001,11.576000000000001,8.6620000000000008,8.7799999999999994,10.948,11.9,11.356999999999999,11.394,11.26,10.125,{"$nulls":16},64,"Cymiazole",50,45.344000000000001,38.734000000000002,47.043999999999997,43.689,46.292000000000002,46.103999999999999,40.558999999999997,48.319000000000003,41.411000000000001,46.405999999999999,44.301000000000002,45.274999999999999,52.637,51.517000000000003,50.01,{"$nulls":16},64,"Cymiazole",10,9.8452000000000002,1.4421404924625116,98.452000000000012,14.648158416919021,"uygun","uygun",10.424200000000001,1.373845042208188,104.24200000000002,13.179381076803859,"uygun","uygun",9.2033999999999985,1.4240599706473172,92.033999999999978,15.473194369986281,"uygun","uygun","--------","--------","--------","--------","uygun değil","uygun değil","--------","--------","--------","--------","uygun değil","uygun değil","--------","--------","--------","--------","uygun değil","uygun değil",null,64,"Cymiazole",50,43.040399999999998,3.7723432107908721,86.080799999999996,8.764656487372033,"uygun","uygun",44.133200000000002,4.691078788509099,88.266400000000004,10.629364715246343,"uygun","uygun",41.022200000000005,2.8579224447139921,82.04440000000001,6.9667702968490035,"uygun","uygun","--------","--------","--------","--------","uygun değil","uygun değil","--------","--------","--------","--------","uygun değil","uygun değil","--------","--------","--------","--------","uygun değil","uygun değil",{"$nulls":31},64,"Cymiazole",10,7.8145600000000068E-3,9.1202499999999843E-3,2.8527210000000018E-2,3.4262010000000016E-2,4.664890000000004E-3,1.0322559999999982E-2,5.3582399999999898E-3,3.999999999999998E-2,1.0100250000000007E-2,1.871424000000001E-2,1.1193639999999977E-2,2.3040000000000254E-5,4.4089600000000017E-3,3.0450249999999957E-2,6.6770559999999979E-2,"","","","","","","","","","","","","","","",1.1359296400000002E-2,1.2188160000000012E-2,5.8023174399999995E-2,2.432462400000003E-3,3.5637888399999977E-2,4.1893902400000037E-2,1.6905200399999976E-2,1.1448999999999855E-4,4.1722147600000002E-2,3.4128964000000031E-3,1.270128999999998E-2,3.3350064400000004E-2,2.6360769600000021E-2,2.8893200400000006E-2,7.2964814400000008E-2,"","","","","","","","","","","","","","","",1.7222499999999892E-3,3.8612250000000001E-2,2.0735999999999973E-2,1.4745599999999991E-3,4.2024999999999848E-4,5.5800899999999985E-3,2.4837759999999987E-2,1.7902439999999978E-2,1.4884000000000026E-2,8.98704E-3,3.6099999999999979E-2,1.8414489999999981E-2,1.9432359999999992E-2,1.5875999999999973E-2,1.5624999999999889E-4,"","","","","","","","","","","","","","","",8.671334399999996E-3,5.0769102399999981E-2,3.4951744000000073E-3,1.5931488399999999E-2,5.4997056000000008E-3,6.0715263999999982E-3,3.5652992400000035E-2,1.1303043999999988E-3,2.9508368399999978E-2,5.166734400000008E-3,1.2991440399999993E-2,8.9302500000000059E-3,2.781507600000001E-3,9.2051560000000205E-4,3.9999999999991186E-8,"","","","","","","","","","","","","","","",60,1.0923466419999996,0.13492878627878729,null,64,"Cymiazole",10,10.246,10.322666666666667,10.498666666666667,10.141333333333334,10.289333333333333,3,5,-0.66099999999999959,-2.2876666666666665,0.94133333333333269,0.24266666666666659,-0.49433333333333351,-0.99300000000000033,1.2533333333333339,-1.836666666666666,-1.3613333333333344,0.65866666666666696,1.6539999999999999,1.0343333333333327,0.89533333333333331,1.118666666666666,-0.16433333333333344,"","","","","","","","","","","","","","","",10.2996,102.996,5.1139733333333243E-2,20.962612666666665,10,2.0962612666666667,0,2.0962612666666667,1.4478471143966365,0.14057314016045638,14.057314016045638,15,"UYGUN  ","UYGUN  ",0.27665130828399842,null,64,"Cymiazole",50,45.249666666666677,41.522666666666673,49.333333333333336,45.538999999999994,47.569333333333333,3,5,9.4333333333324276E-2,-2.7886666666666713,-2.2893333333333388,-1.8499999999999943,-1.2773333333333312,0.85433333333332229,-0.96366666666667555,-1.0143333333333331,-4.127999999999993,-1.163333333333334,-0.94866666666667498,3.7523333333333255,3.3036666666666648,5.9780000000000086,2.4406666666666652,"","","","","","","","","","","","","","","",45.842799999999997,91.685599999999994,25.704295433333293,106.74935266666667,10,10.674935266666667,5.0097867222222083,15.684721988888874,3.9603941708987596,8.6390756474272079E-2,8.6390756474272088,15,"UYGUN  ","UYGUN  ",0.10448707925875776,0.11667084155599526]
[67,"DELTAMETHRIN","GC-MS/MS",486360,368490,null,982801,1173965,null,2016585,1751658,null,4724105,5206870,null,9777125,9726306,null,19178430,18920414,{"$nulls":8},67,"DELTAMETHRIN",10,8.1539999999999999,11.451000000000001,11.164999999999999,8.3339999999999996,8.6959999999999997,10.164999999999999,10.346,7.9530000000000003,9.8620000000000001,11.084,11.606999999999999,10.585000000000001,10.955,9.7889999999999997,8.6039999999999992,{"$nulls":16},67,"Deltamethrin",50,48.213000000000001,51.061,35.229999999999997,50.747,51.738999999999997,35.043999999999997,44.694000000000003,42.965000000000003,40.411999999999999,40.698,49.033000000000001,40.353999999999999,41.411999999999999,43.19,41.75,{"$nulls":16},67,"DELTAMETHRIN",10,8.5969999999999995,8.5760000000000005,8.7409999999999997,9.1340000000000003,8.9179999999999993,8.2910000000000004,8.33,9.9589999999999996,11.742000000000001,9.0370000000000008,9.5229999999999997,11.901,9.6010000000000009,10.773999999999999,11.286,{"$nulls":16},67,"DELTAMETHRIN",50,43.643000000000001,35.292999999999999,41.225999999999999,39.786999999999999,39.579000000000001,42.113,36.139000000000003,41.457999999999998,35.057000000000002,35.043999999999997,35.04,50.451999999999998,53.082999999999998,49.13,54.936999999999998,{"$nulls":16},67,"DELTAMETHRIN",10,9.5599999999999987,1.6107695365880239,95.59999999999998,16.84905373000025,"uygun","uygun",9.8819999999999997,1.1685065254417784,98.82,11.824595481094702,"uygun","uygun",10.308,1.1571209962661642,103.08,11.225465621518861,"uygun","uygun","--------","--------","--------","--------","uygun değil","uygun değil","--------","--------","--------","--------","uygun değil","uygun değil","--------","--------","--------","--------","uygun değil","uygun değil",null,67,"DELTAMETHRIN",50,47.397999999999996,6.9318485990391165,94.795999999999992,14.624770241442924,"uygun","uygun",40.762600000000006,3.6447205379836762,81.525200000000012,8.9413347970533668,"uygun","uygun",43.147800000000004,3.4427287433081339,86.295600000000007,7.9789206942373276,"uygun","uygun","--------","--------","--------","--------","uygun değil","uygun değil","--------","--------","--------","--------","uygun değil","uygun değil","--------","--------","--------","--------","uygun değil","uygun değil",{"$nulls":31},67,"DELTAMETHRIN",10,3.4077159999999995E-2,2.1054010000000001E-2,1.3572249999999959E-2,2.7755560000000026E-2,1.7004160000000018E-2,2.7224999999999868E-4,1.1971599999999975E-3,4.1902089999999996E-2,1.9044000000000095E-4,1.1750560000000011E-2,2.582448999999995E-2,3.4222499999999995E-3,9.1202499999999843E-3,4.452100000000003E-4,1.9488160000000015E-2,"","","","","","","","","","","","","","","",1.2773475999999996E-3,4.502884000000007E-4,8.726116000000006E-2,2.232035999999986E-4,1.2096484000000023E-3,8.9472774400000038E-2,1.1261454399999999E-2,1.9796489999999983E-2,3.6771897600000013E-2,3.4610881599999997E-2,3.740356000000009E-4,3.7218126399999996E-2,2.950149760000001E-2,1.8550440000000026E-2,2.7225000000000013E-2,"","","","","","","","","","","","","","","",1.9684090000000026E-2,2.0277759999999992E-2,1.5850810000000003E-2,7.4995600000000015E-3,1.1707240000000016E-2,2.9206809999999979E-2,2.7889000000000011E-2,1.6809999999999939E-5,3.0345640000000045E-2,9.273689999999989E-3,2.2752900000000071E-3,3.6138009999999977E-2,1.5920099999999948E-3,5.9907599999999865E-3,1.6537960000000011E-2,"","","","","","","","","","","","","","","",1.6164579600000006E-2,8.6518339600000035E-2,3.0793230399999989E-2,4.1722147600000002E-2,4.3438896399999975E-2,2.4881907599999996E-2,7.6850928399999949E-2,2.9186305599999997E-2,8.9317299599999941E-2,8.9472774400000038E-2,8.9520640000000012E-2,8.1721599999998862E-5,3.8019556000000059E-3,3.0275999999999898E-4,9.7495876000000103E-3,"","","","","","","","","","","","","","","",60,1.4883687595999999,0.15749966981975971,null,67,"DELTAMETHRIN",10,8.8036666666666665,9.6023333333333323,9.4336666666666673,10.549999999999999,9.7469999999999999,3,5,-0.206666666666667,-1.0263333333333318,-0.69266666666666765,-1.4159999999999986,-0.82900000000000063,-0.51266666666666616,-1.2723333333333322,0.52533333333333232,1.1920000000000019,-0.70999999999999908,0.71933333333333316,2.2986666666666675,0.16733333333333356,0.2240000000000002,1.5389999999999997,"","","","","","","","","","","","","","","",9.6273333333333326,96.273333333333326,1.1866443333333319,16.598759999999995,10,1.6598759999999995,0,1.6598759999999995,1.2883617504412337,0.1338233242616059,13.382332426160589,15,"UYGUN  ","UYGUN  ",0.25072154962997684,null,67,"DELTAMETHRIN",50,40.265333333333331,40.628,45.255666666666663,41.324666666666666,43.186666666666667,3,5,3.3776666666666699,-5.3350000000000009,-4.0296666666666638,-1.5376666666666665,-3.6076666666666668,1.8476666666666688,-4.4889999999999972,-3.7976666666666645,-6.2676666666666634,-8.1426666666666705,-5.2253333333333316,9.8239999999999981,7.8273333333333355,7.805333333333337,11.75033333333333,"","","","","","","","","","","","","","","",42.132066666666667,84.264133333333334,12.950897066666661,599.13847266666664,10,59.913847266666664,0,59.913847266666664,7.7404035596774063,0.18371763295915716,{"$f":"SM77*100","v":18.371763295915716},15,"UYGUN  ","UYGUN  ",0.47253036124161829,0.16071846623294803]
[70,"Diazinon","GC-MS/MS",2840592,2082654,null,7139237,7014472,null,15554470,15533026,null,50636620,53680141,null,101362021,103731343,null,233954429,241181268,{"$nulls":8},70,"Diazinon",10,9.3070000000000004,11.786,11.159000000000001,9.1790000000000003,9.4060000000000006,10.823,11.952999999999999,8.9280000000000008,11.093999999999999,11.522,11.680999999999999,8.1859999999999999,10.224,8.7140000000000004,7.8860000000000001,{"$nulls":16},70,"Diazinon",50,47.42,46.918999999999997,42.029000000000003,49.537999999999997,41.347999999999999,41.828000000000003,44.695,50.441000000000003,38.353999999999999,48.128999999999998,48.786000000000001,45.695999999999998,48.878999999999998,46.655999999999999,38.414999999999999,{"$nulls":16},70,"Diazinon",10,10.375,9.8719999999999999,11.355,11.776999999999999,10.94,10.426,10.781000000000001,10.407999999999999,10.581,11.445,10.611000000000001,10.24,9.2129999999999992,8.1029999999999998,8.6560000000000006,{"$nulls":16},70,"Diazinon",50,50.959000000000003,43.496000000000002,51.959000000000003,41.939,38.238999999999997,42.552,36.093000000000004,52.795000000000002,43.494999999999997,51.213000000000001,37.362000000000002,45.408999999999999,56.192,43.758000000000003,38.426000000000002,{"$nulls":16},70,"Diazinon",10,10.167400000000001,1.2145049608791139,101.67399999999999,11.945088821912325,"uygun","uygun",10.864000000000001,1.1642123947115486,108.64,10.716240746608511,"uygun","uygun",9.3382000000000005,1.5889799243539773,93.382000000000005,17.015912320939552,"uygun","uygun","--------","--------","--------","--------","uygun değil","uygun değil","--------","--------","--------","--------","uygun değil","uygun değil","--------","--------","--------","--------","uygun değil","uygun değil",null,70,"Diazinon",50,45.450800000000001,3.5805113740916936,90.901600000000002,7.8777741515918169,"uygun","uygun",44.689399999999992,4.8279572595456974,89.378799999999984,10.803361109224332,"uygun","uygun",45.686399999999999,4.2899210132588683,91.372799999999998,9.3899300738488218,"uygun","uygun","--------","--------","--------","--------","uygun değil","uygun değil","--------","--------","--------","--------","uygun değil","uygun değil","--------","--------","--------","--------","uygun değil","uygun değil",{"$nulls":31},70,"Diazinon",10,4.8024899999999883E-3,3.1897959999999954E-2,1.3432810000000026E-2,6.7404099999999918E-3,3.5283599999999878E-3,6.7732900000000065E-3,3.814209000000001E-2,1.1491839999999991E-2,1.1968359999999987E-2,2.3164840000000034E-2,2.8257609999999971E-2,3.2905960000000005E-2,5.0175999999999888E-4,1.6537959999999984E-2,4.4689960000000015E-2,"","","","","","","","","","","","","","","",2.6625599999999978E-3,3.797024400000001E-3,2.5414736399999967E-2,8.5377600000000482E-5,2.9942841599999988E-2,2.6712633599999973E-2,1.1257209999999995E-2,7.7792400000000885E-5,5.4251726400000005E-2,1.4002564000000007E-3,5.8951839999999843E-4,7.4097664000000079E-3,5.0265639999999979E-4,4.4729344000000067E-3,5.3684890000000006E-2,"","","","","","","","","","","","","","","",1.4062500000000067E-3,1.6384000000000087E-4,1.8360249999999988E-2,3.1577289999999987E-2,8.8359999999999741E-3,1.8147599999999975E-3,6.0996100000000088E-3,1.6646399999999957E-3,3.3756100000000046E-3,2.088025000000002E-2,3.7332100000000189E-3,5.7600000000000099E-4,6.1936900000000164E-3,3.5986089999999991E-2,1.806335999999999E-2,"","","","","","","","","","","","","","","",3.6787239999999904E-4,1.6920806399999992E-2,1.5350723999999994E-3,2.599188840000001E-2,5.5328448400000042E-2,2.2189081599999994E-2,7.7361859599999971E-2,3.1248100000000069E-3,1.6926010000000026E-2,5.8854759999999752E-4,6.3887617599999988E-2,8.4309124000000023E-3,1.5336345599999988E-2,1.5585025599999988E-2,5.3582990399999961E-2,"","","","","","","","","","","","","","","",60,1.0329857628000001,0.13121139195969228,null,70,"Diazinon",10,10.470666666666668,10.297666666666666,10.325333333333333,10.153666666666666,10.347,3,5,-9.5666666666668121E-2,-0.42566666666666642,1.0296666666666674,1.6233333333333331,0.59299999999999997,-4.4666666666667965E-2,0.48333333333333428,8.2666666666666444E-2,0.42733333333333334,1.0980000000000008,0.14033333333333253,-5.7666666666666089E-2,-1.1123333333333338,-2.0506666666666664,-1.6909999999999989,"","","","","","","","","","","","","","","",10.318866666666667,103.18866666666666,3.8712766666667106E-2,14.193094666666667,10,1.4193094666666668,0,1.4193094666666668,1.1913477521977649,0.11545335264833007,11.545335264833007,15,"UYGUN  ","UYGUN  ",0.18661267292835529,null,70,"Diazinon",50,43.624333333333333,41.665999999999997,53.648666666666664,43.064,42.625999999999998,3,5,7.3346666666666707,1.8300000000000054,-1.6896666666666604,-1.125,-4.3870000000000005,-1.0723333333333329,-5.5729999999999933,-0.85366666666666191,0.43099999999999739,8.5870000000000033,-6.2623333333333306,3.7430000000000021,2.5433333333333366,0.69400000000000261,-4.1999999999999957,"","","","","","","","","","","","","","","",44.925799999999995,89.851599999999991,72.872920266666654,265.18895533333335,10,26.518895533333335,15.451341577777773,41.970237111111111,6.4784440347286409,0.14420319804496839,14.42031980449684,15,"UYGUN  ","UYGUN  ",0.2911238725695493,0.13062166543903816]
[71,"Dichlobenil","GC-MS/MS",207834,200636,null,501501,512283,null,938368,906812,null,2018208,1912699,null,3850813,3887592,null,6520525,7269173,{"$nulls":8},71,"Dichlobenil",10,10.334,11.243,11.563000000000001,9.3490000000000002,10.414999999999999,11.182,11.74,9.0350000000000001,10.06,11.141,11.446999999999999,9.7870000000000008,10.427,9.3190000000000008,8.6880000000000006,{"$nulls":16},71,"Dichlobenil",50,45.081000000000003,50.076999999999998,41.901000000000003,48.613,45.073,41.972000000000001,46.22,53.335000000000001,40.418999999999997,53.23,48.26,46.109000000000002,45.406999999999996,46.167000000000002,38.296999999999997,{"$nulls":16},71,"Dichlobenil",10,11.211,9.6020000000000003,10.907,11.076000000000001,11.792,10.551,11.551,10.242000000000001,10.807,10.837,7.915,7.48,7.3890000000000002,8.81,7.5250000000000004,{"$nulls":16},71,"Dichlobenil",50,49.72,43.314999999999998,48.761000000000003,46.938000000000002,41.274999999999999,45.46,40.963000000000001,49.124000000000002,46.265999999999998,54.991999999999997,40.978999999999999,40.518000000000001,58.389000000000003,38.972000000000001,42.19,{"$nulls":16},71,"Dichlobenil",10,10.5808,0.86731724299704793,105.80799999999999,8.1970856929253735,"uygun","uygun",10.631600000000001,1.0801431849528098,106.31600000000002,10.159742512442245,"uygun","uygun",9.933600000000002,1.0588398368025254,99.336000000000027,10.659175291963892,"uygun","uygun","--------","--------","--------","--------","uygun değil","uygun değil","--------","--------","--------","--------","uygun değil","uygun değil","--------","--------","--------","--------","uygun değil","uygun değil",null,71,"Dichlobenil",50,46.149000000000001,3.2343617608424675,92.298000000000002,7.0085197097282004,"uygun","uygun",47.035200000000003,6.085591072360975,94.070400000000006,12.93837609356604,"uygun","uygun",44.847999999999999,3.8144366556544109,89.695999999999998,8.505254761983613,"uygun","uygun","--------","--------","--------","--------","uygun değil","uygun değil","--------","--------","--------","--------","uygun değil","uygun değil","--------","--------","--------","--------","uygun değil","uygun değil",{"$nulls":31},71,"Dichlobenil",10,1.1155599999999916E-3,1.545049000000002E-2,2.4429690000000032E-2,4.2380099999999917E-3,1.7222499999999892E-3,1.397124000000002E-2,3.0275999999999977E-2,9.3122500000000063E-3,3.6000000000000062E-5,1.3018810000000021E-2,2.0938089999999951E-2,4.5368999999999466E-4,1.8232899999999965E-3,4.6376099999999917E-3,1.7213439999999997E-2,"","","","","","","","","","","","","","","",9.678624399999983E-3,2.3715999999996145E-6,2.6237520399999967E-2,7.6950759999999923E-4,9.7101315999999927E-3,2.5779513599999977E-2,5.7153600000000001E-3,4.4488899999999979E-3,3.6718224400000006E-2,4.1731599999999987E-3,1.2110400000000037E-3,6.0559524E-3,8.4382596000000098E-3,5.8767555999999924E-3,5.4784083600000019E-2,"","","","","","","","","","","","","","","",1.4665209999999996E-2,1.5840399999999958E-3,8.2264900000000012E-3,1.1577760000000031E-2,3.2112640000000012E-2,3.0360099999999918E-3,2.4056010000000006E-2,5.8564000000000001E-4,6.5124899999999993E-3,7.0056899999999811E-3,4.3472250000000011E-2,6.3504000000000005E-2,6.8173209999999998E-2,1.4160999999999998E-2,6.125624999999997E-2,"","","","","","","","","","","","","","","",3.1360000000000554E-5,1.787569000000001E-2,6.1404839999999565E-4,3.7503375999999953E-3,3.0450249999999995E-2,8.2446399999999993E-3,3.2666947600000003E-2,3.0695039999999928E-4,5.5771024000000119E-3,9.9680255999999856E-3,3.2551376400000012E-2,3.596332960000001E-2,2.8150128400000012E-2,4.8646713599999988E-2,2.439844E-2,"","","","","","","","","","","","","","","",60,0.99735984479999995,0.12892891095483588,null,71,"Dichlobenil",10,9.8923333333333332,9.5443333333333324,9.5126666666666662,10.231000000000002,10.051333333333332,3,5,1.3186666666666671,5.7666666666667865E-2,1.3943333333333339,0.84499999999999886,1.7406666666666677,0.65866666666666696,2.0066666666666677,0.72933333333333472,0.57599999999999874,0.78566666666666762,-1.9773333333333332,-2.064333333333332,-2.1236666666666659,-1.4210000000000012,-2.5263333333333318,"","","","","","","","","","","","","","","",9.8463333333333338,98.463333333333338,0.29598516666666791,34.454726666666666,10,3.4454726666666664,0,3.4454726666666664,1.8561984448508371,0.18851671805249029,18.85167180524903,15,"UYGUN  ","UYGUN  ",0.49753974179394966,null,71,"Dichlobenil",50,45.386333333333333,41.598666666666666,52.091333333333331,44.058666666666674,46.152333333333331,3,5,4.3336666666666659,1.7163333333333313,-3.3303333333333285,2.879333333333328,-4.8773333333333326,7.3666666666667879E-2,-0.63566666666666549,-2.9673333333333289,2.2073333333333238,8.8396666666666661,-4.4073333333333338,-1.0806666666666658,6.2976666666666716,-5.0866666666666731,-3.9623333333333335,"","","","","","","","","","","","","","","",45.857466666666667,91.714933333333335,45.40729909999996,258.95041733333329,10,25.895041733333329,6.5040857888888768,32.399127522222209,5.6920231484264194,0.12412423891186937,12.412423891186936,15,"UYGUN  ","UYGUN  ",0.21569557359631158,0.15960165987660177]
[74,"Dichlormid","GC-MS/MS",5131053,4503509,null,11789681,12454659,null,20298608,23021706,null,57562659,59048246,null,114124596,110921656,null,227219197,203287629,{"$nulls":8},74,"Dichlormid",10,9.7899999999999991,10.807,11.525,9.9600000000000009,10.673,11.164999999999999,11.273999999999999,9.4640000000000004,9.7829999999999995,9.4909999999999997,11.08,8.0440000000000005,10.385,9.3949999999999996,9.4550000000000001,{"$nulls":16},74,"Dichlormid",50,43.313000000000002,51.093000000000004,44.003,46.198,43.83,41.81,44.795000000000002,50.622,39.125999999999998,52.564,52.887999999999998,53.558,51.732999999999997,52.875999999999998,41.478000000000002,{"$nulls":16},74,"Dichlormid",10,10.736000000000001,9.6180000000000003,9.3059999999999992,11.055,11.179,10.28,11.095000000000001,10.058,11.013,10.122,9.5009999999999994,8.6950000000000003,8.7420000000000009,9.8409999999999993,11.335000000000001,{"$nulls":16},74,"Dichlormid",50,47.506999999999998,37.997,45.777999999999999,45.954000000000001,35.076999999999998,41.465000000000003,36.158999999999999,42.442999999999998,41.951000000000001,51.491999999999997,37.494,36.323999999999998,37.935000000000002,39.177,36.125999999999998,{"$nulls":16},74,"Dichlormid",10,10.551,0.69955307161072511,105.50999999999999,6.6302063464195342,"uygun","uygun",10.2354,0.90784101030962416,102.35400000000001,8.8696192655843848,"uygun","uygun",9.6717999999999993,1.1472831821307328,96.717999999999989,11.862147502333928,"uygun","uygun","--------","--------","--------","--------","uygun değil","uygun değil","--------","--------","--------","--------","uygun değil","uygun değil","--------","--------","--------","--------","uygun değil","uygun değil",null,74,"Dichlormid",50,45.687400000000004,3.2173800366136431,91.374800000000008,7.0421605007368395,"uygun","uygun",45.7834,5.7112696311766289,91.566800000000001,12.474542369454058,"uygun","uygun",50.506600000000006,5.0895932843401139,101.0132,10.077085538009118,"uygun","uygun","--------","--------","--------","--------","uygun değil","uygun değil","--------","--------","--------","--------","uygun değil","uygun değil","--------","--------","--------","--------","uygun değil","uygun değil",{"$nulls":31},74,"Dichlormid",10,4.4100000000000546E-4,6.5124899999999993E-3,2.3256250000000023E-2,1.5999999999999139E-5,4.5292899999999888E-3,1.3572249999999959E-2,1.623075999999999E-2,2.8729599999999978E-3,4.7089000000000229E-4,2.5908100000000059E-3,1.1664000000000022E-2,3.8259359999999999E-2,1.4822499999999983E-3,3.6602499999999999E-3,2.9702499999999994E-3,"","","","","","","","","","","","","","","",1.7886387599999991E-2,4.7785959999999957E-4,1.4385603600000012E-2,5.7820815999999999E-3,1.5227560000000017E-2,2.6830439999999983E-2,1.0836809999999994E-2,1.5475360000000016E-4,4.7297550400000006E-2,2.6296383999999994E-3,3.3362176000000039E-3,5.0637455999999843E-3,1.201315599999994E-3,3.3085504000000018E-3,2.9049793599999974E-2,"","","","","","","","","","","","","","","",5.4169600000000158E-3,1.459240000000001E-3,4.8163600000000178E-3,1.1130249999999984E-2,1.3900410000000028E-2,7.8400000000000138E-4,1.1990250000000034E-2,3.3640000000000315E-5,1.0261689999999988E-2,1.4883999999999972E-4,2.4900100000000056E-3,1.7030249999999986E-2,1.5825639999999978E-2,2.5281000000000083E-4,1.7822250000000046E-2,"","","","","","","","","","","","","","","",2.4860196000000014E-3,5.7628803600000021E-2,7.1301136000000119E-3,6.5480463999999985E-3,8.9078371600000039E-2,2.9138489999999986E-2,7.6629312400000038E-2,2.2843299600000016E-2,2.5914560400000005E-2,8.9042559999999199E-4,6.2560014400000002E-2,7.4813190399999993E-2,5.8225689999999983E-2,4.6854931599999997E-2,7.6995150400000031E-2,"","","","","","","","","","","","","","","",60,1.0630961372000001,0.13310998818020131,null,74,"Dichlormid",10,10.172333333333333,9.8026666666666671,9.368666666666666,10.636333333333333,10.878666666666668,3,5,0.56366666666666809,-0.18466666666666676,-6.266666666666687E-2,0.41866666666666674,0.30033333333333267,0.1076666666666668,1.2923333333333336,0.6893333333333338,0.37666666666666693,-0.75666666666666771,-0.67133333333333312,-1.1076666666666668,-0.62666666666666515,-0.79533333333333367,0.45633333333333326,"","","","","","","","","","","","","","","",10.171733333333334,101.71733333333334,1.1225509000000014,6.4036713333333362,10,0.64036713333333362,0.16072792222222257,0.80109505555555616,0.89503913632620347,8.7992784218311207E-2,{"$f":"QI84*100","v":8.7992784218311204},15,"UYGUN  ","UYGUN  ",0.10839822104286388,null,74,"Dichlormid",50,42.155333333333338,36.826666666666668,42.052,42.360666666666667,40.898333333333333,3,5,5.3516666666666595,1.1703333333333319,3.7259999999999991,3.5933333333333337,-5.8213333333333352,-0.69033333333333502,-0.66766666666666907,0.39099999999999824,-0.4096666666666664,10.593666666666664,-4.6613333333333387,-0.50266666666666993,-4.1169999999999973,-3.1836666666666673,-4.7723333333333358,"","","","","","","","","","","","","","","",40.858600000000003,81.717200000000005,16.214992733333332,276.00316866666657,10,27.600316866666656,0,27.600316866666656,5.2536003718085231,0.12858003876316179,12.858003876316179,15,"UYGUN  ","UYGUN  ",0.23145956915670662,0.1101715853630746]
[78,"Dicofol, o,p","GC-MS/MS",1819855,1608892,null,3964277,5183857,null,7609566,8101319,null,22118234,23632711,null,47313986,45330949,null,97844168,95274861,{"$nulls":8},78,"Dicofol, o,p",10,8.6829999999999998,10.384,11.081,8.3219999999999992,9.2029999999999994,9.8770000000000007,10.439,8.0210000000000008,10.848000000000001,11.523999999999999,11.074999999999999,10.881,9.9260000000000002,8.6929999999999996,7.81,{"$nulls":16},78,"Dicofol, o,p",50,46.847000000000001,46.695,39.9,51.526000000000003,44.341999999999999,42.518999999999998,45.29,53.723999999999997,43.186999999999998,51.259,47.276000000000003,44.363999999999997,46.939,43.878999999999998,38.063000000000002,{"$nulls":16},78,"Dicofol, o,p",10,9.6750000000000007,8.1050000000000004,11.849,10.414999999999999,10.552,8.8179999999999996,10.000999999999999,8.7129999999999992,8.8800000000000008,10.605,11.558999999999999,10.516999999999999,9.0709999999999997,11.081,9.4600000000000009,{"$nulls":16},78,"Dicofol, o,p",50,49.161000000000001,40.981000000000002,48.345999999999997,43.076999999999998,47.475000000000001,46.646000000000001,40.94,48.316000000000003,42.904000000000003,49.192,52.639000000000003,49.795000000000002,57.344999999999999,57.131999999999998,40.143000000000001,{"$nulls":16},78,"Dicofol, o,p",10,9.5346000000000011,1.1638742629682837,95.346000000000004,12.206849400795877,"uygun","uygun",10.1418,1.3290442806768912,101.41800000000001,13.104619305023677,"uygun","uygun",9.6769999999999996,1.4071217076003095,96.77,14.540887750339046,"uygun","uygun","--------","--------","--------","--------","uygun değil","uygun değil","--------","--------","--------","--------","uygun değil","uygun değil","--------","--------","--------","--------","uygun değil","uygun değil",null,78,"Dicofol, o,p",50,45.862000000000002,4.23086439158714,91.724000000000004,9.2252069067793379,"uygun","uygun",47.195799999999998,5.0175192774916173,94.391599999999997,10.63128345634912,"uygun","uygun",44.104200000000006,3.6983345846475273,88.208400000000012,8.385447609632477,"uygun","uygun","--------","--------","--------","--------","uygun değil","uygun değil","--------","--------","--------","--------","uygun değil","uygun değil","--------","--------","--------","--------","uygun değil","uygun değil",{"$nulls":31},78,"Dicofol, o,p",10,1.7344890000000009E-2,1.4745599999999991E-3,1.168560999999997E-2,2.815684000000002E-2,6.3520900000000168E-3,1.5128999999999945E-4,1.9272100000000045E-3,3.9164409999999983E-2,7.1910399999999975E-3,2.322575999999996E-2,1.1556249999999985E-2,7.7616100000000117E-3,5.4759999999999442E-5,1.7082490000000009E-2,4.7961000000000038E-2,"","","","","","","","","","","","","","","",3.9765636000000009E-3,4.3692100000000062E-3,4.0804000000000028E-2,9.3147040000000631E-4,1.2805185600000008E-2,2.2386144400000026E-2,8.8736400000000108E-3,5.5472703999999819E-3,1.8566787600000013E-2,6.3403239999999903E-4,2.9680703999999968E-3,1.270579840000001E-2,3.7478884000000062E-3,1.498665640000002E-2,5.699678759999998E-2,"","","","","","","","","","","","","","","",1.0562499999999982E-3,3.5910249999999998E-2,3.4188010000000026E-2,1.7222499999999892E-3,3.0470399999999909E-3,1.397124000000002E-2,9.9999999999977966E-9,1.6563690000000009E-2,1.2543999999999972E-2,3.6602499999999999E-3,2.4304809999999979E-2,2.6728899999999851E-3,8.6304099999999963E-3,1.168560999999997E-2,2.9159999999999933E-3,"","","","","","","","","","","","","","","",2.8156840000000057E-4,3.2536944399999997E-2,1.0942864000000072E-3,1.9171171600000009E-2,2.5502499999999991E-3,4.4997264000000035E-3,3.2833440000000012E-2,1.1343423999999954E-3,2.0141286399999982E-2,2.6114559999999848E-4,2.7857284000000052E-3,1.6809999999999939E-5,2.1579610000000009E-2,2.0346169599999964E-2,3.8864179599999993E-2,"","","","","","","","","","","","","","","",60,0.80235868480000017,0.11564015196577125,null,78,"Dicofol, o,p",10,10.017333333333333,9.5410000000000004,9.8776666666666646,10.125333333333334,10.205666666666668,3,5,-0.34233333333333249,-1.4359999999999999,1.9713333333333356,0.28966666666666541,0.34633333333333205,-1.1993333333333336,0.45999999999999908,-1.1646666666666654,-1.245333333333333,0.39933333333333287,1.5416666666666661,0.97599999999999909,-0.80666666666666487,0.95566666666666578,-0.7456666666666667,"","","","","","","","","","","","","","","",9.9534000000000002,99.534000000000006,0.20482223333333377,16.43540866666666,10,1.643540866666666,0,1.643540866666666,1.2820065782462531,0.12880086987825798,12.880086987825798,15,"UYGUN  ","UYGUN  ",0.23225529713954318,null,78,"Dicofol, o,p",50,49.481999999999999,43.905333333333338,51.335666666666668,47.704333333333331,45.603333333333332,3,5,-0.32099999999999795,-2.9243333333333368,-2.9896666666666718,-4.6273333333333326,1.8716666666666697,-2.8359999999999985,-2.9653333333333407,-3.0196666666666658,-4.8003333333333273,3.5886666666666684,3.1570000000000036,5.8896666666666633,6.0093333333333305,9.4276666666666671,-5.460333333333331,"","","","","","","","","","","","","","","",47.606133333333332,95.212266666666665,26.358799766666646,303.84748466666662,10,30.384748466666661,0,30.384748466666661,5.5122362491702637,0.11578836303663108,11.578836303663108,15,"UYGUN  ","UYGUN  ",0.18769723020583745,0.12246756528995466]
[81,"Diethofencarb","GC-MS/MS",42750,45243,null,128188,140732,null,222777,242935,null,698196,749651,null,1503202,1465409,null,2960983,2732392,{"$nulls":8},81,"Diethofencarb",10,9.4649999999999999,11.818,11.523999999999999,9.1989999999999998,10.132999999999999,10.619,11.14,9.7840000000000007,11.659000000000001,10.621,11.173,10.545999999999999,9.5779999999999994,8.7810000000000006,7.7089999999999996,{"$nulls":16},81,"Diethofencarb",50,42.12,42.197000000000003,43.09,48.756999999999998,43.039000000000001,37.878,42.488,48.110999999999997,40.063000000000002,46.003,43.356000000000002,41.244,45.8,37.741999999999997,36.975000000000001,{"$nulls":16},81,"Diethofencarb",10,11.657999999999999,8.766,11.946999999999999,10.183999999999999,11.648999999999999,9.5150000000000006,11.034000000000001,9.92,10.504,11.667,10.836,10.757999999999999,9.93,11.497999999999999,9.2029999999999994,{"$nulls":16},81,"Diethofencarb",50,42.194000000000003,37.478999999999999,44.456000000000003,41,44.767000000000003,44.518000000000001,40.454000000000001,42.174999999999997,39.061,44.951999999999998,50.625999999999998,51.682000000000002,59.438000000000002,57.029000000000003,56.64,{"$nulls":16},81,"Diethofencarb",10,10.4278,1.1893433902788593,104.27800000000001,11.405506341499255,"uygun","uygun",10.7646,0.69718598666353016,107.646,6.47665483774158,"uygun","uygun",9.5574000000000012,1.3790664596022719,95.574000000000012,14.4293056647443,"uygun","uygun","--------","--------","--------","--------","uygun değil","uygun değil","--------","--------","--------","--------","uygun değil","uygun değil","--------","--------","--------","--------","uygun değil","uygun değil",null,81,"Diethofencarb",50,43.840600000000009,2.785625477338975,87.681200000000018,6.3539857514244211,"uygun","uygun",42.9086,4.1899151900724663,85.8172,9.7647445735178184,"uygun","uygun",41.023399999999995,3.7236649688176828,82.04679999999999,9.0769291887500376,"uygun","uygun","--------","--------","--------","--------","uygun değil","uygun değil","--------","--------","--------","--------","uygun değil","uygun değil","--------","--------","--------","--------","uygun değil","uygun değil",{"$nulls":31},81,"Diethofencarb",10,2.8622499999999993E-3,3.3051239999999989E-2,2.322575999999996E-2,6.4160100000000093E-3,1.7688999999999647E-4,3.8316100000000083E-3,1.2996000000000023E-2,4.6655999999999797E-4,2.7522810000000054E-2,3.8564100000000054E-3,1.375928999999999E-2,2.9811599999999979E-3,1.7808400000000012E-3,1.4859609999999975E-2,5.2486810000000036E-2,"","","","","","","","","","","","","","","",2.4837760000000025E-2,2.4354723599999992E-2,1.9099239999999965E-2,6.180195999999997E-4,1.9382208400000003E-2,5.8777153599999993E-2,2.2572057600000011E-2,1.4273284000000028E-3,3.9497587599999967E-2,6.3904036000000022E-3,1.76570944E-2,3.0667014400000019E-2,7.0560000000000128E-3,6.0103425600000024E-2,6.7860249999999969E-2,"","","","","","","","","","","","","","","",2.7489639999999982E-2,1.5227559999999989E-2,3.790808999999995E-2,3.3855999999999898E-4,2.7192009999999944E-2,2.3522499999999989E-3,1.0691560000000032E-2,6.4000000000000119E-5,2.5401600000000001E-3,2.7788890000000024E-2,6.9889600000000197E-3,5.7456399999999798E-3,4.9000000000000087E-5,2.2440039999999981E-2,6.3520900000000168E-3,"","","","","","","","","","","","","","","",2.4373454399999977E-2,6.2710176399999984E-2,1.2294374399999995E-2,3.2400000000000019E-2,1.0953715599999995E-2,1.202092959999999E-2,3.6450446399999989E-2,2.4492250000000024E-2,4.7864688399999987E-2,1.019292160000001E-2,1.567503999999966E-4,1.1316496000000078E-3,3.5630337600000013E-2,1.9762736400000043E-2,1.7635840000000007E-2,"","","","","","","","","","","","","","","",60,1.1418122376000002,0.13795000529177229,null,81,"Diethofencarb",10,10.669666666666666,10.186,10.598999999999998,10.728666666666667,10.839666666666666,3,5,0.98833333333333329,-1.42,1.3480000000000008,-0.54466666666666796,0.80933333333333302,-1.1546666666666656,0.84800000000000075,-0.67899999999999849,-0.22466666666666768,0.8273333333333337,0.16633333333333411,0.57199999999999918,-0.66899999999999871,0.76933333333333209,-1.6366666666666667,"","","","","","","","","","","","","","","",10.6046,106.04599999999999,0.18760489999999991,13.083307999999999,10,1.3083307999999998,0,1.3083307999999998,1.1438228883878832,0.10786101205023134,10.786101205023133,15,"UYGUN  ","UYGUN  ",0.16287597088700209,null,81,"Diethofencarb",50,45.779333333333334,43.205000000000005,48.689666666666675,45.696666666666665,48.786333333333324,3,5,-3.585333333333331,-5.7260000000000062,-4.2336666666666716,-4.6966666666666654,-4.0193333333333214,-1.261333333333333,-2.7510000000000048,-6.5146666666666775,-6.6356666666666655,-3.8343333333333263,4.846666666666664,8.4769999999999968,10.748333333333328,11.332333333333338,7.8536666666666761,"","","","","","","","","","","","","","","",46.431399999999996,92.862799999999993,16.515120233333302,613.09160666666685,10,61.309160666666685,0,61.309160666666685,7.8300166453633215,0.16863623852314,{"$f":"SM91*100","v":16.863623852313999},15,"UYGUN  ","UYGUN  ",0.39813453320526715,0.14154889413862179]
[84,"Dimethachlor","GC-MS/MS",3780098,3251926,null,8248627,10999415,null,15711098,17625631,null,47802880,54345992,null,105167026,97447707,null,211655564,213564500,{"$nulls":8},84,"Dimethachlor",10,9.3610000000000007,11.458,11.667999999999999,9.3239999999999998,10.128,10.134,11.544,9.6999999999999993,11.045999999999999,11.888999999999999,11.273,9.6679999999999993,9.8460000000000001,9.0239999999999991,8.3019999999999996,{"$nulls":16},84,"Dimethachlor",50,45.363,46.085999999999999,39.335999999999999,49.274999999999999,43.701000000000001,39.03,43.283000000000001,51.302,41.119,47.061999999999998,43.679000000000002,41.996000000000002,46.326999999999998,40.17,38.728999999999999,{"$nulls":16},84,"Dimethachlor",10,10.739000000000001,9.407,11.615,10.863,10.634,9.9039999999999999,10.914,9.3840000000000003,9.6910000000000007,11.052,11.564,10.385999999999999,9.7590000000000003,11.257,9.0269999999999992,{"$nulls":16},84,"Dimethachlor",50,46.82,38.664999999999999,47.337000000000003,39.74,41.287999999999997,41.424999999999997,37.719000000000001,48.228999999999999,40.143000000000001,45.445,50.752000000000002,50.466000000000001,58.46,56.152999999999999,35.548000000000002,{"$nulls":16},84,"Dimethachlor",10,10.3878,1.1222438237744949,103.878,10.803479310099299,"uygun","uygun",10.8626,0.9265440086687734,108.626,8.5296706927326174,"uygun","uygun",9.6226000000000003,1.1043205150679718,96.225999999999999,11.476321525034521,"uygun","uygun","--------","--------","--------","--------","uygun değil","uygun değil","--------","--------","--------","--------","uygun değil","uygun değil","--------","--------","--------","--------","uygun değil","uygun değil",null,84,"Dimethachlor",50,44.752200000000002,3.641705053954809,89.504400000000004,8.1374883334334598,"uygun","uygun",44.359200000000001,4.8878695461315242,88.718400000000003,11.018840615095684,"uygun","uygun",42.180199999999999,2.9760698412503692,84.360399999999998,7.0556086534686164,"uygun","uygun","--------","--------","--------","--------","uygun değil","uygun değil","--------","--------","--------","--------","uygun değil","uygun değil","--------","--------","--------","--------","uygun değil","uygun değil",{"$nulls":31},84,"Dimethachlor",10,4.0832099999999942E-3,2.125763999999998E-2,2.7822239999999946E-2,4.5697599999999991E-3,1.6383999999999802E-4,1.7956000000000211E-4,2.3839360000000028E-2,9.000000000000016E-4,1.0941160000000005E-2,3.5683209999999944E-2,1.6205289999999994E-2,1.1022400000000078E-3,2.3715999999999906E-4,9.5257600000000255E-3,2.8832040000000021E-2,"","","","","","","","","","","","","","","",8.6007076000000088E-3,6.1277584000000024E-3,4.5488358400000012E-2,2.1025000000000199E-4,1.5870960399999995E-2,4.8136359999999968E-2,1.8047235600000003E-2,6.7808160000000332E-4,3.1548864400000001E-2,3.4527376000000041E-3,1.5982016399999993E-2,2.5625606400000001E-2,5.396371600000012E-3,3.8651560000000001E-2,5.0814176400000029E-2,"","","","","","","","","","","","","","","",5.4612100000000115E-3,3.5164900000000023E-3,2.6082249999999991E-2,7.4476900000000077E-3,4.0195600000000158E-3,9.2160000000001015E-5,8.3539599999999867E-3,3.7945599999999985E-3,9.548099999999955E-4,1.1067039999999992E-2,2.4460960000000028E-2,1.4899599999999974E-3,5.8081000000000051E-4,1.580048999999998E-2,9.4672900000000101E-3,"","","","","","","","","","","","","","","",4.0449599999999985E-3,5.1392890000000004E-2,2.8366275999999972E-3,4.2107039999999978E-2,3.0359577600000021E-2,2.9412250000000032E-2,6.0329184399999979E-2,1.2545764000000004E-3,3.8864179599999993E-2,8.2992099999999926E-3,2.2620159999999826E-4,8.6862399999999902E-5,2.8628640000000007E-2,1.5143763599999987E-2,8.3544121599999979E-2,"","","","","","","","","","","","","","","",60,1.0190928395999999,0.13032605518467899,null,84,"Dimethachlor",10,10.735666666666667,10.235666666666665,10.252666666666668,10.603666666666667,10.237666666666668,3,5,3.3333333333338544E-3,-0.82866666666666511,1.3623333333333321,0.25933333333333231,0.39633333333333276,-0.831666666666667,0.67833333333333456,-0.86866666666666781,-0.91266666666666652,0.81433333333333202,0.82833333333333314,0.1503333333333341,-0.49366666666666781,0.65333333333333243,-1.2106666666666683,"","","","","","","","","","","","","","","",10.413066666666669,104.13066666666668,0.17127240000000007,9.0144733333333313,10,0.90144733333333316,0,0.90144733333333316,0.94944580326279449,9.1178308336589381E-2,9.1178308336589389,15,"UYGUN  ","UYGUN  ",0.1163887747557103,null,84,"Dimethachlor",50,46.332333333333338,42.283333333333331,51.342000000000006,45.345333333333336,40.760333333333335,3,5,0.48766666666666225,-3.6183333333333323,-4.0050000000000026,-5.6053333333333342,0.5276666666666614,-4.9073333333333409,-4.5643333333333302,-3.1130000000000067,-5.2023333333333355,4.684666666666665,4.4196666666666644,8.1826666666666696,7.117999999999995,10.807666666666663,-5.2123333333333335,"","","","","","","","","","","","","","","",45.212666666666671,90.425333333333342,50.433185166666725,445.81406466666664,10,44.581406466666664,1.9505929000000204,46.531999366666682,6.821436752376048,0.15087446185529232,15.087446185529233,15,"UYGUN  ","UYGUN  ",0.31868344536173682,0.12465269181057868]
[88,"Diniconazole","GC-MS/MS",198627,234337,null,683755,593482,null,1243204,1414001,null,4079152,3784179,null,7745134,7335509,null,14660046,14964477,{"$nulls":8},88,"Diniconazole",10,8.7870000000000008,11.127000000000001,10.105,7.4969999999999999,9.6690000000000005,10.569000000000001,11.906000000000001,7.7690000000000001,9.4339999999999993,9.782,11.263999999999999,10.888999999999999,9.0139999999999993,8.1449999999999996,7.468,{"$nulls":16},88,"Diniconazole",50,46.348999999999997,46.728000000000002,35.04,55.088999999999999,51.201000000000001,46.402999999999999,49.569000000000003,54.362000000000002,48.256999999999998,53.625999999999998,40.765999999999998,37.969000000000001,41.689,35.978999999999999,35.590000000000003,{"$nulls":16},88,"Diniconazole",10,10.268000000000001,7.1790000000000003,11.175000000000001,11.821,11.9,8.7940000000000005,10.628,8.548,9.9469999999999992,10.635999999999999,11.127000000000001,10.335000000000001,11.228,10.590999999999999,11.34,{"$nulls":16},88,"Diniconazole",50,53.036000000000001,44.756,55.953000000000003,53.006,57.366999999999997,53.476999999999997,51.883000000000003,51.887,46.838999999999999,50.317,47.078000000000003,49.473999999999997,58.448,54.08,35.877000000000002,{"$nulls":16},88,"Diniconazole",10,9.4370000000000012,1.373157674850205,94.37,14.550786000320068,"uygun","uygun",9.8919999999999995,1.5201577220801836,98.92,15.367546725436551,"uygun","uygun",9.3559999999999999,1.6687257114337222,93.56,17.835888322292885,"uygun","uygun","--------","--------","--------","--------","uygun değil","uygun değil","--------","--------","--------","--------","uygun değil","uygun değil","--------","--------","--------","--------","uygun değil","uygun değil",null,88,"Diniconazole",50,46.881399999999999,7.5257786507444013,93.762799999999999,16.052802712257744,"uygun","uygun",50.443400000000004,3.4407165387459635,100.88680000000001,6.8209449377836613,"uygun","uygun",38.398600000000002,2.7549305435890745,76.797200000000004,7.1745598630915559,"uygun","uygun","--------","--------","--------","--------","uygun değil","uygun değil","--------","--------","--------","--------","uygun değil","uygun değil","--------","--------","--------","--------","uygun değil","uygun değil",{"$nulls":31},88,"Diniconazole",10,1.4713689999999991E-2,1.2701290000000006E-2,1.1024999999999903E-4,6.2650089999999978E-2,1.0956099999999938E-3,3.2376100000000197E-3,3.6328360000000039E-2,4.9773609999999982E-2,3.2035600000000107E-3,4.7524000000000183E-4,1.597695999999996E-2,7.9032099999999956E-3,9.7219600000000034E-3,3.4410249999999996E-2,6.4110239999999985E-2,"","","","","","","","","","","","","","","",5.3319204000000127E-3,4.2823935999999922E-3,8.9520640000000012E-2,1.0359168399999997E-2,5.7696039999999662E-4,5.1753636000000007E-3,7.4304399999999322E-5,7.6108175999999974E-3,1.2152196000000002E-3,5.2591503999999878E-3,3.4106702400000022E-2,5.789798439999997E-2,2.7629088400000012E-2,7.8635376399999998E-2,8.3059239999999937E-2,"","","","","","","","","","","","","","","",7.1824000000000844E-4,7.9580410000000004E-2,1.3806250000000037E-2,3.3160409999999974E-2,3.6099999999999979E-2,1.4544359999999984E-2,3.9438399999999962E-3,2.1083039999999997E-2,2.8090000000000875E-5,4.0449599999999846E-3,1.2701290000000006E-2,1.1222500000000056E-3,1.5079840000000006E-2,3.4928099999999916E-3,1.7955999999999972E-2,"","","","","","","","","","","","","","","",3.6869184000000131E-3,1.0999814399999995E-2,1.417528360000004E-2,3.6144143999999943E-3,2.1709075600000009E-2,4.8358115999999913E-3,1.418275600000002E-3,1.4243076000000081E-3,3.9967684000000066E-3,4.0195600000000154E-5,3.4152335999999926E-3,1.1067040000000179E-4,2.8547481600000001E-2,6.6585599999999827E-3,7.9783651599999963E-2,"","","","","","","","","","","","","","","",60,1.1689245124000001,0.13957820462617604,null,88,"Diniconazole",10,10.063000000000001,9.3806666666666683,10.317,10.786333333333333,11.292000000000002,3,5,0.20500000000000007,-2.201666666666668,0.85800000000000054,1.0346666666666664,0.60799999999999876,-1.2690000000000001,1.2473333333333319,-1.7690000000000001,-0.83933333333333415,-0.65600000000000236,1.0640000000000001,0.95433333333333259,0.91099999999999959,-0.19533333333333402,4.7999999999998266E-2,"","","","","","","","","","","","","","","",10.367800000000001,103.678,1.5744237666666661,17.409331333333338,10,1.7409331333333338,0,1.7409331333333338,1.3194442516958924,0.12726366747968637,12.726366747968637,15,"UYGUN  ","UYGUN  ",0.22674457484532254,null,88,"Diniconazole",50,51.197000000000003,48.704333333333331,55.429333333333339,51.308333333333337,47.853666666666669,3,5,1.8389999999999986,-3.9483333333333306,0.52366666666666362,1.6976666666666631,9.5133333333333283,2.279999999999994,3.1786666666666719,-3.5423333333333389,-4.4693333333333385,2.4633333333333312,-4.1189999999999998,0.76966666666666583,3.0186666666666611,2.7716666666666612,-11.976666666666667,"","","","","","","","","","","","","","","",50.898533333333333,101.79706666666665,26.153170266666706,344.31804266666654,10,34.431804266666653,0,34.431804266666653,5.867861984289223,0.11528548270459443,11.528548270459444,15,"UYGUN  ","UYGUN  ",0.18607039531403879,0.12142236940286481]
[91,"Diofenolan","GC-MS/MS",6235842,5668755,null,13440690,17675432,null,24706654,28212392,null,73569194,82637334,null,147168576,135882275,null,283032959,246419661,{"$nulls":8},91,"Diofenolan",10,9.5559999999999992,11.065,11.561,7.952,9.3119999999999994,11.250999999999999,10.996,8.6010000000000009,11.052,10.917999999999999,11.622,11.56,9.43,8.1590000000000007,7.6669999999999998,{"$nulls":16},91,"Diofenolan",50,45.411000000000001,38.524000000000001,39.314,57.164000000000001,41.210999999999999,47.466999999999999,40.152000000000001,45.06,50.731999999999999,43.363999999999997,41.677,38.65,40.210999999999999,42.203000000000003,45.143999999999998,{"$nulls":16},91,"Diofenolan",10,10.535,8.2829999999999995,11.016999999999999,11.856,11.763999999999999,9.5020000000000007,10.327,9.02,10.055,11.92,10.183,9.3859999999999992,7.9139999999999997,10.343999999999999,7.35,{"$nulls":16},91,"Diofenolan",50,50.701000000000001,45.716000000000001,42.868000000000002,53.89,47.386000000000003,47.234999999999999,51.911999999999999,48.338999999999999,46.845999999999997,50.097000000000001,39.933999999999997,43.122999999999998,50.197000000000003,47.134999999999998,45.9,{"$nulls":16},91,"Diofenolan",10,9.8891999999999989,1.4469231838629177,98.891999999999996,14.631347165219816,"uygun","uygun",10.563599999999999,1.1040177987695665,105.636,10.451151111075454,"uygun","uygun",9.6875999999999998,1.85294260569506,96.875999999999991,19.12695203863764,"uygun","uygun","--------","--------","--------","--------","uygun değil","uygun değil","--------","--------","--------","--------","uygun değil","uygun değil","--------","--------","--------","--------","uygun değil","uygun değil",null,91,"Diofenolan",50,44.324800000000003,7.6563378125575934,88.649600000000007,17.273259693349079,"uygun","uygun",45.355000000000004,4.0154385812760225,90.710000000000008,8.8533537234616286,"uygun","uygun",41.576999999999998,2.4268626866800682,83.153999999999996,5.8370317403373697,"uygun","uygun","--------","--------","--------","--------","uygun değil","uygun değil","--------","--------","--------","--------","uygun değil","uygun değil","--------","--------","--------","--------","uygun değil","uygun değil",{"$nulls":31},91,"Diofenolan",10,1.9713600000000092E-3,1.1342250000000009E-2,2.4367209999999969E-2,4.1943039999999994E-2,4.7334400000000115E-3,1.5650009999999999E-2,9.9201600000000268E-3,1.9572009999999977E-2,1.1067039999999992E-2,8.4272399999999782E-3,2.6308839999999969E-2,2.4336000000000042E-2,3.2490000000000058E-3,3.3892809999999975E-2,5.4428890000000028E-2,"","","","","","","","","","","","","","","",8.4235683999999943E-3,5.2679430399999977E-2,4.5676238400000006E-2,2.0529158400000021E-2,3.0898608400000017E-2,2.5664356000000038E-3,3.8793241600000007E-2,9.7614399999999997E-3,2.1432959999999961E-4,1.7614598400000014E-2,2.7708931600000018E-2,5.1528999999999991E-2,3.8329808400000026E-2,2.4317283599999989E-2,9.4322943999999975E-3,"","","","","","","","","","","","","","","",2.8622500000000111E-3,2.9480890000000027E-2,1.034288999999998E-2,3.4447359999999996E-2,3.1116959999999961E-2,2.4800399999999954E-3,1.0692899999999968E-3,9.604000000000017E-3,3.0250000000000664E-5,3.686399999999998E-2,3.3488999999999936E-4,3.7699600000000149E-3,4.3513960000000004E-2,1.183359999999999E-3,7.022500000000001E-2,"","","","","","","","","","","","","","","",1.9656039999999781E-4,7.3410623999999964E-3,2.0346169599999998E-2,6.0528400000000142E-3,2.7331983999999993E-3,3.0580900000000016E-3,1.4622976000000039E-3,1.1035684000000017E-3,3.9790864000000033E-3,3.7636000000002048E-6,4.052974240000002E-2,1.8917251599999997E-2,1.5523600000000429E-5,3.2832900000000021E-3,6.7240000000000121E-3,"","","","","","","","","","","","","","","",60,1.0627552115999999,0.13308864286632424,null,91,"Diofenolan",10,10.073333333333332,9.331999999999999,9.3170000000000002,10.751666666666667,10.344666666666667,3,5,0.46166666666666778,-1.0489999999999995,1.6999999999999993,1.1043333333333329,1.4193333333333324,-0.57133333333333169,0.99500000000000099,-0.2970000000000006,-0.69666666666666721,1.575333333333333,0.10966666666666747,5.400000000000027E-2,-1.4030000000000005,-0.40766666666666751,-2.9946666666666673,"","","","","","","","","","","","","","","",9.9637333333333338,99.637333333333331,1.1964842333333345,22.926844000000003,10,2.2926844000000002,0,2.2926844000000002,1.514161285993008,0.15196726320719892,5,15,"UYGUN  ","UYGUN  ",0.32331668721360501,null,91,"Diofenolan",50,45.956666666666671,46.917000000000002,47.134666666666668,49.290333333333329,47.794333333333334,3,5,4.74433333333333,-1.2010000000000005,-4.2666666666666657,4.5996666666666712,-0.40833333333333144,1.2783333333333289,4.9949999999999974,1.2043333333333308,-2.4443333333333328,2.3026666666666671,-6.0226666666666731,-3.794000000000004,3.0623333333333349,-2.1553333333333313,-1.8943333333333356,"","","","","","","","","","","","","","","",47.418600000000005,94.83720000000001,4.585523233333312,171.06962866666674,10,17.106962866666674,0,17.106962866666674,4.136056439008863,8.7224347387077281E-2,8.7224347387077277,15,"UYGUN  ","UYGUN  ",0.10651321487942149,0.12389942668105371]
[94,"Diphenamide","GC-MS/MS",2220943,1973041,null,4927595,6033471,null,9322043,10179620,null,25716293,27673654,null,54225055,53772540,null,113700180,111441046,{"$nulls":8},94,"Diphenamide",10,8.4760000000000009,10.44,10.707000000000001,8.2249999999999996,9.4779999999999998,9.7330000000000005,10.519,8.19,11.426,11.815,11.228999999999999,11.807,9.8680000000000003,9.2200000000000006,8.2140000000000004,{"$nulls":16},94,"Diphenamide",50,43.908999999999999,45.665999999999997,41.619,49.747,45.308,41.369,44.712000000000003,50.293999999999997,42.927,49.012999999999998,46.466000000000001,43.978000000000002,47.481999999999999,40.853000000000002,38.223999999999997,{"$nulls":16},94,"Diphenamide",10,9.4420000000000002,8.44,11.592000000000001,9.9640000000000004,10.106999999999999,8.0449999999999999,9.8330000000000002,8.093,8.81,10.246,9.8629999999999995,8.4659999999999993,8.3480000000000008,8.9019999999999992,7.032,{"$nulls":16},94,"Diphenamide",50,46.77,41.33,45.786999999999999,41.343000000000004,47.423000000000002,44.930999999999997,41.56,46.174999999999997,40.814999999999998,44.954999999999998,45.988999999999997,46.633000000000003,51.188000000000002,50.582000000000001,38.597000000000001,{"$nulls":16},94,"Diphenamide",10,9.4651999999999994,1.1190485690978613,94.651999999999987,11.822767285401909,"uygun","uygun",10.336600000000001,1.4472347079862224,103.366,14.001071029025233,"uygun","uygun",10.067600000000001,1.46359669991429,100.67600000000002,14.537692199871765,"uygun","uygun","--------","--------","--------","--------","uygun değil","uygun değil","--------","--------","--------","--------","uygun değil","uygun değil","--------","--------","--------","--------","uygun değil","uygun değil",null,94,"Diphenamide",50,45.249799999999993,2.9741331005857825,90.499599999999987,6.5726988861515041,"uygun","uygun",45.662999999999997,3.856721211080727,91.325999999999993,8.4460530650214114,"uygun","uygun",43.400599999999997,3.8624910096982759,86.801199999999994,8.8996258339706724,"uygun","uygun","--------","--------","--------","--------","uygun değil","uygun değil","--------","--------","--------","--------","uygun değil","uygun değil","--------","--------","--------","--------","uygun değil","uygun değil",{"$nulls":31},94,"Diphenamide",10,2.322575999999996E-2,1.9360000000000035E-3,4.9984899999999978E-3,3.150625E-2,2.7248400000000027E-3,7.1288999999999717E-4,2.693610000000006E-3,3.2761000000000019E-2,2.0334760000000018E-2,3.2942249999999999E-2,1.5104410000000002E-2,3.2652490000000027E-2,1.7423999999999971E-4,6.0839999999999931E-3,3.1897959999999996E-2,"","","","","","","","","","","","","","","",1.484011240000001E-2,7.5134224000000154E-3,2.8096464399999996E-2,2.5603599999999529E-5,8.8059456000000071E-3,2.97976644E-2,1.1185177599999993E-2,3.457439999999865E-5,2.0010931600000007E-2,3.8966760000000357E-4,4.9956623999999955E-3,1.4505793599999999E-2,2.5361295999999961E-3,3.3467043599999996E-2,5.5469670400000032E-2,"","","","","","","","","","","","","","","",3.1136399999999956E-3,2.4336000000000007E-2,2.5344640000000002E-2,1.2959999999999544E-5,1.1448999999999855E-4,3.8220250000000004E-2,2.7888999999999789E-4,3.6366489999999994E-2,1.4160999999999998E-2,6.0515999999999782E-4,1.8769000000000123E-4,2.3531560000000028E-2,2.7291039999999968E-2,1.2056040000000027E-2,8.8090239999999972E-2,"","","","","","","","","","","","","","","",4.1731599999999987E-3,3.006756E-2,7.0997476000000002E-3,2.9977459599999985E-2,2.6563715999999918E-3,1.0277904400000005E-2,2.8493439999999984E-2,5.8522500000000015E-3,3.374569000000003E-2,1.0180809999999998E-2,6.4352484000000107E-3,4.5346755999999943E-3,5.6453760000000014E-4,1.3548960000000221E-4,5.2011363599999971E-2,"","","","","","","","","","","","","","","",60,0.99133861159999981,0.12853913876066436,null,94,"Diphenamide",10,9.1166666666666671,8.9129999999999985,9.3443333333333332,9.2253333333333334,9.1283333333333339,3,5,0.32533333333333303,-0.47299999999999898,2.2476666666666674,0.73866666666666703,0.97866666666666546,-1.0716666666666672,0.92000000000000171,-1.2513333333333332,-0.41533333333333289,1.1176666666666666,0.7463333333333324,-0.44699999999999918,-0.9963333333333324,-0.32333333333333414,-2.0963333333333338,"","","","","","","","","","","","","","","",9.1455333333333328,91.455333333333328,7.5817766666667119E-2,18.116038666666668,10,1.8116038666666667,0,1.8116038666666667,1.3459583450711492,0.14717111578014214,14.717111578014213,15,"UYGUN  ","UYGUN  ",0.30323072247960803,null,94,"Diphenamide",50,45.896666666666668,43.17433333333333,47.716666666666661,44.24666666666667,43.658333333333331,3,5,0.87333333333333485,-1.8443333333333314,-1.9296666666666624,-2.9036666666666662,3.7646666666666704,-0.96566666666667089,-1.6143333333333274,-1.5416666666666643,-3.431666666666672,1.2966666666666669,9.2333333333328937E-2,3.458666666666673,3.4713333333333409,6.335333333333331,-5.0613333333333301,"","","","","","","","","","","","","","","",44.938533333333332,89.877066666666664,10.399528099999991,139.6394853333334,10,13.96394853333334,0,13.96394853333334,3.7368367014539636,8.3154398336408336E-2,{"$f":"SM104*100","v":8.3154398336408342},15,"UYGUN  ","UYGUN  ",9.680515547766097E-2,0.11952822110836854]
[95,"Diphenylamine","GC-MS/MS",143203,146086,null,250775,314639,null,511292,552264,null,1576072,1744790,null,3079618,2935782,null,6162710,5012720,{"$nulls":8},95,"Diphenylamine",10,8.7530000000000001,10.622999999999999,10.884,7.0780000000000003,9.4209999999999994,10.904999999999999,11.847,8.5470000000000006,10.161,10.693,9.81,8.0570000000000004,8.02,7.2060000000000004,7.2670000000000003,{"$nulls":16},95,"Diphenylamine",50,48.162999999999997,49.085000000000001,40.972999999999999,50.134999999999998,44.537999999999997,43.899000000000001,46.887,55.930999999999997,41.593000000000004,55.281999999999996,38.698,36.122999999999998,37.716999999999999,45.301000000000002,36.253999999999998,{"$nulls":16},95,"Diphenylamine",10,11.518000000000001,8.1579999999999995,9.3989999999999991,8.4719999999999995,10.085000000000001,10.238,11.930999999999999,9.7739999999999991,10.622999999999999,10.087,11.141,10.302,8.9130000000000003,9.9700000000000006,8.2539999999999996,{"$nulls":16},95,"Diphenylamine",50,57.247,41.34,53.292000000000002,47.633000000000003,44.343000000000004,49.604999999999997,40.984000000000002,53.621000000000002,48.817999999999998,57.46,49.078000000000003,49.884,58.863,55.85,53.89,{"$nulls":16},95,"Diphenylamine",10,9.3518000000000008,1.5408684888724276,93.518000000000015,16.476704900365998,"uygun","uygun",10.4306,1.2166276340770921,104.30600000000001,11.664023489320769,"uygun","uygun",8.072000000000001,1.0513745764474121,80.720000000000013,13.024957587306888,"uygun","uygun","--------","--------","--------","--------","uygun değil","uygun değil","--------","--------","--------","--------","uygun değil","uygun değil","--------","--------","--------","--------","uygun değil","uygun değil",null,95,"Diphenylamine",50,46.578800000000001,3.7758159647948948,93.157600000000002,8.1062972098785178,"uygun","uygun",48.718399999999995,6.56609494296268,97.436799999999991,13.477648984701224,"uygun","uygun",38.818599999999996,3.7779958046562219,77.637199999999993,9.7324370396052977,"uygun","uygun","--------","--------","--------","--------","uygun değil","uygun değil","--------","--------","--------","--------","uygun değil","uygun değil","--------","--------","--------","--------","uygun değil","uygun değil",{"$nulls":31},95,"Diphenylamine",10,1.5550090000000008E-2,3.8812900000000029E-3,7.8145600000000068E-3,8.5380840000000013E-2,3.3524100000000071E-3,8.1902500000000048E-3,3.4114089999999951E-2,2.1112089999999997E-2,2.5921000000000012E-4,4.8024899999999883E-3,3.6099999999999641E-4,3.7752489999999965E-2,3.9204000000000024E-2,7.8064359999999985E-2,7.4692889999999998E-2,"","","","","","","","","","","","","","","",1.3498276000000079E-3,3.3488999999999936E-4,3.259469160000001E-2,7.2899999999995931E-6,1.1933377600000026E-2,1.4888880400000004E-2,3.8763075999999979E-3,1.4070704399999988E-2,2.8271059599999985E-2,1.115980959999999E-2,5.1094081600000008E-2,7.7028451600000006E-2,6.0348835599999998E-2,8.8322403999999913E-3,7.5581006400000025E-2,"","","","","","","","","","","","","","","",2.3043240000000048E-2,3.3929640000000011E-2,3.6120100000000049E-3,2.3347840000000016E-2,7.2250000000002962E-5,5.6644000000000204E-4,3.7287609999999936E-2,5.107600000000029E-4,3.8812900000000029E-3,7.5689999999998782E-5,1.3018810000000021E-2,9.1204000000000025E-4,1.1815690000000004E-2,8.9999999999993497E-6,3.0485160000000032E-2,"","","","","","","","","","","","","","","",2.1007603600000022E-2,2.9998239999999968E-2,4.3349056000000158E-3,2.2410755999999941E-3,1.2800659599999979E-2,6.2410000000000292E-5,3.2515302399999974E-2,5.2446564000000221E-3,5.5884959999999971E-4,2.2260639999999998E-2,3.4003359999999636E-4,5.3823999999999478E-6,3.1421107599999991E-2,1.3688999999999998E-2,6.0528400000000142E-3,"","","","","","","","","","","","","","","",60,1.1710036903999999,0.13970228406627191,null,95,"Diphenylamine",10,10.965666666666666,10.130333333333333,9.3620000000000001,9.6883333333333326,9.4753333333333334,3,5,0.55233333333333512,-1.9723333333333333,3.6999999999999034E-2,-1.216333333333333,0.60966666666666747,-0.72766666666666602,1.8006666666666664,0.41199999999999903,0.93466666666666676,0.61166666666666636,0.17533333333333445,0.17166666666666686,-0.44899999999999984,0.28166666666666806,-1.2213333333333338,"","","","","","","","","","","","","","","",9.9243333333333332,99.243333333333325,1.2752451666666651,13.069884666666669,10,1.3069884666666669,0,1.3069884666666669,1.1432359628119939,0.11519524026587787,11.519524026587787,15,"UYGUN  ","UYGUN  ",0.18577920731878661,null,95,"Diphenylamine",50,51.976666666666667,44.06933333333334,55.25866666666667,50.766999999999996,51.897666666666659,3,5,5.2703333333333333,-2.7293333333333365,-1.9666666666666686,-3.1339999999999932,-7.5546666666666553,-2.3716666666666697,-3.0853333333333381,-1.6376666666666679,-1.9489999999999981,5.562333333333342,-2.8986666666666636,5.8146666666666604,3.6043333333333294,5.0830000000000055,1.9923333333333417,"","","","","","","","","","","","","","","",50.793866666666659,101.5877333333333,50.828924766666603,243.56270266666658,10,24.356270266666659,8.8242181666666486,33.180488433333309,5.7602507266032532,0.11340445421107116,{"$f":"SM105*100","v":11.340445421107116},15,"UYGUN  ","UYGUN  ",0.1800479832887531,0.11430335431391388]
[98,"Ditalimfos","GC-MS/MS",138661,118268,null,272297,357347,null,537694,588090,null,1684917,1957524,null,3446509,3259029,null,7477446,6911414,{"$nulls":8},98,"Ditalimfos",10,9.0039999999999996,10.923999999999999,11.59,7.9539999999999997,9.2390000000000008,10.198,11.079000000000001,8.6999999999999993,11.331,10.911,11.180999999999999,9.5830000000000002,9.1549999999999994,8.0449999999999999,8.1999999999999993,{"$nulls":16},98,"Ditalimfos",50,45.392000000000003,45.576999999999998,36.651000000000003,51.518000000000001,46.122,39.686,43.716999999999999,52.295000000000002,42.468000000000004,48.71,48.393999999999998,45.932000000000002,52.548999999999999,43.54,40.802,{"$nulls":16},98,"Ditalimfos",10,9.2929999999999993,8.4019999999999992,11.31,10.773999999999999,10.255000000000001,8.6760000000000002,9.35,8.3130000000000006,8.7609999999999992,10.888999999999999,11.769,8.4740000000000002,9.1679999999999993,10.398,7.9180000000000001,{"$nulls":16},98,"Ditalimfos",50,43.1,35.805,43.62,40.737000000000002,46.762999999999998,46.832999999999998,39.646999999999998,40.146000000000001,38.704999999999998,41.801000000000002,51.026000000000003,50.131999999999998,57.548999999999999,57.930999999999997,40.991999999999997,{"$nulls":16},98,"Ditalimfos",10,9.7422000000000004,1.4838147458493611,97.422000000000011,15.230797415874864,"uygun","uygun",10.4438,1.0618538976714267,104.43799999999999,10.167313599182545,"uygun","uygun",9.232800000000001,1.2650811041194121,92.328000000000003,13.702030847840438,"uygun","uygun","--------","--------","--------","--------","uygun değil","uygun değil","--------","--------","--------","--------","uygun değil","uygun değil","--------","--------","--------","--------","uygun değil","uygun değil",null,98,"Ditalimfos",50,45.052,5.3367143918333024,90.103999999999999,11.845676977344629,"uygun","uygun",45.3752,5.0639154515058804,90.750399999999999,11.160095055241365,"uygun","uygun",46.243399999999994,4.5110931934510061,92.486799999999988,9.7551070930143684,"uygun","uygun","--------","--------","--------","--------","uygun değil","uygun değil","--------","--------","--------","--------","uygun değil","uygun değil","--------","--------","--------","--------","uygun değil","uygun değil",{"$nulls":31},98,"Ditalimfos",10,9.9201600000000043E-3,8.5377600000000071E-3,2.5281000000000008E-2,4.1861160000000001E-2,5.791209999999992E-3,3.9204000000000159E-4,1.1642410000000023E-2,1.690000000000003E-2,1.771561E-2,8.2992099999999926E-3,1.394760999999997E-2,1.7388899999999966E-3,7.1402500000000034E-3,3.8220250000000004E-2,3.2400000000000019E-2,"","","","","","","","","","","","","","","",8.4934655999999824E-3,7.8251715999999964E-3,7.1278320399999942E-2,9.2172959999999656E-4,6.015553599999994E-3,4.2551438400000009E-2,1.57904356E-2,2.106810000000005E-3,2.2692409599999967E-2,6.6563999999999664E-4,1.0316944000000024E-3,6.6194495999999979E-3,2.5989604000000027E-3,1.6692639999999995E-2,3.3841281600000002E-2,"","","","","","","","","","","","","","","",4.9984900000000134E-3,2.5536040000000017E-2,1.7161000000000003E-2,5.9907599999999865E-3,6.5025000000000401E-4,1.7529759999999991E-2,4.2250000000000074E-3,2.8459689999999985E-2,1.535121000000003E-2,7.9032099999999956E-3,3.129361000000002E-2,2.3286759999999986E-2,6.9222400000000083E-3,1.5840400000000047E-3,4.3347239999999974E-2,"","","","","","","","","","","","","","","",1.9044000000000002E-2,8.0599210000000018E-2,1.6281760000000013E-2,3.432126759999999E-2,4.1912676000000022E-3,4.0119556000000082E-3,4.287384360000001E-2,3.8840526400000012E-2,5.1030809999999996E-2,2.6889440400000006E-2,4.2107040000000383E-4,6.9695999999998714E-6,2.2794960399999967E-2,2.5160304399999996E-2,3.2457625600000033E-2,"","","","","","","","","","","","","","","",60,1.112076872,0.13614189117730566,null,98,"Ditalimfos",10,9.9126666666666665,8.7419999999999991,9.5969999999999995,9.977666666666666,9.6873333333333331,3,5,-0.61966666666666725,-0.33999999999999986,1.713000000000001,0.79633333333333312,0.56766666666666765,-1.2366666666666664,0.60800000000000054,-1.2839999999999989,-1.2166666666666668,1.2016666666666662,1.8563333333333336,-0.26799999999999891,-0.42900000000000027,0.42033333333333367,-1.769333333333333,"","","","","","","","","","","","","","","",9.5833333333333321,95.833333333333329,0.73710283333333382,17.871352000000002,10,1.7871352000000003,0,1.7871352000000003,1.3368377612859386,0.13949611422114144,13.949611422114144,15,"UYGUN  ","UYGUN  ",0.27242832235916836,null,98,"Ditalimfos",50,46.986333333333334,41.861333333333334,47.104999999999997,45.790999999999997,43.185333333333325,3,5,-3.886333333333333,-6.0563333333333347,-3.4849999999999994,-5.0539999999999949,3.5776666666666728,-0.15333333333333599,-2.2143333333333359,-6.9589999999999961,-7.0859999999999985,-1.3843333333333234,4.039666666666669,8.2706666666666635,10.444000000000003,12.14,-2.193333333333328,"","","","","","","","","","","","","","","",44.985799999999998,89.971599999999995,16.609096100000006,553.74311999999986,10,55.374311999999989,0,55.374311999999989,7.44139180530094,0.16541646042308775,{"$f":"SM108*100","v":16.541646042308773},15,"UYGUN  ","UYGUN  ",0.3830764753046414,0.15300616206823289]
[102,"Endrin","GC-MS/MS",400093,397644,null,1123035,1135239,null,1786230,2109966,null,5690759,5628365,null,10677361,10023621,null,20998682,18388452,{"$nulls":8},102,"Endrin",10,9.4979999999999993,10.946999999999999,11.176,9.0839999999999996,10.247,9.8819999999999997,11.621,9.4260000000000002,11.943,11.058,10.784000000000001,9.2330000000000005,10.673999999999999,8.5120000000000005,8.18,{"$nulls":16},102,"Endrin",50,44.023000000000003,46.572000000000003,43.881,50.34,42.567,40.42,43.320999999999998,49.991,41.005000000000003,50.223999999999997,40.765999999999998,37.969000000000001,41.689,35.978999999999999,35.590000000000003,{"$nulls":16},102,"Endrin",10,10.364000000000001,8.6950000000000003,10.347,9.7970000000000006,11.833,9.3260000000000005,11.741,10.521000000000001,10.097,10.653,9.1489999999999991,7.5579999999999998,7.1180000000000003,8.8819999999999997,9.7479999999999993,{"$nulls":16},102,"Endrin",50,50.252000000000002,40.933999999999997,50.457999999999998,45.752000000000002,39.622,41.460999999999999,36.402999999999999,50.933999999999997,44.704999999999998,50.917000000000002,45.503999999999998,44.765999999999998,52.304000000000002,50.591000000000001,44.6,{"$nulls":16},102,"Endrin",10,10.1904,0.90147007715175997,101.904,8.8462678319963874,"uygun","uygun",10.786,1.0927801700250603,107.86,10.131468292463012,"uygun","uygun",9.4766000000000012,1.205614697986052,94.76600000000002,12.722017368951438,"uygun","uygun","--------","--------","--------","--------","uygun değil","uygun değil","--------","--------","--------","--------","uygun değil","uygun değil","--------","--------","--------","--------","uygun değil","uygun değil",null,105,"Endrin",50,45.476600000000005,3.0812832229446236,90.95320000000001,6.7755356006047585,"uygun","uygun",44.992199999999997,4.7946694046618044,89.984399999999994,10.656668055044664,"uygun","uygun",38.398600000000002,2.7549305435890745,76.797200000000004,7.1745598630915559,"uygun","uygun","--------","--------","--------","--------","uygun değil","uygun değil","--------","--------","--------","--------","uygun değil","uygun değil","--------","--------","--------","--------","uygun değil","uygun değil",{"$nulls":31},105,"Endrin",10,2.520040000000002E-3,8.9680900000000015E-3,1.3829759999999983E-2,8.3905600000000035E-3,6.1008999999999727E-4,1.3924000000000076E-4,2.6276410000000042E-2,3.2947600000000007E-3,3.7752489999999965E-2,1.1193639999999977E-2,6.146560000000004E-3,5.8828899999999983E-3,4.5427599999999868E-3,2.2141439999999981E-2,3.3124000000000021E-2,"","","","","","","","","","","","","","","",1.4289811599999995E-2,4.7004735999999934E-3,1.497686440000001E-2,4.6240000000001895E-5,2.2099795600000003E-2,3.6710559999999996E-2,1.7843616400000008E-2,3.2399999999984871E-8,3.2364009999999985E-2,2.0070400000000353E-5,3.4106702400000022E-2,5.789798439999997E-2,2.7629088400000012E-2,7.8635376399999998E-2,8.3059239999999937E-2,"","","","","","","","","","","","","","","",1.3249599999999992E-3,1.7030249999999986E-2,1.2040899999999966E-3,4.120899999999994E-4,3.3598890000000006E-2,4.5427599999999868E-3,3.0310809999999973E-2,2.7144100000000035E-3,9.4090000000000815E-5,4.2640900000000181E-3,7.2420100000000114E-3,5.9633639999999988E-2,8.3059240000000006E-2,1.2499240000000002E-2,6.3504000000000566E-4,"","","","","","","","","","","","","","","",2.5401600000001566E-5,3.2876942400000012E-2,8.3905600000001049E-5,7.2182015999999868E-3,4.3081153599999984E-2,2.9165808400000014E-2,7.3951363600000042E-2,3.4894240000000109E-4,1.1214809999999999E-2,3.3635560000000084E-4,8.0856064000000005E-3,1.0957902399999999E-2,2.1233664000000112E-3,1.3971239999999863E-4,1.1663999999999997E-2,"","","","","","","","","","","","","","","",60,1.0990316784000005,0.13534103088125202,null,105,"Endrin",10,9.6129999999999995,9.3313333333333333,9.3286666666666687,9.5919999999999987,10.744666666666667,3,5,0.75100000000000122,-0.63633333333333297,1.0183333333333309,0.20500000000000185,1.0883333333333329,-0.28699999999999903,2.4096666666666664,1.1923333333333321,0.50500000000000078,-9.1666666666666785E-2,-0.46400000000000041,-1.7733333333333334,-2.2106666666666683,-0.70999999999999908,-0.99666666666666792,"","","","","","","","","","","","","","","",9.7219333333333342,97.219333333333353,1.0364697333333333,20.550866000000003,10,2.0550866000000001,0,2.0550866000000001,1.4335573235835393,0.14745599197521128,14.745599197521129,15,"UYGUN  ","UYGUN  ",0.30440577397151003,null,105,"Endrin",50,45.738999999999997,40.700999999999993,51.231999999999999,47.015999999999998,45.046333333333337,3,5,4.5130000000000052,0.23300000000000409,-0.77400000000000091,-1.2639999999999958,-5.4243333333333368,-4.2779999999999987,-4.2979999999999947,-0.29800000000000182,-2.3109999999999999,5.8706666666666649,-0.23499999999999943,4.0650000000000048,1.0720000000000027,3.5750000000000028,-0.44633333333333525,"","","","","","","","","","","","","","","",45.946866666666665,91.89373333333333,43.086724766666705,159.41843466666671,10,15.941843466666672,9.0482937666666778,24.99013723333335,4.999013626039976,0.10879988100835261,13.24,15,"UYGUN  ","UYGUN  ",0.16572379750404362,0.12957755144473379]
[105,"Endosulfan Beta","GC-MS/MS",352291,375835,null,733792,789316,null,2454659,2450147,null,4351978,4216518,null,11313264,10786138,null,22626528,21572276,{"$nulls":8},105,"Endosulfan Beta",2,1.89,2.1,2.0699999999999998,2.04,1.79,1.68,2.08,1.79,2,2.37,2.36,2.04,2.04,2.87,1.68,{"$nulls":16},105,"Endosulfan Beta",50,46.786999999999999,46.914999999999999,41.783999999999999,40.585000000000001,50.863,48.093000000000004,37.86,49.180999999999997,51.234000000000002,51.113,47.44,52.36,55.691000000000003,51.98,47.85,{"$nulls":16},105,"Endosulfan Beta",2,1.85,2.37,2.1,2.4,1.92,2.44,2.11,1.86,2.0499999999999998,2.04,1.8,2.36,2.19,2.34,2.37,{"$nulls":16},105,"Endosulfan Beta",50,46.786999999999999,46.914999999999999,41.783999999999999,40.585000000000001,50.863,48.093000000000004,37.86,49.180999999999997,51.234000000000002,51.113,47.4,42.39,45.48,45.91,50.99,{"$nulls":16},105,"Endosulfan Beta",null,1.9780000000000002,0.13255187663703596,111.23,6.7013082222970661,"uygun","uygun",1.984,0.26857028875137989,99.8,13.536808908839712,"uygun","uygun",2.198,0.44611657669268362,100.3,20.296477556537017,"uygun","uygun değil",{"$nulls":275},47.426666666666669,42.388333333333335,45.481666666666662,45.909666666666659,50.988666666666667,3,null,-0.63966666666667038,4.5266666666666637,-3.6976666666666631,-5.3246666666666584,-0.12566666666666748,0.66633333333333411,-4.528333333333336,3.6993333333333354,5.3243333333333425,0.12433333333333252,-2.6666666666670835E-2,1.6666666666651508E-3,-1.6666666666651508E-3,3.3333333333729342E-4,1.3333333333349628E-3,"","","","","","","","","","","","","","","",46.438999999999993,null,null,125.94006333333333,{"$nulls":7},15]
[108,"Ethalfluarin","GC-MS/MS",308838,315574,null,1029213,1015212,null,1672665,1852013,null,5658814,5346444,null,11210176,10238055,null,24298640,17242851,{"$nulls":8},108,"Ethalfluarin",10,9.7569999999999997,10.877000000000001,11.835000000000001,10.113,10.255000000000001,10.872999999999999,11.82,9.4320000000000004,11.382999999999999,11.305,11.576000000000001,9.3460000000000001,11.348000000000001,10.202999999999999,9.9440000000000008,{"$nulls":16},108,"Ethalfluarin",50,43.927999999999997,41.814999999999998,38.633000000000003,43.697000000000003,35.448999999999998,39.238,39.4,45.963000000000001,40.22,44.048999999999999,41.677,38.65,40.210999999999999,42.203000000000003,45.143999999999998,{"$nulls":16},108,"Ethalfluarin",10,11.032,9.8710000000000004,11.135,11.242000000000001,11.457000000000001,10.583,11.8,10.359,10.547000000000001,10.539,10.339,10.147,9.6750000000000007,11.57,10.151999999999999,{"$nulls":16},108,"Ethalfluarin",50,45.238999999999997,35.244999999999997,44.417000000000002,38.718000000000004,35.792000000000002,38.878,35.264000000000003,45.847999999999999,38.887999999999998,44.487000000000002,36.6,37.03,40.896000000000001,36.584000000000003,52.3,{"$nulls":16},108,"Ethalfluarin",10,10.567400000000001,0.81600906857705979,105.67400000000001,7.7219473908157132,"uygun","uygun",10.962599999999998,0.91922157285390105,109.62599999999998,8.3850689877757212,"uygun","uygun",10.4834,0.94928436203278954,104.834,9.0551191601273402,"uygun","uygun","--------","--------","--------","--------","uygun değil","uygun değil","--------","--------","--------","--------","uygun değil","uygun değil","--------","--------","--------","--------","uygun değil","uygun değil",null,108,"Ethalfluarin",50,40.7044,3.6225202276867967,81.408799999999999,8.8995789833207137,"uygun","uygun",41.774000000000001,3.0498128631114407,83.548000000000002,7.3007441545254004,"uygun","uygun",41.576999999999998,2.4268626866800682,83.153999999999996,5.8370317403373697,"uygun","uygun","--------","--------","--------","--------","uygun değil","uygun değil","--------","--------","--------","--------","uygun değil","uygun değil","--------","--------","--------","--------","uygun değil","uygun değil",{"$nulls":31},108,"Ethalfluarin",10,5.904899999999994E-4,7.6912900000000199E-3,3.3672250000000001E-2,1.2768999999999696E-4,6.5025000000000401E-4,7.621289999999988E-3,3.312399999999998E-2,3.2262399999999957E-3,1.9126889999999962E-2,1.7030250000000014E-2,2.4837759999999987E-2,4.2771600000000021E-3,1.817104000000001E-2,4.120899999999994E-4,3.1359999999999307E-5,"","","","","","","","","","","","","","","",1.4747673600000025E-2,2.6797690000000023E-2,5.1683475599999994E-2,1.5891123599999987E-2,8.4692640400000033E-2,4.6328257599999992E-2,4.4944000000000033E-2,6.5189476000000052E-3,3.8259359999999999E-2,1.4165760400000003E-2,2.7708931600000018E-2,5.1528999999999991E-2,3.8329808400000026E-2,2.4317283599999989E-2,9.4322943999999975E-3,"","","","","","","","","","","","","","","",1.0650239999999991E-2,1.6640999999999772E-4,1.2882249999999986E-2,1.5425640000000022E-2,2.1228490000000048E-2,3.3988900000000021E-3,3.2400000000000061E-2,1.2888100000000031E-3,2.9920899999999967E-3,2.9052100000000062E-3,1.1492100000000027E-3,2.160899999999981E-4,1.0562499999999982E-3,2.4649000000000008E-2,2.3103999999999635E-4,"","","","","","","","","","","","","","","",9.0668484000000164E-3,8.7084010000000017E-2,1.2467955599999995E-2,5.091340959999998E-2,8.0746905599999988E-2,4.947955359999999E-2,8.6859878399999993E-2,6.8956416000000003E-3,4.9390617599999999E-2,1.2157267599999981E-2,7.1824000000000013E-2,6.7288359999999978E-2,3.315312640000001E-2,7.1995622399999945E-2,2.1160000000000037E-3,"","","","","","","","","","","","","","","",60,1.4880151136000004,0.15748095724033856,null,108,"Ethalfluarin",10,10.651333333333334,10.606,10.389666666666667,11.119666666666667,10.716000000000001,3,5,0.38066666666666649,-0.73499999999999943,0.74533333333333296,0.12233333333333363,0.74099999999999966,-6.8333333333333357E-2,1.1940000000000008,-3.0666666666666842E-2,-0.57266666666666666,-0.17700000000000138,-0.31233333333333313,-0.45899999999999963,-0.71466666666666612,0.45033333333333303,-0.56400000000000183,"","","","","","","","","","","","","","","",10.696533333333333,106.96533333333333,0.21287043333333366,4.9351000000000003,10,0.49351,0,0.49351,0.70250266903407566,6.5675733169071202E-2,6.5675733169071204,15,"UYGUN  ","UYGUN  ",6.0386226982130545E-2,null,108,"Ethalfluarin",50,40.238999999999997,35.846333333333334,43.720333333333336,38.063333333333333,44.193000000000005,3,5,5,-0.60133333333333638,0.69666666666666544,0.65466666666667095,-8.4010000000000034,-1.3609999999999971,-0.58233333333333093,2.1276666666666628,0.82466666666666555,0.29399999999999693,-3.6389999999999958,1.1836666666666673,-2.8243333333333354,-1.4793333333333294,8.1069999999999922,"","","","","","","","","","","","","","","",40.412400000000005,80.82480000000001,38.724379400000046,194.86936799999989,10,19.486936799999988,6.4124808666666864,25.899417666666675,5.0891470470665983,0.12593033442870499,{"$f":"SM118*100","v":12.5930334428705},15,"UYGUN  ","UYGUN  ",0.22201828781055674,0.10042845975275266]
[112,"Ethofumesate-2-Keto","GC-MS/MS",2418162,2433858,null,5886157,5919175,null,11086772,11839513,null,27689277,28458748,null,48118804,48424553,null,94286478,93808708,{"$nulls":8},112,"Ethofumesate-2-Keto",10,9.3919999999999995,11.103999999999999,11.489000000000001,8.4,9.6340000000000003,10.345000000000001,11.201000000000001,8.8360000000000003,11.788,11.894,11.705,11.733000000000001,10.365,9.1679999999999993,8.3789999999999996,{"$nulls":16},112,"Ethofumesate-2-Keto",50,41.216999999999999,41.097000000000001,40.472000000000001,49.003,43.704000000000001,40.631999999999998,41.866999999999997,47.466000000000001,42.390999999999998,48.021000000000001,38.698,36.122999999999998,37.716999999999999,45.301000000000002,36.253999999999998,{"$nulls":16},112,"Ethofumesate-2-Keto",10,10.545,8.6430000000000007,11.805999999999999,11.59,11.226000000000001,9.8829999999999991,10.587999999999999,9.42,9.6820000000000004,11.473000000000001,10.529,10.537000000000001,10.555999999999999,11.365,11.055999999999999,{"$nulls":16},112,"Ethofumesate-2-Keto",50,45.368000000000002,44.935000000000002,44,39.542999999999999,46.069000000000003,42.707000000000001,40.603000000000002,46.033000000000001,39.249000000000002,43.984000000000002,48.542999999999999,46.942999999999998,56.222000000000001,55.207999999999998,44.536999999999999,{"$nulls":16},112,"Ethofumesate-2-Keto",10,10.0038,1.2747043578806818,100.03800000000001,12.742201542220775,"uygun","uygun",10.812799999999999,1.2646425186589376,108.128,11.695791272001125,"uygun","uygun",10.27,1.4999086638858985,102.69999999999999,14.604758168314493,"uygun","uygun","--------","--------","--------","--------","uygun değil","uygun değil","--------","--------","--------","--------","uygun değil","uygun değil","--------","--------","--------","--------","uygun değil","uygun değil",null,112,"Ethofumesate-2-Keto",50,43.098599999999998,3.5239997587968133,86.197199999999995,8.1765991442803561,"uygun","uygun",44.075400000000002,3.4144972250684305,88.150800000000004,7.7469455185169736,"uygun","uygun",38.818599999999996,3.7779958046562219,77.637199999999993,9.7324370396052977,"uygun","uygun","--------","--------","--------","--------","uygun değil","uygun değil","--------","--------","--------","--------","uygun değil","uygun değil","--------","--------","--------","--------","uygun değil","uygun değil",{"$nulls":31},112,"Ethofumesate-2-Keto",10,3.6966400000000093E-3,1.2188159999999964E-2,2.2171210000000011E-2,2.5599999999999973E-2,1.3395599999999975E-3,1.1902499999999984E-3,1.4424010000000024E-2,1.3548959999999988E-2,3.1969440000000023E-2,3.5872360000000006E-2,2.9070250000000034E-2,3.0032890000000003E-2,1.3322499999999984E-3,6.9222400000000083E-3,2.6276410000000007E-2,"","","","","","","","","","","","","","","",3.0856435600000013E-2,3.1705363600000001E-2,3.6313113599999981E-2,3.9760359999999832E-4,1.5855846400000009E-2,3.5103769600000029E-2,2.6458275600000008E-2,2.5684623999999946E-3,2.3158752399999996E-2,1.5665763999999959E-3,5.1094081600000008E-2,7.7028451600000006E-2,6.0348835599999998E-2,8.8322403999999913E-3,7.5581006400000025E-2,"","","","","","","","","","","","","","","",2.9702499999999994E-3,1.8414489999999981E-2,3.2616359999999955E-2,2.5281000000000008E-2,1.5030760000000011E-2,1.3689000000000103E-4,3.4574399999999957E-3,3.3640000000000059E-3,1.0112399999999962E-3,2.1697289999999998E-2,2.7984099999999942E-3,2.8836900000000086E-3,3.0913599999999857E-3,1.8632250000000017E-2,1.1151359999999982E-2,"","","","","","","","","","","","","","","",8.5821695999999895E-3,1.0261689999999988E-2,1.44E-2,4.3739539599999995E-2,6.181104399999986E-3,2.1275139599999996E-2,3.5321443599999995E-2,6.2948355999999945E-3,4.6233600399999998E-2,1.4476902399999996E-2,8.4913960000000319E-4,3.7380996000000101E-3,1.5485313600000026E-2,1.0849305600000006E-2,1.1937747600000005E-2,"","","","","","","","","","","","","","","",60,1.1446662660000002,0.13812230486058363,null,112,"Ethofumesate-2-Keto",10,10.318999999999999,9.9226666666666663,10.593999999999999,10.879,11.251666666666667,3,5,0.22600000000000087,-1.2796666666666656,1.2119999999999997,0.7110000000000003,-2.566666666666606E-2,-0.43599999999999994,0.66533333333333289,-1.1739999999999995,-1.1969999999999992,0.22133333333333383,0.21000000000000085,0.61433333333333451,-3.8000000000000256E-2,0.48600000000000065,-0.19566666666666777,"","","","","","","","","","","","","","","",10.593266666666667,105.93266666666668,0.78004590000000085,7.8540153333333302,10,0.78540153333333307,0,0.78540153333333307,0.88622882673344194,8.3659635372164892E-2,{"$f":"QI122*100","v":8.3659635372164889},15,"UYGUN  ","UYGUN  ",9.7985084268450165E-2,null,112,"Ethofumesate-2-Keto",50,45.539333333333332,44.160333333333334,48.751666666666665,44.666666666666664,44.863333333333337,3,5,-0.17133333333332956,0.77466666666666839,-4.7516666666666652,-5.123666666666665,1.2056666666666658,-2.8323333333333309,-3.5573333333333323,-2.7186666666666639,-5.417666666666662,-0.87933333333333508,3.0036666666666676,2.782666666666664,7.4703333333333362,10.541333333333334,-0.32633333333333781,"","","","","","","","","","","","","","","",45.596266666666665,91.19253333333333,10.06728189999999,292.90294133333322,10,29.290294133333322,0,29.290294133333322,5.4120508250877801,0.11869504283437929,{"$f":"SM122*100","v":11.869504283437928},15,"UYGUN  ","UYGUN  ",0.19723918470837187,0.10268263676021062]
[114,"Etobenzanid","GC-MS/MS",117659,115214,null,260716,275558,null,453788,450817,null,1153454,1236563,null,2275185,2381945,null,4399553,4549327,{"$nulls":8},114,"Etobenzanid",10,8.3550000000000004,8.5079999999999991,11.25,7.1849999999999996,9.4019999999999992,9.2210000000000001,7.5750000000000002,7.734,7.585,11.298999999999999,11.055,11.000999999999999,9.6869999999999994,10.210000000000001,9.0429999999999993,{"$nulls":16},114,"Etobenzanid",50,52.38,40.585000000000001,49.19,42.261000000000003,47.511000000000003,45.8,51.112000000000002,40.579000000000001,45.993000000000002,39.69,49.957000000000001,46.661000000000001,50.084000000000003,43.734999999999999,39.619,{"$nulls":16},114,"Etobenzanid",10,10.103999999999999,8.1660000000000004,11.134,11.741,10.678000000000001,10.46,9.2750000000000004,7.649,8.8480000000000008,11.382999999999999,9.6620000000000008,9.2029999999999994,9.7720000000000002,10.794,10.065,{"$nulls":16},114,"Etobenzanid",50,38.984999999999999,40.619999999999997,41.231000000000002,58.923000000000002,59.207000000000001,58.957999999999998,48.094000000000001,59.529000000000003,39.901000000000003,37.707000000000001,36.369,48.698,55.515999999999998,47.59,42.86,{"$nulls":16},114,"Etobenzanid",10,8.9400000000000013,1.5131439125212103,89.4,16.925547119924051,"uygun","uygun",8.6828000000000003,1.6176193000826784,86.828000000000003,18.630157323474897,"uygun","uygun",10.199199999999999,0.86234285524958132,101.99199999999999,8.4550048557688964,"uygun","uygun","--------","--------","--------","--------","uygun değil","uygun değil","--------","--------","--------","--------","uygun değil","uygun değil","--------","--------","--------","--------","uygun değil","uygun değil",null,114,"Etobenzanid",50,46.385399999999997,4.8919142776626821,92.770799999999994,10.546237129921661,"uygun","uygun",44.634799999999998,4.6383477338379899,89.269599999999997,10.39177443124645,"uygun","uygun",46.011200000000002,4.4334124779902906,92.022400000000005,9.6355071764924425,"uygun","uygun","--------","--------","--------","--------","uygun değil","uygun değil","--------","--------","--------","--------","uygun değil","uygun değil","--------","--------","--------","--------","uygun değil","uygun değil",{"$nulls":31},114,"Etobenzanid",10,2.7060249999999994E-2,2.2260640000000033E-2,1.5625E-2,7.9242250000000042E-2,3.5760400000000091E-3,6.0684099999999954E-3,5.880624999999997E-2,5.1347560000000007E-2,5.832225000000002E-2,1.6874009999999974E-2,1.1130249999999984E-2,1.0020009999999972E-2,9.7969000000000658E-4,4.4100000000000546E-4,9.1584900000000226E-3,"","","","","","","","","","","","","","","",2.2657600000000081E-3,3.5456890000000012E-2,2.6243999999999974E-4,2.3956848399999973E-2,2.4780483999999937E-3,7.0560000000000128E-3,4.9461760000000165E-4,3.5502096400000009E-2,6.422419599999998E-3,4.2518440000000018E-2,7.395999999999517E-7,4.4595683999999938E-3,2.822400000000423E-6,1.5700089999999993E-2,4.3106064400000012E-2,"","","","","","","","","","","","","","","",1.0815999999999926E-4,3.3635560000000002E-2,1.2859559999999987E-2,3.0310809999999973E-2,4.5968400000000109E-3,2.1160000000000037E-3,5.2562500000000014E-3,5.5272009999999989E-2,1.3271039999999993E-2,1.9126889999999962E-2,1.1424399999999961E-3,6.3520900000000168E-3,5.1983999999999689E-4,6.3043600000000219E-3,4.2249999999999353E-5,"","","","","","","","","","","","","","","",4.8532090000000021E-2,3.5193760000000039E-2,3.0758144399999993E-2,3.1847971600000025E-2,3.3907539599999988E-2,3.2098305599999995E-2,1.4531343999999947E-3,3.6320736399999991E-2,4.0795920399999977E-2,6.0447139599999984E-2,7.4321664399999987E-2,6.7808159999999747E-4,1.2170502399999995E-2,2.3232399999999912E-3,2.0391840000000012E-2,"","","","","","","","","","","","","","","",60,1.2427491156000003,0.14391832843665189,null,114,"Etobenzanid",10,10.075333333333333,8.881333333333334,9.5183333333333326,10.461,10.708666666666666,3,5,2.8666666666666174E-2,-0.7153333333333336,1.6156666666666677,1.2799999999999994,-3.0666666666665066E-2,0.38466666666666782,0.39366666666666639,-1.8693333333333326,-1.6129999999999995,0.67433333333333323,-0.41333333333333222,0.32166666666666544,0.2536666666666676,0.33300000000000018,-0.64366666666666639,"","","","","","","","","","","","","","","",9.9289333333333332,99.289333333333332,1.6339275666666653,12.479942666666664,10,1.2479942666666664,0.12864443333333297,1.3766386999999993,1.1733024759199988,0.11817004269542201,11.817004269542201,15,"UYGUN  ","UYGUN  ",0.19549822586893006,null,114,"Etobenzanid",50,44.770666666666671,45.804000000000002,52.092000000000006,48.80466666666667,46.591333333333331,3,5,-5.7856666666666712,-5.1840000000000046,-10.861000000000004,10.118333333333332,12.615666666666669,14.187333333333328,2.2899999999999991,7.4369999999999976,-8.9036666666666662,-8.8843333333333305,-8.4016666666666708,2.8939999999999984,3.4239999999999924,-1.2146666666666661,-3.7313333333333318,"","","","","","","","","","","","","","","",47.612533333333332,95.225066666666663,25.407488933333362,965.97026399999993,10,96.59702639999999,0,96.59702639999999,9.8283786251853353,0.20642418995807832,17.546900000000001,15,"UYGUN  ","UYGUN  ",0.59655324679788324,0.16818903827313875]
[117,"Fenamidone","GC-MS/MS",481184,596855,null,2032670,1642568,null,3156649,3608372,null,10061487,8792993,null,21727823,20312944,null,40489637,37884180,{"$nulls":8},117,"Fenamidone",10,9.1059999999999999,11.792,11.826000000000001,8.407,9.6739999999999995,10.571999999999999,11.518000000000001,8.0440000000000005,11.492000000000001,11.907,11.419,11.534000000000001,9.2739999999999991,8.5370000000000008,8.1310000000000002,{"$nulls":16},117,"Fenamidone",50,37.398000000000003,37.046999999999997,46.44,44.265000000000001,41.593000000000004,35.951000000000001,39.679000000000002,43.8,39.247999999999998,43.003999999999998,48.444000000000003,44.204000000000001,47.021999999999998,44.868000000000002,43.243000000000002,{"$nulls":16},117,"Fenamidone",10,10.802,8.1630000000000003,11.802,11.782999999999999,11.541,9.077,10.484999999999999,8.7929999999999993,9.8729999999999993,11.788,9.3030000000000008,8.7129999999999992,8.5129999999999999,9.6539999999999999,8.3789999999999996,{"$nulls":16},117,"Fenamidone",50,41.356000000000002,35.936999999999998,43.957999999999998,43.395000000000003,45.624000000000002,47.417000000000002,40.875,40.148000000000003,37.274999999999999,39.393999999999998,46.710999999999999,46.875,53.414000000000001,51.29,47.73,{"$nulls":16},117,"Fenamidone",10,10.161,1.5699598720986487,101.61,15.450840193865256,"uygun","uygun",10.7066,1.5671422398748602,107.06599999999999,14.637160628723034,"uygun","uygun",9.7789999999999999,1.6033650551262493,97.789999999999992,16.396002199879835,"uygun","uygun","--------","--------","--------","--------","uygun değil","uygun değil","--------","--------","--------","--------","uygun değil","uygun değil","--------","--------","--------","--------","uygun değil","uygun değil",null,117,"Fenamidone",50,41.348599999999998,4.1412098835968205,82.697199999999995,10.015356949441626,"uygun","uygun",40.336399999999998,3.160741099805549,80.672799999999995,7.8359523899146915,"uygun","uygun",45.556199999999997,2.1296077573111907,91.112399999999994,4.6746826059047741,"uygun","uygun","--------","--------","--------","--------","uygun değil","uygun değil","--------","--------","--------","--------","uygun değil","uygun değil","--------","--------","--------","--------","uygun değil","uygun değil",{"$nulls":31},117,"Fenamidone",10,7.9923600000000056E-3,3.2112640000000012E-2,3.3342760000000034E-2,2.5376489999999998E-2,1.0627600000000048E-3,3.2718399999999907E-3,2.3043240000000048E-2,3.8259359999999999E-2,2.2260639999999998E-2,3.6366490000000036E-2,2.013561000000004E-2,2.3531559999999993E-2,5.2707600000000158E-3,2.1403689999999965E-2,3.4931609999999981E-2,"","","","","","","","","","","","","","","",6.3524161599999962E-2,6.7112083600000039E-2,5.0694400000000058E-3,1.3156090000000006E-2,2.8271059599999985E-2,7.8949760399999999E-2,4.2609216399999976E-2,1.5376000000000027E-2,4.6242201600000005E-2,1.9577606400000013E-2,9.6845439999999536E-4,1.3437446400000006E-2,3.547393600000007E-3,1.0534969599999991E-2,1.826281959999998E-2,"","","","","","","","","","","","","","","",6.4320400000000078E-3,3.3745689999999988E-2,3.2472039999999973E-2,3.1790889999999968E-2,2.3746810000000038E-2,8.5192900000000092E-3,2.3522499999999989E-3,1.4568490000000007E-2,1.6129000000000113E-4,3.1969440000000023E-2,4.8580899999999825E-3,1.6563690000000009E-2,2.2111690000000017E-2,1.1971599999999975E-3,2.6276410000000007E-2,"","","","","","","","","","","","","","","",2.9887494399999975E-2,7.9107187600000031E-2,1.4602305600000014E-2,1.7450409999999968E-2,7.6597503999999879E-3,2.6687555999999925E-3,3.3306249999999996E-2,3.8824761599999952E-2,6.4770250000000029E-2,4.4994894400000034E-2,4.3270084000000082E-3,3.90625E-3,4.6621584000000162E-3,6.6564000000000228E-4,2.0611600000000098E-3,"","","","","","","","","","","","","","","",60,1.3606600596000002,0.15059106102289074,null,117,"Fenamidone",10,9.7273333333333323,9.120333333333333,9.7026666666666657,10.436666666666666,10.569333333333333,3,5,1.0746666666666673,-0.9573333333333327,2.0993333333333339,1.3463333333333338,0.97166666666666757,-0.65033333333333232,1.3646666666666665,-0.9096666666666664,-0.56366666666666632,1.2186666666666675,-0.42433333333333145,-0.40733333333333377,-1.1896666666666658,-0.78266666666666573,-2.1903333333333332,"","","","","","","","","","","","","","","",9.9112666666666662,99.112666666666655,1.0590133999999995,21.322369333333334,10,2.1322369333333335,0,2.1322369333333335,1.4602181115618766,0.14732911147198238,14.732911147198239,15,"UYGUN  ","UYGUN  ",0.30388213921973339,null,117,"Fenamidone",50,45.161333333333324,41.228999999999999,45.839999999999996,43.986666666666672,44.249333333333333,3,5,-3.8053333333333228,-5.2920000000000016,-1.8819999999999979,-0.59166666666666856,1.3746666666666698,2.2556666666666771,-0.3539999999999992,-5.6919999999999931,-6.7116666666666731,-4.8553333333333342,1.5496666666666741,5.6460000000000008,7.5740000000000052,7.3033333333333275,3.4806666666666644,"","","","","","","","","","","","","","","",44.093266666666672,88.186533333333344,9.3236907333333114,311.59844800000002,10,31.159844800000002,0,31.159844800000002,5.5821003932211752,0.12659756954322221,{"$f":"SM127*100","v":12.659756954322221},15,"UYGUN  ","UYGUN  ",0.22437722459951379,0.13735503576748614]
[120,"Fenitrothion","GC-MS/MS",1711485,1473619,null,3780855,4605312,null,6605467,7508713,null,21288841,21543532,null,40693857,36188098,null,87817163,69503317,{"$nulls":8},120,"Fenitrothion",10,9.0939999999999994,10.878,11.760999999999999,8.0069999999999997,9.2799999999999994,10.08,10.612,8.26,11.161,11.945,11.471,9.3520000000000003,8.7550000000000008,8.1989999999999998,7.3109999999999999,{"$nulls":16},120,"Fenitrothion",50,42.488999999999997,40.758000000000003,35.206000000000003,47.883000000000003,39.881,36.476999999999997,38.021000000000001,47.442,37.359000000000002,44.619,42.579000000000001,41.213000000000001,47.634999999999998,39.094999999999999,36.701999999999998,{"$nulls":16},120,"Fenitrothion",10,10.265000000000001,8.5709999999999997,11.148,11.138999999999999,10.535,8.5239999999999991,10.077,8.3079999999999998,8.8759999999999994,10.712999999999999,11.295,9.5920000000000005,7.4779999999999998,9.343,8.2119999999999997,{"$nulls":16},120,"Fenitrothion",50,38.886000000000003,35.746000000000002,38.575000000000003,35.28,40.061999999999998,40.585000000000001,45.783999999999999,37.58,40.625999999999998,37.039000000000001,46.920999999999999,44.438000000000002,50.735999999999997,50.435000000000002,36.447000000000003,{"$nulls":16},120,"Fenitrothion",10,9.8040000000000003,1.4992673210605212,98.04,15.292404335582631,"uygun","uygun",10.4116,1.3867603614179365,104.11600000000001,13.319378015078726,"uygun","uygun",9.0175999999999998,1.5638528703174064,90.176000000000002,17.342229310652574,"uygun","uygun","--------","--------","--------","--------","uygun değil","uygun değil","--------","--------","--------","--------","uygun değil","uygun değil","--------","--------","--------","--------","uygun değil","uygun değil",null,120,"Fenitrothion",50,41.243400000000001,4.5874217486514137,82.486800000000002,11.122802069304212,"uygun","uygun",40.7836,4.9231908149085744,81.5672,12.071496422357452,"uygun","uygun",41.444800000000001,4.113223456122947,82.889600000000002,9.9245827127237831,"uygun","uygun","--------","--------","--------","--------","uygun değil","uygun değil","--------","--------","--------","--------","uygun değil","uygun değil","--------","--------","--------","--------","uygun değil","uygun değil",{"$nulls":31},120,"Fenitrothion",10,8.2083600000000031E-3,7.708840000000018E-3,3.1011209999999973E-2,3.9720490000000011E-2,5.1840000000000089E-3,6.4000000000000119E-5,3.7454399999999905E-3,3.0276000000000015E-2,1.3479209999999971E-2,3.7830250000000044E-2,2.1638410000000004E-2,4.1990399999999959E-3,1.5500249999999986E-2,3.2436010000000015E-2,7.2307210000000011E-2,"","","","","","","","","","","","","","","",2.2566048400000007E-2,3.4165825599999963E-2,8.7544974399999947E-2,1.7926755999999944E-3,4.0957664400000003E-2,7.3148611600000024E-2,5.7398576400000005E-2,2.6173455999999981E-3,6.3917952399999964E-2,1.158206440000001E-2,2.20284964E-2,3.0884547600000003E-2,2.2372900000000007E-3,4.7567610000000031E-2,7.073472160000005E-2,"","","","","","","","","","","","","","","",7.0224999999999834E-4,2.0420410000000007E-2,1.3179040000000003E-2,1.2973209999999975E-2,2.8622500000000111E-3,2.1785760000000019E-2,5.929000000000062E-5,2.8628640000000007E-2,1.2633760000000013E-2,5.0836899999999888E-3,1.6770249999999987E-2,1.6646399999999957E-3,6.3604839999999996E-2,4.3164899999999975E-3,3.1969440000000023E-2,"","","","","","","","","","","","","","","",4.9408398399999963E-2,8.1270606400000001E-2,5.2212249999999967E-2,8.6671360000000003E-2,3.9505537600000022E-2,3.5456890000000012E-2,7.1098624000000103E-3,6.1702560000000031E-2,3.5148750400000033E-2,6.7195008400000006E-2,3.7920963999999962E-3,1.2374337600000002E-2,2.1667839999999541E-4,7.5690000000002645E-5,7.3473523599999979E-2,"","","","","","","","","","","","","","","",60,1.7347206340000003,0.17003532152663656,null,120,"Fenitrothion",10,10.028,9.413333333333334,8.9779999999999998,9.7859999999999996,9.8199999999999985,3,5,0.2370000000000001,-0.84233333333333427,2.17,1.3529999999999998,0.71500000000000163,-1.5040000000000013,0.66366666666666596,-0.66999999999999993,-0.91000000000000014,0.89300000000000068,1.2669999999999995,0.17866666666666653,-1.5,-0.44299999999999962,-1.6079999999999988,"","","","","","","","","","","","","","","",9.6050666666666675,96.050666666666672,0.51583506666666645,19.262470666666665,10,1.9262470666666665,0,1.9262470666666665,1.3878930314208897,0.14449592903268652,14.449592903268652,15,"UYGUN  ","UYGUN  ",0.2923070290982685,null,120,"Fenitrothion",50,42.130666666666663,41.989333333333335,42.296999999999997,42.113666666666667,37.849333333333334,3,5,-3.2446666666666601,-6.2433333333333323,-3.7219999999999942,-6.8336666666666659,2.2126666666666637,-1.5456666666666621,3.7946666666666644,-4.7169999999999987,-1.4876666666666694,-0.81033333333333246,4.7903333333333364,2.4486666666666679,8.4390000000000001,8.3213333333333352,-1.4023333333333312,"","","","","","","","","","","","","","","",41.275999999999996,82.551999999999992,11.044102833333323,328.23482266666662,10,32.823482266666659,0,32.823482266666659,5.7291781493218252,0.13880168013668537,{"$f":"SM130*100","v":13.880168013668538},15,"UYGUN  ","UYGUN  ",0.26972268972273405,0.14167741512991036]
[123,"Fenpropathrin","GC-MS/MS",784568,734406,null,1764732,2151096,null,3208536,3338853,null,8897709,9894424,null,18671403,18038617,null,35167146,37293232,{"$nulls":8},123,"Fenpropathrin",10,9.2289999999999992,11.398999999999999,11.834,8.2690000000000001,8.8949999999999996,10.489000000000001,11.913,8.5280000000000005,11.881,11.849,11.33,11.238,9.2270000000000003,8.0020000000000007,7.9080000000000004,{"$nulls":16},123,"Fenpropathrin",50,36.834000000000003,38.017000000000003,36.950000000000003,41.704000000000001,39.119,35.409999999999997,38.427999999999997,43.804000000000002,37.991,42.607999999999997,42.514000000000003,40.613999999999997,42.844999999999999,37.171999999999997,37.707000000000001,{"$nulls":16},123,"Fenpropathrin",10,9.56,7.7039999999999997,11.749000000000001,10.173,10.882999999999999,9.1760000000000002,10.332000000000001,8.9849999999999994,8.3350000000000009,10.984,8.32,8.4,9.1300000000000008,9.0500000000000007,8.69,{"$nulls":16},123,"Fenpropathrin",50,40.661000000000001,35,41.94,39.966000000000001,40.305999999999997,40.393999999999998,38.143999999999998,36.601999999999997,36.090000000000003,37.216000000000001,49.55,49.87,58.5,57.33,37.369999999999997,{"$nulls":16},123,"Fenpropathrin",10,9.9252000000000002,1.5893873662515194,99.25200000000001,16.013655807958727,"uygun","uygun",10.931999999999999,1.4730339439402003,109.32,13.474514671974024,"uygun","uygun",9.5410000000000004,1.6743757045538024,95.410000000000011,17.549268468229769,"uygun","uygun","--------","--------","--------","--------","uygun değil","uygun değil","--------","--------","--------","--------","uygun değil","uygun değil","--------","--------","--------","--------","uygun değil","uygun değil",null,123,"Fenpropathrin",50,38.524799999999999,2.0035622525891217,77.049599999999998,5.2007077326530489,"uygun","uygun",39.648199999999996,3.4723417458539432,79.296399999999991,8.7578799185182277,"uygun","uygun",40.170399999999994,2.6410920657939974,80.340799999999987,6.5747218494065232,"uygun","uygun","--------","--------","--------","--------","uygun değil","uygun değil","--------","--------","--------","--------","uygun değil","uygun değil","--------","--------","--------","--------","uygun değil","uygun değil",{"$nulls":31},123,"Fenpropathrin",10,5.9444100000000085E-3,1.9572009999999977E-2,3.3635560000000002E-2,2.9963610000000012E-2,1.2210250000000009E-2,2.391210000000016E-3,3.6595690000000007E-2,2.1667840000000001E-2,3.5381609999999973E-2,3.4188010000000026E-2,1.7689000000000003E-2,1.5326439999999978E-2,5.9752899999999881E-3,3.992003999999999E-2,4.3764639999999973E-2,"","","","","","","","","","","","","","","",6.9337422399999946E-2,5.7436915599999992E-2,6.8120999999999945E-2,2.7529446399999987E-2,4.7358464400000015E-2,8.5147240000000041E-2,5.3564473600000044E-2,1.535616639999998E-2,5.7686432400000029E-2,2.1856665600000023E-2,2.241607839999999E-2,3.5238798400000042E-2,2.047761E-2,6.5823033600000011E-2,6.0447139599999984E-2,"","","","","","","","","","","","","","","",1.9359999999999937E-3,5.2716160000000012E-2,3.0590010000000018E-2,2.9929000000000321E-4,7.7968899999999687E-3,6.7897600000000049E-3,1.1022400000000078E-3,1.0302250000000008E-2,2.7722249999999955E-2,9.6825600000000085E-3,2.8223999999999975E-2,2.5599999999999973E-2,7.5689999999999941E-3,9.0249999999999948E-3,1.7161000000000003E-2,"","","","","","","","","","","","","","","",3.4886768399999983E-2,9.0000000000000024E-2,2.5985440000000002E-2,4.0272462399999986E-2,3.7589454400000021E-2,3.6910094400000024E-2,5.6225894399999997E-2,7.1802561600000051E-2,7.7395239999999935E-2,6.5372262400000006E-2,8.1000000000000139E-5,6.7600000000002428E-6,2.8899999999999974E-2,2.1491560000000017E-2,6.3806760000000018E-2,"","","","","","","","","","","","","","","",60,1.9492651648000003,0.18024359280336893,null,123,"Fenpropathrin",10,9.0186666666666664,8.8119999999999994,9.9546666666666681,9.1860000000000017,10.185666666666664,3,5,0.54133333333333411,-1.1079999999999997,1.7943333333333324,0.98699999999999832,0.69733333333333469,0.15733333333333377,1.5200000000000014,-0.96966666666666868,-0.85100000000000087,0.79833333333333556,-0.6986666666666661,-0.41199999999999903,-0.82466666666666733,-0.13600000000000101,-1.4956666666666649,"","","","","","","","","","","","","","","",9.4314,94.313999999999993,1.0927143999999986,14.431194,10,1.4431194000000001,0,1.4431194000000001,1.2012990468655171,0.12737229328260036,12.737229328260035,15,"UYGUN  ","UYGUN  ",0.22713181534496266,null,123,"Fenpropathrin",50,43.535000000000004,41.004666666666672,45.680666666666667,44.46200000000001,38.297333333333334,3,5,-2.8740000000000023,-6.0046666666666724,-3.7406666666666695,-4.4960000000000093,2.008666666666663,-3.1410000000000053,-2.860666666666674,-9.0786666666666704,-8.372000000000007,-1.0813333333333333,6.0149999999999935,8.8653333333333251,12.819333333333333,12.867999999999988,-0.9273333333333369,"","","","","","","","","","","","","","","",42.595933333333342,85.191866666666684,26.167291733333347,699.84342999999978,10,69.984342999999981,0,69.984342999999981,8.3656645282966,0.19639584987682546,{"$f":"SM133*100","v":19.639584987682547},15,"UYGUN  ","UYGUN  ",0.53999861788376791,0.16552194861242622]
[127,"Fipronil","GC-MS/MS",941684,943928,null,1662680,1622886,null,4654659,4594174,null,7502692,7782556,null,19073001,19096738,null,38146002,38193476,{"$nulls":8},127,"Fipronil",2,2.5499999999999998,2,2.2400000000000002,1.6,1.67,2,2.67,2.44,1.84,1.88,1.87,1.98,2.14,1.78,2.25,{"$nulls":16},127,"Fipronil",50,39.930999999999997,42.881,43.795999999999999,42.383000000000003,38.648000000000003,40.61,42.523000000000003,40.11,39.631,38.417000000000002,41.53,40.26,50.25,49.98,53.63,{"$nulls":16},127,"Fipronil",2,2.14,1.26,1.67,1.28,2.2400000000000002,"2.2.",2.5,2.1,2.5,1.28,2.14,1.88,1.89,1.89,1.76,{"$nulls":16},127,"Fipronil",50,41.606000000000002,43.911000000000001,40.798999999999999,36.365000000000002,41.728999999999999,44.334000000000003,39.814,36.725999999999999,55.81,57.817,42.97,41.86,38.76,46.09,49.77,{"$nulls":16},127,"Fipronil",2,{"$f":"IFERROR(AVERAGE(AF137:AJ137),\"--------\")","v":2.012},{"$f":"IFERROR(_xlfn.STDEV.S(AF137:AJ137),\"--------\")","v":0.39632057731084208},110.2,{"$f":"IFERROR(FM137/FL137*100,\"--------\")","v":19.697841814654179},{"$f":"IF(FN137<70,\"uygun değil\",IF(FN137>120,\"uygun değil\",\"uygun\"))","v":"uygun"},{"$f":"IF(FO137<0,\"uygun değil\",IF(FO137<20,\"uygun\",\"uygun değil\"))","v":"uygun"},{"$f":"IFERROR(AVERAGE(AK137:AO137),\"--------\")","v":2.1659999999999995},{"$f":"IFERROR(_xlfn.STDEV.S(AK137:AO137),\"--------\")","v":0.36902574435938923},{"$f":"IFERROR(FR137/$FK137*100,\"--------\")","v":108.29999999999997},{"$f":"IFERROR(FS137/FR137*100,\"--------\")","v":17.037199647247892},{"$f":"IF(FT137<70,\"uygun değil\",IF(FT137>120,\"uygun değil\",\"uygun\"))","v":"uygun"},{"$f":"IF(FU137<0,\"uygun değil\",IF(FU137<20,\"uygun\",\"uygun değil\"))","v":"uygun"},{"$f":"IFERROR(AVERAGE(AP137:AT137),\"--------\")","v":2.004},{"$f":"IFERROR(_xlfn.STDEV.S(AP137:AT137),\"--------\")","v":0.19217179813906099},{"$f":"IFERROR(FX137/$FK137*100,\"--------\")","v":100.2},{"$f":"IFERROR(FY137/FX137*100,\"--------\")","v":9.5894110847834817},{"$f":"IF(FZ137<70,\"uygun değil\",IF(FZ137>120,\"uygun değil\",\"uygun\"))","v":"uygun"},{"$f":"IF(GA137<0,\"uygun değil\",IF(GA137<20,\"uygun\",\"uygun değil\"))","v":"uygun"},{"$nulls":34},47.129999999999995,5.8877797173468132,null,12.492636786222818,null,"uygun",{"$nulls":180},1.88,1.8866666666666667,1.89,1.76,null,null,null,-0.61999999999999988,-0.21666666666666679,-0.60999999999999988,0.4800000000000002,null,0.62000000000000011,0.21333333333333337,0.6100000000000001,-0.48,null,0,3.3333333333331883E-3,0,0,null,"","","","",null,"","","","",null,"","","","",{"$nulls":19},42.97,41.861666666666665,38.761666666666663,46.088333333333338,49.771999999999998,3,null,-1.3639999999999972,2.0493333333333368,2.0373333333333363,-9.7233333333333363,-8.0429999999999993,1.3640000000000043,-2.0476666666666645,-2.0356666666666641,9.721666666666664,8.0450000000000017,0,-1.6666666666651508E-3,-1.6666666666651508E-3,1.6666666666651508E-3,-1.9999999999953388E-3,"","","","","","","","","","","","","","","",43.89073333333333,null,null,338.87426399999998,{"$nulls":7},15]
[130,"Fluchloraline","GC-MS/MS",2403247,1843514,null,5754273,6549708,null,11033458,11909116,null,31519663,31684815,null,65793167,66026564,null,110999056,131396591,{"$nulls":8},130,"Fluchloraline",10,10.233000000000001,11.358000000000001,11.855,10.098000000000001,10.414,11.324999999999999,11.901999999999999,9.9369999999999994,11.935,11.19,11.638999999999999,9.0739999999999998,10.601000000000001,9.9420000000000002,9.3320000000000007,{"$nulls":16},130,"Fluchloraline",50,43.396999999999998,42.506,37.957999999999998,43.317999999999998,35.262999999999998,39.091999999999999,40.213999999999999,45.561999999999998,35.738999999999997,44.265000000000001,42.814999999999998,40.030999999999999,43.829000000000001,43.433,37.003999999999998,{"$nulls":16},130,"Fluchloraline",10,10.962999999999999,9.65,11.225,11.305,11.439,10.638999999999999,11.839,10.202,10.266999999999999,11.301,11.384,11.988,11.037000000000001,11.369,10.007999999999999,{"$nulls":16},130,"Fluchloraline",50,44.616999999999997,36.084000000000003,45.363,38.03,35.813000000000002,37.279000000000003,35.435000000000002,45.951999999999998,38.609000000000002,44.360999999999997,52.75,45.5,57.92,53.65,52.43,{"$nulls":16},130,"Fluchloraline",10,10.791599999999999,0.77254857452460557,107.916,7.1587954939453429,"uygun","uygun",11.2578,0.81043488325713153,112.578,7.1988744093617898,"uygun","uygun",10.117599999999999,1.0350648771936952,101.176,10.23033997384454,"uygun","uygun","--------","--------","--------","--------","uygun değil","uygun değil","--------","--------","--------","--------","uygun değil","uygun değil","--------","--------","--------","--------","uygun değil","uygun değil",null,130,"Fluchloraline",50,40.488399999999999,3.6825612418532838,80.976799999999997,9.0953488946297796,"uygun","uygun",40.974400000000003,3.9813682698288542,81.948800000000006,9.7167213426648189,"uygun","uygun",41.422399999999996,2.8823524767106479,82.844799999999992,6.958439097470567,"uygun","uygun","--------","--------","--------","--------","uygun değil","uygun değil","--------","--------","--------","--------","uygun değil","uygun değil","--------","--------","--------","--------","uygun değil","uygun değil",{"$nulls":31},130,"Fluchloraline",10,5.4289000000000464E-4,1.844164000000004E-2,3.4410249999999996E-2,9.6040000000000605E-5,1.7139599999999901E-3,1.7556249999999957E-2,3.6176039999999972E-2,3.9690000000001051E-5,3.7442250000000003E-2,1.4160999999999998E-2,2.6863209999999978E-2,8.5747600000000024E-3,3.6120100000000049E-3,3.3640000000000315E-5,4.4622399999999958E-3,"","","","","","","","","","","","","","","",1.7439843600000018E-2,2.2464014400000003E-2,5.8003905600000023E-2,1.7859649600000024E-2,8.6871667600000008E-2,4.7593785600000008E-2,3.8306318400000004E-2,7.8783376000000106E-3,8.1350448400000011E-2,1.3156090000000006E-2,2.0649690000000016E-2,3.97523844E-2,1.5232496399999993E-2,1.7250195600000004E-2,6.7558406400000021E-2,"","","","","","","","","","","","","","","",9.2736899999999681E-3,1.2249999999999943E-3,1.5006250000000013E-2,1.7030250000000014E-2,2.0707209999999976E-2,4.0832099999999804E-3,3.3819209999999982E-2,4.0803999999999981E-4,7.1288999999999717E-4,1.6926010000000026E-2,1.9154560000000022E-2,3.9521439999999949E-2,1.0753690000000026E-2,1.8741610000000006E-2,6.3999999999985898E-7,"","","","","","","","","","","","","","","",1.1590675600000018E-2,7.7462022399999941E-2,8.6007076000000088E-3,5.7312359999999972E-2,8.0508387599999995E-2,6.4729536399999996E-2,8.4855689999999998E-2,6.5545216000000052E-3,5.1901952399999958E-2,1.2719328400000023E-2,3.024999999999993E-3,8.0999999999999944E-3,2.5090560000000029E-2,5.3289999999999935E-3,2.3619599999999976E-3,"","","","","","","","","","","","","","","",60,1.4629985056000001,0.15615155595339636,null,130,"Fluchloraline",10,10.995333333333333,11.159000000000001,10.821333333333333,10.980333333333334,10.916000000000002,3,5,-3.2333333333333769E-2,-1.5090000000000003,0.40366666666666617,0.32466666666666555,0.52299999999999791,-0.35633333333333361,0.67999999999999972,-0.61933333333333351,-0.71333333333333471,0.38499999999999801,0.38866666666666738,0.82899999999999885,0.21566666666666734,0.38866666666666561,-0.90800000000000303,"","","","","","","","","","","","","","","",10.974400000000001,109.74400000000001,4.6042899999999963E-2,6.3103680000000013,10,0.63103680000000018,0,0.63103680000000018,0.79437824743632057,7.238466316484915E-2,7.2384663164849155,15,"UYGUN  ","UYGUN  ",7.3353552460841367E-2,null,130,"Fluchloraline",50,44.882000000000005,39.006333333333338,49.745000000000005,43.42966666666667,44.201333333333338,3,5,-0.26500000000000767,-2.9223333333333343,-4.382000000000005,-5.3996666666666684,-8.3883333333333354,-7.6030000000000015,-3.5713333333333352,-3.7930000000000064,-4.8206666666666678,0.1596666666666593,7.867999999999995,6.4936666666666625,8.1749999999999972,10.220333333333329,8.2286666666666619,"","","","","","","","","","","","","","","",44.252866666666669,88.505733333333339,44.074322433333336,578.61384199999986,10,57.861384199999989,0,57.861384199999989,7.6066670888109718,0.17189094541847319,17.189094541847318,15,"UYGUN  ","UYGUN  ",0.41365095963599141,0.13188259282093523]
[133,"Flumetralin","GC-MS/MS",1024762,1054074,null,3123532,3190450,null,4937953,5232252,null,14699720,16121177,null,29100620,25622669,null,65142338,49969579,{"$nulls":8},133,"Flumetralin",10,9.2989999999999995,11.007999999999999,11.567,8.5280000000000005,9.5069999999999997,10.329000000000001,11.353,8.5790000000000006,11.654999999999999,11.355,11.622,10.343999999999999,9.4120000000000008,8.4380000000000006,7.5529999999999999,{"$nulls":16},133,"Flumetralin",50,42.283999999999999,42.776000000000003,44.76,46.779000000000003,43.338999999999999,36.26,40.747999999999998,44.365000000000002,40.087000000000003,43.442,47.808,45.027999999999999,50.838999999999999,41.369,39.299999999999997,{"$nulls":16},133,"Flumetralin",10,9.7070000000000007,7.5650000000000004,10.861000000000001,9.9139999999999997,10.173999999999999,8.8539999999999992,10.026999999999999,8.5530000000000008,8.5299999999999994,9.6999999999999993,11.324999999999999,11.265000000000001,10.324,11.029,10.204000000000001,{"$nulls":16},133,"Flumetralin",50,43.506,36.984999999999999,42.353000000000002,36.024000000000001,38.213999999999999,37.691000000000003,36.856000000000002,39.683999999999997,36.963000000000001,40.164999999999999,35.96,40.173999999999999,43.378999999999998,36.317999999999998,36.479999999999997,{"$nulls":16},133,"Flumetralin",10,9.9817999999999998,1.2620549512600419,99.817999999999998,12.643560793244124,"uygun","uygun",10.654199999999999,1.2642441219954232,106.542,11.86615721495207,"uygun","uygun",9.4738000000000007,1.5920258163735985,94.738000000000014,16.804511562135556,"uygun","uygun","--------","--------","--------","--------","uygun değil","uygun değil","--------","--------","--------","--------","uygun değil","uygun değil","--------","--------","--------","--------","uygun değil","uygun değil",null,133,"Flumetralin",50,43.9876,1.8151739035144825,87.975200000000001,4.1265581743820583,"uygun","uygun",40.980399999999996,3.1878417934395689,81.960799999999992,7.7789426004616091,"uygun","uygun",44.8688,4.6788797484013207,89.7376,10.427913713763953,"uygun","uygun","--------","--------","--------","--------","uygun değil","uygun değil","--------","--------","--------","--------","uygun değil","uygun değil","--------","--------","--------","--------","uygun değil","uygun değil",{"$nulls":31},133,"Flumetralin",10,4.9140100000000068E-3,1.016064E-2,2.455489000000002E-2,2.1667840000000001E-2,2.4304900000000009E-3,1.08241000000001E-3,1.8306089999999994E-2,2.019240999999997E-2,2.7390249999999994E-2,1.8360249999999988E-2,2.6308839999999969E-2,1.183359999999999E-3,3.4574399999999957E-3,2.4398439999999966E-2,5.9878090000000016E-2,"","","","","","","","","","","","","","","",2.3814662400000002E-2,2.0874470399999984E-2,1.0983040000000001E-2,4.1499363999999896E-3,1.77475684E-2,7.5515040000000019E-2,3.4239801600000036E-2,1.270128999999998E-2,3.9307027599999954E-2,1.7202945599999984E-2,1.9219455999999991E-3,9.8883135999999951E-3,2.8156840000000057E-4,2.97976644E-2,4.5796000000000031E-2,"","","","","","","","","","","","","","","",8.5848999999999312E-4,5.929224999999997E-2,7.4132100000000112E-3,7.3960000000000898E-5,3.0275999999999513E-4,1.3133160000000008E-2,7.2899999999995931E-6,2.0938089999999982E-2,2.1609000000000007E-2,9.000000000000016E-4,1.7556249999999957E-2,1.6002250000000013E-2,1.049759999999999E-3,1.0588409999999998E-2,4.1615999999999892E-4,"","","","","","","","","","","","","","","",1.6868814399999998E-2,6.7756089999999991E-2,2.339064359999999E-2,7.8131430399999993E-2,5.5563918400000016E-2,6.0604592399999976E-2,6.9105894400000006E-2,4.2567942400000024E-2,6.7985347599999982E-2,3.8690889999999992E-2,7.884863999999997E-2,3.8620110400000011E-2,1.7535056400000026E-2,7.4878849599999991E-2,7.3116160000000041E-2,"","","","","","","","","","","","","","","",60,1.5823121444000001,0.16239417807708914,null,133,"Flumetralin",10,9.9619999999999997,9.6189999999999998,9.9126666666666665,9.8243333333333336,10.026,3,5,-0.25499999999999901,-2.0539999999999994,0.94833333333333414,8.9666666666666117E-2,0.14799999999999969,-1.1080000000000005,0.40799999999999947,-1.3596666666666657,-1.2943333333333342,-0.32600000000000051,1.3629999999999995,1.6460000000000008,0.41133333333333333,1.2046666666666663,0.17800000000000082,"","","","","","","","","","","","","","","",9.8687999999999985,98.687999999999988,7.4774766666666645E-2,16.456803333333337,10,1.6456803333333336,0,1.6456803333333336,1.2828407279679475,0.12998953550258874,12.998953550258873,15,"UYGUN  ","UYGUN  ",0.23656191076250291,null,133,"Flumetralin",50,39.052333333333337,38.005000000000003,41.80533333333333,36.434999999999995,38.286333333333324,3,5,4.4536666666666633,-1.0200000000000031,0.54766666666667163,-0.41099999999999426,-7.2333333333325811E-2,-1.3613333333333344,-1.1490000000000009,-2.1213333333333324,0.5280000000000058,1.8786666666666747,-3.092333333333336,2.1689999999999969,1.5736666666666679,-0.11699999999999733,-1.8063333333333276,"","","","","","","","","","","","","","","",38.716799999999992,77.433599999999984,11.662644600000005,52.851337999999991,10,5.2851337999999988,2.1258369333333356,7.4109707333333343,2.7223098158243002,7.0313399243333657E-2,7.0313399243333654,15,"UYGUN  ","UYGUN  ",6.9215637584134071E-2,0.10450180250438557]
[137,"Flurtamone","GC-MS/MS",2821545,2057966,null,6330150,7035044,null,12145471,12937693,null,35574077,34539477,null,72131352,72780080,null,123021116,142809810,{"$nulls":8},137,"Flurtamone",{"$f":"$AE$11","v":10},8.4290000000000003,10.268000000000001,11.834,7.226,9.4120000000000008,10.657,9.7219999999999995,7.516,10.361000000000001,11.582000000000001,9.9039999999999999,9.0169999999999995,9.7579999999999991,9.7910000000000004,8.8079999999999998,{"$nulls":16},137,"Flurtamone",{"$f":"$BM$11","v":50},40.53,41.69,43.91,38.154000000000003,39.832999999999998,45.44,38.646999999999998,36.747999999999998,35.46,35.151000000000003,41.51,39.728999999999999,42.753999999999998,39.58,39.72,{"$nulls":16},137,"Flurtamone",{"$f":"$CU$11","v":10},10.612,7.2839999999999998,11.644,11.207000000000001,11.715,8.39,9.0060000000000002,8.2880000000000003,9.7210000000000001,11.372,10.401,9.5839999999999996,9.7889999999999997,10.882999999999999,9.7669999999999995,{"$nulls":16},137,"Flurtamone",{"$f":"$EC$11","v":50},53.441000000000003,41.691000000000003,36.174999999999997,42.216000000000001,48.709000000000003,49.975999999999999,37.656999999999996,43.917999999999999,45.447000000000003,52.853000000000002,39.877000000000002,40.712000000000003,43.463999999999999,44.064,48.85,{"$nulls":16},137,"Flurtamone",{"$f":"$FK$11","v":10},9.4338000000000015,1.756511372009866,{"$f":"IFERROR(FL147/$FK$11*100,\"--------\")","v":94.338000000000008},18.619340795966266,"uygun","uygun",9.9676000000000009,1.5253675950406125,99.676000000000016,15.303258507971954,"uygun","uygun",9.4556000000000004,0.50417189528969186,94.556000000000012,5.3319926317705049,"uygun","uygun","--------","--------","--------","--------","uygun değil","uygun değil","--------","--------","--------","--------","uygun değil","uygun değil","--------","--------","--------","--------","uygun değil","uygun değil",null,137,"Flurtamone",{"$f":"$GY$11","v":50},40.823399999999999,2.1488815230254064,81.646799999999999,5.2638475066393449,"uygun","uygun",38.289200000000001,4.2275859187011191,76.578400000000002,11.041196783168933,"uygun","uygun",40.658599999999993,1.416340990016175,81.317199999999985,3.4834967018445671,"uygun","uygun","--------","--------","--------","--------","uygun değil","uygun değil","--------","--------","--------","--------","uygun değil","uygun değil","--------","--------","--------","--------","uygun değil","uygun değil",{"$nulls":31},137,"Flurtamone",10,2.4680410000000007E-2,7.1824000000000844E-4,3.3635560000000002E-2,7.6950759999999993E-2,3.4574399999999957E-3,4.3164900000000122E-3,7.7284000000000261E-4,6.1702559999999976E-2,1.3032100000000015E-3,2.5027240000000037E-2,9.2160000000001015E-5,9.6628900000000108E-3,5.8564000000000532E-4,4.3680999999999663E-4,1.4208639999999993E-2,"","","","","","","","","","","","","","","",3.5872360000000006E-2,2.7622440000000005E-2,1.4835240000000005E-2,5.6131086399999953E-2,4.1347155600000032E-2,8.317440000000011E-3,5.1556243600000017E-2,7.024620160000003E-2,8.4564639999999969E-2,8.8197120399999954E-2,2.8832040000000021E-2,4.2197376400000021E-2,2.1001806400000014E-2,4.3430560000000014E-2,4.2271360000000001E-2,"","","","","","","","","","","","","","","",3.7454399999999905E-3,7.3766560000000037E-2,2.7027360000000035E-2,1.4568490000000007E-2,2.9412249999999994E-2,2.5920999999999975E-2,9.8803599999999873E-3,2.9309440000000006E-2,7.7841000000000206E-4,1.8823839999999998E-2,1.6080100000000019E-3,1.7305600000000068E-3,4.452100000000003E-4,7.7968899999999687E-3,5.4289000000000464E-4,"","","","","","","","","","","","","","","",4.7361924000000142E-3,2.7615792399999999E-2,7.6452250000000041E-2,2.4236262399999979E-2,6.6667239999999763E-4,2.3040000000003452E-7,6.0939859600000042E-2,1.4796289599999993E-2,8.2919235999999851E-3,3.2558436000000128E-3,4.0990051599999987E-2,3.4506777599999969E-2,1.7087718400000014E-2,1.4094438400000011E-2,5.2900000000000093E-4,"","","","","","","","","","","","","","","",60,1.4875299728,0.15745528321823099,null,137,"Flurtamone",10,9.8010000000000002,8.6246666666666663,9.9070000000000018,10.603666666666667,10.951333333333332,3,5,0.81099999999999994,-1.3406666666666665,1.7369999999999983,0.6033333333333335,0.76366666666666738,-1.4109999999999996,0.38133333333333397,-1.6190000000000015,-0.88266666666666715,0.42066666666666741,0.59999999999999964,0.95933333333333337,-0.1180000000000021,0.27933333333333188,-1.184333333333333,"","","","","","","","","","","","","","","",9.9775333333333336,99.775333333333336,2.4050374333333329,14.907949999999998,10,1.4907949999999999,0.30474747777777766,1.7955424777777775,1.3399785363123462,0.13429958002101516,13.429958002101516,15,"UYGUN  ","UYGUN  ",0.25250928071349477,null,137,"Flurtamone",50,47.76466666666667,40.020000000000003,41.185666666666663,43.908999999999999,50.137333333333338,3,5,5.6763333333333321,1.6709999999999994,-5.0106666666666655,-1.6929999999999978,-1.4283333333333346,2.2113333333333287,-2.3630000000000067,2.7323333333333366,1.5380000000000038,2.7156666666666638,-7.8876666666666679,0.69200000000000017,2.278333333333336,0.15500000000000114,-1.2873333333333363,"","","","","","","","","","","","","","","",44.603333333333339,89.206666666666678,55.341504833333389,162.27206999999999,10,16.227207,13.038099277777796,29.265306277777796,5.4097417940025379,0.12128559436520149,12.128559436520149,15,"UYGUN  ","UYGUN  ",0.20594273560728274,0.12795814275445946]
[140,"Flometoquin","GC-MS/MS",1170896,1205143,null,3071137,3118360,null,5713052,5880021,null,11938253,11552351,null,23558188,24023039,null,41105194,42443770,{"$nulls":8},140,"Flometoquin",10,11.387,11.81,11.53,11.484999999999999,11.579000000000001,11.116,10.218,11.904,11.871,11.696,7.3170000000000002,8.8810000000000002,8.59,7.6840000000000002,8.0739999999999998,{"$nulls":16},140,"Flometoquin",50,53.793999999999997,48.884999999999998,55.792000000000002,47.749000000000002,45.524000000000001,58.682000000000002,49.783999999999999,49.738999999999997,44.73,42.223999999999997,59.966000000000001,49.280999999999999,53.915999999999997,44.482999999999997,40.581000000000003,{"$nulls":16},140,"Flometoquin",10,11.51,11.752000000000001,7.57,10.688000000000001,11.773,10.124000000000001,11.736000000000001,9.3480000000000008,10.656000000000001,10.888,7.9939999999999998,9.0530000000000008,8.5779999999999994,10.712999999999999,10.257999999999999,{"$nulls":16},140,"Flometoquin",50,51.448999999999998,45.392000000000003,52.817999999999998,51.658000000000001,42.874000000000002,48.53,46.976999999999997,55.408000000000001,55.506,43.168999999999997,48.792000000000002,47.003,54.685000000000002,54.981000000000002,35.975999999999999,{"$nulls":16},140,"Flometoquin",10,{"$f":"IFERROR(AVERAGE(AF150:AJ150),\"--------\")","v":11.558200000000001},{"$f":"IFERROR(_xlfn.STDEV.S(AF150:AJ150),\"--------\")","v":0.15755856054178732},{"$f":"IFERROR(FL150/$FK$11*100,\"--------\")","v":115.58200000000001},{"$f":"IFERROR(FM150/FL150*100,\"--------\")","v":1.3631755856602872},{"$f":"IF(FN150<70,\"uygun değil\",IF(FN150>120,\"uygun değil\",\"uygun\"))","v":"uygun"},{"$f":"IF(FO150<0,\"uygun değil\",IF(FO150<20,\"uygun\",\"uygun değil\"))","v":"uygun"},{"$f":"IFERROR(AVERAGE(AK150:AO150),\"--------\")","v":11.361000000000001},{"$f":"IFERROR(_xlfn.STDEV.S(AK150:AO150),\"--------\")","v":0.71303015364008282},{"$f":"IFERROR(FR150/$FK150*100,\"--------\")","v":113.61000000000001},{"$f":"IFERROR(FS150/FR150*100,\"--------\")","v":6.2761214122003581},{"$f":"IF(FT150<70,\"uygun değil\",IF(FT150>120,\"uygun değil\",\"uygun\"))","v":"uygun"},{"$f":"IF(FU150<0,\"uygun değil\",IF(FU150<20,\"uygun\",\"uygun değil\"))","v":"uygun"},{"$f":"IFERROR(AVERAGE(AP150:AT150),\"--------\")","v":8.1091999999999995},{"$f":"IFERROR(_xlfn.STDEV.S(AP150:AT150),\"--------\")","v":0.63962074700559857},{"$f":"IFERROR(FX150/$FK150*100,\"--------\")","v":81.091999999999999},{"$f":"IFERROR(FY150/FX150*100,\"--------\")","v":7.8875936837862994},{"$f":"IF(FZ150<70,\"uygun değil\",IF(FZ150>120,\"uygun değil\",\"uygun\"))","v":"uygun"},{"$f":"IF(GA150<0,\"uygun değil\",IF(GA150<20,\"uygun\",\"uygun değil\"))","v":"uygun"},{"$f":"IFERROR(AVERAGE(AU150:AY150),\"--------\")","v":"--------"},{"$f":"IFERROR(_xlfn.STDEV.S(AU150:AY150),\"--------\")","v":"--------"},{"$f":"IFERROR(GD150/$FK150*100,\"--------\")","v":"--------"},{"$f":"IFERROR(GE150/GD150*100,\"--------\")","v":"--------"},{"$f":"IF(GF150<70,\"uygun değil\",IF(GF150>120,\"uygun değil\",\"uygun\"))","v":"uygun değil"},{"$f":"IF(GG150<0,\"uygun değil\",IF(GG150<20,\"uygun\",\"uygun değil\"))","v":"uygun değil"},{"$f":"IFERROR(AVERAGE(AZ150:BD150),\"--------\")","v":"--------"},{"$f":"IFERROR(_xlfn.STDEV.S(AZ150:BD150),\"--------\")","v":"--------"},{"$f":"IFERROR(GJ150/$FK150*100,\"--------\")","v":"--------"},{"$f":"IFERROR(GK150/GJ150*100,\"--------\")","v":"--------"},{"$f":"IF(GL150<70,\"uygun değil\",IF(GL150>120,\"uygun değil\",\"uygun\"))","v":"uygun değil"},{"$f":"IF(GM150<0,\"uygun değil\",IF(GM150<20,\"uygun\",\"uygun değil\"))","v":"uygun değil"},{"$f":"IFERROR(AVERAGE(BE150:BI150),\"--------\")","v":"--------"},{"$f":"IFERROR(_xlfn.STDEV.S(BE150:BI150),\"--------\")","v":"--------"},{"$f":"IFERROR(GP150/$FK150*100,\"--------\")","v":"--------"},{"$f":"IFERROR(GQ150/GP150*100,\"--------\")","v":"--------"},{"$f":"IF(GR150<70,\"uygun değil\",IF(GR150>120,\"uygun değil\",\"uygun\"))","v":"uygun değil"},{"$f":"IF(GS150<0,\"uygun değil\",IF(GS150<20,\"uygun\",\"uygun değil\"))","v":"uygun değil"},null,139,"Flometoquin",50,{"$f":"IFERROR(AVERAGE(BN150:BR150),\"--------\")","v":50.348799999999997},{"$f":"IFERROR(_xlfn.STDEV.S(BN150:BR150),\"--------\")","v":4.2918001700917996},{"$f":"IFERROR(GZ150/$GY150*100,\"--------\")","v":100.69759999999999},{"$f":"IFERROR(HA150/GZ150*100,\"--------\")","v":8.5241359676731125},{"$f":"IF(HB150<70,\"uygun değil\",IF(HB150>120,\"uygun değil\",\"uygun\"))","v":"uygun"},{"$f":"IF(HC150<0,\"uygun değil\",IF(HC150<20,\"uygun\",\"uygun değil\"))","v":"uygun"},{"$f":"IFERROR(AVERAGE(BS150:BW150),\"--------\")","v":49.031799999999997},{"$f":"IFERROR(_xlfn.STDEV.S(BS150:BW150),\"--------\")","v":6.3056308328350603},{"$f":"IFERROR(HF150/$GY150*100,\"--------\")","v":98.063599999999994},{"$f":"IFERROR(HG150/HF150*100,\"--------\")","v":12.860288288080513},{"$f":"IF(HH150<70,\"uygun değil\",IF(HH150>120,\"uygun değil\",\"uygun\"))","v":"uygun"},{"$f":"IF(HI150<0,\"uygun değil\",IF(HI150<20,\"uygun\",\"uygun değil\"))","v":"uygun"},{"$f":"IFERROR(AVERAGE(BX150:CB150),\"--------\")","v":49.645400000000009},{"$f":"IFERROR(_xlfn.STDEV.S(BX150:CB150),\"--------\")","v":7.6436136283827913},{"$f":"IFERROR(HL150/$GY150*100,\"--------\")","v":99.290800000000019},{"$f":"IFERROR(HM150/HL150*100,\"--------\")","v":15.396418657887317},{"$f":"IF(HN150<70,\"uygun değil\",IF(HN150>120,\"uygun değil\",\"uygun\"))","v":"uygun"},{"$f":"IF(HO150<0,\"uygun değil\",IF(HO150<20,\"uygun\",\"uygun değil\"))","v":"uygun"},{"$f":"IFERROR(AVERAGE(CC150:CG150),\"--------\")","v":"--------"},{"$f":"IFERROR(_xlfn.STDEV.S(CC150:CG150),\"--------\")","v":"--------"},{"$f":"IFERROR(HR150/$GY150*100,\"--------\")","v":"--------"},{"$f":"IFERROR(HS150/HR150*100,\"--------\")","v":"--------"},{"$f":"IF(HT150<70,\"uygun değil\",IF(HT150>120,\"uygun değil\",\"uygun\"))","v":"uygun değil"},{"$f":"IF(HU150<0,\"uygun değil\",IF(HU150<20,\"uygun\",\"uygun değil\"))","v":"uygun değil"},{"$f":"IFERROR(AVERAGE(CH150:CL150),\"--------\")","v":"--------"},{"$f":"IFERROR(_xlfn.STDEV.S(CH150:CL150),\"--------\")","v":"--------"},{"$f":"IFERROR(HX150/$GY150*100,\"--------\")","v":"--------"},{"$f":"IFERROR(HY150/HX150*100,\"--------\")","v":"--------"},{"$f":"IF(HZ150<70,\"uygun değil\",IF(HZ150>120,\"uygun değil\",\"uygun\"))","v":"uygun değil"},{"$f":"IF(IA150<0,\"uygun değil\",IF(IA150<20,\"uygun\",\"uygun değil\"))","v":"uygun değil"},{"$f":"IFERROR(AVERAGE(CM150:CQ150),\"--------\")","v":"--------"},{"$f":"IFERROR(_xlfn.STDEV.S(CM150:CQ150),\"--------\")","v":"--------"},{"$f":"IFERROR(ID150/$GY150*100,\"--------\")","v":"--------"},{"$f":"IFERROR(IE150/ID150*100,\"--------\")","v":"--------"},{"$f":"IF(IF150<70,\"uygun değil\",IF(IF150>120,\"uygun değil\",\"uygun\"))","v":"uygun değil"},{"$f":"IF(IG150<0,\"uygun değil\",IF(IG150<20,\"uygun\",\"uygun değil\"))","v":"uygun değil"},{"$nulls":31},139,"Flometoquin",{"$f":"AE150","v":10},{"$f":"IF((((AF150/($AE150))-1)^2)=1,\"\",(((AF150/($AE150))-1)^2))","v":1.9237690000000012E-2},{"$f":"IF((((AG150/($AE150))-1)^2)=1,\"\",(((AG150/($AE150))-1)^2))","v":3.2761000000000019E-2},{"$f":"IF((((AH150/($AE150))-1)^2)=1,\"\",(((AH150/($AE150))-1)^2))","v":2.3409000000000006E-2},{"$f":"IF((((AI150/($AE150))-1)^2)=1,\"\",(((AI150/($AE150))-1)^2))","v":2.2052249999999957E-2},{"$f":"IF((((AJ150/($AE150))-1)^2)=1,\"\",(((AJ150/($AE150))-1)^2))","v":2.4932410000000047E-2},{"$f":"IF((((AK150/($AE150))-1)^2)=1,\"\",(((AK150/($AE150))-1)^2))","v":1.2454559999999983E-2},{"$f":"IF((((AL150/($AE150))-1)^2)=1,\"\",(((AL150/($AE150))-1)^2))","v":4.7524000000000183E-4},{"$f":"IF((((AM150/($AE150))-1)^2)=1,\"\",(((AM150/($AE150))-1)^2))","v":3.6252159999999964E-2},{"$f":"IF((((AN150/($AE150))-1)^2)=1,\"\",(((AN150/($AE150))-1)^2))","v":3.5006410000000016E-2},{"$f":"IF((((AO150/($AE150))-1)^2)=1,\"\",(((AO150/($AE150))-1)^2))","v":2.876415999999999E-2},{"$f":"IF((((AP150/($AE150))-1)^2)=1,\"\",(((AP150/($AE150))-1)^2))","v":7.1984889999999996E-2},{"$f":"IF((((AQ150/($AE150))-1)^2)=1,\"\",(((AQ150/($AE150))-1)^2))","v":1.2521610000000001E-2},{"$f":"IF((((AR150/($AE150))-1)^2)=1,\"\",(((AR150/($AE150))-1)^2))","v":1.9881000000000003E-2},{"$f":"IF((((AS150/($AE150))-1)^2)=1,\"\",(((AS150/($AE150))-1)^2))","v":5.3638560000000016E-2},{"$f":"IF((((AT150/($AE150))-1)^2)=1,\"\",(((AT150/($AE150))-1)^2))","v":3.7094759999999997E-2},{"$f":"IF((((AU150/($AE150))-1)^2)=1,\"\",(((AU150/($AE150))-1)^2))","v":""},{"$f":"IF((((AV150/($AE150))-1)^2)=1,\"\",(((AV150/($AE150))-1)^2))","v":""},{"$f":"IF((((AW150/($AE150))-1)^2)=1,\"\",(((AW150/($AE150))-1)^2))","v":""},{"$f":"IF((((AX150/($AE150))-1)^2)=1,\"\",(((AX150/($AE150))-1)^2))","v":""},{"$f":"IF((((AY150/($AE150))-1)^2)=1,\"\",(((AY150/($AE150))-1)^2))","v":""},{"$f":"IF((((AZ150/($AE150))-1)^2)=1,\"\",(((AZ150/($AE150))-1)^2))","v":""},{"$f":"IF((((BA150/($AE150))-1)^2)=1,\"\",(((BA150/($AE150))-1)^2))","v":""},{"$f":"IF((((BB150/($AE150))-1)^2)=1,\"\",(((BB150/($AE150))-1)^2))","v":""},{"$f":"IF((((BC150/($AE150))-1)^2)=1,\"\",(((BC150/($AE150))-1)^2))","v":""},{"$f":"IF((((BD150/($AE150))-1)^2)=1,\"\",(((BD150/($AE150))-1)^2))","v":""},{"$f":"IF((((BE150/($AE150))-1)^2)=1,\"\",(((BE150/($AE150))-1)^2))","v":""},{"$f":"IF((((BF150/($AE150))-1)^2)=1,\"\",(((BF150/($AE150))-1)^2))","v":""},{"$f":"IF((((BG150/($AE150))-1)^2)=1,\"\",(((BG150/($AE150))-1)^2))","v":""},{"$f":"IF((((BH150/($AE150))-1)^2)=1,\"\",(((BH150/($AE150))-1)^2))","v":""},{"$f":"IF((((BI150/($AE150))-1)^2)=1,\"\",(((BI150/($AE150))-1)^2))","v":""},{"$f":"IF((((BN150/$BM150)-1)^2)=1,\"\",(((BN150/$BM150)-1)^2))","v":5.7577743999999917E-3},{"$f":"IF((((BO150/$BM150)-1)^2)=1,\"\",(((BO150/$BM150)-1)^2))","v":4.9728999999999941E-4},{"$f":"IF((((BP150/$BM150)-1)^2)=1,\"\",(((BP150/$BM150)-1)^2))","v":1.3418905599999987E-2},{"$f":"IF((((BQ150/$BM150)-1)^2)=1,\"\",(((BQ150/$BM150)-1)^2))","v":2.0268003999999954E-3},{"$f":"IF((((BR150/$BM150)-1)^2)=1,\"\",(((BR150/$BM150)-1)^2))","v":8.0138303999999876E-3},{"$f":"IF((((BS150/$BM150)-1)^2)=1,\"\",(((BS150/$BM150)-1)^2))","v":3.0150849600000005E-2},{"$f":"IF((((BT150/$BM150)-1)^2)=1,\"\",(((BT150/$BM150)-1)^2))","v":1.8662399999999918E-5},{"$f":"IF((((BU150/$BM150)-1)^2)=1,\"\",(((BU150/$BM150)-1)^2))","v":2.7248400000000025E-5},{"$f":"IF((((BV150/$BM150)-1)^2)=1,\"\",(((BV150/$BM150)-1)^2))","v":1.110916000000001E-2},{"$f":"IF((((BW150/$BM150)-1)^2)=1,\"\",(((BW150/$BM150)-1)^2))","v":2.4186470400000031E-2},{"$f":"IF((((BX150/$BM150)-1)^2)=1,\"\",(((BX150/$BM150)-1)^2))","v":3.9728462399999977E-2},{"$f":"IF((((BY150/$BM150)-1)^2)=1,\"\",(((BY150/$BM150)-1)^2))","v":2.0678440000000171E-4},{"$f":"IF((((BZ150/$BM150)-1)^2)=1,\"\",(((BZ150/$BM150)-1)^2))","v":6.1340223999999917E-3},{"$f":"IF((((CA150/$BM150)-1)^2)=1,\"\",(((CA150/$BM150)-1)^2))","v":1.2174915600000023E-2},{"$f":"IF((((CB150/$BM150)-1)^2)=1,\"\",(((CB150/$BM150)-1)^2))","v":3.5487024399999997E-2},{"$f":"IF((((CC150/$BM150)-1)^2)=1,\"\",(((CC150/$BM150)-1)^2))","v":""},{"$f":"IF((((CD150/$BM150)-1)^2)=1,\"\",(((CD150/$BM150)-1)^2))","v":""},{"$f":"IF((((CE150/$BM150)-1)^2)=1,\"\",(((CE150/$BM150)-1)^2))","v":""},{"$f":"IF((((CF150/$BM150)-1)^2)=1,\"\",(((CF150/$BM150)-1)^2))","v":""},{"$f":"IF((((CG150/$BM150)-1)^2)=1,\"\",(((CG150/$BM150)-1)^2))","v":""},{"$f":"IF((((CH150/$BM150)-1)^2)=1,\"\",(((CH150/$BM150)-1)^2))","v":""},{"$f":"IF((((CI150/$BM150)-1)^2)=1,\"\",(((CI150/$BM150)-1)^2))","v":""},{"$f":"IF((((CJ150/$BM150)-1)^2)=1,\"\",(((CJ150/$BM150)-1)^2))","v":""},{"$f":"IF((((CK150/$BM150)-1)^2)=1,\"\",(((CK150/$BM150)-1)^2))","v":""},{"$f":"IF((((CL150/$BM150)-1)^2)=1,\"\",(((CL150/$BM150)-1)^2))","v":""},{"$f":"IF((((CM150/$BM150)-1)^2)=1,\"\",(((CM150/$BM150)-1)^2))","v":""},{"$f":"IF((((CN150/$BM150)-1)^2)=1,\"\",(((CN150/$BM150)-1)^2))","v":""},{"$f":"IF((((CO150/$BM150)-1)^2)=1,\"\",(((CO150/$BM150)-1)^2))","v":""},{"$f":"IF((((CP150/$BM150)-1)^2)=1,\"\",(((CP150/$BM150)-1)^2))","v":""},{"$f":"IF((((CQ150/$BM150)-1)^2)=1,\"\",(((CQ150/$BM150)-1)^2))","v":""},{"$f":"IF((((CV150/$CU150)-1)^2)=1,\"\",(((CV150/$CU150)-1)^2))","v":2.2801000000000005E-2},{"$f":"IF((((CW150/$CU150)-1)^2)=1,\"\",(((CW150/$CU150)-1)^2))","v":3.0695040000000007E-2},{"$f":"IF((((CX150/$CU150)-1)^2)=1,\"\",(((CX150/$CU150)-1)^2))","v":5.9048999999999997E-2},{"$f":"IF((((CY150/$CU150)-1)^2)=1,\"\",(((CY150/$CU150)-1)^2))","v":4.7334399999999959E-3},{"$f":"IF((((CZ150/$CU150)-1)^2)=1,\"\",(((CZ150/$CU150)-1)^2))","v":3.1435290000000005E-2},{"$f":"IF((((DA150/$CU150)-1)^2)=1,\"\",(((DA150/$CU150)-1)^2))","v":1.5375999999999918E-4},{"$f":"IF((((DB150/$CU150)-1)^2)=1,\"\",(((DB150/$CU150)-1)^2))","v":3.013695999999999E-2},{"$f":"IF((((DC150/$CU150)-1)^2)=1,\"\",(((DC150/$CU150)-1)^2))","v":4.2510399999999898E-3},{"$f":"IF((((DD150/$CU150)-1)^2)=1,\"\",(((DD150/$CU150)-1)^2))","v":4.3033600000000139E-3},{"$f":"IF((((DE150/$CU150)-1)^2)=1,\"\",(((DE150/$CU150)-1)^2))","v":7.8854399999999988E-3},{"$f":"IF((((DF150/$CU150)-1)^2)=1,\"\",(((DF150/$CU150)-1)^2))","v":4.0240360000000003E-2},{"$f":"IF((((DG150/$CU150)-1)^2)=1,\"\",(((DG150/$CU150)-1)^2))","v":8.9680899999999807E-3},{"$f":"IF((((DH150/$CU150)-1)^2)=1,\"\",(((DH150/$CU150)-1)^2))","v":2.0220840000000028E-2},{"$f":"IF((((DI150/$CU150)-1)^2)=1,\"\",(((DI150/$CU150)-1)^2))","v":5.0836899999999888E-3},{"$f":"IF((((DJ150/$CU150)-1)^2)=1,\"\",(((DJ150/$CU150)-1)^2))","v":6.656399999999909E-4},{"$f":"IF((((DK150/$CU150)-1)^2)=1,\"\",(((DK150/$CU150)-1)^2))","v":""},{"$f":"IF((((DL150/$CU150)-1)^2)=1,\"\",(((DL150/$CU150)-1)^2))","v":""},{"$f":"IF((((DM150/$CU150)-1)^2)=1,\"\",(((DM150/$CU150)-1)^2))","v":""},{"$f":"IF((((DN150/$CU150)-1)^2)=1,\"\",(((DN150/$CU150)-1)^2))","v":""},{"$f":"IF((((DO150/$CU150)-1)^2)=1,\"\",(((DO150/$CU150)-1)^2))","v":""},{"$f":"IF((((DP150/$CU150)-1)^2)=1,\"\",(((DP150/$CU150)-1)^2))","v":""},{"$f":"IF((((DQ150/$CU150)-1)^2)=1,\"\",(((DQ150/$CU150)-1)^2))","v":""},{"$f":"IF((((DR150/$CU150)-1)^2)=1,\"\",(((DR150/$CU150)-1)^2))","v":""},{"$f":"IF((((DS150/$CU150)-1)^2)=1,\"\",(((DS150/$CU150)-1)^2))","v":""},{"$f":"IF((((DT150/$CU150)-1)^2)=1,\"\",(((DT150/$CU150)-1)^2))","v":""},{"$f":"IF((((DU150/$CU150)-1)^2)=1,\"\",(((DU150/$CU150)-1)^2))","v":""},{"$f":"IF((((DV150/$CU150)-1)^2)=1,\"\",(((DV150/$CU150)-1)^2))","v":""},{"$f":"IF((((DW150/$CU150)-1)^2)=1,\"\",(((DW150/$CU150)-1)^2))","v":""},{"$f":"IF((((DX150/$CU150)-1)^2)=1,\"\",(((DX150/$CU150)-1)^2))","v":""},{"$f":"IF((((DY150/$CU150)-1)^2)=1,\"\",(((DY150/$CU150)-1)^2))","v":""},{"$f":"IF((((ED150/$EC150)-1)^2)=1,\"\",((ED150/$EC150)-1)^2)","v":8.3984040000000036E-4},{"$f":"IF((((EE150/$EC150)-1)^2)=1,\"\",((EE150/$EC150)-1)^2)","v":8.4934655999999824E-3},{"$f":"IF((((EF150/$EC150)-1)^2)=1,\"\",((EF150/$EC150)-1)^2)","v":3.1764495999999963E-3},{"$f":"IF((((EG150/$EC150)-1)^2)=1,\"\",((EG150/$EC150)-1)^2)","v":1.0995856000000051E-3},{"$f":"IF((((EH150/$EC150)-1)^2)=1,\"\",((EH150/$EC150)-1)^2)","v":2.0311950399999994E-2},{"$f":"IF((((EI150/$EC150)-1)^2)=1,\"\",((EI150/$EC150)-1)^2)","v":8.6435999999999891E-4},{"$f":"IF((((EJ150/$EC150)-1)^2)=1,\"\",((EJ150/$EC150)-1)^2)","v":3.6554116000000083E-3},{"$f":"IF((((EK150/$EC150)-1)^2)=1,\"\",((EK150/$EC150)-1)^2)","v":1.1698585600000007E-2},{"$f":"IF((((EL150/$EC150)-1)^2)=1,\"\",((EL150/$EC150)-1)^2)","v":1.2126414399999999E-2},{"$f":"IF((((EM150/$EC150)-1)^2)=1,\"\",((EM150/$EC150)-1)^2)","v":1.8665024400000021E-2},{"$f":"IF((((EN150/$EC150)-1)^2)=1,\"\",((EN150/$EC150)-1)^2)","v":5.8370559999999805E-4},{"$f":"IF((((EO150/$EC150)-1)^2)=1,\"\",((EO150/$EC150)-1)^2)","v":3.5928035999999992E-3},{"$f":"IF((((EP150/$EC150)-1)^2)=1,\"\",((EP150/$EC150)-1)^2)","v":8.7796900000000223E-3},{"$f":"IF((((EQ150/$EC150)-1)^2)=1,\"\",((EQ150/$EC150)-1)^2)","v":9.9241444000000081E-3},{"$f":"IF((((ER150/$EC150)-1)^2)=1,\"\",((ER150/$EC150)-1)^2)","v":7.8669030400000034E-2},{"$f":"IF((((ES150/$EC150)-1)^2)=1,\"\",((ES150/$EC150)-1)^2)","v":""},{"$f":"IF((((ET150/$EC150)-1)^2)=1,\"\",((ET150/$EC150)-1)^2)","v":""},{"$f":"IF((((EU150/$EC150)-1)^2)=1,\"\",((EU150/$EC150)-1)^2)","v":""},{"$f":"IF((((EV150/$EC150)-1)^2)=1,\"\",((EV150/$EC150)-1)^2)","v":""},{"$f":"IF((((EW150/$EC150)-1)^2)=1,\"\",((EW150/$EC150)-1)^2)","v":""},{"$f":"IF((((EX150/$EC150)-1)^2)=1,\"\",((EX150/$EC150)-1)^2)","v":""},{"$f":"IF((((EY150/$EC150)-1)^2)=1,\"\",((EY150/$EC150)-1)^2)","v":""},{"$f":"IF((((EZ150/$EC150)-1)^2)=1,\"\",((EZ150/$EC150)-1)^2)","v":""},{"$f":"IF((((FA150/$EC150)-1)^2)=1,\"\",((FA150/$EC150)-1)^2)","v":""},{"$f":"IF((((FB150/$EC150)-1)^2)=1,\"\",((FB150/$EC150)-1)^2)","v":""},{"$f":"IF((((FC150/$EC150)-1)^2)=1,\"\",((FC150/$EC150)-1)^2)","v":""},{"$f":"IF((((FD150/$EC150)-1)^2)=1,\"\",((FD150/$EC150)-1)^2)","v":""},{"$f":"IF((((FE150/$EC150)-1)^2)=1,\"\",((FE150/$EC150)-1)^2)","v":""},{"$f":"IF((((FF150/$EC150)-1)^2)=1,\"\",((FF150/$EC150)-1)^2)","v":""},{"$f":"IF((((FG150/$EC150)-1)^2)=1,\"\",((FG150/$EC150)-1)^2)","v":""},{"$f":"COUNT(JR150:OG150)","v":60},{"$f":"SUM(JR150:OG150)","v":1.0725073123999997},{"$f":"SQRT(OI150/OH150)","v":0.13369787535085711},null,139,"Flometoquin",{"$f":"CU150","v":10},{"$f":"AVERAGE(CV150,DA150,DF150,DK150,DP150,DU150)","v":9.8759999999999994},{"$f":"AVERAGE(CW150,DB150,DG150,DL150,DQ150,DV150)","v":10.847},{"$f":"AVERAGE(CX150,DC150,DH150,DM150,DR150,DW150)","v":8.4986666666666668},{"$f":"AVERAGE(CY150,DD150,DI150,DN150,DS150,DX150)","v":10.685666666666668},{"$f":"AVERAGE(CZ150,DE150,DJ150,DO150,DT150,DY150)","v":10.972999999999999},{"$f":"COUNT(CV150,DA150,DF150,DK150,DP150,DU150)","v":3},5,{"$f":"IF(CV150=0,\"\",(CV150-OO150))","v":1.6340000000000003},{"$f":"IF(CW150=0,\"\",(CW150-OP150))","v":0.90500000000000114},{"$f":"IF(CX150=0,\"\",(CX150-OQ150))","v":-0.92866666666666653},{"$f":"IF(CY150=0,\"\",(CY150-OR150))","v":2.3333333333326323E-3},{"$f":"IF(CZ150=0,\"\",(CZ150-OS150))","v":0.80000000000000071},{"$f":"IF(DA150=0,\"\",DA150-OO150)","v":0.24800000000000111},{"$f":"IF(DB150=0,\"\",DB150-OP150)","v":0.88900000000000112},{"$f":"IF(DC150=0,\"\",DC150-OQ150)","v":0.84933333333333394},{"$f":"IF(DD150=0,\"\",DD150-OR150)","v":-2.9666666666667396E-2},{"$f":"IF(DE150=0,\"\",DE150-OS150)","v":-8.4999999999999076E-2},{"$f":"IF(DF150=0,\"\",DF150-OO150)","v":-1.8819999999999997},{"$f":"IF(DG150=0,\"\",DG150-OP150)","v":-1.7939999999999987},{"$f":"IF(DH150=0,\"\",DH150-OQ150)","v":7.933333333333259E-2},{"$f":"IF(DI150=0,\"\",DI150-OR150)","v":2.7333333333331211E-2},{"$f":"IF(DJ150=0,\"\",DJ150-OS150)","v":-0.71499999999999986},{"$f":"IF(DK150=0,\"\",DK150-OO150)","v":""},{"$f":"IF(DL150=0,\"\",DL150-OP150)","v":""},{"$f":"IF(DM150=0,\"\",DM150-OQ150)","v":""},{"$f":"IF(DN150=0,\"\",DN150-OR150)","v":""},{"$f":"IF(DO150=0,\"\",DO150-OS150)","v":""},{"$f":"IF(DP150=0,\"\",DP150-OO150)","v":""},{"$f":"IF(DQ150=0,\"\",DQ150-OP150)","v":""},{"$f":"IF(DR150=0,\"\",DR150-OQ150)","v":""},{"$f":"IF(DS150=0,\"\",DS150-OR150)","v":""},{"$f":"IF(DT150=0,\"\",DT150-OS150)","v":""},{"$f":"IF(DU150=0,\"\",DU150-OO150)","v":""},{"$f":"IF(DV150=0,\"\",DV150-OP150)","v":""},{"$f":"IF(DW150=0,\"\",DW150-OQ150)","v":""},{"$f":"IF(DX150=0,\"\",DX150-OR150)","v":""},{"$f":"IF(DY150=0,\"\",DY150-OS150)","v":""},{"$f":"AVERAGE(OO150:OS150)","v":10.176066666666667},{"$f":"(PZ150/ON150*100)","v":101.76066666666668},{"$f":"(SUMSQ((PZ150-OO150),(PZ150-OP150),(PZ150-OQ150),(PZ150-OR150),(PZ150-OS150)))*(1/(OU150-1))*OT150","v":3.1864928999999989},{"$f":"SUMSQ(OV150:PY150)","v":13.851331333333334},{"$f":"OU150*(OT150-1)","v":10},{"$f":"QC150/QD150","v":1.3851331333333334},{"$f":"IF(((QB150-QE150)/OT150)<0,0,((QB150-QE150)/OT150))","v":0.60045325555555518},{"$f":"QE150+IF(QF150>=0,QF150,0)","v":1.9855863888888887},{"$f":"SQRT(QG150)","v":1.4091083666236919},{"$f":"QH150/PZ150","v":0.13847279236479962},{"$f":"QI150*100","v":13.847279236479961},{"$f":"COUNT(CV150:DY150)","v":15},{"$f":"IF(QA150<70,\"UYGUN DEĞİL\",IF(QA150>120,\"UYGUN DEĞİL\",\"UYGUN  \"))","v":"UYGUN  "},{"$f":"IF(QJ150<20,\"UYGUN  \",\"UYGUN DEĞİL\")","v":"UYGUN  "},{"$f":"(QI150^2)*(QK150-1)","v":0.2684459991542687},null,139,"Flometoquin",{"$f":"EC150","v":50},{"$f":"(SUM(ED150,EI150,EN150,ES150,EX150,FC150))/(COUNT(ED150,EI150,EN150,ES150,EX150,FC150))","v":49.590333333333341},{"$f":"(SUM(EE150,EJ150,EO150,ET150,EY150,FD150))/(COUNT(EE150,EJ150,EO150,ET150,EY150,FD150))","v":46.457333333333338},{"$f":"(SUM(EF150,EK150,EP150,EU150,EZ150,FE150))/(COUNT(EF150,EK150,EP150,EU150,EZ150,FE150))","v":54.303666666666665},{"$f":"(SUM(EG150,EL150,EQ150,EV150,FA150,FF150))/(COUNT(EG150,EL150,EQ150,EV150,FA150,FF150))","v":54.048333333333339},{"$f":"(SUM(EH150,EM150,ER150,EW150,FB150,FG150))/(COUNT(EH150,EM150,ER150,EW150,FB150,FG150))","v":40.673000000000002},{"$f":"COUNT(ED150,EI150,EN150,ES150,EX150,FC150)","v":3},5,{"$f":"IF(ED150=0,\"\",(ED150-QS150))","v":1.8586666666666574},{"$f":"IF(EE150=0,\"\",(EE150-QT150))","v":-1.065333333333335},{"$f":"IF(EF150=0,\"\",(EF150-QU150))","v":-1.4856666666666669},{"$f":"IF(EG150=0,\"\",(EG150-QV150))","v":-2.3903333333333379},{"$f":"IF(EH150=0,\"\",(EH150-QW150))","v":2.2010000000000005},{"$f":"IF(EI150=0,\"\",EI150-QS150)","v":-1.0603333333333396},{"$f":"IF(EJ150=0,\"\",EJ150-QT150)","v":0.51966666666665873},{"$f":"IF(EK150=0,\"\",EK150-QU150)","v":1.1043333333333365},{"$f":"IF(EL150=0,\"\",EL150-QV150)","v":1.4576666666666611},{"$f":"IF(EM150=0,\"\",EM150-QW150)","v":2.4959999999999951},{"$f":"IF(EN150=0,\"\",EN150-QS150)","v":-0.79833333333333911},{"$f":"IF(EO150=0,\"\",EO150-QT150)","v":0.54566666666666208},{"$f":"IF(EP150=0,\"\",EP150-QU150)","v":0.38133333333333752},{"$f":"IF(EQ150=0,\"\",EQ150-QV150)","v":0.93266666666666254},{"$f":"IF(ER150=0,\"\",ER150-QW150)","v":-4.6970000000000027},{"$f":"IF(ES150=0,\"\",ES150-QS150)","v":""},{"$f":"IF(ET150=0,\"\",ET150-QT150)","v":""},{"$f":"IF(EU150=0,\"\",EU150-QU150)","v":""},{"$f":"IF(EV150=0,\"\",EV150-QV150)","v":""},{"$f":"IF(EW150=0,\"\",EW150-QW150)","v":""},{"$f":"IF(EX150=0,\"\",EX150-QS150)","v":""},{"$f":"IF(EY150=0,\"\",EY150-QT150)","v":""},{"$f":"IF(EZ150=0,\"\",EZ150-QU150)","v":""},{"$f":"IF(FA150=0,\"\",FA150-QV150)","v":""},{"$f":"IF(FB150=0,\"\",FB150-QW150)","v":""},{"$f":"IF(FC150=0,\"\",FC150-QS150)","v":""},{"$f":"IF(FD150=0,\"\",FD150-QT150)","v":""},{"$f":"IF(FE150=0,\"\",FE150-QU150)","v":""},{"$f":"IF(FF150=0,\"\",FF150-QV150)","v":""},{"$f":"IF(FG150=0,\"\",FG150-QW150)","v":""},{"$f":"AVERAGE(QS150:QW150)","v":49.01453333333334},{"$f":"(SD150/QR150*100)","v":98.029066666666679},{"$f":"(SUMSQ((SD150-QS150),(SD150-QT150),(SD150-QU150),(SD150-QV150),(SD150-QW150)))*(1/(QY150-1))*QX150","v":97.324552266666657},{"$f":"SUMSQ(QZ150:SC150)","v":52.335776666666646},{"$f":"QY150*(QX150-1)","v":10},{"$f":"SG150/SH150","v":5.2335776666666645},{"$f":"IF(((SF150-SI150)/QX150)<0,0,((SF150-SI150)/QX150))","v":30.696991533333332},{"$f":"SI150+IF(SJ150>=0,SJ150,0)","v":35.930569199999994},{"$f":"SQRT(SK150)","v":5.9942113075866779},{"$f":"SL150/SD150","v":0.12229457060871762},{"$f":"SM150*100","v":12.229457060871763},{"$f":"COUNT(ED150:FG150)","v":15},{"$f":"IF(SE150<70,\"UYGUN DEĞİL\",IF(SE150>120,\"UYGUN DEĞİL\",\"UYGUN  \"))","v":"UYGUN  "},{"$f":"IF(SN150<20,\"UYGUN  \",\"UYGUN DEĞİL\")","v":"UYGUN  "},{"$f":"(SM150^2)*(SO150-1)","v":0.20938346800518867},{"$f":"IFERROR(SQRT((QN150+SR150)/((QK150-1)+(SO150-1))),\"--------\")","v":0.13063436803857462}]
[141,"Folpet","GC-MS/MS",72360,58264,null,162888,132841,null,262243,348904,null,882972,776727,null,1589079,1591672,null,2946581,3113805,{"$nulls":8},141,"Folpet",10,8.1590000000000007,9.2680000000000007,7.3410000000000002,10.941000000000001,8.6210000000000004,10.845000000000001,11.926,8.6080000000000005,8.32,10.699,11.97,11.526999999999999,11.662000000000001,11.938000000000001,11.959,{"$nulls":16},141,"Folpet",50,50.168999999999997,45.554000000000002,57.292000000000002,50.661000000000001,35.426000000000002,55.97,58.86,41.103000000000002,35.457999999999998,44.692,48.308,47.753999999999998,54.774999999999999,45.866999999999997,54.771999999999998,{"$nulls":16},141,"Folpet",10,10.071,11.340999999999999,9.0399999999999991,8.56,10.013999999999999,8.8230000000000004,7.7939999999999996,11.859,10.407,10.144,10.029999999999999,9.7899999999999991,9.4239999999999995,11.013999999999999,9.67,{"$nulls":16},141,"Folpet",50,36.630000000000003,58.844999999999999,37.688000000000002,50.387,43.895000000000003,41.829000000000001,39.997,42.231999999999999,41.677,37.429000000000002,47.62,44.887,51.033000000000001,51.618000000000002,36.378999999999998,{"$nulls":16},141,"Folpet",10,8.8660000000000014,1.3557957073246705,88.660000000000011,15.292078810339163,"uygun","uygun",10.079599999999999,1.5524565372338173,100.79599999999999,15.401965725165853,"uygun","uygun",11.811199999999999,0.20382026395822403,118.11199999999999,1.7256524651028182,"uygun","uygun","--------","--------","--------","--------","uygun değil","uygun değil","--------","--------","--------","--------","uygun değil","uygun değil","--------","--------","--------","--------","uygun değil","uygun değil",null,140,"Folpet",50,47.820399999999992,8.0940388126077725,95.640799999999984,16.925911980258999,"uygun","uygun",47.2166,9.927300227151397,94.433199999999999,21.025021342391017,"uygun","uygun değil",50.295199999999994,4.1870622995126308,100.59039999999999,8.3249739528078841,"uygun","uygun","--------","--------","--------","--------","uygun değil","uygun değil","--------","--------","--------","--------","uygun değil","uygun değil","--------","--------","--------","--------","uygun değil","uygun değil",{"$nulls":31},140,"Folpet",10,3.3892809999999975E-2,5.3582399999999898E-3,7.0702810000000019E-2,8.8548100000000133E-3,1.9016409999999977E-2,7.1402500000000034E-3,3.7094760000000039E-2,1.9376639999999997E-2,2.8223999999999975E-2,4.8860100000000101E-3,3.8809000000000024E-2,2.3317289999999949E-2,2.7622440000000043E-2,3.7558439999999992E-2,3.8376809999999983E-2,"","","","","","","","","","","","","","","",1.1424399999999585E-5,7.9067663999999992E-3,2.1269305599999989E-2,1.7476840000000025E-4,8.496059039999998E-2,1.4256359999999989E-2,3.1399840000000005E-2,3.1662643599999998E-2,8.4587905599999999E-2,1.1269945600000006E-2,1.1451455999999987E-3,2.0178064000000062E-3,9.1202499999999843E-3,6.8326756000000113E-3,9.1087935999999946E-3,"","","","","","","","","","","","","","","",5.0409999999998354E-5,1.7982809999999971E-2,9.2160000000000158E-3,2.0735999999999973E-2,1.9599999999995683E-6,1.385328999999998E-2,4.8664360000000011E-2,3.4558809999999981E-2,1.6564899999999966E-3,2.073599999999991E-4,8.9999999999993497E-6,4.4100000000000546E-4,3.3177600000000112E-3,1.0281959999999988E-2,1.0890000000000019E-3,"","","","","","","","","","","","","","","",7.1502759999999985E-2,3.129361000000002E-2,6.063413759999995E-2,5.9907600000001242E-5,1.4908409999999997E-2,2.6706096400000004E-2,4.0024003600000004E-2,2.4136729600000018E-2,2.7708931600000018E-2,6.3212016399999987E-2,2.2657600000000081E-3,1.0457107600000003E-2,4.2683560000000506E-4,1.0471695999999964E-3,7.4212656399999993E-2,"","","","","","","","","","","","","","","",60,1.3266172832000001,0.14869528591496547,null,140,"Folpet",10,9.6413333333333338,9.6416666666666657,10.107666666666667,9.993666666666666,9.9426666666666677,3,5,0.42966666666666598,1.6993333333333336,-1.0676666666666677,-1.4336666666666655,7.1333333333331694E-2,-0.81833333333333336,-1.8476666666666661,1.7513333333333332,0.413333333333334,0.20133333333333248,0.38866666666666561,0.14833333333333343,-0.68366666666666731,1.0203333333333333,-0.27266666666666772,"","","","","","","","","","","","","","","",9.8653999999999993,98.653999999999996,0.13603356666666688,15.390729333333331,10,1.5390729333333331,0,1.5390729333333331,1.2405937825627424,0.12575200017867927,12.575200017867926,15,"UYGUN  ","UYGUN  ",0.22138991768513969,null,140,"Folpet",50,42.026333333333334,47.909666666666659,43.651000000000003,47.893999999999998,39.234333333333332,3,5,-5.396333333333331,10.93533333333334,-5.963000000000001,2.4930000000000021,4.6606666666666712,-0.19733333333333292,-7.9126666666666594,-1.419000000000004,-6.2169999999999987,-1.8053333333333299,5.5936666666666639,-3.0226666666666588,7.3819999999999979,3.7240000000000038,-2.8553333333333342,"","","","","","","","","","","","","","","",44.143066666666662,88.286133333333325,42.806346733333292,435.70992200000001,10,43.570992199999999,0,43.570992199999999,6.6008326898960252,0.14953271687579536,14.953271687579536,15,"UYGUN  ","UYGUN  ",0.31304046782759487,0.13815498356048422]
[144,"Furalaxyl","GC-MS/MS",2479035,2098671,null,5419924,7231038,null,9983663,11495693,null,30260051,35961393,null,61765641,56356546,null,137297712,125966982,{"$nulls":8},144,"Furalaxyl",10,8.56,10.638999999999999,11.635,7.7290000000000001,9.0459999999999994,9.6750000000000007,10.957000000000001,7.2880000000000003,11.41,11.73,11.321999999999999,11.601000000000001,9.6140000000000008,8.2940000000000005,7.4370000000000003,{"$nulls":16},144,"Furalaxyl",50,48.575000000000003,49.287999999999997,39.161999999999999,55.125,51.424999999999997,44.469000000000001,48.344999999999999,55.222000000000001,48.805999999999997,54.101999999999997,45.722000000000001,42.89,46.426000000000002,40.045999999999999,38.585999999999999,{"$nulls":16},144,"Furalaxyl",10,9.6829999999999998,7.2709999999999999,11.840999999999999,10.265000000000001,10.129,8.3849999999999998,10.013,8.4019999999999992,8.593,10.587,10.744,10.654999999999999,9.9589999999999996,11.760999999999999,10.177,{"$nulls":16},144,"Furalaxyl",50,52.923999999999999,45.237000000000002,54.149000000000001,47.936,52.598999999999997,50.762999999999998,47.863,53.497,48.188000000000002,52.713000000000001,42.912999999999997,44.551000000000002,54.604999999999997,48.216999999999999,45.003,{"$nulls":16},144,"Furalaxyl",10,9.5217999999999989,1.5873977762363238,95.217999999999989,16.671194272472896,"uygun","uygun",10.212,1.8119532278731625,102.11999999999999,17.743372775882907,"uygun","uygun",9.6536000000000008,1.826151773539098,96.536000000000016,18.916795532641686,"uygun","uygun","--------","--------","--------","--------","uygun değil","uygun değil","--------","--------","--------","--------","uygun değil","uygun değil","--------","--------","--------","--------","uygun değil","uygun değil",null,143,"Furalaxyl",50,48.714999999999996,5.916923567192665,97.429999999999993,12.145999316827806,"uygun","uygun",50.188800000000001,4.4349205968089214,100.3776,8.8364746652817399,"uygun","uygun",42.734000000000002,3.4283593743946987,85.468000000000004,8.0225566864667446,"uygun","uygun","--------","--------","--------","--------","uygun değil","uygun değil","--------","--------","--------","--------","uygun değil","uygun değil","--------","--------","--------","--------","uygun değil","uygun değil",{"$nulls":31},143,"Furalaxyl",10,2.0735999999999973E-2,4.0832099999999804E-3,2.6732249999999992E-2,5.1574409999999987E-2,9.1011600000000074E-3,1.0562499999999982E-3,9.1584900000000226E-3,7.3549439999999994E-2,1.9881000000000003E-2,2.9929000000000015E-2,1.7476839999999966E-2,2.5632010000000042E-2,1.4899599999999974E-3,2.9104359999999992E-2,6.5689689999999981E-2,"","","","","","","","","","","","","","","",8.122499999999983E-4,2.0277760000000087E-4,4.6984897600000027E-2,1.0506250000000007E-2,8.122499999999983E-4,1.2236784399999987E-2,1.0956100000000012E-3,1.0907713600000018E-2,5.7025440000000053E-4,6.7305615999999823E-3,7.3205135999999948E-3,2.0220839999999997E-2,5.1093903999999985E-3,3.9632846400000012E-2,5.211175840000002E-2,"","","","","","","","","","","","","","","",1.0048900000000039E-3,7.4474410000000019E-2,3.3892809999999975E-2,7.0224999999999834E-4,1.6640999999999772E-4,2.6082249999999991E-2,1.6900000000002051E-6,2.5536040000000017E-2,1.9796490000000014E-2,3.4456899999999969E-3,5.5353600000000031E-3,4.2902499999999859E-3,1.6809999999999939E-5,3.1011209999999973E-2,3.1329000000000171E-4,"","","","","","","","","","","","","","","",3.4199104000000101E-3,9.0744676000000021E-3,6.8856804000000087E-3,1.7040383999999986E-3,2.701920399999991E-3,2.3286760000000158E-4,1.8267076000000001E-3,4.891603599999985E-3,1.3133375999999956E-3,2.9441475999999974E-3,2.0090227600000024E-2,1.1876640399999992E-2,8.4824099999999715E-3,1.2716356000000018E-3,9.988003600000005E-3,"","","","","","","","","","","","","","","",60,0.91342221639999965,0.12338437342980942,null,143,"Furalaxyl",10,9.6039999999999992,9.3130000000000006,10.067333333333332,10.206333333333333,10.297666666666666,3,5,7.9000000000000625E-2,-2.0420000000000007,1.7736666666666672,5.8666666666667311E-2,-0.16866666666666674,-1.2189999999999994,0.69999999999999929,-1.6653333333333329,-1.6133333333333333,0.28933333333333344,1.1400000000000006,1.3419999999999987,-0.1083333333333325,1.554666666666666,-0.1206666666666667,"","","","","","","","","","","","","","","",9.8976666666666659,98.976666666666659,0.53410283333333264,20.333491999999996,10,2.0333491999999995,0,2.0333491999999995,1.4259555392788372,0.14406986891982998,14.406986891982998,15,"UYGUN  ","UYGUN  ",0.29058577982807787,null,143,"Furalaxyl",50,48.866666666666667,45.88366666666667,54.083666666666666,48.113666666666667,50.104999999999997,3,5,4.0573333333333323,-0.64666666666666828,6.533333333333502E-2,-0.17766666666666708,2.4939999999999998,1.896333333333331,1.9793333333333294,-0.586666666666666,7.4333333333335361E-2,2.6080000000000041,-5.9536666666666704,-1.3326666666666682,0.52133333333333098,0.10333333333333172,-5.1019999999999968,"","","","","","","","","","","","","","","",49.410533333333333,98.821066666666667,27.552676266666637,101.33622666666665,10,10.133622666666664,5.8063511999999911,15.939973866666655,3.9924896827251359,8.0802400083217124E-2,8.080240008321713,15,"UYGUN  ","UYGUN  ",9.1406390028916013E-2,0.11680144474659823]
[147,"HCH-Beta","GC-MS/MS",719334,638543,null,1404136,1881217,null,2726247,3183054,null,8251313,9283016,null,16558796,14971073,null,35569985,27511900,{"$nulls":8},147,"HCH-Beta",10,9.2889999999999997,11.646000000000001,11.781000000000001,9.1460000000000008,9.8000000000000007,9.984,11.679,8.7810000000000006,11.215999999999999,11.523,10.246,8.99,8.2590000000000003,8.2469999999999999,9.8119999999999994,{"$nulls":16},147,"HCH-Beta",50,45.029000000000003,46.612000000000002,39.151000000000003,47.813000000000002,38.814999999999998,41.091000000000001,42.781999999999996,48.328000000000003,37.856999999999999,45.634,47.872999999999998,44.765000000000001,47.93,42.121000000000002,38.847000000000001,{"$nulls":16},147,"HCH-Beta",10,10.484999999999999,9.0410000000000004,10.331,10.58,10.685,9.5500000000000007,10.712,9.4359999999999999,9.7810000000000006,10.769,10.862,10.46,10.83,11.976000000000001,10.361000000000001,{"$nulls":16},147,"HCH-Beta",50,47.164999999999999,36.822000000000003,47.378999999999998,37.408999999999999,36.299999999999997,39.951999999999998,35.22,43.417999999999999,38.029000000000003,44.887,47.816000000000003,50.954000000000001,57.929000000000002,54.886000000000003,57.79,{"$nulls":16},147,"HCH-Beta",10,10.332400000000002,1.2848798776539407,103.32400000000001,12.435444598098607,"uygun","uygun",10.636600000000001,1.2325933230388471,106.366,11.588226717549281,"uygun","uygun",9.1108000000000011,0.90369613255784154,91.108000000000004,9.9189547850665303,"uygun","uygun","--------","--------","--------","--------","uygun değil","uygun değil","--------","--------","--------","--------","uygun değil","uygun değil","--------","--------","--------","--------","uygun değil","uygun değil",null,146,"HCH-Beta",50,43.484000000000002,4.227472649231454,86.968000000000004,9.7219038019304893,"uygun","uygun",43.138400000000004,4.0426483027837099,86.276800000000009,9.3713450262033575,"uygun","uygun",44.307200000000009,3.8936629540832102,88.614400000000018,8.7878786158529749,"uygun","uygun","--------","--------","--------","--------","uygun değil","uygun değil","--------","--------","--------","--------","uygun değil","uygun değil","--------","--------","--------","--------","uygun değil","uygun değil",{"$nulls":31},146,"HCH-Beta",10,5.055210000000007E-3,2.7093160000000026E-2,3.1719610000000051E-2,7.293159999999986E-3,3.9999999999999628E-4,2.5600000000001466E-6,2.8190409999999978E-2,1.4859609999999975E-2,1.4786559999999983E-2,2.3195289999999962E-2,6.0515999999999782E-4,1.0200999999999997E-2,3.0310809999999973E-2,3.0730090000000005E-2,3.5344000000000147E-4,"","","","","","","","","","","","","","","",9.8843363999999902E-3,4.5914175999999911E-3,4.7080320399999979E-2,1.9131876E-3,5.0041690000000007E-2,3.17481124E-2,2.0839809600000012E-2,1.1182335999999943E-3,5.8980979599999983E-2,7.6247823999999916E-3,1.809651600000002E-3,1.0962090000000002E-2,1.7139599999999994E-3,2.4831456399999983E-2,4.9755763599999968E-2,"","","","","","","","","","","","","","","",2.3522499999999989E-3,9.196809999999998E-3,1.0956099999999938E-3,3.3640000000000059E-3,4.6922500000000011E-3,2.0249999999999938E-3,5.0694399999999902E-3,3.1809600000000005E-3,4.7960999999999647E-4,5.9136099999999954E-3,7.4304400000000095E-3,2.1160000000000037E-3,6.8889999999999941E-3,3.9045759999999999E-2,1.3032100000000015E-3,"","","","","","","","","","","","","","","",3.2148899999999967E-3,6.9463873599999948E-2,2.7478564000000022E-3,6.3413312400000019E-2,7.5076000000000018E-2,4.0384921600000012E-2,8.7379359999999989E-2,1.7329089599999993E-2,5.7321936399999981E-2,1.0457107600000003E-2,1.9079423999999949E-3,3.6404639999999946E-4,2.5147616399999982E-2,9.5491984000000054E-3,2.4273639999999982E-2,"","","","","","","","","","","","","","","",60,1.1298766023999993,0.13722709902445165,null,146,"HCH-Beta",10,10.298999999999999,10.071,10.199,10.779000000000002,10.605,3,5,0.18599999999999994,-1.0299999999999994,0.13199999999999967,-0.19900000000000162,8.0000000000000071E-2,-0.74899999999999878,0.64100000000000001,-0.7629999999999999,-0.99800000000000111,0.1639999999999997,0.56300000000000061,0.38900000000000112,0.63100000000000023,1.1969999999999992,-0.24399999999999977,"","","","","","","","","","","","","","","",10.390600000000001,103.90600000000001,0.2580504000000014,6.0946679999999986,10,0.60946679999999986,0,0.60946679999999986,0.78068354664358075,7.5133634885721778E-2,7.5133634885721783,15,"UYGUN  ","UYGUN  ",7.9030883275973282E-2,null,146,"HCH-Beta",50,44.977666666666664,40.998666666666672,49.575333333333333,43.44133333333334,46.32566666666667,3,5,2.1873333333333349,-4.1766666666666694,-2.1963333333333352,-6.0323333333333409,-10.025666666666673,-5.0256666666666661,-5.7786666666666733,-6.1573333333333338,-5.4123333333333363,-1.4386666666666699,2.8383333333333383,9.9553333333333285,8.353666666666669,11.444666666666663,11.464333333333329,"","","","","","","","","","","","","","","",45.063733333333339,90.127466666666677,30.833524899999958,731.24194933333342,10,73.124194933333342,0,73.124194933333342,8.5512686154355677,0.18975943586791669,{"$f":"SM157*100","v":18.975943586791669},15,"UYGUN  ","UYGUN  ",0.50412100901273982,0.14431511804390235]
[151,"Heptachlor-Endo-Epoxide","GC-MS/MS",261525,289845,null,658878,815464,null,1222838,1341463,null,3427098,3800564,null,6914383,6063739,null,13879126,11564100,{"$nulls":8},151,"Heptachlor-Endo-Epoxide",10,8.5289999999999999,10.175000000000001,11.146000000000001,7.351,8.6929999999999996,9.8179999999999996,11.388,7.8250000000000002,10.978999999999999,10.765000000000001,10.965999999999999,9.8369999999999997,9.7490000000000006,8.4719999999999995,9.9,{"$nulls":16},151,"Heptachlor-Endo-Epoxide",50,47.304000000000002,46.938000000000002,42.444000000000003,53.543999999999997,48.237000000000002,38.433999999999997,46.411000000000001,55.23,43.170999999999999,45.02,51.828000000000003,47.027000000000001,51.198,45.134,40.000999999999998,{"$nulls":16},151,"Heptachlor-Endo-Epoxide",10,8.8800000000000008,8.9309999999999992,10.395,8.5020000000000007,8.8490000000000002,8.2579999999999991,9.0589999999999993,8.9320000000000004,7.3719999999999999,10.169,11.506,10.510999999999999,7.7919999999999998,9.9870000000000001,7.9109999999999996,{"$nulls":16},151,"Heptachlor-Endo-Epoxide",50,49.878999999999998,45.326000000000001,52.860999999999997,42.021000000000001,44.639000000000003,43.481000000000002,41.64,52.957000000000001,43.722000000000001,59.079000000000001,50.003999999999998,46.86,52.859000000000002,54.097000000000001,38.968000000000004,{"$nulls":16},151,"Heptachlor-Endo-Epoxide",10,9.178799999999999,1.4884039102340463,91.787999999999997,16.215669915828283,"uygun","uygun",10.154999999999999,1.4242396216929225,101.54999999999998,14.025008583879101,"uygun","uygun",9.7848000000000006,0.88543136379958876,97.847999999999999,9.0490491762692002,"uygun","uygun","--------","--------","--------","--------","uygun değil","uygun değil","--------","--------","--------","--------","uygun değil","uygun değil","--------","--------","--------","--------","uygun değil","uygun değil",null,150,"Heptachlor-Endo-Epoxide",50,47.693400000000004,3.9624324347551951,95.386800000000008,8.3081357897637726,"uygun","uygun",45.653199999999998,6.1434612963703303,91.306399999999996,13.456803239138395,"uygun","uygun",47.037600000000005,4.8320390416469126,94.075200000000009,10.272715958396924,"uygun","uygun","--------","--------","--------","--------","uygun değil","uygun değil","--------","--------","--------","--------","uygun değil","uygun değil","--------","--------","--------","--------","uygun değil","uygun değil",{"$nulls":31},150,"Heptachlor-Endo-Epoxide",10,2.1638410000000004E-2,3.0625000000000248E-4,1.3133160000000008E-2,7.0172010000000007E-2,1.7082490000000009E-2,3.3123999999999979E-4,1.9265440000000009E-2,4.7306250000000015E-2,9.5844099999999755E-3,5.8522500000000015E-3,9.3315600000000044E-3,2.6568999999999936E-4,6.3000999999999498E-4,2.3347840000000016E-2,1.0000000000000018E-4,"","","","","","","","","","","","","","","",2.9073663999999964E-3,3.7503375999999953E-3,2.2837254399999975E-2,5.0239743999999763E-3,1.2432675999999971E-3,5.3508942400000037E-2,5.1523683999999932E-3,1.0941160000000005E-2,1.8654096400000011E-2,9.9201599999999817E-3,1.3366336000000109E-3,3.535491599999995E-3,5.7408159999999906E-4,9.4711823999999931E-3,3.9992000400000019E-2,"","","","","","","","","","","","","","","",1.2543999999999972E-2,1.1427610000000022E-2,1.5602499999999896E-3,2.2440039999999981E-2,1.3248009999999996E-2,3.0345640000000045E-2,8.8548100000000133E-3,1.1406240000000002E-2,6.9063840000000015E-2,2.8561000000000466E-4,2.2680360000000021E-2,2.6112099999999923E-3,4.875264E-2,1.6899999999999165E-6,4.3639210000000032E-2,"","","","","","","","","","","","","","","",5.8564000000004298E-6,8.7385104000000016E-3,3.2741284000000056E-3,2.5465776399999984E-2,1.1496128399999996E-2,1.6998944399999983E-2,2.7955840000000006E-2,3.4975395999999963E-3,1.5765313600000001E-2,3.297129640000003E-2,6.3999999999772743E-9,3.9438399999999962E-3,3.2695524000000008E-3,6.7141636000000206E-3,4.8682009599999979E-2,"","","","","","","","","","","","","","","",60,0.93483539320000009,0.12482223314244409,null,150,"Heptachlor-Endo-Epoxide",10,9.548,9.500333333333332,9.0396666666666672,8.620333333333333,8.9763333333333346,3,5,-0.66799999999999926,-0.5693333333333328,1.3553333333333324,-0.11833333333333229,-0.12733333333333441,-1.2900000000000009,-0.44133333333333269,-0.1076666666666668,-1.2483333333333331,1.1926666666666659,1.9580000000000002,1.0106666666666673,-1.2476666666666674,1.3666666666666671,-1.065333333333335,"","","","","","","","","","","","","","","",9.1369333333333351,91.369333333333344,0.45237306666666577,16.903362666666666,10,1.6903362666666666,0,1.6903362666666666,1.300129326900469,0.14229383968003145,14.229383968003145,15,"UYGUN  ","UYGUN  ",0.28346551535241094,null,150,"Heptachlor-Endo-Epoxide",50,47.788000000000004,44.608666666666672,52.892333333333333,46.613333333333337,47.562000000000005,3,5,2.090999999999994,0.71733333333332894,-3.13333333333361E-2,-4.592333333333336,-2.9230000000000018,-4.3070000000000022,-2.968666666666671,6.4666666666667538E-2,-2.8913333333333355,11.516999999999996,2.215999999999994,2.2513333333333279,-3.3333333333331439E-2,7.4836666666666645,-8.5940000000000012,"","","","","","","","","","","","","","","",47.892866666666677,95.785733333333354,28.153733933333292,342.73216599999989,10,34.273216599999991,0,34.273216599999991,5.8543331473362521,0.1222381025567395,12.22381025567395,15,"UYGUN  ","UYGUN  ",0.20919015203340752,0.13264556254839144]
[154,"Hexachlorobenzene","GC-MS/MS",920388,882525,null,2631271,2642923,null,4231382,4997922,null,13939699,13603256,null,27669522,24176007,null,55031908,45383764,{"$nulls":8},154,"Hexachlorobenzene",10,9.3130000000000006,11.039,11.727,9.1150000000000002,9.8759999999999994,10.565,11.568,8.6829999999999998,10.957000000000001,11.239000000000001,11.545999999999999,7.87,8.8580000000000005,8.0589999999999993,7.319,{"$nulls":16},154,"Hexachlorobenzene",50,46.076999999999998,46.421999999999997,42.658000000000001,44.55,41.639000000000003,41.655999999999999,41.997,50.209000000000003,37.51,50.625999999999998,40.158000000000001,40.305999999999997,42.755000000000003,44.103999999999999,44.768999999999998,{"$nulls":16},154,"Hexachlorobenzene",10,10.406000000000001,8.6890000000000001,10.343999999999999,10.263,11.204000000000001,10.01,10.84,9.7050000000000001,9.6590000000000007,10.074999999999999,11.72,10.72,9.9459999999999997,10.959,9.532,{"$nulls":16},154,"Hexachlorobenzene",50,50.149000000000001,38.768999999999998,48.695,41.834000000000003,37.96,45.003999999999998,39.752000000000002,46.131999999999998,43.204999999999998,50.095999999999997,36.167000000000002,36.411999999999999,40.837000000000003,35.673999999999999,49.4,{"$nulls":16},154,"Hexachlorobenzene",10,10.214,1.1295618619624159,102.14000000000001,11.05895694108494,"uygun","uygun",10.602399999999999,1.1345570942001995,106.02399999999999,10.700945957520934,"uygun","uygun",8.7303999999999995,1.6678579975525492,87.303999999999988,19.10402727884804,"uygun","uygun","--------","--------","--------","--------","uygun değil","uygun değil","--------","--------","--------","--------","uygun değil","uygun değil","--------","--------","--------","--------","uygun değil","uygun değil",null,153,"Hexachlorobenzene",50,44.269199999999998,2.0913784210419668,88.538399999999996,4.7242290826171853,"uygun","uygun",44.3996,5.7724258592034055,88.799199999999999,13.001076269163248,"uygun","uygun",42.418399999999998,2.1243533839735798,84.836799999999997,5.008094091181138,"uygun","uygun","--------","--------","--------","--------","uygun değil","uygun değil","--------","--------","--------","--------","uygun değil","uygun değil","--------","--------","--------","--------","uygun değil","uygun değil",{"$nulls":31},153,"Hexachlorobenzene",10,4.7196899999999977E-3,1.0795209999999975E-2,2.9825290000000025E-2,7.8322500000000041E-3,1.5376000000000192E-4,3.1922499999999993E-3,2.4586240000000016E-2,1.7344890000000009E-2,9.1584900000000226E-3,1.535121000000003E-2,2.3901159999999953E-2,4.5368999999999986E-2,1.3041639999999993E-2,3.7674810000000017E-2,7.1877610000000008E-2,"","","","","","","","","","","","","","","",6.1559716000000137E-3,5.1208336000000097E-3,2.1561985599999993E-2,1.1881000000000022E-2,2.7962528399999974E-2,2.7848934400000011E-2,2.5619203599999994E-2,1.7472400000000605E-5,6.2400040000000011E-2,1.567503999999966E-4,3.8745985600000005E-2,3.7589454400000021E-2,2.0996009999999975E-2,1.3905126400000006E-2,1.094534440000001E-2,"","","","","","","","","","","","","","","",1.6483599999999976E-3,1.7187209999999998E-2,1.183359999999999E-3,6.9168999999999947E-4,1.4496160000000015E-2,9.9999999999977973E-7,7.0560000000000128E-3,8.702499999999983E-4,1.1628099999999937E-3,5.62499999999976E-5,2.9584000000000051E-2,5.1840000000000089E-3,2.9160000000000771E-5,9.1968099999999754E-3,2.1902399999999956E-3,"","","","","","","","","","","","","","","",8.8803999999998972E-6,5.0454144400000019E-2,6.8121000000000067E-4,2.6673422399999969E-2,5.7984640000000004E-2,9.984006400000002E-3,4.2008601599999966E-2,5.9845696000000144E-3,1.8468810000000006E-2,3.6863999999996997E-6,7.654075560000001E-2,7.3853497599999998E-2,3.3584227599999995E-2,8.2093710399999992E-2,1.4400000000000025E-4,"","","","","","","","","","","","","","","",60,1.1947356031999998,0.1411108077127097,null,153,"Hexachlorobenzene",10,10.712000000000002,10.083,9.9983333333333331,10.293666666666667,10.270333333333333,3,5,-0.30600000000000094,-1.3940000000000001,0.34566666666666634,-3.0666666666666842E-2,0.93366666666666731,-0.70200000000000173,0.75699999999999967,-0.293333333333333,-0.63466666666666605,-0.19533333333333402,1.0079999999999991,0.63700000000000045,-5.2333333333333343E-2,0.66533333333333289,-0.73833333333333329,"","","","","","","","","","","","","","","",10.271466666666667,102.71466666666666,0.22851393333333442,7.0342620000000009,10,0.70342620000000011,0,0.70342620000000011,0.83870507331242494,8.1653876756882321E-2,8.1653876756882315,15,"UYGUN  ","UYGUN  ",9.334297825199378E-2,null,153,"Hexachlorobenzene",50,43.773333333333333,38.311,45.221333333333327,40.237666666666662,45.818666666666665,3,5,6.3756666666666675,0.45799999999999841,3.4736666666666736,1.5963333333333409,-7.8586666666666645,1.2306666666666644,1.4410000000000025,0.91066666666667118,2.967333333333336,4.2773333333333312,-7.6063333333333318,-1.8990000000000009,-4.3843333333333234,-4.5636666666666628,3.5813333333333333,"","","","","","","","","","","","","","","",42.672399999999996,85.344799999999992,31.91838423333332,263.09104266666657,10,26.309104266666658,1.8697599888888874,28.178864255555546,5.3083768004499783,0.12439836523021856,12.439836523021857,15,"UYGUN  ","UYGUN  ",0.2166493458073119,0.10521955346174724]
[157,"Iprobenfos","GC-MS/MS",2871916,2933235,null,6643618,8182330,null,12280718,14108009,null,38511921,43413968,null,77616403,72540671,null,155438862,137463848,{"$nulls":8},157,"Iprobenfos",10,9.7970000000000006,11.916,11.714,9.8330000000000002,10.331,11.044,11.534000000000001,9.6329999999999991,11.73,11.738,9.3309999999999995,7.5490000000000004,9.1289999999999996,7.8410000000000002,7.5149999999999997,{"$nulls":16},157,"Iprobenfos",50,45.762999999999998,46.417000000000002,39.548999999999999,50.924999999999997,43.668999999999997,41.383000000000003,42.802,51.152000000000001,40.862000000000002,48.92,47.067999999999998,44.908999999999999,49.527999999999999,43.499000000000002,41.5,{"$nulls":16},157,"Iprobenfos",10,11.436999999999999,9.5410000000000004,11.967000000000001,11.804,11.965,10.736000000000001,11.776,10.156000000000001,10.273999999999999,11.749000000000001,10.494999999999999,9.5259999999999998,9.6519999999999992,10.090999999999999,7.5609999999999999,{"$nulls":16},157,"Iprobenfos",50,48.564999999999998,41.165999999999997,48.106000000000002,39.749000000000002,43.654000000000003,42.67,38.020000000000003,49.064999999999998,40.674999999999997,48.198,47.313000000000002,48.075000000000003,55.832999999999998,55.470999999999997,36.533000000000001,{"$nulls":16},157,"Iprobenfos",10,10.7182,1.0257259380555803,107.182,9.5699458682948659,"uygun","uygun",11.1358,0.88615980500133307,111.358,7.9577561109335031,"uygun","uygun",8.2729999999999997,0.88564439816440965,82.72999999999999,10.705238706205847,"uygun","uygun","--------","--------","--------","--------","uygun değil","uygun değil","--------","--------","--------","--------","uygun değil","uygun değil","--------","--------","--------","--------","uygun değil","uygun değil",null,156,"Iprobenfos",50,45.264599999999994,4.1482098307583231,90.529199999999989,9.1643576453968958,"uygun","uygun",45.023799999999994,4.6970099212158365,90.047599999999989,10.432282306726302,"uygun","uygun",45.300799999999995,3.1160185654132411,90.601599999999991,6.8785067049880828,"uygun","uygun","--------","--------","--------","--------","uygun değil","uygun değil","--------","--------","--------","--------","uygun değil","uygun değil","--------","--------","--------","--------","uygun değil","uygun değil",{"$nulls":31},156,"Iprobenfos",10,4.120899999999994E-4,3.6710559999999996E-2,2.9377959999999998E-2,2.7888999999999789E-4,1.0956099999999938E-3,1.0899360000000011E-2,2.3531559999999993E-2,1.3468900000000049E-3,2.9929000000000015E-2,3.0206439999999984E-2,4.4756100000000092E-3,6.007400999999999E-2,7.5864100000000113E-3,4.6612809999999991E-2,6.1752250000000029E-2,"","","","","","","","","","","","","","","",7.1808676000000068E-3,5.1351555999999922E-3,4.3689360399999995E-2,3.4224999999999853E-4,1.6032624400000018E-2,2.9701075599999977E-2,2.0724481599999994E-2,5.3084159999999771E-4,3.340121759999997E-2,4.6655999999999797E-4,3.438649600000003E-3,1.0367312400000004E-2,8.9113600000000068E-5,1.6905200399999976E-2,2.8900000000000012E-2,"","","","","","","","","","","","","","","",2.0649689999999981E-2,2.1068099999999946E-3,3.869089000000004E-2,3.2544160000000044E-2,3.8612249999999959E-2,5.4169600000000158E-3,3.1541759999999995E-2,2.4336000000000182E-4,7.5075999999999279E-4,3.0590010000000018E-2,2.450249999999988E-3,2.24676E-3,1.2110400000000037E-3,8.2809999999997928E-5,5.9487210000000006E-2,"","","","","","","","","","","","","","","",8.2369000000000333E-4,3.121582240000002E-2,1.4348943999999936E-3,4.2033200399999991E-2,1.6108686399999982E-2,2.1491559999999986E-2,5.7408159999999965E-2,3.4969000000000189E-4,3.4782250000000042E-2,1.2988815999999972E-3,2.8879875999999892E-3,1.4822499999999983E-3,1.3609555599999996E-2,1.1972736399999967E-2,7.2544035600000015E-2,"","","","","","","","","","","","","","","",60,1.1372622807999999,0.13767487550990073,null,156,"Iprobenfos",10,10.889333333333333,10.281000000000001,10.591666666666667,10.722999999999999,10.424999999999999,3,5,0.5476666666666663,-0.74000000000000021,1.3753333333333337,1.0810000000000013,1.5400000000000009,-0.15333333333333243,1.4949999999999992,-0.4356666666666662,-0.44899999999999984,1.3240000000000016,-0.39433333333333387,-0.75500000000000078,-0.93966666666666754,-0.63199999999999967,-2.863999999999999,"","","","","","","","","","","","","","","",10.581999999999999,105.81999999999998,0.17225866666666634,20.892577333333335,10,2.0892577333333335,0,2.0892577333333335,1.4454264883878853,0.13659293974559492,13.659293974559491,15,"UYGUN  ","UYGUN  ",0.2612068366368121,null,156,"Iprobenfos",50,46.18266666666667,42.420333333333339,51.001333333333328,45.298333333333339,42.794999999999995,3,5,2.3823333333333281,-1.2543333333333422,-2.8953333333333262,-5.5493333333333368,0.85900000000000887,-3.5126666666666679,-4.4003333333333359,-1.9363333333333301,-4.623333333333342,5.4030000000000058,1.1303333333333327,5.6546666666666638,4.8316666666666706,10.172666666666657,-6.2619999999999933,"","","","","","","","","","","","","","","",45.539533333333331,91.079066666666662,35.673696766666616,332.47727066666653,10,33.247727066666656,0.80865656666665353,34.056383633333311,5.8357847487148904,0.12814766251553356,12.814766251553355,15,"UYGUN  ","UYGUN  ",0.22990552771473116,0.13243763550543103]
[161,"Isocarbophos","GC-MS/MS",2125525,2018493,null,4325147,4377754,null,7775009,7263623,null,22951627,22386382,null,39909601,39222740,null,80915616,81579367,{"$nulls":8},161,"Isocarbophos",10,9.673,11.77,11.563000000000001,9.9570000000000007,9.81,10.552,11.148,8.6760000000000002,11.773,11.409000000000001,9.6880000000000006,8.6530000000000005,8.3260000000000005,8.2289999999999992,7.157,{"$nulls":16},161,"Isocarbophos",50,40.716000000000001,40.485999999999997,45,46.892000000000003,39.020000000000003,35.363,39.04,45.615000000000002,36.582000000000001,42.828000000000003,45.244,42.545000000000002,50.261000000000003,42.264000000000003,39.543999999999997,{"$nulls":16},161,"Isocarbophos",10,10.08,8.2249999999999996,11.452999999999999,10.91,10.927,9.1940000000000008,10.44,8.7149999999999999,10.318,11.129,9.9269999999999996,9.2080000000000002,7.4279999999999999,8.7620000000000005,11.06,{"$nulls":16},161,"Isocarbophos",50,43.174999999999997,49.073,39.259,35.542999999999999,41.423999999999999,39.942999999999998,49.453000000000003,36.529000000000003,50.347000000000001,40.107999999999997,52.457000000000001,45.530999999999999,54.348999999999997,51.381,37.954000000000001,{"$nulls":16},161,"Isocarbophos",10,10.554600000000001,1.0225997750830966,105.54600000000001,9.6886644219875357,"uygun","uygun",10.711600000000001,1.2219371096746421,107.11600000000001,11.407605863499775,"uygun","uygun",8.4105999999999987,0.90859193260781301,84.105999999999995,10.802938346940921,"uygun","uygun","--------","--------","--------","--------","uygun değil","uygun değil","--------","--------","--------","--------","uygun değil","uygun değil","--------","--------","--------","--------","uygun değil","uygun değil",null,160,"Isocarbophos",50,42.422800000000002,3.3488474435244142,84.845600000000005,7.8939802264923902,"uygun","uygun",39.885599999999997,4.288544776494704,79.771199999999993,10.752112984372065,"uygun","uygun",43.971600000000002,4.0537106828188927,87.943200000000004,9.2189292243604797,"uygun","uygun","--------","--------","--------","--------","uygun değil","uygun değil","--------","--------","--------","--------","uygun değil","uygun değil","--------","--------","--------","--------","uygun değil","uygun değil",{"$nulls":31},160,"Isocarbophos",10,1.0692899999999968E-3,3.1329000000000017E-2,2.4429690000000032E-2,1.8489999999999747E-5,3.6099999999999641E-4,3.0470399999999909E-3,1.3179040000000003E-2,1.7529759999999991E-2,3.1435290000000005E-2,1.9852810000000005E-2,9.7343999999999339E-4,1.8144089999999981E-2,2.8022759999999997E-2,3.1364410000000009E-2,8.0826490000000001E-2,"","","","","","","","","","","","","","","",3.447706239999998E-2,3.6206478399999999E-2,9.999999999999995E-3,3.8638655999999991E-3,4.822415999999996E-2,8.5696707600000005E-2,4.8048640000000024E-2,7.6912899999999999E-3,7.2017089599999959E-2,2.0575033599999973E-2,9.0478143999999962E-3,2.2230810000000004E-2,2.7248400000000025E-5,2.3938278399999992E-2,4.3731174400000038E-2,"","","","","","","","","","","","","","","",6.4000000000000119E-5,3.150625E-2,2.1112089999999997E-2,8.280999999999995E-3,8.5932900000000017E-3,6.4963599999999832E-3,1.9360000000000035E-3,1.6512250000000016E-2,1.0112400000000033E-3,1.274641E-2,5.3290000000001226E-5,6.2726399999999899E-3,6.615183999999999E-2,1.5326439999999978E-2,1.123600000000002E-2,"","","","","","","","","","","","","","","",1.8632250000000017E-2,3.4373160000000005E-4,4.6147632400000006E-2,8.3601939600000036E-2,2.9419110400000004E-2,4.0457299600000038E-2,1.196835999999989E-4,7.2587136399999933E-2,4.8163599999999255E-5,3.9140665600000006E-2,2.4147395999999962E-3,7.9887844000000024E-3,7.5655203999999716E-3,7.6286439999999876E-4,5.804244640000001E-2,"","","","","","","","","","","","","","","",60,1.3819293207999999,0.15176348489233721,null,160,"Isocarbophos",10,9.7336666666666662,9.2909999999999986,9.1986666666666661,9.9966666666666679,11.038666666666666,3,5,0.34633333333333383,-1.0659999999999989,2.2543333333333333,0.91333333333333222,-0.11166666666666636,-0.53966666666666541,1.1490000000000009,-0.48366666666666625,0.32133333333333169,9.0333333333333599E-2,0.19333333333333336,-8.2999999999998408E-2,-1.7706666666666662,-1.2346666666666675,2.1333333333334537E-2,"","","","","","","","","","","","","","","",9.8517333333333319,98.517333333333326,1.6385055666666672,13.846142666666664,10,1.3846142666666663,8.4630433333333643E-2,1.4692447,1.2121240448072961,0.12303662754513212,12.303662754513212,15,"UYGUN  ","UYGUN  ",0.21193216404751389,null,160,"Isocarbophos",50,45.191666666666663,48.019000000000005,43.378999999999998,45.757000000000005,39.828666666666663,3,5,-2.0166666666666657,1.0539999999999949,-4.1199999999999974,-10.214000000000006,1.5953333333333362,-5.248666666666665,1.4339999999999975,-6.8499999999999943,4.5899999999999963,0.27933333333333366,7.2653333333333379,-2.4880000000000067,10.969999999999999,5.6239999999999952,-1.8746666666666627,"","","","","","","","","","","","","","","",44.435066666666664,88.870133333333328,28.124045400000057,441.15649333333329,10,44.11564933333333,0,44.11564933333333,6.6419612565366064,0.14947566763794526,14.947566763794526,15,"UYGUN  ","UYGUN  ",0.31280165302133267,0.13689592202379339]
[164,"Isofenphos-Methyl","GC-MS/MS",5258773,4634039,null,9574941,11604142,null,18247448,21365136,null,53281021,56886510,null,106716184,98238843,null,215374975,191210315,{"$nulls":8},164,"Isofenphos-Methyl",10,9.2579999999999991,11.678000000000001,11.942,8.6940000000000008,9.6969999999999992,10.223000000000001,11.599,8.5220000000000002,11.582000000000001,11.907,11.464,11.106,10.130000000000001,8.9019999999999992,7.992,{"$nulls":16},164,"Isofenphos-Methyl",50,47.061999999999998,48.029000000000003,39.645000000000003,53.411999999999999,46.581000000000003,41.798999999999999,46.305999999999997,53.375,45.856000000000002,50.247,47.561,45.115000000000002,49.390999999999998,42.792999999999999,38.540999999999997,{"$nulls":16},164,"Isofenphos-Methyl",10,10.581,8.6669999999999998,11.39,11.212999999999999,11.069000000000001,9.8569999999999993,11.38,9.6709999999999994,9.67,11.215,10.401,7.798,8.8010000000000002,10.557,9.1389999999999993,{"$nulls":16},164,"Isofenphos-Methyl",50,51.540999999999997,45.899000000000001,52.293999999999997,43.067,47.881,43.962000000000003,43.683,52.481999999999999,46.642000000000003,51.8,47.131,47.273000000000003,56.136000000000003,51.466999999999999,59.25,{"$nulls":16},164,"Isofenphos-Methyl",10,10.253800000000002,1.4673943573559167,102.53800000000001,14.310737066803686,"uygun","uygun",10.7666,1.4135070923062341,107.666,13.128630136777014,"uygun","uygun",9.9188000000000009,1.4652758102145855,99.188000000000017,14.772712527872175,"uygun","uygun","--------","--------","--------","--------","uygun değil","uygun değil","--------","--------","--------","--------","uygun değil","uygun değil","--------","--------","--------","--------","uygun değil","uygun değil",null,163,"Isofenphos-Methyl",50,46.945800000000006,4.910023594647992,93.891600000000011,10.458919849375219,"uygun","uygun",47.516599999999997,4.4353700296593068,95.033199999999994,9.3343590022419676,"uygun","uygun",44.680199999999999,4.2406071735071151,89.360399999999998,9.4910210193936368,"uygun","uygun","--------","--------","--------","--------","uygun değil","uygun değil","--------","--------","--------","--------","uygun değil","uygun değil","--------","--------","--------","--------","uygun değil","uygun değil",{"$nulls":31},163,"Isofenphos-Methyl",10,5.5056400000000061E-3,2.8156840000000058E-2,3.7713639999999972E-2,1.7056359999999982E-2,9.1809000000000638E-4,4.9728999999999941E-4,2.5568009999999978E-2,2.184483999999998E-2,2.5027240000000037E-2,3.6366490000000036E-2,2.1432960000000025E-2,1.2232360000000006E-2,1.6900000000000319E-4,1.2056040000000027E-2,4.0320639999999991E-2,"","","","","","","","","","","","","","","",3.4527376000000041E-3,1.553936399999992E-3,4.2890409999999983E-2,4.6566976000000111E-3,4.675824399999984E-3,2.6902560400000018E-2,5.458254400000008E-3,4.5562499999999857E-3,6.8690943999999924E-3,2.4403599999999452E-5,2.3794884000000044E-3,9.5452900000000014E-3,1.4835240000000193E-4,2.0776339600000013E-2,5.2523472400000021E-2,"","","","","","","","","","","","","","","",3.3756100000000046E-3,1.7768889999999992E-2,1.9321000000000005E-2,1.4713689999999991E-2,1.142761E-2,2.0449000000000259E-4,1.9044000000000033E-2,1.0824100000000026E-3,1.0890000000000019E-3,1.4762249999999985E-2,1.6080100000000019E-3,4.8488039999999975E-2,1.4376010000000002E-2,3.1024900000000094E-3,7.4132100000000112E-3,"","","","","","","","","","","","","","","",9.4987239999999064E-4,6.7272803999999971E-3,2.1049743999999927E-3,1.92265956E-2,1.7960643999999977E-3,1.4582977599999995E-2,1.5961795600000002E-2,2.4641295999999909E-3,4.5104655999999846E-3,1.2960000000000022E-3,3.2924643999999986E-3,2.9746115999999914E-3,1.506019840000004E-2,8.6083559999999544E-4,3.4225000000000019E-2,"","","","","","","","","","","","","","","",60,0.77508852720000021,0.11365800508543164,null,163,"Isofenphos-Methyl",10,10.279666666666666,9.2816666666666663,9.9540000000000006,10.479999999999999,10.474333333333332,3,5,0.3013333333333339,-0.61466666666666647,1.4359999999999999,0.73300000000000054,0.59466666666666868,-0.4226666666666663,2.0983333333333345,-0.28300000000000125,-0.80999999999999872,0.74066666666666769,0.12133333333333418,-1.4836666666666662,-1.1530000000000005,7.7000000000001734E-2,-1.3353333333333328,"","","","","","","","","","","","","","","",10.093933333333332,100.93933333333331,0.75570523333333184,14.622498000000009,10,1.4622498000000008,0,1.4622498000000008,1.2092352128514952,0.1197982167029201,11.97982167029201,15,"UYGUN  ","UYGUN  ",0.20092257815279724,null,163,"Isofenphos-Methyl",50,47.544666666666672,45.618333333333332,53.637333333333338,47.05866666666666,52.976999999999997,3,5,3.9963333333333253,0.28066666666666862,-1.3433333333333408,-3.99166666666666,-5.0959999999999965,-3.5826666666666682,-1.9353333333333325,-1.1553333333333384,-0.41666666666665719,-1.1769999999999996,-0.41366666666667129,1.6546666666666709,2.498666666666665,4.4083333333333385,6.2730000000000032,"","","","","","","","","","","","","","","",49.367200000000004,98.734400000000008,40.477237433333357,147.16767666666664,10,14.716767666666664,8.586823255555565,23.303590922222227,4.8273793016731377,9.7785154954567757E-2,9.7785154954567766,15,"UYGUN  ","UYGUN  ",0.13386711141284358,0.10934703757918783]
[165,"isoprocarb","GC-MS/MS",8044757,8010020,null,17203250,16842693,null,31253670,31892885,null,65225604,71873752,null,123665616,125955675,null,246850886,251117523,{"$nulls":8},165,"isoprocarb",10,9.4740000000000002,10.981,11.815,9.3650000000000002,10.016,10.571,11.494999999999999,9.1159999999999997,11.638,11.023,10.577,8.3379999999999992,10.361000000000001,9.6310000000000002,9.1069999999999993,{"$nulls":16},165,"isoprocarb",50,43.723999999999997,46.039000000000001,39.143000000000001,46.469000000000001,38.981000000000002,39.371000000000002,42.133000000000003,50.844999999999999,36.692,49.18,45.317999999999998,44,47.55,46.383000000000003,46.774999999999999,{"$nulls":16},165,"isoprocarb",10,10.496,9.0649999999999995,11.282999999999999,11.228,11.095000000000001,9.8140000000000001,10.972,9.8889999999999993,9.8130000000000006,10.641,10.326000000000001,10.773999999999999,10.814,11.355,9.3330000000000002,{"$nulls":16},165,"isoprocarb",50,47.34,35.116,45.956000000000003,40.279000000000003,39.564999999999998,39.845999999999997,39.098999999999997,42.976999999999997,40.063000000000002,48.491,44.061999999999998,43.902000000000001,49.67,49.197000000000003,41.68,{"$nulls":16},165,"isoprocarb",10,10.3302,1.0478051822738803,103.30200000000001,10.143125808540788,"uygun","uygun",10.768600000000001,1.0146877844933386,107.68600000000002,9.4226527542423213,"uygun","uygun",9.6027999999999984,0.91791404826377987,96.027999999999977,9.5588166812156867,"uygun","uygun","--------","--------","--------","--------","uygun değil","uygun değil","--------","--------","--------","--------","uygun değil","uygun değil","--------","--------","--------","--------","uygun değil","uygun değil",null,164,"isoprocarb",50,42.871200000000002,3.6310990347276397,85.742400000000004,8.4697863244500731,"uygun","uygun",43.644199999999998,6.1516999845571183,87.288399999999996,14.09511455028874,"uygun","uygun",46.005200000000002,1.3797466071710409,92.010400000000004,2.9991101161847808,"uygun","uygun","--------","--------","--------","--------","uygun değil","uygun değil","--------","--------","--------","--------","uygun değil","uygun değil","--------","--------","--------","--------","uygun değil","uygun değil",{"$nulls":31},164,"isoprocarb",10,2.7667599999999979E-3,9.6236100000000151E-3,3.2942249999999999E-2,4.0322500000000002E-3,2.5600000000001466E-6,3.2604099999999918E-3,2.2350249999999988E-2,7.8145600000000068E-3,2.6830439999999983E-2,1.0465290000000012E-2,3.3292900000000099E-3,2.7622440000000043E-2,1.3032100000000015E-3,1.3616099999999951E-3,7.9744900000000077E-3,"","","","","","","","","","","","","","","",1.5755270400000018E-2,6.2758083999999931E-3,4.7149779599999997E-2,4.9871844000000023E-3,4.8567344400000011E-2,4.5190256399999996E-2,2.4755875599999977E-2,2.8560999999999712E-4,7.0841145599999975E-2,2.6895999999999902E-4,8.7684496000000108E-3,1.44E-2,2.4010000000000043E-3,5.2330755999999944E-3,4.1602499999999999E-3,"","","","","","","","","","","","","","","",2.460160000000009E-3,8.7422500000000052E-3,1.6460889999999964E-2,1.5079840000000006E-2,1.1990250000000034E-2,3.4595999999999813E-4,9.4478399999999903E-3,1.2321000000000245E-4,3.4968999999999772E-4,4.1088100000000061E-3,1.0627599999999974E-3,5.9907599999999865E-3,6.6259599999999863E-3,1.8360249999999988E-2,4.4488899999999979E-3,"","","","","","","","","","","","","","","",2.8302399999999908E-3,8.8613382400000038E-2,6.541574399999992E-3,3.7799136399999975E-2,4.3555690000000001E-2,4.1241486400000013E-2,4.7532720400000048E-2,1.9729011600000009E-2,3.9497587599999967E-2,9.1083239999999903E-4,1.4103937600000021E-2,1.4874241599999989E-2,4.3559999999999197E-5,2.5792359999999881E-4,2.7688959999999999E-2,"","","","","","","","","","","","","","","",60,0.95153723440000004,0.12593233860556496,null,164,"isoprocarb",10,10.212000000000002,10.270333333333333,10.661999999999999,10.798666666666668,10.356333333333334,3,5,0.28399999999999892,-1.2053333333333338,0.62100000000000044,0.42933333333333223,0.73866666666666703,-0.39800000000000146,0.70166666666666622,-0.77299999999999969,-0.98566666666666691,0.2846666666666664,0.11399999999999899,0.50366666666666582,0.15200000000000102,0.5563333333333329,-1.0233333333333334,"","","","","","","","","","","","","","","",10.459866666666667,104.59866666666666,0.19779243333333285,6.5964219999999996,10,0.65964219999999996,0,0.65964219999999996,0.81218359993292155,7.7647605444262024E-2,7.7647605444262027,15,"UYGUN  ","UYGUN  ",8.440810883718905E-2,null,164,"isoprocarb",50,43.749333333333333,39.372333333333337,46.201000000000001,43.17966666666667,43.245333333333328,3,5,3.5906666666666709,-4.2563333333333375,-0.24499999999999744,-2.9006666666666661,-3.6803333333333299,-3.903333333333336,-0.27333333333334053,-3.2240000000000038,-3.1166666666666671,5.245666666666672,0.31266666666666509,4.5296666666666638,3.4690000000000012,6.0173333333333332,-1.5653333333333279,"","","","","","","","","","","","","","","",43.149533333333331,86.299066666666661,17.96140076666665,187.27170466666678,10,18.727170466666678,0,18.727170466666678,4.3274900885694327,0.10029054208163161,10.029054208163162,15,"UYGUN  ","UYGUN  ",0.14081469963438531,8.9686519227404823E-2]
[168,"Lambda Cyhalothrin(gamma-cyhalothrin içeren)","GC-MS/MS",709505,691774,null,1699854,1887173,null,2724975,2988884,null,7873939,8400551,null,16314954,16386578,null,35470603,34204688,{"$nulls":8},168,"Lambda Cyhalothrin(gamma-cyhalothrin içeren)",10,9.4570000000000007,11.667999999999999,10.922000000000001,8.25,8.1389999999999993,10.087999999999999,11.682,9.0869999999999997,11.202999999999999,11.768000000000001,11.622,10.487,8.8930000000000007,8.8979999999999997,8.1809999999999992,{"$nulls":16},168,"Lambda Cyhalothrin(gamma-cyhalothrin içeren)",50,43.433,41.576999999999998,38.909999999999997,47.709000000000003,44.466999999999999,39.973999999999997,41.061,46.811,38.966999999999999,46.915999999999997,39.773000000000003,36.122,40.68,38.143000000000001,38.122,{"$nulls":16},168,"Lambda Cyhalothrin(gamma-cyhalothrin içeren)",10,9.516,8.4809999999999999,11.166,10.042999999999999,10.487,7.8760000000000003,9.6199999999999992,9.9280000000000008,8.4090000000000007,10.536,11.816000000000001,10.455,7.32,10.634,8.0050000000000008,{"$nulls":16},168,"Lambda Cyhalothrin(gamma-cyhalothrin içeren)",50,47.381999999999998,37.685000000000002,46.566000000000003,41.624000000000002,41.781999999999996,43.616,40.003999999999998,40.558,37.981000000000002,39.197000000000003,50.283999999999999,47.171999999999997,56.444000000000003,58.734999999999999,38.933999999999997,{"$nulls":16},168,"Lambda Cyhalothrin(gamma-cyhalothrin içeren)",10,9.6871999999999989,1.5782711110579326,96.871999999999986,16.292335360660797,"uygun","uygun",10.765600000000001,1.1524705202303445,107.65600000000002,10.705121128690871,"uygun","uygun",9.616200000000001,1.4035806709982777,96.16200000000002,14.596001237477148,"uygun","uygun","--------","--------","--------","--------","uygun değil","uygun değil","--------","--------","--------","--------","uygun değil","uygun değil","--------","--------","--------","--------","uygun değil","uygun değil",null,167,"Lambda Cyhalothrin(gamma-cyhalothrin içeren)",50,43.219200000000001,3.2797501734126056,86.438400000000001,7.5886415607244126,"uygun","uygun",42.745799999999996,3.8313566396251861,85.491599999999991,8.9631183405742476,"uygun","uygun",38.568000000000005,1.7517866593852123,77.13600000000001,4.5420728567341113,"uygun","uygun","--------","--------","--------","--------","uygun değil","uygun değil","--------","--------","--------","--------","uygun değil","uygun değil","--------","--------","--------","--------","uygun değil","uygun değil",{"$nulls":31},167,"Lambda Cyhalothrin(gamma-cyhalothrin içeren)",10,2.9484899999999894E-3,2.7822239999999946E-2,8.5008400000000112E-3,3.0625000000000017E-2,3.4633210000000018E-2,7.7439999999998581E-5,2.8291240000000044E-2,8.3356900000000084E-3,1.4472089999999964E-2,3.1258240000000027E-2,2.6308839999999969E-2,2.3716899999999966E-3,1.2254489999999981E-2,1.2144040000000017E-2,3.3087610000000024E-2,"","","","","","","","","","","","","","","",1.7250195600000004E-2,2.8378771600000019E-2,4.919524000000005E-2,2.0994723999999973E-3,1.2245635599999995E-2,4.020827040000001E-2,3.1962288400000018E-2,4.0678883999999936E-3,4.8690835600000038E-2,3.8044224000000084E-3,4.1836611599999976E-2,7.7039553600000019E-2,3.4744960000000005E-2,5.623537960000001E-2,5.6434753599999998E-2,"","","","","","","","","","","","","","","",2.34256E-3,2.3073610000000012E-2,1.3595560000000008E-2,1.8489999999999747E-5,2.3716899999999966E-3,4.5113759999999968E-2,1.4440000000000026E-3,5.1839999999998176E-5,2.531280999999997E-2,2.872959999999986E-3,3.2978559999999997E-2,2.0702500000000087E-3,7.1824000000000013E-2,4.0195600000000158E-3,3.9800249999999961E-2,"","","","","","","","","","","","","","","",2.7415696000000077E-3,6.0663689999999985E-2,4.7169423999999949E-3,2.8062950400000002E-2,2.7014209600000019E-2,1.6302182400000004E-2,3.996800640000004E-2,3.5660545600000003E-2,5.7782544399999962E-2,4.6681923599999967E-2,3.2262399999998948E-5,3.1990336000000063E-3,1.6610054400000029E-2,3.0520090000000027E-2,4.898254240000003E-2,"","","","","","","","","","","","","","","",60,1.4631538760000007,0.1561598473786823,null,167,"Lambda Cyhalothrin(gamma-cyhalothrin içeren)",10,9.7359999999999989,9.5186666666666664,9.4713333333333338,9.6953333333333322,9.6760000000000002,3,5,-0.21999999999999886,-1.0376666666666665,1.6946666666666665,0.34766666666666701,0.81099999999999994,-1.8599999999999985,0.10133333333333283,0.456666666666667,-1.2863333333333316,0.85999999999999943,2.0800000000000018,0.93633333333333368,-2.1513333333333335,0.93866666666666809,-1.6709999999999994,"","","","","","","","","","","","","","","",9.6194666666666659,96.194666666666663,4.0976933333332966E-2,24.352997999999999,10,2.4352998000000001,0,2.4352998000000001,1.5605447125923693,0.1622277790098241,16.222777900982411,15,"UYGUN  ","UYGUN  ",0.36844993195444453,null,167,"Lambda Cyhalothrin(gamma-cyhalothrin içeren)",50,47.093999999999994,41.620333333333328,47.855999999999995,46.113333333333337,39.970999999999997,3,5,0.28800000000000381,-3.9353333333333254,-1.289999999999992,-4.4893333333333345,1.8109999999999999,-3.4779999999999944,-1.6163333333333298,-7.2979999999999947,-8.1323333333333352,-0.7739999999999938,3.1900000000000048,5.5516666666666694,8.5880000000000081,12.621666666666663,-1.036999999999999,"","","","","","","","","","","","","","","",44.53093333333333,89.06186666666666,37.045464900000013,450.5041553333333,10,45.050415533333329,0,45.050415533333329,6.7119606325822065,0.15072580182275258,15.072580182275258,15,"UYGUN  ","UYGUN  ",0.31805574269156361,0.15658243774059083]
[171,"Mephosfolan","GC-MS/MS",1898280,1671898,null,4182105,5416747,null,7778935,8519217,null,22300124,26636643,null,46206345,42517916,null,99415579,83738784,{"$nulls":8},171,"Mephosfolan",10,9.2530000000000001,9.7189999999999994,11.702999999999999,10.722,9.6479999999999997,9.5429999999999993,9.875,7.1689999999999996,8.8889999999999993,11.988,11.571999999999999,11.91,11.583,11.938000000000001,11.585000000000001,{"$nulls":16},171,"Mephosfolan",50,35.152999999999999,36.866999999999997,44.26,42.244999999999997,41.991999999999997,44.26,44,42.326000000000001,37.768999999999998,40.271000000000001,49.969000000000001,48.665999999999997,53.014000000000003,45.493000000000002,40.881999999999998,{"$nulls":16},171,"Mephosfolan",10,10.327999999999999,10.4,11.401,11.621,9.6579999999999995,7.9210000000000003,7.798,7,7.8220000000000001,10.617000000000001,10.73,10.044,9.1370000000000005,11.111000000000001,9.3040000000000003,{"$nulls":16},171,"Mephosfolan",50,38.704999999999998,44.262,35.679000000000002,44.88,51.36,56.465000000000003,36.654000000000003,51.249000000000002,35.110999999999997,46.11,53.664999999999999,51.646999999999998,57.493000000000002,59.868000000000002,43.723999999999997,{"$nulls":16},171,"Mephosfolan",10,10.209,0.99548505764777784,102.08999999999999,9.7510535571336856,"uygun","uygun",9.492799999999999,1.7420706644680088,94.927999999999997,18.351494442819916,"uygun","uygun",11.717600000000001,0.18874135741802872,117.17600000000002,1.6107509849971728,"uygun","uygun","--------","--------","--------","--------","uygun değil","uygun değil","--------","--------","--------","--------","uygun değil","uygun değil","--------","--------","--------","--------","uygun değil","uygun değil",null,170,"Mephosfolan",50,40.103400000000001,3.8862362640477737,80.206800000000001,9.69054061263577,"uygun","uygun",41.725199999999994,2.726128335203609,83.450399999999988,6.5335297019633449,"uygun","uygun",47.604799999999997,4.6268447888382873,95.209599999999995,9.7192820657544789,"uygun","uygun","--------","--------","--------","--------","uygun değil","uygun değil","--------","--------","--------","--------","uygun değil","uygun değil","--------","--------","--------","--------","uygun değil","uygun değil",{"$nulls":31},170,"Mephosfolan",10,5.5800899999999985E-3,7.8961000000000081E-4,2.9002089999999963E-2,5.2128400000000059E-3,1.2390400000000007E-3,2.0884900000000066E-3,1.5624999999999889E-4,8.0145610000000006E-2,1.2343210000000019E-2,3.9521439999999949E-2,2.4711840000000002E-2,3.648100000000002E-2,2.5058890000000035E-2,3.7558439999999992E-2,2.5122250000000027E-2,"","","","","","","","","","","","","","","",8.8173363599999985E-2,6.8990275599999998E-2,1.3179040000000003E-2,2.4056010000000006E-2,2.5651225600000025E-2,1.3179040000000003E-2,1.44E-2,2.3556110399999986E-2,5.9838944400000031E-2,3.7861376399999994E-2,3.8439999999994285E-7,7.1182240000000196E-4,3.6336784000000136E-3,8.1252195999999988E-3,3.325516960000003E-2,"","","","","","","","","","","","","","","",1.0758399999999961E-3,1.6000000000000029E-3,1.962800999999997E-2,2.6276410000000042E-2,1.1696400000000007E-3,4.3222409999999989E-2,4.8488039999999975E-2,9.0000000000000024E-2,4.7436839999999994E-2,3.8068900000000107E-3,5.3289999999999935E-3,1.9359999999999645E-5,7.4476899999999886E-3,1.2343209999999995E-2,4.8441599999999993E-3,"","","","","","","","","","","","","","","",5.1030809999999996E-2,1.3169857599999994E-2,8.2036416400000006E-2,1.0485759999999986E-2,7.3983999999999411E-4,1.6718489999999992E-2,7.124628639999997E-2,6.2400040000000013E-4,8.8672928400000031E-2,6.0528399999999968E-3,5.3728899999999887E-3,1.085043599999998E-3,2.2458019600000032E-2,3.8950969599999989E-2,1.5755270400000018E-2,"","","","","","","","","","","","","","","",60,1.4767096727999998,0.15688157278660866,null,170,"Mephosfolan",10,9.6596666666666664,9.4139999999999997,9.179333333333334,10.184666666666667,9.8596666666666675,3,5,0.668333333333333,0.98600000000000065,2.2216666666666658,1.4363333333333337,-0.20166666666666799,-1.7386666666666661,-1.6159999999999997,-2.179333333333334,-2.3626666666666667,0.75733333333333341,1.070333333333334,0.63000000000000078,-4.2333333333333556E-2,0.9263333333333339,-0.5556666666666672,"","","","","","","","","","","","","","","",9.6594666666666669,96.594666666666669,0.45502276666666652,27.709214666666675,10,2.7709214666666675,0,2.7709214666666675,1.664608502521439,0.17232923513942511,17.232923513942509,15,"UYGUN  ","UYGUN  ",0.41576311397234977,null,170,"Mephosfolan",50,49.611666666666672,44.187666666666665,48.140333333333331,46.619666666666667,47.06466666666666,3,5,-10.906666666666673,7.4333333333335361E-2,-12.461333333333329,-1.7396666666666647,4.295333333333339,6.8533333333333317,-7.5336666666666616,3.1086666666666716,-11.50866666666667,-0.954666666666661,4.0533333333333275,7.4593333333333334,9.3526666666666713,13.248333333333335,-3.3406666666666638,"","","","","","","","","","","","","","","",47.124799999999993,94.249599999999987,12.076006266666687,888.69290533333356,10,88.869290533333356,0,88.869290533333356,9.4270509987659104,0.20004437151491172,13.2669,15,"UYGUN  ","UYGUN  ",0.56024850804714443,0.18670178876825913]
[175,"Methoxychlor","GC-MS/MS",7130454,7315543,null,16895521,18186326,null,31174048,35701115,null,93275522,92784851,null,187109210,169887381,null,413161865,324436947,{"$nulls":8},175,"Methoxychlor",10,11.349,11.24,11.695,11.922000000000001,9.8089999999999993,11.627000000000001,11.597,11.412000000000001,11.007999999999999,10.964,11.917,11.94,10.885,10.486000000000001,9.5660000000000007,{"$nulls":16},175,"Methoxychlor",50,49.493000000000002,49.945,36.448,46.814999999999998,56.030999999999999,40.286999999999999,42.826000000000001,41.265000000000001,45.531999999999996,38.825000000000003,40.323999999999998,37.142000000000003,41.427999999999997,35.008000000000003,36.231000000000002,{"$nulls":16},175,"Methoxychlor",10,11.766,10.782999999999999,11.856999999999999,11.869,10.616,9.5,11.397,8.9529999999999994,11.125999999999999,11.64,10.225,8.9600000000000009,8.9600000000000009,10.27,7.7149999999999999,{"$nulls":16},175,"Methoxychlor",50,40.508000000000003,36.521000000000001,44.881,39.353000000000002,41.246000000000002,43.247,45.942,35.515000000000001,41.509,35.898000000000003,45.223999999999997,43.832000000000001,50.250999999999998,50.203000000000003,48.5,{"$nulls":16},175,"Methoxychlor",10,11.202999999999999,0.82537052285625079,112.02999999999999,7.3674062559693905,"uygun","uygun",11.3216,0.3176118700552612,113.21600000000001,2.8053620517882738,"uygun","uygun",10.9588,1.0062031107087668,109.58799999999999,9.1816906112783041,"uygun","uygun","--------","--------","--------","--------","uygun değil","uygun değil","--------","--------","--------","--------","uygun değil","uygun değil","--------","--------","--------","--------","uygun değil","uygun değil",null,174,"Methoxychlor",50,47.746400000000001,7.1596158975185435,95.492800000000003,14.995090514716383,"uygun","uygun",41.747,2.5686803031907242,83.494,6.1529698018797134,"uygun","uygun",38.026600000000002,2.7370701123646772,76.053200000000004,7.1977776408216272,"uygun","uygun","--------","--------","--------","--------","uygun değil","uygun değil","--------","--------","--------","--------","uygun değil","uygun değil","--------","--------","--------","--------","uygun değil","uygun değil",{"$nulls":31},174,"Methoxychlor",10,1.8198010000000004E-2,1.5376000000000027E-2,2.8730249999999995E-2,3.6940840000000058E-2,3.6481000000000447E-4,2.6471290000000022E-2,2.5504089999999986E-2,1.9937439999999997E-2,1.016064E-2,9.2929600000000081E-3,3.6748889999999992E-2,3.7635999999999982E-2,7.8322500000000041E-3,2.3619599999999976E-3,1.8835599999999899E-3,"","","","","","","","","","","","","","","",1.0281959999999852E-4,1.2099999999999778E-6,7.3462681599999968E-2,4.0576900000000114E-3,1.4549184399999988E-2,3.7736947599999994E-2,2.0586510399999983E-2,3.0520089999999989E-2,7.9852096000000185E-3,4.9952249999999962E-2,3.7449990400000008E-2,6.6131265599999975E-2,2.9391673600000012E-2,8.9904025599999993E-2,7.5834144399999984E-2,"","","","","","","","","","","","","","","",3.1187560000000031E-2,6.130890000000006E-3,3.4484489999999993E-2,3.4931610000000023E-2,3.794559999999985E-3,2.5000000000000044E-3,1.9516089999999982E-2,1.0962090000000002E-2,1.2678760000000008E-2,2.6896000000000048E-2,5.0624999999999845E-4,1.0815999999999973E-2,1.0815999999999973E-2,7.2899999999999528E-4,5.2212250000000016E-2,"","","","","","","","","","","","","","","",3.6039225599999961E-2,7.2673376399999962E-2,1.0481664400000005E-2,4.5343443600000005E-2,3.0653006399999967E-2,1.8241203599999988E-2,6.5869456000000014E-3,8.3926089999999981E-2,2.883883239999999E-2,7.9546561599999982E-2,9.1240704000000086E-3,1.5217689600000006E-2,2.5200400000000244E-5,1.6483599999999613E-5,9.000000000000016E-4,"","","","","","","","","","","","","","","",60,1.5108800264,0.15868627468477964,null,174,"Methoxychlor",10,10.497,10.38,9.9233333333333338,11.088333333333333,9.990333333333334,3,5,1.2690000000000001,0.40299999999999869,1.9336666666666655,0.78066666666666684,0.62566666666666571,-0.99699999999999989,1.0169999999999995,-0.97033333333333438,3.7666666666666515E-2,1.6496666666666666,-0.27200000000000024,-1.42,-0.96333333333333293,-0.81833333333333336,-2.2753333333333341,"","","","","","","","","","","","","","","",10.3758,103.758,0.65679109999999885,21.070605999999998,10,2.1070605999999996,0,2.1070605999999996,1.4515717688078669,0.13989974448311138,13.989974448311138,15,"UYGUN  ","UYGUN  ",0.27400713909015795,null,174,"Methoxychlor",50,42.992999999999995,42.098333333333329,43.548999999999999,43.688333333333333,41.881333333333338,3,5,-2.4849999999999923,-5.5773333333333284,1.3320000000000007,-4.335333333333331,-0.6353333333333353,0.25400000000000489,3.843666666666671,-8.0339999999999989,-2.1793333333333322,-5.9833333333333343,2.2310000000000016,1.7336666666666716,6.7019999999999982,6.5146666666666704,6.6186666666666625,"","","","","","","","","","","","","","","",42.841999999999999,85.683999999999997,2.0361379999999958,317.33547199999992,10,31.733547199999993,0,31.733547199999993,5.633253695689552,0.13148904569556866,13.148904569556866,15,"UYGUN  ","UYGUN  ",0.24205116793103879,0.13575954412926405]
[179,"Napropamide","GC-MS/MS",2732407,2891390,null,5520052,6122183,null,8954230,10398636,null,24135348,27431767,null,46661760,43762719,null,95168670,89970385,{"$nulls":8},179,"Napropamide",10,7.9710000000000001,10.359,11.523,8.6340000000000003,8.39,8.375,10.146000000000001,7.8460000000000001,10.368,11.721,11.616,11.577,9.5980000000000008,8.8350000000000009,7.6319999999999997,{"$nulls":16},179,"Napropamide",50,43.563000000000002,45.713000000000001,35.527000000000001,51.905999999999999,47.14,41.191000000000003,46.981000000000002,51.505000000000003,44.845999999999997,50.485999999999997,48.155999999999999,44.139000000000003,48.058999999999997,40.871000000000002,38.825000000000003,{"$nulls":16},179,"Napropamide",10,8.6620000000000008,8.1389999999999993,11.356,10.677,9.9410000000000007,7.9829999999999997,9.26,8.625,8.2639999999999993,10.315,10.571,9.1920000000000002,7.4089999999999998,9.8179999999999996,7.306,{"$nulls":16},179,"Napropamide",50,45.776000000000003,40.57,48.975999999999999,44.844000000000001,51.284999999999997,48.220999999999997,43.938000000000002,42.552999999999997,41.070999999999998,45.593000000000004,49.292000000000002,49.982999999999997,53.896999999999998,53.875,48.503999999999998,{"$nulls":16},179,"Napropamide",10,9.3753999999999991,1.5060445876533743,93.753999999999991,16.063790213253561,"uygun","uygun",9.6912000000000003,1.5749710156063219,96.911999999999992,16.251558275614183,"uygun","uygun",9.8515999999999995,1.7402963253423416,98.515999999999991,17.665113538332267,"uygun","uygun","--------","--------","--------","--------","uygun değil","uygun değil","--------","--------","--------","--------","uygun değil","uygun değil","--------","--------","--------","--------","uygun değil","uygun değil",null,178,"Napropamide",50,44.769799999999996,6.0066326423379621,89.539599999999993,13.416706445724488,"uygun","uygun",47.001799999999996,4.2080804056006338,94.003599999999992,8.9530196835028324,"uygun","uygun",44.010000000000005,4.1933847903573049,88.02000000000001,9.5282544657062136,"uygun","uygun","--------","--------","--------","--------","uygun değil","uygun değil","--------","--------","--------","--------","uygun değil","uygun değil","--------","--------","--------","--------","uygun değil","uygun değil",{"$nulls":31},178,"Napropamide",10,4.1168409999999989E-2,1.2888100000000031E-3,2.3195289999999962E-2,1.8659559999999985E-2,2.5920999999999975E-2,2.6406249999999992E-2,2.131600000000049E-4,4.6397160000000014E-2,1.3542399999999959E-3,2.9618409999999974E-2,2.6114559999999988E-2,2.4869289999999985E-2,1.6160399999999922E-3,1.3572249999999985E-2,5.6074240000000004E-2,"","","","","","","","","","","","","","","",1.6573987599999992E-2,7.3513475999999875E-3,8.378709159999996E-2,1.4531343999999947E-3,3.2718400000000033E-3,3.1039392400000001E-2,3.6457443999999986E-3,9.0601000000000093E-4,1.0625486400000012E-2,9.4478399999999051E-5,1.3601344000000017E-3,1.3740528399999999E-2,1.506992400000006E-3,3.3335456399999984E-2,4.9952249999999962E-2,"","","","","","","","","","","","","","","",1.7902439999999978E-2,3.4633210000000018E-2,1.8387359999999985E-2,4.5832899999999829E-3,3.4809999999998882E-5,4.0682889999999999E-2,5.4760000000000095E-3,1.8906249999999989E-2,3.0136960000000032E-2,9.9224999999999119E-4,3.2604099999999918E-3,6.528639999999997E-3,6.7132810000000001E-2,3.3123999999999979E-4,7.2576359999999979E-2,"","","","","","","","","","","","","","","",7.1368703999999811E-3,3.5569959999999998E-2,4.1943040000000218E-4,1.0633734399999997E-2,6.6048999999999145E-4,1.2659364000000039E-3,1.4699137599999976E-2,2.2183123600000021E-2,3.1890816400000029E-2,7.7686595999999801E-3,2.005055999999986E-4,1.1560000000000474E-7,6.074643599999984E-3,6.0062499999999847E-3,8.9520640000000345E-4,"","","","","","","","","","","","","","","",60,1.0620823443999998,0.13304650467662299,null,178,"Napropamide",10,9.072000000000001,8.863666666666667,9.1300000000000008,9.586333333333334,9.1873333333333331,3,5,-0.41000000000000014,-0.72466666666666768,2.2259999999999991,1.0906666666666656,0.7536666666666676,-1.0890000000000013,0.39633333333333276,-0.50500000000000078,-1.3223333333333347,1.1276666666666664,1.4989999999999988,0.32833333333333314,-1.721000000000001,0.23166666666666558,-1.8813333333333331,"","","","","","","","","","","","","","","",9.1678666666666686,91.678666666666686,0.20899143333333342,20.933838000000002,10,2.0933838000000002,0,2.0933838000000002,1.4468530678683307,0.15781785670257678,15.781785670257678,15,"UYGUN  ","UYGUN  ",0.34869066251873082,null,178,"Napropamide",50,47.762999999999998,44.830333333333336,48.475333333333332,46.596666666666664,48.460666666666668,3,5,-1.9869999999999948,-4.2603333333333353,0.50066666666666748,-1.7526666666666628,2.8243333333333283,0.45799999999999841,-0.8923333333333332,-5.9223333333333343,-5.5256666666666661,-2.8676666666666648,1.5290000000000035,5.1526666666666614,5.4216666666666669,7.278333333333336,4.3333333333329449E-2,"","","","","","","","","","","","","","","",47.225200000000001,94.450400000000002,7.1316604333333267,219.4928326666666,10,21.949283266666662,0,21.949283266666662,4.685006218423478,9.9205640599160566E-2,11.4,15,"UYGUN  ","UYGUN  ",0.13778462777365741,0.13181091574844034]
[183,"Nitrothal-Isopropyl","GC-MS/MS",2184718,2021996,null,4529766,6370548,null,8954078,10374295,null,28346970,32036500,null,58067398,52235380,null,111919430,107613239,{"$nulls":8},183,"Nitrothal-Isopropyl",10,9.8059999999999992,11.554,11.483000000000001,8.9109999999999996,10.154999999999999,10.98,10.754,8.0760000000000005,11.2,11.536,11.359,10.044,9.7739999999999991,9.0459999999999994,7.8,{"$nulls":16},183,"Nitrothal-Isopropyl",50,40.073999999999998,40.826999999999998,35.57,44.843000000000004,39.927,35.700000000000003,37.427,44.692999999999998,37.201999999999998,41.908999999999999,44.548999999999999,41.671999999999997,48.594000000000001,40.911000000000001,37.241999999999997,{"$nulls":16},183,"Nitrothal-Isopropyl",10,10.023999999999999,7.6970000000000001,11.586,11.29,11.268000000000001,9.7230000000000008,10.130000000000001,8.3350000000000009,8.7840000000000007,10.738,11.978,9.9290000000000003,10.79,10.64,8.3059999999999992,{"$nulls":16},183,"Nitrothal-Isopropyl",50,39.652000000000001,36.256999999999998,38.918999999999997,36.22,37.558999999999997,35.493000000000002,35.049999999999997,38.158999999999999,35.04,36.341999999999999,39.241,39.548000000000002,44.658000000000001,41.584000000000003,45.5,{"$nulls":16},183,"Nitrothal-Isopropyl",10,10.381800000000002,1.132798614052825,103.81800000000001,10.911389297162581,"uygun","uygun",10.509200000000002,1.3904643828591901,105.09200000000001,13.230925121409715,"uygun","uygun",9.6045999999999996,1.3103723898190176,96.045999999999992,13.643175039241799,"uygun","uygun","--------","--------","--------","--------","uygun değil","uygun değil","--------","--------","--------","--------","uygun değil","uygun değil","--------","--------","--------","--------","uygun değil","uygun değil",null,182,"Nitrothal-Isopropyl",50,40.248200000000004,3.2964475879346251,80.496400000000008,8.1902981696936141,"uygun","uygun",39.386199999999995,3.7657638932891149,78.77239999999999,9.5611251994076998,"uygun","uygun",42.593599999999995,4.247013691995825,85.18719999999999,9.9710137015791709,"uygun","uygun","--------","--------","--------","--------","uygun değil","uygun değil","--------","--------","--------","--------","uygun değil","uygun değil","--------","--------","--------","--------","uygun değil","uygun değil",{"$nulls":31},182,"Nitrothal-Isopropyl",10,3.7636000000000326E-4,2.4149159999999996E-2,2.1992890000000029E-2,1.1859209999999999E-2,2.4024999999999527E-4,9.604000000000017E-3,5.6851599999999869E-3,3.7017759999999962E-2,1.4399999999999972E-2,2.3592959999999986E-2,1.8468809999999974E-2,1.9359999999999645E-5,5.107600000000029E-4,9.1011600000000074E-3,4.8399999999999992E-2,"","","","","","","","","","","","","","","",3.941019040000001E-2,3.3657571600000026E-2,8.3289959999999982E-2,1.063785959999998E-2,4.0586131599999992E-2,8.1795999999999952E-2,6.3232131600000005E-2,1.1265699600000003E-2,6.5515521600000043E-2,2.6185712400000023E-2,1.1885360400000001E-2,2.7742233600000013E-2,7.9073439999999566E-4,3.3043968399999978E-2,6.5106625600000023E-2,"","","","","","","","","","","","","","","",5.7599999999997975E-6,5.3038089999999975E-2,2.5153960000000024E-2,1.6641E-2,1.6078240000000008E-2,7.6728999999999708E-4,1.6900000000000319E-4,2.7722249999999955E-2,1.4786559999999983E-2,5.4464399999999804E-3,3.9124839999999987E-2,5.0409999999999932E-5,6.2409999999999939E-3,4.0960000000000076E-3,2.8696360000000035E-2,"","","","","","","","","","","","","","","",4.2832441600000014E-2,7.5548019600000002E-2,4.9115424400000017E-2,7.5955360000000041E-2,6.1911392400000022E-2,8.4181219599999968E-2,8.9401000000000022E-2,5.6083712400000013E-2,8.9520640000000012E-2,7.4616385600000043E-2,4.6302432400000017E-2,4.3697721600000003E-2,1.1414785599999986E-2,2.8331622399999971E-2,8.0999999999999944E-3,"","","","","","","","","","","","","","","",60,1.8945928984000002,0.17769791306221541,null,182,"Nitrothal-Isopropyl",10,10.575000000000001,9.2520000000000007,10.237,10.238,10.103999999999999,3,5,-0.55100000000000193,-1.5550000000000006,1.3490000000000002,1.0519999999999996,1.1640000000000015,-0.85200000000000031,0.87800000000000011,-1.9019999999999992,-1.4539999999999988,0.63400000000000034,1.4029999999999987,0.6769999999999996,0.55299999999999905,0.40200000000000102,-1.798,"","","","","","","","","","","","","","","",10.081199999999999,100.81199999999998,0.73559309999999989,20.760445999999998,10,2.0760445999999999,0,2.0760445999999999,1.4408485694201179,0.14292431153236895,14.292431153236896,15,"UYGUN  ","UYGUN  ",0.28598302357802319,null,182,"Nitrothal-Isopropyl",50,38.128666666666668,36.951666666666661,40.57866666666667,37.614666666666665,39.800333333333334,3,5,1.5233333333333334,-0.69466666666666299,-1.6596666666666735,-1.3946666666666658,-2.241333333333337,-2.6356666666666655,-1.9016666666666637,-2.4196666666666715,-2.5746666666666655,-3.4583333333333357,1.1123333333333321,2.5963333333333409,4.0793333333333308,3.9693333333333385,5.6996666666666655,"","","","","","","","","","","","","","","",38.614799999999995,77.229599999999991,6.948649766666696,120.3941093333334,10,12.03941093333334,0,12.03941093333334,3.4697854304457127,8.9856361562036136E-2,8.9856361562036131,15,"UYGUN  ","UYGUN  ",0.11303831998434311,0.11937655661847728]
[186,"2-PHENYLPHENOL","GC-MS/MS",2562692,2408750,null,5827968,6746731,null,9753999,11351226,null,29103648,32125276,null,57236873,51081124,null,124756060,89341347,{"$nulls":8},186,"ORTHO(2)-PHENYLPHENOL",10,8.8290000000000006,10.451000000000001,11.765000000000001,8.2289999999999992,9.9649999999999999,10.343,11.087999999999999,8.1359999999999992,10.717000000000001,10.991,10.56,11.5,11.68,10.52,9.1199999999999992,{"$nulls":16},186,"ORTHO(2)-PHENYLPHENOL",50,45.747999999999998,49.923999999999999,42.052999999999997,50.185000000000002,44.591999999999999,43.347999999999999,46.023000000000003,52.710999999999999,40.847000000000001,51.704000000000001,48.58,52.6,54.69,54.56,51.36,{"$nulls":16},186,"ORTHO(2)-PHENYLPHENOL",10,11.628,9.4290000000000003,11.507999999999999,10.935,11.881,9.6890000000000001,11.135,10.858000000000001,10.957000000000001,11.24,10.397,11.237,10.769,11.308,9.3450000000000006,{"$nulls":16},186,"ORTHO(2)-PHENYLPHENOL",50,51.649000000000001,41.267000000000003,49.411999999999999,46.389000000000003,43.021999999999998,47.442,41.341000000000001,47.737000000000002,46.97,52.087000000000003,47.963000000000001,47.676000000000002,54.048000000000002,48.978000000000002,50.56,{"$nulls":16},186,"ORTHO(2)-PHENYLPHENOL",10,9.8478000000000012,1.3884981814896211,98.478000000000009,14.0995773826603,"uygun","uygun",10.254999999999999,1.2193168169101849,102.54999999999998,11.889973836276791,"uygun","uygun",10.676,1.0180766179418916,106.76,9.5361241845437572,"uygun","uygun","--------","--------","--------","--------","uygun değil","uygun değil","--------","--------","--------","--------","uygun değil","uygun değil","--------","--------","--------","--------","uygun değil","uygun değil",null,185,"ORTHO(2)-PHENYLPHENOL",50,46.500399999999999,3.5101558797295618,93.000799999999998,7.548657387311855,"uygun","uygun",46.926600000000001,5.1688306511241011,93.853200000000001,11.01471372552902,"uygun","uygun",{"$f":"IFERROR(AVERAGE(BX196:CB196),\"--------\")","v":52.358000000000004},{"$f":"IFERROR(_xlfn.STDEV.S(BX196:CB196),\"--------\")","v":2.5305572508836871},104.71600000000001,4.8331816549212858,"uygun","uygun","--------","--------","--------","--------","uygun değil","uygun değil","--------","--------","--------","--------","uygun değil","uygun değil","--------","--------","--------","--------","uygun değil","uygun değil",{"$nulls":31},185,"ORTHO(2)-PHENYLPHENOL",10,1.3712409999999996E-2,2.0340100000000127E-3,3.1152250000000034E-2,3.1364410000000009E-2,1.225000000000041E-5,1.1764899999999999E-3,1.1837440000000001E-2,3.4744960000000047E-2,5.1408900000000143E-3,9.8208099999999941E-3,3.1360000000000055E-3,2.2499999999999975E-2,2.8223999999999975E-2,2.704000000000005E-3,7.7440000000000139E-3,"","","","","","","","","","","","","","","",7.2318016000000006E-3,2.3103999999998962E-6,2.5261923600000027E-2,1.369000000000027E-5,1.1698585600000007E-2,1.7699641600000014E-2,6.3266115999999909E-3,2.9398083999999931E-3,3.3510963599999999E-2,1.1614464000000075E-3,{"$f":"IF((((BX196/$BM196)-1)^2)=1,\"\",(((BX196/$BM196)-1)^2))","v":8.0655999999999892E-4},2.704000000000005E-3,8.7984399999999786E-3,8.3174399999999902E-3,7.3983999999999411E-4,"","","","","","","","","","","","","","","",2.6503840000000018E-2,3.2604099999999918E-3,2.2740639999999947E-2,8.742250000000026E-3,3.5381609999999973E-2,9.6721000000000101E-4,1.2882249999999986E-2,7.3616400000000165E-3,9.1584900000000226E-3,1.5376000000000027E-2,1.5760900000000055E-3,1.5301689999999981E-2,5.9136099999999954E-3,1.7108640000000008E-2,4.2902499999999859E-3,"","","","","","","","","","","","","","","",1.0876804000000005E-3,3.0506115599999974E-2,1.3829759999999983E-4,5.2157283999999925E-3,1.9476993600000006E-2,2.6173455999999981E-3,2.9991312400000001E-2,2.0484675999999972E-3,3.6723599999999986E-3,1.7422276000000092E-3,1.6597475999999998E-3,2.160390399999997E-3,6.5545216000000234E-3,4.1779360000000055E-4,1.2544000000000221E-4,"","","","","","","","","","","","","","","",60,0.62649602479999977,0.10218414952101589,null,185,"ORTHO(2)-PHENYLPHENOL",10,10.571333333333333,10.600333333333333,11.045,11.066666666666668,10.822000000000001,3,5,1.0566666666666666,-1.1713333333333331,0.46299999999999919,-0.13166666666666771,1.0589999999999993,-0.88233333333333341,0.5346666666666664,-0.18699999999999939,-0.10966666666666747,0.41799999999999926,-0.17433333333333323,0.63666666666666671,-0.2759999999999998,0.24133333333333162,-1.4770000000000003,"","","","","","","","","","","","","","","",10.821066666666669,108.21066666666668,0.1661672333333338,7.8795359999999963,10,0.78795359999999959,0,0.78795359999999959,0.88766750531941829,8.2031423764701392E-2,8.2031423764701383,15,"UYGUN  ","UYGUN  ",9.4208162788096225E-2,null,185,"ORTHO(2)-PHENYLPHENOL",50,49.018000000000001,43.427999999999997,50.399000000000001,47.445666666666675,48.556333333333335,3,5,2.6310000000000002,-2.1609999999999943,-0.98700000000000188,-1.056666666666672,-5.5343333333333362,-1.5760000000000005,-2.0869999999999962,-2.661999999999999,-0.47566666666667601,3.5306666666666686,-1.0549999999999997,4.2480000000000047,3.6490000000000009,1.5323333333333267,2.0036666666666676,"","","","","","","","","","","","","","","",47.769400000000005,95.538800000000009,21.034214566666687,109.76555133333336,10,10.976555133333337,3.3525531444444501,14.329108277777786,3.7853808629750567,7.9242796915495198E-2,7.9242796915495202,15,"UYGUN  ","UYGUN  ",8.7911892081865811E-2,8.064916412416942E-2]
[189,"Penconazole","GC-MS/MS",3877180,3802276,null,5068755,5093308,null,10463883,11061882,null,20345239,20063781,null,46111218,40935872,null,92222436,81871744,{"$nulls":8},189,"Penconazole",2,2.44,1.98,2.39,1.7,2.0699999999999998,1.5,2.6,2.4700000000000002,2.35,2.5,2.2000000000000002,1.98,2.1,2.04,1.78,{"$nulls":16},189,"Penconazole",50,49.043999999999997,58.341000000000001,58.679000000000002,59.301000000000002,41.41,59.603000000000002,59.12,56.198999999999998,57.043999999999997,58.884,55.2,55.24,58.78,54.12,49.98,{"$nulls":16},189,"Penconazole",2,2.1800000000000002,1.87,2.0699999999999998,1.5,2.2799999999999998,2.29,2.2599999999999998,2.34,2.1800000000000002,1.5,2.2400000000000002,2.0699999999999998,2.21,1.84,1.89,{"$nulls":16},189,"Penconazole",50,57.325000000000003,56.601999999999997,41.136000000000003,40.755000000000003,58.652999999999999,56.539000000000001,46.442,56.578000000000003,57.374000000000002,59.064,56.93,51.52,48.86,49.06,58.86,{"$nulls":16},189,"Penconazole",2,{"$f":"IFERROR(AVERAGE(AF199:AJ199),\"--------\")","v":2.1160000000000001},{"$f":"IFERROR(_xlfn.STDEV.S(AF199:AJ199),\"--------\")","v":0.30566321335744623},102,10.199999999999999,{"$f":"IF(FN199<70,\"uygun değil\",IF(FN199>120,\"uygun değil\",\"uygun\"))","v":"uygun"},{"$f":"IF(FO199<0,\"uygun değil\",IF(FO199<20,\"uygun\",\"uygun değil\"))","v":"uygun"},{"$f":"IFERROR(AVERAGE(AK199:AO199),\"--------\")","v":2.2839999999999998},{"$f":"IFERROR(_xlfn.STDEV.S(AK199:AO199),\"--------\")","v":0.44724713526192644},{"$f":"IFERROR(FR199/$FK199*100,\"--------\")","v":114.19999999999999},{"$f":"IFERROR(FS199/FR199*100,\"--------\")","v":19.581748479068583},{"$f":"IF(FT199<70,\"uygun değil\",IF(FT199>120,\"uygun değil\",\"uygun\"))","v":"uygun"},{"$f":"IF(FU199<0,\"uygun değil\",IF(FU199<20,\"uygun\",\"uygun değil\"))","v":"uygun"},2.02,0.15684387141358128,98.87,7.7645480897812504,"uygun","uygun",{"$nulls":34},{"$f":"IFERROR(AVERAGE(BX199:CB199),\"--------\")","v":54.664000000000001},{"$f":"IFERROR(_xlfn.STDEV.S(BX199:CB199),\"--------\")","v":3.1542162259426689},null,5.7701892030269812,null,"uygun",{"$nulls":179},2.2366666666666668,2.0666666666666664,2.2066666666666666,1.84,1.89,3,null,-5.6666666666666643E-2,-0.19666666666666632,-0.13666666666666671,-0.34000000000000008,0.3899999999999999,5.3333333333333233E-2,0.19333333333333336,0.1333333333333333,0.34000000000000008,-0.3899999999999999,3.3333333333334103E-3,3.3333333333334103E-3,3.3333333333334103E-3,0,0,"","","","","","","","","","","","","","","",2.048,null,null,0.65399999999999969,{"$nulls":7},15,{"$nulls":7},56.931333333333335,51.521333333333331,48.858000000000004,49.063000000000009,58.859000000000002,3,null,0.39366666666666816,5.0806666666666658,-7.7220000000000013,-8.3080000000000069,-0.20600000000000307,-0.3923333333333332,-5.0793333333333308,7.7199999999999989,8.3109999999999928,0.20499999999999829,-1.3333333333349628E-3,-1.3333333333278574E-3,1.9999999999953388E-3,-3.0000000000072191E-3,9.9999999999766942E-4,"","","","","","","","","","","","","","","",53.046533333333329,null,null,309.32944733333323,{"$nulls":7},15]
[190,"Pendimethaline","GC-MS/MS",952711,860252,null,2016157,2602509,null,3949346,4606421,null,12475438,14348383,null,25521135,22792549,null,55062925,41864561,{"$nulls":8},190,"Pendimethaline",10,10.153,11.464,11.634,9.5640000000000001,10.792999999999999,11.33,11.273999999999999,9.9,11.696999999999999,11.585000000000001,11.148999999999999,10.287000000000001,9.8040000000000003,8.266,8.1440000000000001,{"$nulls":16},190,"Pendimethaline",50,42.914000000000001,44.457999999999998,36.816000000000003,48.906999999999996,41.984999999999999,39.918999999999997,41.536000000000001,49.024000000000001,41.654000000000003,46.277000000000001,45.331000000000003,42.959000000000003,48.319000000000003,41.576999999999998,36.334000000000003,{"$nulls":16},190,"Pendimethaline",10,10.896000000000001,9.7070000000000007,11.782,11.561999999999999,10.725,10.473000000000001,11.827,9.82,9.58,11.106,8.5909999999999993,8.3350000000000009,7.75,8.3610000000000007,7.2889999999999997,{"$nulls":16},190,"Pendimethaline",50,45.529000000000003,38.531999999999996,45.173000000000002,37.463999999999999,42.116999999999997,40.848999999999997,37.064999999999998,43.709000000000003,37.055999999999997,44.146999999999998,42.95,45.244999999999997,50.530999999999999,46.731999999999999,35.456000000000003,{"$nulls":16},190,"Pendimethaline",10,10.7216,0.87350918712970615,107.21599999999999,8.147190597762517,"uygun","uygun",11.1572,0.72430152560932781,111.572,6.4917858029732169,"uygun","uygun",9.5299999999999994,1.3026874145396463,95.3,13.669332786355156,"uygun","uygun","--------","--------","--------","--------","uygun değil","uygun değil","--------","--------","--------","--------","uygun değil","uygun değil","--------","--------","--------","--------","uygun değil","uygun değil",null,189,"Pendimethaline",50,43.015999999999998,4.3673965356949189,86.031999999999996,10.152958284579968,"uygun","uygun",43.681999999999995,3.8127830386739823,87.36399999999999,8.7284992415044691,"uygun","uygun",42.904000000000003,4.4760866837003954,85.808000000000007,10.432795738626691,"uygun","uygun","--------","--------","--------","--------","uygun değil","uygun değil","--------","--------","--------","--------","uygun değil","uygun değil","--------","--------","--------","--------","uygun değil","uygun değil",{"$nulls":31},189,"Pendimethaline",10,2.340900000000028E-4,2.1432960000000025E-2,2.6699559999999997E-2,1.9009599999999975E-3,6.2884899999999886E-3,1.7689000000000003E-2,1.623075999999999E-2,1.0000000000000018E-4,2.8798089999999988E-2,2.5122250000000027E-2,1.320201E-2,8.2369000000000973E-4,3.8415999999999808E-4,3.006756E-2,3.4447359999999996E-2,"","","","","","","","","","","","","","","",2.0084558399999987E-2,1.228550560000001E-2,6.952714239999995E-2,4.7785960000000445E-4,2.5696089999999998E-2,4.0650624400000009E-2,2.8655718399999995E-2,3.810303999999993E-4,2.7862286399999985E-2,5.5442915999999957E-3,8.7198243999999821E-3,1.9830272399999984E-2,1.1303043999999988E-3,2.8378771600000019E-2,7.4703822399999939E-2,"","","","","","","","","","","","","","","",8.028160000000022E-3,8.5848999999999312E-4,3.1755239999999969E-2,2.4398439999999966E-2,5.2562500000000014E-3,2.2372900000000111E-3,3.3379290000000034E-2,3.2400000000000056E-4,1.7640000000000032E-3,1.2232360000000006E-2,1.9852810000000005E-2,2.7722249999999955E-2,5.0624999999999989E-2,2.6863209999999978E-2,7.3495210000000005E-2,"","","","","","","","","","","","","","","",7.9959363999999901E-3,5.2606009600000052E-2,9.3199715999999922E-3,6.2860518400000023E-2,2.4856675600000006E-2,3.3496320400000029E-2,6.6925690000000024E-2,1.5830672399999982E-2,6.7018854399999994E-2,1.3703043600000013E-2,1.9880999999999972E-2,9.0440100000000138E-3,1.1278440000000157E-4,4.2719295999999966E-3,8.4611174399999947E-2,"","","","","","","","","","","","","","","",60,1.3786756331999999,0.1515847196124992,null,189,"Pendimethaline",10,9.9866666666666664,9.9563333333333333,9.7840000000000007,9.8343333333333334,9.7066666666666652,3,5,0.90933333333333444,-0.24933333333333252,1.9979999999999993,1.727666666666666,1.0183333333333344,0.48633333333333439,1.8706666666666667,3.5999999999999588E-2,-0.2543333333333333,1.3993333333333347,-1.3956666666666671,-1.6213333333333324,-2.0340000000000007,-1.4733333333333327,-2.4176666666666655,"","","","","","","","","","","","","","","",9.8535999999999984,98.535999999999973,4.1299233333333504E-2,31.392508666666664,10,3.1392508666666665,0,3.1392508666666665,1.7717931218589451,0.1798117562980987,17.981175629809869,15,"UYGUN  ","UYGUN  ",0.45265174784209572,null,189,"Pendimethaline",50,43.109333333333332,40.280666666666662,46.471000000000004,40.417333333333332,40.573333333333331,3,5,2.4196666666666715,-1.748666666666665,-1.2980000000000018,-2.9533333333333331,1.5436666666666667,-2.2603333333333353,-3.2156666666666638,-2.7620000000000005,-3.3613333333333344,3.5736666666666679,-0.15933333333332911,4.9643333333333359,4.0599999999999952,6.3146666666666675,-5.1173333333333275,"","","","","","","","","","","","","","","",42.170333333333325,84.34066666666665,21.428784666666711,176.06613666666661,10,17.606613666666661,1.2740570000000169,18.880670666666678,4.3451893706335376,0.10303900935017996,10.303900935017996,15,"UYGUN  ","UYGUN  ",0.14863852427013061,0.14654232349542112]
[193,"Pentachlorobenzene","GC-MS/MS",52243,50344,null,137670,144188,null,243861,233870,null,631826,654676,null,1377432,1190311,null,2866665,2104188,{"$nulls":8},193,"Pentachlorobenzene",10,11.153,7.8369999999999997,11.55,8.1189999999999998,9.6999999999999993,10.130000000000001,8.2129999999999992,10.275,9.5210000000000008,10.911,11.983000000000001,8.7010000000000005,10.282999999999999,9.1769999999999996,8.6050000000000004,{"$nulls":16},193,"Pentachlorobenzene",50,42.250999999999998,50.511000000000003,44.411999999999999,48.624000000000002,43.034999999999997,53.125,46.783000000000001,36.706000000000003,38.466999999999999,55.91,52.39,49.280999999999999,47.719000000000001,52.298000000000002,52.78,{"$nulls":16},193,"Pentachlorobenzene",10,11.439,7.7480000000000002,11.5,8.6240000000000006,9.9860000000000007,7.4729999999999999,11.15,11.563000000000001,11.388999999999999,11.781000000000001,9.4809999999999999,8.234,8.3209999999999997,8.8030000000000008,7.78,{"$nulls":16},193,"Pentachlorobenzene",50,52.183999999999997,45.584000000000003,36.514000000000003,41.57,42.558,44.155000000000001,40.356000000000002,56.143999999999998,43.649000000000001,58.152999999999999,35.020000000000003,41.249000000000002,41.423000000000002,38.151000000000003,44.84,{"$nulls":16},193,"Pentachlorobenzene",10,9.6718000000000011,1.6955871254524049,96.718000000000018,17.531246773634741,"uygun","uygun",9.81,1.0203866914067434,98.100000000000009,10.401495325247129,"uygun","uygun",9.7497999999999987,1.4151089004030808,97.49799999999999,14.51423516793248,"uygun","uygun","--------","--------","--------","--------","uygun değil","uygun değil","--------","--------","--------","--------","uygun değil","uygun değil","--------","--------","--------","--------","uygun değil","uygun değil",null,192,"Pentachlorobenzene",50,45.766599999999997,3.6169769559675133,91.533199999999994,7.9030929891394885,"uygun","uygun",46.1982,8.5515338214848526,92.3964,18.510534656079354,"uygun","uygun",50.893599999999999,2.2610075851265963,101.78719999999998,4.4426167241590226,"uygun","uygun","--------","--------","--------","--------","uygun değil","uygun değil","--------","--------","--------","--------","uygun değil","uygun değil","--------","--------","--------","--------","uygun değil","uygun değil",{"$nulls":31},192,"Pentachlorobenzene",10,1.3294089999999991E-2,4.6785690000000019E-2,2.4025000000000008E-2,3.5381610000000015E-2,9.000000000000016E-4,1.6900000000000319E-4,3.1933690000000028E-2,7.5625000000000442E-4,2.2944099999999946E-3,8.2992099999999926E-3,3.9322890000000055E-2,1.6874009999999974E-2,8.0088999999999952E-4,6.7732900000000065E-3,1.9460249999999988E-2,"","","","","","","","","","","","","","","",2.4018800400000002E-2,1.0444840000000241E-4,1.2490297599999993E-2,7.5735039999999944E-4,1.9404490000000024E-2,3.90625E-3,4.1396355999999941E-3,7.0692174399999946E-2,5.3204035599999991E-2,1.3971239999999966E-2,2.2848400000000063E-3,2.0678440000000171E-4,2.0811843999999995E-3,2.1123216000000001E-3,3.0913600000000104E-3,"","","","","","","","","","","","","","","",2.0707209999999976E-2,5.0715039999999982E-2,2.2499999999999975E-2,1.8933759999999984E-2,1.9599999999998792E-6,6.3857290000000025E-2,1.3224999999999997E-2,2.4429690000000032E-2,1.9293210000000005E-2,3.1719610000000051E-2,2.693610000000006E-3,3.1187559999999993E-2,2.8190410000000016E-2,1.4328089999999981E-2,4.9283999999999988E-2,"","","","","","","","","","","","","","","",1.9079423999999949E-3,7.8004223999999919E-3,7.2748878399999981E-2,2.842595999999999E-2,2.2153345599999992E-2,1.3665610000000002E-2,3.7202694399999979E-2,1.509949439999997E-2,1.6134080400000004E-2,2.6588563599999993E-2,8.9760159999999992E-2,3.0632000399999984E-2,2.9425971599999972E-2,5.6159520399999982E-2,1.0650239999999991E-2,"","","","","","","","","","","","","","","",60,1.3089568168000003,0.1477022239056226,null,192,"Pentachlorobenzene",10,9.4643333333333342,9.0439999999999987,10.461333333333334,9.6053333333333324,9.849000000000002,3,5,1.9746666666666659,-1.2959999999999985,1.038666666666666,-0.98133333333333184,0.13699999999999868,-1.9913333333333343,2.1060000000000016,1.1016666666666666,1.783666666666667,1.9319999999999986,1.6666666666665719E-2,-0.80999999999999872,-2.1403333333333343,-0.80233333333333157,-2.0690000000000017,"","","","","","","","","","","","","","","",9.684800000000001,96.848000000000013,0.82163310000000234,34.329846000000003,10,3.4329846000000002,0,3.4329846000000002,1.8528315087994376,0.19131334759617519,19.13133475961752,15,"UYGUN  ","UYGUN  ",0.5124111575583693,null,192,"Pentachlorobenzene",50,43.786333333333339,42.396333333333331,44.693666666666672,41.123333333333335,48.516999999999996,3,5,8.3976666666666588,3.1876666666666722,-8.1796666666666695,0.44666666666666544,-5.9589999999999961,0.36866666666666248,-2.0403333333333293,11.450333333333326,2.5256666666666661,9.6360000000000028,-8.7663333333333355,-1.1473333333333287,-3.2706666666666706,-2.9723333333333315,-3.6769999999999925,"","","","","","","","","","","","","","","",44.103333333333339,88.206666666666678,23.792763666666641,529.15598866666642,10,52.915598866666642,0,52.915598866666642,7.2743108860335797,0.16493789326657649,16.493789326657648,15,"UYGUN  ","UYGUN  ",0.38086312089303209,0.17861313725993327]
[196,"Perthane","GC-MS/MS",742602,784305,null,1659972,2159887,null,3113226,3504616,null,9114662,10034636,null,18655299,17016045,null,36420921,35135059,{"$nulls":8},196,"Perthane",10,8.2680000000000007,11.108000000000001,11.561,7.6139999999999999,8.85,9.6630000000000003,10.791,7.7969999999999997,11.202999999999999,11.492000000000001,10.840999999999999,10.959,8.9420000000000002,7.484,7.593,{"$nulls":16},196,"Perthane",50,47.055,48.341999999999999,38.484999999999999,52.579000000000001,49.18,42.29,46.710999999999999,51.923999999999999,46.073999999999998,50.430999999999997,47.091000000000001,44.366,48.878999999999998,41.71,38.976999999999997,{"$nulls":16},196,"Perthane",10,9.4920000000000009,7.532,11.462,9.9789999999999992,10.39,8.8290000000000006,10.487,8.17,8.6159999999999997,10.141999999999999,8.0660000000000007,10.141,10.471,11.949,10.55,{"$nulls":16},196,"Perthane",50,49.600999999999999,43.6,51.752000000000002,45.448,48.493000000000002,47.423000000000002,44.786999999999999,48.715000000000003,44.139000000000003,49.389000000000003,36.72,41.44,45.497999999999998,40.326000000000001,53.52,{"$nulls":16},196,"Perthane",10,9.4802,1.7556156185224547,94.801999999999992,18.518761402949881,"uygun","uygun",10.1892,1.5072117303152968,101.89200000000001,14.792247971531591,"uygun","uygun",9.1638000000000002,1.6862739101344044,91.637999999999991,18.401470024819446,"uygun","uygun","--------","--------","--------","--------","uygun değil","uygun değil","--------","--------","--------","--------","uygun değil","uygun değil","--------","--------","--------","--------","uygun değil","uygun değil",null,195,"Perthane",50,47.128200000000007,5.2465388305053082,94.256400000000014,11.13248295183204,"uygun","uygun",47.486000000000004,3.8066275756895367,94.972000000000008,8.016315494439489,"uygun","uygun",44.204599999999999,3.9924366369424078,88.409199999999998,9.0317221215493593,"uygun","uygun","--------","--------","--------","--------","uygun değil","uygun değil","--------","--------","--------","--------","uygun değil","uygun değil","--------","--------","--------","--------","uygun değil","uygun değil",{"$nulls":31},195,"Perthane",10,2.9998239999999968E-2,1.2276640000000002E-2,2.4367209999999969E-2,5.6929960000000016E-2,1.3224999999999997E-2,1.1356899999999967E-3,6.256809999999992E-3,4.8532090000000021E-2,1.4472089999999964E-2,2.2260639999999998E-2,7.0728099999999737E-3,9.1968099999999754E-3,1.1193640000000001E-2,6.3302560000000022E-2,5.7936490000000014E-2,"","","","","","","","","","","","","","","",3.4692099999999943E-3,1.0995856000000051E-3,5.3038090000000031E-2,2.6604963999999958E-3,2.6895999999999902E-4,2.3777640000000003E-2,4.3270084000000082E-3,1.4807104000000054E-3,6.1653904000000051E-3,7.4304399999997411E-5,3.3849124000000009E-3,1.26967824E-2,5.0265639999999979E-4,2.7489639999999982E-2,4.8602611600000047E-2,"","","","","","","","","","","","","","","",2.5806399999999956E-3,6.0910240000000011E-2,2.1374439999999967E-2,4.4100000000004279E-6,1.5210000000000113E-3,1.3712409999999996E-2,2.3716899999999966E-3,3.3489000000000019E-2,1.9154560000000022E-2,2.0163999999999973E-4,3.7403559999999961E-2,1.9881000000000003E-4,2.2184099999999923E-3,3.7986010000000028E-2,3.0250000000000177E-3,"","","","","","","","","","","","","","","",6.3680399999999798E-5,1.6383999999999999E-2,1.2278015999999971E-3,8.2882816000000026E-3,9.0841959999999667E-4,2.6563715999999918E-3,1.0870147600000005E-2,6.6048999999999719E-4,1.3740528399999999E-2,1.4932839999999748E-4,7.0543360000000027E-2,2.9309440000000006E-2,8.1072016000000025E-3,3.7434510399999996E-2,4.9561600000000029E-3,"","","","","","","","","","","","","","","",60,1.0086462196000003,0.12965635474849149,null,195,"Perthane",10,8.7956666666666674,9.3866666666666649,10.034333333333333,10.181333333333333,10.360666666666667,3,5,0.69633333333333347,-1.8546666666666649,1.4276666666666671,-0.2023333333333337,2.9333333333333655E-2,3.3333333333333215E-2,1.1003333333333352,-1.8643333333333327,-1.5653333333333332,-0.21866666666666745,-0.72966666666666669,0.75433333333333508,0.43666666666666742,1.7676666666666669,0.1893333333333338,"","","","","","","","","","","","","","","",9.7517333333333323,97.517333333333326,1.2619168999999995,17.642969333333333,10,1.7642969333333334,0,1.7642969333333334,1.3282683965725199,0.1362084412247245,13.62084412247245,15,"UYGUN  ","UYGUN  ",0.25973835245216925,null,195,"Perthane",50,44.581333333333333,43.275666666666666,48.655000000000001,43.304333333333339,50.467333333333336,3,5,5.0196666666666658,0.32433333333333536,3.0970000000000013,2.1436666666666611,-1.9743333333333339,2.8416666666666686,1.511333333333333,6.0000000000002274E-2,0.83466666666666356,-1.0783333333333331,-7.8613333333333344,-1.8356666666666683,-3.1570000000000036,-2.9783333333333388,3.0526666666666671,"","","","","","","","","","","","","","","",46.056733333333334,92.113466666666667,32.768418566666668,148.93534866666673,10,14.893534866666673,5.9582945666666651,20.851829433333339,4.5663803426054361,9.9146856759390292E-2,9.9146856759390296,15,"UYGUN  ","UYGUN  ",0.13762138887373879,0.11912774375882447]
[200,"PHOSMET","GC-MS/MS",2523035,2535239,null,3086230,3109966,null,5690759,5628365,null,10527923,10023621,null,25041780,18388452,null,50083560,36776904,{"$nulls":8},200,"Phosmet",2,2.38,2.34,2.46,2.36,2.3199999999999998,2.23,2.5,2.0499999999999998,2.16,2.5,2.29,2,2.27,2.15,2.15,{"$nulls":16},200,"Phosmet",50,39.549999999999997,57.31,56.372,49.344999999999999,36.947000000000003,51.917999999999999,49.984000000000002,51.012,47.94,49.56,47.9,50.08,51.24,49.85,50.3,{"$nulls":16},200,"Phosmet",2,2.2999999999999998,2.4,2.6,2.37,2.12,2.2999999999999998,2.2000000000000002,2.44,2.2599999999999998,2.14,2.15,1.85,2.54,2.0099999999999998,1.98,{"$nulls":16},200,"Phosmet",50,50.033999999999999,50.305999999999997,39.210999999999999,37.14,50.267000000000003,43.857999999999997,37.829000000000001,42.706000000000003,38.710999999999999,41.951999999999998,46.95,44.07,40.96,37.93,46.11,{"$nulls":16},200,"Phosmet",2,{"$f":"IFERROR(AVERAGE(AF210:AJ210),\"--------\")","v":2.3719999999999999},{"$f":"IFERROR(_xlfn.STDEV.S(AF210:AJ210),\"--------\")","v":5.4037024344425234E-2},102.54,{"$f":"IFERROR(FM210/FL210*100,\"--------\")","v":2.2781207565103387},{"$f":"IF(FN210<70,\"uygun değil\",IF(FN210>120,\"uygun değil\",\"uygun\"))","v":"uygun"},{"$f":"IF(FO210<0,\"uygun değil\",IF(FO210<20,\"uygun\",\"uygun değil\"))","v":"uygun"},{"$f":"IFERROR(AVERAGE(AK210:AO210),\"--------\")","v":2.2880000000000003},{"$f":"IFERROR(_xlfn.STDEV.S(AK210:AO210),\"--------\")","v":0.20388722372919793},{"$f":"IFERROR(FR210/$FK210*100,\"--------\")","v":114.4},{"$f":"IFERROR(FS210/FR210*100,\"--------\")","v":8.9111548832691394},{"$f":"IF(FT210<70,\"uygun değil\",IF(FT210>120,\"uygun değil\",\"uygun\"))","v":"uygun"},{"$f":"IF(FU210<0,\"uygun değil\",IF(FU210<20,\"uygun\",\"uygun değil\"))","v":"uygun"},{"$f":"IFERROR(AVERAGE(AP210:AT210),\"--------\")","v":2.1720000000000002},{"$f":"IFERROR(_xlfn.STDEV.S(AP210:AT210),\"--------\")","v":0.11627553482998909},{"$f":"IFERROR(FX210/$FK210*100,\"--------\")","v":108.60000000000001},{"$f":"IFERROR(FY210/FX210*100,\"--------\")","v":5.3533855814912101},{"$f":"IF(FZ210<70,\"uygun değil\",IF(FZ210>120,\"uygun değil\",\"uygun\"))","v":"uygun"},{"$f":"IF(GA210<0,\"uygun değil\",IF(GA210<20,\"uygun\",\"uygun değil\"))","v":"uygun"},{"$nulls":34},49.874000000000002,1.2234296056578007,null,2.4530408743188845,null,"uygun",{"$nulls":179},2.25,2.15,2.5266666666666668,2.2133333333333334,2.08,3,null,4.9999999999999822E-2,0.25,7.333333333333325E-2,0.15666666666666673,4.0000000000000036E-2,4.9999999999999822E-2,5.0000000000000266E-2,-8.6666666666666892E-2,4.6666666666666412E-2,6.0000000000000053E-2,-0.10000000000000009,-0.29999999999999982,1.3333333333333197E-2,-0.20333333333333359,-0.10000000000000009,"","","","","","","","","","","","","","","",2.2440000000000002,null,null,0.26633333333333342,{"$nulls":7},15,{"$nulls":7},46.947333333333326,44.068333333333328,40.959000000000003,37.927,46.109666666666669,3,null,3.0866666666666731,6.2376666666666694,-1.7480000000000047,-0.78699999999999903,4.1573333333333338,-3.0893333333333288,-6.2393333333333274,1.7469999999999999,0.78399999999999892,-4.1576666666666711,2.6666666666770311E-3,1.6666666666722563E-3,9.9999999999766942E-4,3.0000000000001137E-3,3.33333333330188E-4,"","","","","","","","","","","","","","","",43.202266666666659,null,null,138.82042800000005,{"$nulls":7},15]
[203,"Pirimiphos Methyl","GC-MS/MS",7041798,7877019,null,13443193,15255734,null,28954626,35232468,null,65288050,62515457,null,159091277,162186898,null,318182554,324373796,{"$nulls":8},203,"Pirimiphos Methyl",2,2.42,1.95,2.23,2.15,2.0699999999999998,2.1,2.15,2.6,2.1,2.1,2.37,2.16,2.19,2.44,2.2000000000000002,{"$nulls":16},203,"Pirimiphos Methyl",50,40.195,56.073,58.468000000000004,59.052999999999997,40.182000000000002,58.112000000000002,59.515999999999998,58.884,57.83,58.789000000000001,59.1,48.27,59.56,49.61,57.83,{"$nulls":16},203,"Pirimiphos Methyl",2,2.27,1.81,2.0699999999999998,2.09,2.79,2.46,2.5099999999999998,2.2999999999999998,2.2999999999999998,2.0960000000000001,2.37,2.16,2.19,2.54,2.33,{"$nulls":16},203,"Pirimiphos Methyl",50,58.143000000000001,56.905000000000001,44.259,40.616,56.613999999999997,59.941000000000003,39.628,57.039000000000001,58.603999999999999,59.04,59.07,49.87,50.45,49.51,57.84,{"$nulls":16},203,"Pirimiphos Methyl",10,{"$f":"IFERROR(AVERAGE(AF213:AJ213),\"--------\")","v":2.1640000000000001},{"$f":"IFERROR(_xlfn.STDEV.S(AF213:AJ213),\"--------\")","v":0.17657859439920798},112.02,{"$f":"IFERROR(FM213/FL213*100,\"--------\")","v":8.1598241404439911},{"$f":"IF(FN213<70,\"uygun değil\",IF(FN213>120,\"uygun değil\",\"uygun\"))","v":"uygun"},{"$f":"IF(FO213<0,\"uygun değil\",IF(FO213<20,\"uygun\",\"uygun değil\"))","v":"uygun"},{"$f":"IFERROR(AVERAGE(AK213:AO213),\"--------\")","v":2.21},{"$f":"IFERROR(_xlfn.STDEV.S(AK213:AO213),\"--------\")","v":0.21908902300206645},114,{"$f":"IFERROR(FS213/FR213*100,\"--------\")","v":9.9135304525821919},{"$f":"IF(FT213<70,\"uygun değil\",IF(FT213>120,\"uygun değil\",\"uygun\"))","v":"uygun"},{"$f":"IF(FU213<0,\"uygun değil\",IF(FU213<20,\"uygun\",\"uygun değil\"))","v":"uygun"},{"$f":"IFERROR(AVERAGE(AP213:AT213),\"--------\")","v":2.2719999999999998},{"$f":"IFERROR(_xlfn.STDEV.S(AP213:AT213),\"--------\")","v":0.12477980605851248},90.87,{"$f":"IFERROR(FY213/FX213*100,\"--------\")","v":5.4920689286317117},{"$f":"IF(FZ213<70,\"uygun değil\",IF(FZ213>120,\"uygun değil\",\"uygun\"))","v":"uygun"},{"$f":"IF(GA213<0,\"uygun değil\",IF(GA213<20,\"uygun\",\"uygun değil\"))","v":"uygun"},{"$nulls":34},54.874000000000002,5.4744433506978583,null,9.976388363702041,null,"uygun",{"$nulls":179},2.3666666666666667,2.16,2.1866666666666661,2.31,2.4053333333333335,3,null,-9.6666666666666679E-2,-0.35000000000000009,-0.11666666666666625,-0.2200000000000002,0.38466666666666649,9.3333333333333268E-2,0.34999999999999964,0.11333333333333373,-1.0000000000000231E-2,-0.30933333333333346,3.3333333333334103E-3,0,3.3333333333338544E-3,0.22999999999999998,-7.5333333333333474E-2,"","","","","","","","","","","","","","","",2.2857333333333334,null,null,0.64026399999999972,{"$nulls":7},15,{"$nulls":7},59.051333333333332,48.800999999999995,50.582666666666661,49.576666666666661,57.831333333333333,3,null,-0.90833333333333144,8.1040000000000063,-6.3236666666666608,-8.9606666666666612,-1.217333333333336,0.88966666666667038,-9.1729999999999947,6.4563333333333404,9.0273333333333383,1.2086666666666659,1.8666666666668164E-2,1.0690000000000026,-0.13266666666665827,-6.6666666666662877E-2,8.6666666666701531E-3,"","","","","","","","","","","","","","","",53.168599999999991,null,null,399.00262066666676,{"$nulls":7},15]
[207,"Profenofos","GC-MS/MS",255392,227584,null,705448,813598,null,1266507,1472243,null,4187643,4074607,null,8551320,7970456,null,18194064,13318122,{"$nulls":8},207,"Profenofos",10,9.0280000000000005,10.685,11.583,8.3759999999999994,9.44,10.416,10.619,8.2159999999999993,10.82,11.831,11.71,9.4670000000000005,9.0500000000000007,8.1479999999999997,7.86,{"$nulls":16},207,"Profenofos",50,39.826999999999998,40.726999999999997,41.85,47.033999999999999,40.323,37.049999999999997,39.494,42.326000000000001,37.527000000000001,40.366,44.542000000000002,40.375999999999998,48.664000000000001,40.366999999999997,35.722000000000001,{"$nulls":16},207,"Profenofos",10,9.1140000000000008,7.4729999999999999,10.243,10.571999999999999,10.484,7.7549999999999999,8.8539999999999992,7.8579999999999997,8.86,10.401999999999999,11.433999999999999,11.385999999999999,10.936,11.16,9.843,{"$nulls":16},207,"Profenofos",50,36.802999999999997,35.503999999999998,36.710999999999999,36.587000000000003,40.804000000000002,40.783999999999999,35.01,38.972000000000001,41.85,36.566000000000003,39.295000000000002,42.137999999999998,49.116,43.542000000000002,51.76,{"$nulls":16},207,"Profenofos",10,9.8223999999999982,1.2954888266596614,98.223999999999975,13.189127165047864,"uygun","uygun",10.3804,1.3266794262367996,103.804,12.780619496713033,"uygun","uygun",9.2469999999999999,1.5235770410451932,92.47,16.476446858929307,"uygun","uygun","--------","--------","--------","--------","uygun değil","uygun değil","--------","--------","--------","--------","uygun değil","uygun değil","--------","--------","--------","--------","uygun değil","uygun değil",null,206,"Profenofos",50,41.952199999999998,2.9371337558919581,83.904399999999995,7.0011435774332647,"uygun","uygun",39.352599999999995,2.1519098029424941,78.705199999999991,5.4682785964396112,"uygun","uygun",41.934199999999997,4.8879024335598533,83.868399999999994,11.656124198291261,"uygun","uygun","--------","--------","--------","--------","uygun değil","uygun değil","--------","--------","--------","--------","uygun değil","uygun değil","--------","--------","--------","--------","uygun değil","uygun değil",{"$nulls":31},206,"Profenofos",10,9.4478399999999903E-3,4.6922500000000011E-3,2.5058890000000035E-2,2.6373760000000031E-2,3.1360000000000055E-3,1.7305600000000068E-3,3.8316100000000083E-3,3.1826560000000038E-2,6.7240000000000121E-3,3.3525610000000018E-2,2.9241000000000014E-2,2.8408899999999896E-3,9.0249999999999948E-3,3.429904000000001E-2,4.5795999999999989E-2,"","","","","","","","","","","","","","","",4.1395971600000032E-2,3.4395411600000023E-2,2.6568999999999975E-2,3.5188624000000047E-3,3.7457731600000016E-2,6.7081000000000002E-2,4.415041439999999E-2,2.3556110399999986E-2,6.2230291600000008E-2,3.7125582399999989E-2,1.1915905599999983E-2,3.704855040000004E-2,7.1395839999999818E-4,3.7117875600000023E-2,8.1544513599999952E-2,"","","","","","","","","","","","","","","",7.8499599999999822E-3,6.3857290000000025E-2,5.904899999999994E-4,3.2718399999999907E-3,2.34256E-3,5.0400250000000014E-2,1.3133160000000008E-2,4.5881640000000022E-2,1.2996000000000023E-2,1.6160400000000011E-3,2.0563559999999991E-2,1.9209959999999953E-2,8.7609599999999826E-3,1.3456000000000023E-2,2.464900000000015E-4,"","","","","","","","","","","","","","","",6.9664323600000036E-2,8.4053606400000036E-2,7.0639008400000008E-2,7.1963427599999963E-2,3.3826566399999987E-2,3.3973862400000013E-2,8.9880040000000036E-2,4.8646713599999988E-2,2.6568999999999975E-2,7.2188942399999956E-2,4.583880999999998E-2,2.4724417600000013E-2,3.12582400000001E-4,1.6682305599999985E-2,1.2390399999999929E-3,"","","","","","","","","","","","","","","",60,1.7677490360000006,0.17164639213608116,null,206,"Profenofos",10,9.434333333333333,9.2376666666666658,9.6790000000000003,10.197333333333333,10.243,3,5,-0.32033333333333225,-1.7646666666666659,0.56400000000000006,0.37466666666666626,0.24099999999999966,-1.6793333333333331,-0.3836666666666666,-1.8210000000000006,-1.3373333333333335,0.15899999999999892,1.9996666666666663,2.1483333333333334,1.2569999999999997,0.96266666666666723,-0.40000000000000036,"","","","","","","","","","","","","","","",9.7582666666666675,97.582666666666668,0.607489733333334,23.111135999999998,10,2.3111135999999997,0,2.3111135999999997,1.5202347187194483,0.15578942148736608,{"$f":"QI217*100","v":15.578942148736608},15,"UYGUN  ","UYGUN  ",0.33978481386315479,null,206,"Profenofos",50,38.960666666666661,37.550666666666665,41.599666666666664,40.659666666666674,43.043333333333329,3,5,-2.157666666666664,-2.0466666666666669,-4.8886666666666656,-4.0726666666666702,-2.2393333333333274,1.8233333333333377,-2.5406666666666666,-2.6276666666666628,1.1903333333333279,-6.4773333333333269,0.33433333333334048,4.5873333333333335,7.5163333333333355,2.8823333333333281,8.7166666666666686,"","","","","","","","","","","","","","","",40.3628,80.7256,14.007974766666671,276.34035933333325,10,27.634035933333326,0,27.634035933333326,5.2568085311654,0.1302389460385652,13.023894603856521,15,"UYGUN  ","UYGUN  ",0.23747056291330818,0.14358364620075034]
[210,"Prometryn","GC-MS/MS",4872301,3950016,null,11881499,13600884,null,19459173,23194070,null,61879804,63067718,null,123439118,108671251,null,271783073,194119427,{"$nulls":8},210,"Prometryn",10,9.6880000000000006,11.733000000000001,11.632999999999999,8.9689999999999994,9.9779999999999998,10.603,11.388,9.2240000000000002,11.398,11.896000000000001,11.455,11.827,9.8460000000000001,9.2550000000000008,8.452,{"$nulls":16},210,"Prometryn",50,47.631999999999998,52.819000000000003,51.872,52.728000000000002,46.356000000000002,43.463000000000001,44.923000000000002,54.627000000000002,48.936,51.052999999999997,48.345999999999997,46.835999999999999,51.186999999999998,44.639000000000003,38.555999999999997,{"$nulls":16},210,"Prometryn",10,10.537000000000001,9.1229999999999993,11.917,11.987,11.246,10.616,11.653,9.7040000000000006,10.497,11.151,10.006,9.3070000000000004,9.91,10.808999999999999,9.4600000000000009,{"$nulls":16},210,"Prometryn",50,55.49,47.183999999999997,48.557000000000002,40.976999999999997,59.893000000000001,43.283999999999999,40.914999999999999,58.786000000000001,45.661999999999999,50.109000000000002,49.213999999999999,51.837000000000003,57.609000000000002,57.682000000000002,35.567999999999998,{"$nulls":16},210,"Prometryn",10,10.400200000000002,1.2277995357549107,104.00200000000001,11.805537737302268,"uygun","uygun",10.9018,1.0458648096192931,109.01799999999999,9.5935057478516672,"uygun","uygun",10.167,1.4396661071234576,101.66999999999999,14.160185965608907,"uygun","uygun","--------","--------","--------","--------","uygun değil","uygun değil","--------","--------","--------","--------","uygun değil","uygun değil","--------","--------","--------","--------","uygun değil","uygun değil",null,209,"Prometryn",50,50.281399999999998,3.0570966291564949,100.5628,6.0799751581230739,"uygun","uygun",48.6004,4.5377288151673412,97.200800000000001,9.3368137199844874,"uygun","uygun",45.91279999999999,4.7522368101768659,91.82559999999998,10.350570669131194,"uygun","uygun","--------","--------","--------","--------","uygun değil","uygun değil","--------","--------","--------","--------","uygun değil","uygun değil","--------","--------","--------","--------","uygun değil","uygun değil",{"$nulls":31},209,"Prometryn",10,9.7343999999999339E-4,3.0032890000000003E-2,2.6666889999999999E-2,1.0629610000000017E-2,4.8399999999999113E-6,3.6360900000000024E-3,1.9265440000000009E-2,6.0217600000000001E-3,1.9544039999999978E-2,3.594816E-2,2.1170249999999988E-2,3.3379290000000034E-2,2.3715999999999906E-4,5.5502499999999849E-3,2.3963040000000015E-2,"","","","","","","","","","","","","","","",2.2429696000000063E-3,3.1787044000000111E-3,1.4017535999999939E-3,2.9767935999999938E-3,5.3114943999999923E-3,1.7092947599999991E-2,1.0310371599999993E-2,8.5636516000000117E-3,4.5283839999999851E-4,4.4352359999999395E-4,1.0942864000000072E-3,4.0043584000000005E-3,5.6358759999999397E-4,1.1496128399999996E-2,5.2386054400000041E-2,"","","","","","","","","","","","","","","",2.8836900000000086E-3,7.6912900000000199E-3,3.6748889999999992E-2,3.9481690000000041E-2,1.5525160000000012E-2,3.794559999999985E-3,2.7324090000000002E-2,8.7615999999999757E-4,2.4700900000000077E-3,1.3248009999999996E-2,3.5999999999992069E-7,4.8024899999999883E-3,8.1000000000000139E-5,6.5448099999999955E-3,2.9159999999999933E-3,"","","","","","","","","","","","","","","",1.2056040000000027E-2,3.1719424000000041E-3,8.3289959999999978E-4,3.2565811600000022E-2,3.9148579599999969E-2,1.8041862399999997E-2,3.3014889999999991E-2,3.0877518400000036E-2,7.5272976000000102E-3,4.7524000000003088E-6,2.4711840000000209E-4,1.3498275999999996E-3,2.3158752399999996E-2,2.3605249599999999E-2,8.3313049600000008E-2,"","","","","","","","","","","","","","","",60,0.83184649520000009,0.11774594792744816,null,209,"Prometryn",10,10.386333333333333,10.027666666666667,10.510333333333334,11.097666666666667,10.619,3,5,0.15066666666666784,-0.9046666666666674,1.4066666666666663,0.88933333333333309,0.62700000000000067,0.22966666666666669,1.6253333333333337,-0.8063333333333329,-0.60066666666666713,0.53200000000000003,-0.38033333333333275,-0.72066666666666634,-0.60033333333333339,-0.28866666666666774,-1.1589999999999989,"","","","","","","","","","","","","","","",10.528200000000002,105.28200000000001,0.4526369333333336,10.443352666666668,10,1.0443352666666668,0,1.0443352666666668,1.0219272315907169,9.7065712238627366E-2,9.7065712238627366,15,"UYGUN  ","UYGUN  ",0.13190453489348819,null,209,"Prometryn",50,49.329333333333331,46.645333333333326,54.984000000000002,48.106999999999999,48.523333333333333,3,5,6.1606666666666712,0.53866666666667129,-6.4269999999999996,-7.1300000000000026,11.369666666666667,-6.0453333333333319,-5.7303333333333271,3.8019999999999996,-2.4450000000000003,1.5856666666666683,-0.11533333333333218,5.1916666666666771,2.625,9.5750000000000028,-12.955333333333336,"","","","","","","","","","","","","","","",49.517800000000001,99.035600000000002,30.858935600000045,645.36548400000015,10,64.536548400000015,0,64.536548400000015,8.0334642838566239,0.1622338691108374,{"$f":"SM220*100","v":16.22338691108374},15,"UYGUN  ","UYGUN  ",0.36847759601341251,0.13368167559367353]
[213,"Propazine","GC-MS/MS",2182048,1883401,null,4274524,5196229,null,7442670,8308803,null,21904049,23697477,null,42237629,38161924,null,90840334,65802582,{"$nulls":8},213,"Propazine",10,9.4570000000000007,11.06,11.949,8.9580000000000002,9.5299999999999994,10.302,11.599,8.766,11.656000000000001,11.379,11.65,9.9629999999999992,10.132,8.8870000000000005,7.7809999999999997,{"$nulls":16},213,"Propazine",50,45.627000000000002,43.945,40.048000000000002,48.561999999999998,41.622,40.991999999999997,42.845999999999997,50.823,40.621000000000002,49.853000000000002,49.773000000000003,47.847999999999999,51.055,44.517000000000003,35.302,{"$nulls":16},213,"Propazine",10,10.476000000000001,8.7739999999999991,11.911,11.11,11.401,9.8279999999999994,11.156000000000001,9.5210000000000008,9.6959999999999997,11.44,10.433,10.593999999999999,10.534000000000001,10.608000000000001,10.339,{"$nulls":16},213,"Propazine",50,47.540999999999997,39.399000000000001,47.44,39.085999999999999,42.228000000000002,40.948999999999998,36.933999999999997,48.326999999999998,40.283000000000001,49.158999999999999,35.804000000000002,36.024000000000001,41.787999999999997,37.951000000000001,45.33,{"$nulls":16},213,"Propazine",10,10.190799999999999,1.2591356956261741,101.908,12.355611881561547,"uygun","uygun",10.740399999999999,1.2322517194145028,107.40399999999998,11.473052394831692,"uygun","uygun",9.682599999999999,1.4491643454073833,96.825999999999993,14.966686069933525,"uygun","uygun","--------","--------","--------","--------","uygun değil","uygun değil","--------","--------","--------","--------","uygun değil","uygun değil","--------","--------","--------","--------","uygun değil","uygun değil",null,212,"Propazine",50,43.960800000000006,3.3439311745309581,87.921600000000012,7.6066203857321923,"uygun","uygun",45.027000000000001,4.9329178484949461,90.054000000000002,10.955466383492007,"uygun","uygun",45.698999999999998,6.3126291273921904,91.397999999999996,13.813495103595683,"uygun","uygun","--------","--------","--------","--------","uygun değil","uygun değil","--------","--------","--------","--------","uygun değil","uygun değil","--------","--------","--------","--------","uygun değil","uygun değil",{"$nulls":31},212,"Propazine",10,2.9484899999999894E-3,1.123600000000002E-2,3.7986010000000028E-2,1.0857639999999991E-2,2.2090000000000039E-3,9.1204000000000025E-4,2.5568009999999978E-2,1.5227559999999989E-2,2.742335999999999E-2,1.9016409999999977E-2,2.7225000000000013E-2,1.369000000000027E-5,1.7423999999999679E-4,1.2387689999999989E-2,4.9239609999999996E-2,"","","","","","","","","","","","","","","",7.6492515999999969E-3,1.4665209999999996E-2,3.96169216E-2,8.2713760000000045E-4,2.8076353600000013E-2,3.2457625600000033E-2,2.0471886400000028E-2,2.7093159999999736E-4,3.5186256399999991E-2,8.6435999999996626E-6,2.0611599999999896E-5,1.8524415999999972E-3,4.4520999999999564E-4,1.2025315599999996E-2,8.6412481599999993E-2,"","","","","","","","","","","","","","","",2.2657600000000081E-3,1.5030760000000011E-2,3.6519210000000017E-2,1.2320999999999997E-2,1.962800999999997E-2,2.9584000000000359E-4,1.3363360000000034E-2,2.2944099999999946E-3,9.2415999999999896E-4,2.0735999999999973E-2,1.8748899999999908E-3,3.5283599999999878E-3,2.8515600000000121E-3,3.6966399999999958E-3,1.1492100000000027E-3,"","","","","","","","","","","","","","","",2.4186724000000112E-3,4.4952480399999994E-2,2.6214400000000022E-3,4.7646158400000013E-2,2.4161593600000007E-2,3.2768240400000023E-2,6.8288142400000001E-2,1.119571600000003E-3,3.7768035599999986E-2,2.8291240000000194E-4,8.0610566399999972E-2,7.8131430399999993E-2,2.6974777600000017E-2,5.8071360399999987E-2,8.7235600000000069E-3,"","","","","","","","","","","","","","","",60,1.1734291404000001,0.13984688891784472,null,212,"Propazine",10,10.245666666666667,10.174666666666667,10.655333333333333,10.471333333333332,11.06,3,5,0.23033333333333417,-1.4006666666666678,1.2556666666666665,0.63866666666666738,0.3409999999999993,-0.4176666666666673,0.98133333333333361,-1.1343333333333323,-0.77533333333333232,0.37999999999999901,0.18733333333333313,0.41933333333333245,-0.1213333333333324,0.13666666666666849,-0.72100000000000009,"","","","","","","","","","","","","","","",10.5214,105.21400000000001,0.3800907333333336,8.0496846666666695,10,0.80496846666666699,0,0.80496846666666699,0.89720034923458813,8.5273856068069656E-2,15,15,"UYGUN  ","UYGUN  ",0.10180282740205003,null,212,"Propazine",50,41.431333333333335,37.452333333333335,45.851666666666667,39.106666666666662,45.572333333333326,3,5,6.1096666666666621,1.9466666666666654,1.5883333333333312,-2.0666666666663502E-2,-3.3443333333333243,-0.48233333333333661,-0.51833333333333798,2.4753333333333316,1.1763333333333392,3.5866666666666731,-5.6273333333333326,-1.4283333333333346,-4.0636666666666699,-1.1556666666666615,-0.24233333333332752,"","","","","","","","","","","","","","","",41.882866666666658,83.765733333333316,42.67824909999996,127.31655533333326,10,12.731655533333326,9.9821978555555457,22.713853388888872,4.7659053063283654,0.11379128712126597,14.423999999999999,15,"UYGUN  ","UYGUN  ",0.18127839834600148,0.10054871345132231]
[214,"Propetamphos","GC-MS/MS",2305571,2028482,null,5053455,6358654,null,9708342,10163884,null,27201646,31089087,null,59078173,57841478,null,113171658,116466784,{"$nulls":8},214,"Propetamphos",10,10.112,11.441000000000001,11.973000000000001,9.5809999999999995,10.342000000000001,10.382,11.548,9.3339999999999996,11.853999999999999,11.882,11.82,9.2210000000000001,9.91,8.4870000000000001,7.9550000000000001,{"$nulls":16},214,"Propetamphos",50,45.734000000000002,46.854999999999997,40.564,50.33,41.09,41.845999999999997,45.06,51.744999999999997,40.976999999999997,48.868000000000002,44.959000000000003,42.866,46.411000000000001,41.728999999999999,39.023000000000003,{"$nulls":16},214,"Propetamphos",10,10.771000000000001,9.6549999999999994,11.808999999999999,11.743,11.617000000000001,10.842000000000001,11.750999999999999,9.7409999999999997,10.416,11.836,11.154999999999999,10.050000000000001,10.436999999999999,11.535,10.587999999999999,{"$nulls":16},214,"Propetamphos",50,49.317,42.323999999999998,49.625999999999998,40.478999999999999,40.840000000000003,42.311,42.143000000000001,50.582999999999998,42.631,50.737000000000002,54.286000000000001,45.957000000000001,56.643000000000001,58.148000000000003,38.625,{"$nulls":16},214,"Propetamphos",10,10.6898,0.98680783336980105,106.89800000000001,9.231303049353599,"uygun","uygun",10.999999999999998,1.1141166904772588,109.99999999999999,10.128333549793265,"uygun","uygun",9.4786000000000001,1.5032668758407408,94.786000000000001,15.85958765894479,"uygun","uygun","--------","--------","--------","--------","uygun değil","uygun değil","--------","--------","--------","--------","uygun değil","uygun değil","--------","--------","--------","--------","uygun değil","uygun değil",null,213,"Propetamphos",50,44.9146,4.1023898888330912,89.8292,9.1337558139960979,"uygun","uygun",45.699200000000005,4.5866079732194258,91.398400000000009,10.036516992024861,"uygun","uygun",42.997599999999991,2.8689065512839553,85.995199999999983,6.6722481052057692,"uygun","uygun","--------","--------","--------","--------","uygun değil","uygun değil","--------","--------","--------","--------","uygun değil","uygun değil","--------","--------","--------","--------","uygun değil","uygun değil",{"$nulls":31},213,"Propetamphos",10,1.2544000000000221E-4,2.0764810000000033E-2,3.892729000000001E-2,1.755610000000004E-3,1.1696400000000007E-3,1.459240000000001E-3,2.3963040000000015E-2,4.435559999999999E-3,3.4373160000000007E-2,3.541923999999997E-2,3.312399999999998E-2,6.0684099999999954E-3,8.1000000000000139E-5,2.2891689999999996E-2,4.1820250000000003E-2,"","","","","","","","","","","","","","","",7.2795023999999917E-3,3.9564100000000083E-3,3.5615238399999999E-2,4.3559999999999197E-5,3.1755239999999969E-2,2.6595086400000037E-2,9.7614399999999997E-3,1.2180099999999953E-3,3.2565811600000022E-2,5.1256959999999971E-4,1.0164672399999982E-2,2.0357582400000008E-2,5.1523683999999932E-3,2.7363776400000005E-2,4.819781159999998E-2,"","","","","","","","","","","","","","","",5.9444100000000258E-3,1.190250000000006E-3,3.2724809999999944E-2,3.0380490000000041E-2,2.6146890000000058E-2,7.089640000000009E-3,3.0660010000000012E-2,6.7081000000000172E-4,1.7305600000000068E-3,3.3708959999999996E-2,1.3340249999999986E-2,2.5000000000001153E-5,1.9096899999999869E-3,2.3562249999999989E-2,3.4574399999999957E-3,"","","","","","","","","","","","","","","",1.8659560000000016E-4,2.3568390399999996E-2,5.5950400000000629E-5,3.6259776400000013E-2,3.3562239999999972E-2,2.3648288400000009E-2,2.4692979599999984E-2,1.3595560000000009E-4,2.1720864399999987E-2,2.1726759999999927E-4,7.3479184000000029E-3,6.5383395999999887E-3,1.7651779599999994E-2,2.6555961599999997E-2,5.1756250000000018E-2,"","","","","","","","","","","","","","","",60,1.0133574772,0.1299588061143479,null,213,"Propetamphos",10,10.922666666666666,10.485333333333333,10.662333333333331,11.231333333333334,11.347000000000001,3,5,-0.15166666666666551,-0.83033333333333381,1.1466666666666683,0.51166666666666671,0.26999999999999957,-8.0666666666665776E-2,1.2656666666666663,-0.92133333333333134,-0.81533333333333324,0.48899999999999899,0.23233333333333306,-0.43533333333333246,-0.22533333333333161,0.30366666666666653,-0.75900000000000212,"","","","","","","","","","","","","","","",10.929733333333333,109.29733333333334,0.40058856666666864,6.6857306666666663,10,0.6685730666666666,0,0.6685730666666666,0.81766317433688218,7.4810898802369269E-2,{"$f":"QI224*100","v":7.4810898802369268},15,"UYGUN  ","UYGUN  ",7.8353388114656697E-2,null,213,"Propetamphos",50,48.637999999999998,43.474666666666671,52.283999999999999,47.086000000000006,43.400666666666666,3,5,0.67900000000000205,-1.1506666666666732,-2.6580000000000013,-6.6070000000000064,-2.5606666666666626,-6.3269999999999982,-1.3316666666666706,-1.7010000000000005,-4.4550000000000054,7.3363333333333358,5.6480000000000032,2.4823333333333295,4.3590000000000018,11.061999999999998,-4.7756666666666661,"","","","","","","","","","","","","","","",46.976666666666674,93.953333333333347,41.993661999999958,379.66357933333347,10,37.966357933333349,1.3424346888888696,39.308792622222221,6.2696724493566824,0.13346354465387103,10.423999999999999,15,"UYGUN  ","UYGUN  ",0.24937524852206155,0.10818777271760927]
[217,"Prothiofos","GC-MS/MS",427239,467656,null,938053,952152,null,1556971,1698714,null,3912354,3783039,null,6715466,6501212,null,12419447,14123180,{"$nulls":8},217,"Prothiofos",10,9.423,11.577,11.744999999999999,8.7149999999999999,9.7669999999999995,10.465,11.8,9.4649999999999999,11.829000000000001,11.734,11.428000000000001,11.195,10.552,9.4030000000000005,8.3010000000000002,{"$nulls":16},217,"Prothiofos",50,44.701999999999998,45.401000000000003,38.328000000000003,50.225999999999999,45.078000000000003,39.728000000000002,46.026000000000003,50.329000000000001,43.646000000000001,49.127000000000002,46.978000000000002,45.149000000000001,49.332999999999998,39.758000000000003,37.371000000000002,{"$nulls":16},217,"Prothiofos",10,10.872999999999999,9.2799999999999994,11.803000000000001,11.042999999999999,11.343999999999999,9.9770000000000003,11.542,9.1300000000000008,9.5630000000000006,11.61,11.163,8.6639999999999997,8.6370000000000005,9.6039999999999992,7.1849999999999996,{"$nulls":16},217,"Prothiofos",50,47.445999999999998,43.642000000000003,49.457999999999998,41.665999999999997,45.722000000000001,42.526000000000003,42.738999999999997,48.031999999999996,43.253,47.695999999999998,49.656999999999996,49.078000000000003,56.231000000000002,55.734000000000002,58.31,{"$nulls":16},217,"Prothiofos",10,10.245399999999998,1.3480811548271223,102.45399999999998,13.157916282693915,"uygun","uygun",11.0586,1.0596316812930806,110.58600000000001,9.5819695195872949,"uygun","uygun",10.175799999999999,1.3096177686638293,101.758,12.869924415415293,"uygun","uygun","--------","--------","--------","--------","uygun değil","uygun değil","--------","--------","--------","--------","uygun değil","uygun değil","--------","--------","--------","--------","uygun değil","uygun değil",null,216,"Prothiofos",50,44.747,4.2356317120354063,89.494,9.4657333721487618,"uygun","uygun",45.7712,4.2759969246948719,91.542400000000001,9.3421123429031176,"uygun","uygun",43.717800000000004,5.0042380738729317,87.435600000000008,11.44668321341177,"uygun","uygun","--------","--------","--------","--------","uygun değil","uygun değil","--------","--------","--------","--------","uygun değil","uygun değil","--------","--------","--------","--------","uygun değil","uygun değil",{"$nulls":31},216,"Prothiofos",10,3.3292899999999969E-3,2.4869289999999985E-2,3.0450249999999957E-2,1.6512250000000016E-2,5.4289000000000464E-4,2.1622499999999988E-3,3.2400000000000061E-2,2.8622499999999993E-3,3.3452410000000023E-2,3.006756E-2,2.0391840000000012E-2,1.4280249999999986E-2,3.0470399999999909E-3,3.5640899999999972E-3,2.886600999999998E-2,"","","","","","","","","","","","","","","",1.1227521600000012E-2,8.4603203999999901E-3,5.449423359999999E-2,2.0430400000000718E-5,9.6904335999999942E-3,4.220559359999998E-2,6.3170703999999812E-3,4.3296400000000401E-5,1.6149326399999994E-2,3.0485159999999719E-4,3.6529935999999926E-3,9.4128803999999986E-3,1.7795560000000049E-4,4.1959425599999961E-2,6.3796656399999957E-2,"","","","","","","","","","","","","","","",7.621289999999988E-3,5.1840000000000089E-3,3.2508090000000045E-2,1.0878489999999966E-2,1.8063359999999959E-2,5.2899999999998562E-6,2.3777639999999968E-2,7.5689999999999941E-3,1.9096899999999967E-3,2.592100000000001E-2,1.3525690000000016E-2,1.7848960000000014E-2,1.8577689999999994E-2,1.5681600000000064E-3,7.9242250000000042E-2,"","","","","","","","","","","","","","","",2.6091664000000014E-3,1.6169665599999983E-2,1.1750560000000155E-4,2.7782222400000018E-2,7.3205135999999948E-3,2.2344270399999984E-2,2.1088848400000006E-2,1.5492096000000049E-3,1.8208803599999986E-2,2.1233664000000008E-3,4.7059600000001212E-5,3.4003359999999636E-4,1.5530144399999989E-2,1.3151502400000027E-2,2.7622440000000043E-2,"","","","","","","","","","","","","","","",60,0.95491601159999995,0.12615572464220559,null,216,"Prothiofos",10,10.671000000000001,9.8286666666666651,9.8566666666666674,10.07,10.046333333333333,3,5,0.20199999999999818,-0.54866666666666575,1.9463333333333335,0.97299999999999898,1.2976666666666663,-0.69400000000000084,1.7133333333333347,-0.72666666666666657,-0.50699999999999967,1.5636666666666663,0.4919999999999991,-1.1646666666666654,-1.2196666666666669,-0.46600000000000108,-2.8613333333333335,"","","","","","","","","","","","","","","",10.094533333333334,100.94533333333335,0.34687843333333468,24.898497999999996,10,2.4898497999999996,0,2.4898497999999996,1.5779257903970008,0.15631488235186708,15.631488235186708,15,"UYGUN  ","UYGUN  ",0.34208079422549265,null,216,"Prothiofos",50,46.543000000000006,45.152999999999999,51.240333333333332,46.884333333333331,50.576000000000001,3,5,0.90299999999999159,-1.5109999999999957,-1.7823333333333338,-5.2183333333333337,-4.8539999999999992,-4.017000000000003,-2.4140000000000015,-3.2083333333333357,-3.6313333333333304,-2.8800000000000026,3.1139999999999901,3.9250000000000043,4.9906666666666695,8.8496666666666712,7.7340000000000018,"","","","","","","","","","","","","","","",48.079333333333331,96.158666666666662,21.432777999999992,298.94636133333347,10,29.894636133333346,0,29.894636133333346,5.4675987538711492,0.11372035290016118,11.372035290016118,15,"UYGUN  ","UYGUN  ",0.18105246129232075,0.13668698019272948]
[221,"Pyributicarb","GC-MS/MS",2070950,1893130,null,5171311,5802290,null,9522428,10490772,null,25030113,29861164,null,52268830,49494487,null,113624165,106722445,{"$nulls":8},221,"Pyributicarb",10,8.2059999999999995,10.707000000000001,11.666,7.452,8.3079999999999998,9.2170000000000005,11.096,7.2930000000000001,11.228999999999999,11.794,11.554,11.535,10.037000000000001,9.3369999999999997,8.1649999999999991,{"$nulls":16},221,"Pyributicarb",50,44.765999999999998,43.247,35.079000000000001,50.776000000000003,47.003,40.972000000000001,46.313000000000002,51.411000000000001,45.44,49.844999999999999,40.238,38.76,41.08,35.432000000000002,35.292999999999999,{"$nulls":16},221,"Pyributicarb",10,9.3529999999999998,7.1760000000000002,11.996,10.872999999999999,10.227,7.7480000000000002,9.4440000000000008,7.79,8.4540000000000006,10.939,10.837999999999999,9.32,8.6430000000000007,11.169,8.2759999999999998,{"$nulls":16},221,"Pyributicarb",50,48.38,40.866999999999997,51.064999999999998,47.27,51.552,52.417000000000002,45.295999999999999,46.542999999999999,42.283999999999999,47.218000000000004,53.502000000000002,51.018999999999998,57.728000000000002,58.890999999999998,37.457999999999998,{"$nulls":16},221,"Pyributicarb",10,9.2677999999999994,1.8144162146541809,92.677999999999997,19.577636706167386,"uygun","uygun",10.125800000000002,1.8568725589011144,101.25800000000002,18.338033132207965,"uygun","uygun",10.125599999999999,1.4577746053488605,101.25599999999999,14.396920729130724,"uygun","uygun","--------","--------","--------","--------","uygun değil","uygun değil","--------","--------","--------","--------","uygun değil","uygun değil","--------","--------","--------","--------","uygun değil","uygun değil",null,220,"Pyributicarb",50,44.174200000000006,5.8206198724877449,88.348400000000012,13.176514509572881,"uygun","uygun",46.796199999999999,4.0800008210783485,93.592399999999998,8.7186583976441447,"uygun","uygun",38.160600000000002,2.6863616286717606,76.321200000000005,7.0396210454546333,"uygun","uygun","--------","--------","--------","--------","uygun değil","uygun değil","--------","--------","--------","--------","uygun değil","uygun değil","--------","--------","--------","--------","uygun değil","uygun değil",{"$nulls":31},220,"Pyributicarb",10,3.2184360000000002E-2,4.9984899999999978E-3,2.7755560000000026E-2,6.4923040000000015E-2,2.8628640000000007E-2,6.1308899999999887E-3,1.2012159999999982E-2,7.3278489999999974E-2,1.5104410000000002E-2,3.2184360000000002E-2,2.4149159999999996E-2,2.3562249999999989E-2,1.369000000000027E-5,4.3956900000000033E-3,3.3672250000000042E-2,"","","","","","","","","","","","","","","",1.0957902399999999E-2,1.8241203599999988E-2,8.9054496400000016E-2,2.4087039999999931E-4,3.5928035999999992E-3,3.2601913599999977E-2,5.4375875999999879E-3,7.9636840000000761E-4,8.317440000000011E-3,9.6099999999999486E-6,3.8118657599999987E-2,5.0535040000000003E-2,3.1826560000000004E-2,8.4890649599999979E-2,8.6518339600000035E-2,"","","","","","","","","","","","","","","",4.1860899999999973E-3,7.9749759999999989E-2,3.9840159999999999E-2,7.621289999999988E-3,5.1528999999999735E-4,5.0715039999999982E-2,3.0913599999999857E-3,4.8840999999999989E-2,2.3901159999999987E-2,8.817210000000018E-3,7.0224399999999788E-3,4.6239999999999927E-3,1.8414489999999981E-2,1.3665610000000002E-2,2.972176E-2,"","","","","","","","","","","","","","","",1.049759999999999E-3,3.3364675600000018E-2,4.5368999999999466E-4,2.9811599999999979E-3,9.6348159999999725E-4,2.3367556000000048E-3,8.8510464000000101E-3,4.7803395999999974E-3,2.3814662400000002E-2,3.0958095999999904E-3,4.905601600000014E-3,4.1534440000000263E-4,2.388879360000001E-2,3.161995239999995E-2,6.2920705600000029E-2,"","","","","","","","","","","","","","","",60,1.3903013212000002,0.15222249730794285,null,220,"Pyributicarb",10,9.3130000000000006,8.6466666666666665,9.4763333333333346,10.165333333333333,9.8140000000000001,3,5,3.9999999999999147E-2,-1.4706666666666663,2.5196666666666658,0.70766666666666644,0.41300000000000026,-1.5650000000000004,0.79733333333333434,-1.6863333333333346,-1.7113333333333323,1.125,1.5249999999999986,0.67333333333333378,-0.83333333333333393,1.0036666666666676,-1.5380000000000003,"","","","","","","","","","","","","","","",9.4830666666666659,94.830666666666659,0.97765323333333276,26.153751999999997,10,2.6153751999999999,0,2.6153751999999999,1.6172121691355157,0.17053683433652081,17.053683433652083,15,"UYGUN  ","UYGUN  ",0.40715936611730719,null,220,"Pyributicarb",50,51.433,45.727333333333327,51.778666666666673,49.481666666666662,45.409333333333336,3,5,-3.0529999999999973,-4.8603333333333296,-0.71366666666667555,-2.2116666666666589,6.1426666666666634,0.98400000000000176,-0.43133333333332757,-5.235666666666674,-7.1976666666666631,1.8086666666666673,2.0690000000000026,5.2916666666666714,5.9493333333333283,9.4093333333333362,-7.9513333333333378,"","","","","","","","","","","","","","","",48.765999999999998,97.531999999999996,27.901450833333371,379.15730266666674,10,37.915730266666671,0,37.915730266666671,6.1575750313468918,0.1262677896761451,12.626778967614511,15,"UYGUN  ","UYGUN  ",0.22320976593578901,0.15004393785691769]
[224,"Pyroquilon","GC-MS/MS",946247,868852,null,2668831,3041117,null,4747260,5192346,null,13999581,16054000,null,32003107,29496733,null,61047220,57681869,{"$nulls":8},224,"Pyroquilon",10,8.6989999999999998,10.054,11.827999999999999,7.7370000000000001,8.6029999999999998,9.9649999999999999,9.8960000000000008,7.2969999999999997,10.329000000000001,11.811999999999999,11.922000000000001,11.093999999999999,9.8219999999999992,8.65,7.8479999999999999,{"$nulls":16},224,"Pyroquilon",50,39.408999999999999,41.445,35.04,45.777999999999999,40.615000000000002,37.439,40.765000000000001,47.02,39.527999999999999,46.488999999999997,43.131999999999998,41.393999999999998,43.356000000000002,40.380000000000003,36.296999999999997,{"$nulls":16},224,"Pyroquilon",10,10.615,7.524,11.55,10.920999999999999,10.941000000000001,8.3740000000000006,9.2170000000000005,7.9009999999999998,9.1639999999999997,10.561999999999999,11.105,9.048,7.6239999999999997,10.244999999999999,8.5939999999999994,{"$nulls":16},224,"Pyroquilon",50,40.341999999999999,35.188000000000002,38.322000000000003,39.119999999999997,46.332999999999998,46.16,35.539000000000001,37.295999999999999,35.494,37.938000000000002,53.167000000000002,46.81,57.109000000000002,57.515000000000001,37.926000000000002,{"$nulls":16},224,"Pyroquilon",10,9.3841999999999999,1.5979542233743775,93.841999999999999,17.028134773069389,"uygun","uygun",9.8597999999999999,1.6287690750993542,98.597999999999999,16.519291213811176,"uygun","uygun",9.8671999999999986,1.679883091170344,98.671999999999983,17.024921874192721,"uygun","uygun","--------","--------","--------","--------","uygun değil","uygun değil","--------","--------","--------","--------","uygun değil","uygun değil","--------","--------","--------","--------","uygun değil","uygun değil",null,223,"Pyroquilon",50,40.4574,3.8651112920587423,80.9148,9.5535335737312383,"uygun","uygun",42.248200000000004,4.2860889748114195,84.496400000000008,10.145021503428357,"uygun","uygun",40.911799999999999,2.85985615022854,81.823599999999999,6.9902965653638809,"uygun","uygun","--------","--------","--------","--------","uygun değil","uygun değil","--------","--------","--------","--------","uygun değil","uygun değil","--------","--------","--------","--------","uygun değil","uygun değil",{"$nulls":31},223,"Pyroquilon",10,1.6926009999999998E-2,2.9160000000000771E-5,3.3415839999999947E-2,5.1211689999999976E-2,1.9516090000000014E-2,1.225000000000041E-5,1.0815999999999926E-4,7.3062089999999996E-2,1.08241000000001E-3,3.2833440000000012E-2,3.6940840000000058E-2,1.1968359999999987E-2,3.1684000000000134E-4,1.8225000000000002E-2,4.6311040000000026E-2,"","","","","","","","","","","","","","","",4.4867712400000002E-2,2.927521000000001E-2,8.9520640000000012E-2,7.1301136000000119E-3,3.5231289999999992E-2,6.3111488399999999E-2,3.4114089999999993E-2,3.5521599999999982E-3,4.3865113600000033E-2,4.9308484000000086E-3,1.8867769600000011E-2,2.9625294400000019E-2,1.76570944E-2,3.7017759999999962E-2,7.5108883600000051E-2,"","","","","","","","","","","","","","","",3.7822500000000135E-3,6.1305760000000022E-2,2.4025000000000008E-2,8.4824099999999715E-3,8.8548100000000133E-3,2.6438759999999988E-2,6.1308899999999887E-3,4.4058009999999988E-2,6.9889600000000015E-3,3.1584400000000032E-3,1.2210250000000009E-2,9.063039999999991E-3,5.6453760000000013E-2,6.0024999999999835E-4,1.9768360000000016E-2,"","","","","","","","","","","","","","","",3.73107856E-2,8.7758137599999966E-2,5.4550273599999997E-2,4.7349760000000005E-2,5.3787556000000104E-3,5.8982400000000138E-3,8.3648208399999952E-2,6.4556646399999987E-2,8.4169614400000023E-2,5.8196737599999951E-2,4.0119555999999935E-3,4.0704399999999955E-3,2.0215152399999992E-2,2.2590090000000031E-2,5.8312590399999961E-2,"","","","","","","","","","","","","","","",60,1.8051730259999996,0.17345378952331941,null,223,"Pyroquilon",10,10.031333333333334,8.5963333333333338,9.0250000000000004,10.11,10.032333333333334,3,5,0.58366666666666589,-1.0723333333333338,2.5250000000000004,0.81099999999999994,0.90866666666666696,-1.6573333333333338,0.6206666666666667,-1.1240000000000006,-0.94599999999999973,0.52966666666666562,1.0736666666666661,0.45166666666666622,-1.4010000000000007,0.13499999999999979,-1.4383333333333344,"","","","","","","","","","","","","","","",9.5590000000000011,95.59,1.4719704999999994,20.326998000000007,10,2.0326998000000005,0,2.0326998000000005,1.4257278141356438,0.14915031008846569,14.915031008846569,15,"UYGUN  ","UYGUN  ",0.31144140999279657,null,223,"Pyroquilon",50,46.556333333333328,39.179000000000002,44.242333333333335,44.043000000000006,40.732333333333337,3,5,-6.2143333333333288,-3.9909999999999997,-5.9203333333333319,-4.9230000000000089,5.6006666666666618,-0.39633333333333098,-3.6400000000000006,-6.9463333333333352,-8.5490000000000066,-2.7943333333333342,6.610666666666674,7.6310000000000002,12.866666666666667,13.471999999999994,-2.8063333333333347,"","","","","","","","","","","","","","","",42.950600000000001,85.901200000000003,26.256674399999959,744.60616600000014,10,74.460616600000009,0,74.460616600000009,8.6290565301196178,0.20090654216983272,12.2515,15,"UYGUN  ","UYGUN  ",0.56508814161294285,0.17693113587795145]
[227,"Quintozene","GC-MS/MS",248279,230301,null,684640,682528,null,1684911,1682362,null,4673282,4699209,null,9728209,9533312,null,19799663,18076635,{"$nulls":8},227,"Quintozene",10,9.4440000000000008,11.355,11.635,9.3699999999999992,10.382999999999999,10.55,11.221,9.8059999999999992,11.356,11.1,10.414,7.3559999999999999,9.0950000000000006,7.9420000000000002,7.0380000000000003,{"$nulls":16},227,"Quintozene",50,47.457000000000001,47.981000000000002,41.173000000000002,46.616999999999997,41.216000000000001,41.524000000000001,43.072000000000003,50.886000000000003,36.912999999999997,48.758000000000003,48.536000000000001,45.662999999999997,46.188000000000002,46.595999999999997,43.612000000000002,{"$nulls":16},227,"Quintozene",10,10.907,9.2260000000000009,11.209,10.872,11.135999999999999,9.8339999999999996,11.481999999999999,10.202999999999999,10.012,10.538,9.0540000000000003,8.7850000000000001,7.0659999999999998,9.2859999999999996,7.0060000000000002,{"$nulls":16},227,"Quintozene",50,50.649000000000001,41.454999999999998,51.268999999999998,42.18,35.83,42.792000000000002,35.625999999999998,51.725000000000001,44.8,50.524000000000001,49.834000000000003,47.944000000000003,56.725000000000001,56.883000000000003,37.526000000000003,{"$nulls":16},227,"Quintozene",10,10.4374,1.0494499988088999,104.37400000000001,10.054707099554486,"uygun","uygun",10.8066,0.63770980861203652,108.066,5.9011142136475536,"uygun","uygun",8.3689999999999998,1.3864667323812676,83.69,16.566695332551891,"uygun","uygun","--------","--------","--------","--------","uygun değil","uygun değil","--------","--------","--------","--------","uygun değil","uygun değil","--------","--------","--------","--------","uygun değil","uygun değil",null,226,"Quintozene",50,44.888799999999996,3.4073691024014403,89.777599999999993,7.5906887740403857,"uygun","uygun",44.230599999999995,5.6348692797615074,88.461199999999991,12.739753201994791,"uygun","uygun",46.119,1.7725098025116814,92.238,3.843339626860256,"uygun","uygun","--------","--------","--------","--------","uygun değil","uygun değil","--------","--------","--------","--------","uygun değil","uygun değil","--------","--------","--------","--------","uygun değil","uygun değil",{"$nulls":31},226,"Quintozene",10,3.0913599999999857E-3,1.8360249999999988E-2,2.6732249999999992E-2,3.9690000000000072E-3,1.46689E-3,3.0250000000000177E-3,1.4908410000000023E-2,3.7636000000000326E-4,1.8387359999999985E-2,1.2099999999999972E-2,1.7139599999999901E-3,6.9907359999999988E-2,8.190249999999984E-3,4.2353639999999991E-2,8.7734440000000011E-2,"","","","","","","","","","","","","","","",2.5867396000000017E-3,1.6305443999999978E-3,3.1166371599999972E-2,4.5778756000000075E-3,3.0863462399999982E-2,2.8737030400000002E-2,1.9198873599999975E-2,3.1399839999999852E-4,6.8507827600000043E-2,6.1702559999999868E-4,8.5731839999999844E-4,7.5238276000000066E-3,5.8125375999999963E-3,4.634886400000004E-3,1.6322617599999995E-2,"","","","","","","","","","","","","","","",8.2264900000000012E-3,5.9907599999999865E-3,1.4616810000000003E-2,7.6038399999999902E-3,1.2904959999999983E-2,2.7556000000000195E-4,2.1963239999999967E-2,4.120899999999994E-4,1.4400000000002158E-6,2.8944400000000077E-3,8.9491600000000029E-3,1.4762249999999985E-2,8.6083560000000003E-2,5.0979600000000029E-3,8.9640360000000002E-2,"","","","","","","","","","","","","","","",1.6848039999999977E-4,2.9206810000000017E-2,6.4414439999999789E-4,2.4460959999999993E-2,8.0315559999999994E-2,2.0782105599999986E-2,8.2644750400000036E-2,1.1902499999999984E-3,1.081600000000002E-2,1.0983040000000093E-4,1.1022399999999932E-5,1.6908543999999946E-3,1.8090250000000016E-2,1.8950275600000031E-2,6.2240270399999964E-2,"","","","","","","","","","","","","","","",60,1.1664119507999997,0.13942811474017711,null,226,"Quintozene",10,9.9316666666666666,9.8309999999999995,9.4926666666666666,10.056666666666667,9.56,3,5,0.97533333333333339,-0.60499999999999865,1.716333333333333,0.81533333333333324,1.5759999999999987,-9.7666666666667012E-2,1.6509999999999998,0.71033333333333282,-4.4666666666666188E-2,0.97799999999999976,-0.87766666666666637,-1.0459999999999994,-2.4266666666666667,-0.77066666666666706,-2.5540000000000003,"","","","","","","","","","","","","","","",9.7744,97.744,0.17471389999999984,26.480005999999992,10,2.6480005999999991,0,2.6480005999999991,1.6272678329027459,0.16648263145592015,16.648263145592015,15,"UYGUN  ","UYGUN  ",0.38803053207082827,null,226,"Quintozene",50,47.758333333333333,41.674999999999997,53.239666666666665,47.954333333333331,41.293333333333329,3,5,2.890666666666668,-0.21999999999999886,-1.9706666666666663,-5.7743333333333311,-5.4633333333333312,-4.9663333333333313,-6.0489999999999995,-1.5146666666666633,-3.1543333333333337,9.2306666666666715,2.0756666666666703,6.2690000000000055,3.4853333333333367,8.9286666666666719,-3.7673333333333261,"","","","","","","","","","","","","","","",46.384133333333331,92.768266666666662,74.583354266666674,383.85311666666684,10,38.385311666666681,12.066014199999998,50.451325866666679,7.1029096760881512,0.15313231412655803,15.313231412655803,15,"UYGUN  ","UYGUN  ",0.32829307881656783,0.15994682273531191]
[231,"Sulfotep","GC-MS/MS",1096608,1072245,null,2628309,2907853,null,5188842,5507045,null,12734185,12822613,null,25277946,25347895,null,50463624,43476440,{"$nulls":8},231,"Sulfotep",10,9.4589999999999996,11.811999999999999,11.92,9.56,9.952,10.585000000000001,11.67,9.3780000000000001,11.826000000000001,11.090999999999999,11.242000000000001,7.4610000000000003,10.089,8.7070000000000007,8.1319999999999997,{"$nulls":16},231,"Sulfotep",50,46.076000000000001,47.182000000000002,42.69,49.249000000000002,38.441000000000003,41.844999999999999,44.761000000000003,51.884,37.204999999999998,49.88,47.097999999999999,45.64,48.345999999999997,46.701000000000001,37.527000000000001,{"$nulls":16},231,"Sulfotep",10,10.804,9.7490000000000006,11.776999999999999,11.052,11.55,10.627000000000001,11.878,10.41,10.468,11.304,11.348000000000001,11.045999999999999,9.7620000000000005,10.597,9.3840000000000003,{"$nulls":16},231,"Sulfotep",50,52.234000000000002,41.728000000000002,53.429000000000002,43.689,35.896000000000001,42.53,37.345999999999997,52.448999999999998,45.713000000000001,54.249000000000002,35.180999999999997,35.078000000000003,38.323,38.588999999999999,37.64,{"$nulls":16},231,"Sulfotep",10,10.540600000000001,1.2244475488970421,105.40600000000002,11.616488140115761,"uygun","uygun",10.91,0.98768238822001886,109.1,9.0530008086161207,"uygun","uygun",9.1262000000000008,1.5281235879339081,91.262000000000015,16.744357870021563,"uygun","uygun","--------","--------","--------","--------","uygun değil","uygun değil","--------","--------","--------","--------","uygun değil","uygun değil","--------","--------","--------","--------","uygun değil","uygun değil",null,230,"Sulfotep",50,44.727600000000002,4.2414170155739228,89.455200000000005,9.4827735348507911,"uygun","uygun",45.114999999999995,5.956318116084832,90.22999999999999,13.202522699955299,"uygun","uygun",45.062400000000004,4.3222268913142434,90.124800000000008,9.5916482284881468,"uygun","uygun","--------","--------","--------","--------","uygun değil","uygun değil","--------","--------","--------","--------","uygun değil","uygun değil","--------","--------","--------","--------","uygun değil","uygun değil",{"$nulls":31},230,"Sulfotep",10,2.9268100000000041E-3,3.2833440000000012E-2,3.686399999999998E-2,1.9359999999999937E-3,2.3040000000000254E-5,3.4222499999999995E-3,2.7889000000000011E-2,3.868840000000004E-3,3.3342760000000034E-2,1.1902809999999995E-2,1.5425640000000022E-2,6.4465210000000009E-2,7.9210000000002313E-5,1.6718489999999992E-2,3.4894240000000028E-2,"","","","","","","","","","","","","","","",6.159110399999999E-3,3.1764495999999963E-3,2.1374439999999998E-2,2.2560039999999768E-4,5.3444192399999972E-2,2.6601610000000008E-2,1.0978848399999996E-2,1.4197823999999952E-3,6.5484810000000004E-2,5.7599999999997975E-6,3.3686415999999979E-3,7.6038399999999902E-3,1.0942864000000072E-3,4.353360400000005E-3,6.2230291600000008E-2,"","","","","","","","","","","","","","","",6.4641600000000044E-3,6.3000999999999498E-4,3.1577289999999987E-2,1.1067039999999992E-2,2.4025000000000008E-2,3.931289999999997E-3,3.5268839999999989E-2,1.6809999999999939E-3,2.1902399999999956E-3,1.7004160000000018E-2,1.817104000000001E-2,1.0941160000000005E-2,5.6643999999999672E-4,3.5640899999999837E-3,3.7945599999999985E-3,"","","","","","","","","","","","","","","",1.9963024000000046E-3,2.7370393599999973E-2,4.7032164000000119E-3,1.5931488399999999E-2,7.9569126399999995E-2,2.2320359999999994E-2,6.4049486400000036E-2,2.3990404000000022E-3,7.3513475999999875E-3,7.2216004000000096E-3,8.784110440000005E-2,8.9066433599999953E-2,5.4540931599999988E-2,5.208436839999999E-2,6.110783999999999E-2,"","","","","","","","","","","","","","","",60,1.3025421236000005,0.14733986355814691,null,230,"Sulfotep",10,10.926333333333334,10.891,10.649666666666667,10.705666666666666,10.746,3,5,-0.12233333333333363,-1.1419999999999995,1.1273333333333326,0.34633333333333383,0.80400000000000027,-0.29933333333333323,0.9870000000000001,-0.23966666666666647,-0.2376666666666658,0.55799999999999983,0.42166666666666686,0.15499999999999936,-0.88766666666666616,-0.10866666666666625,-1.3620000000000001,"","","","","","","","","","","","","","","",10.783733333333334,107.83733333333333,4.2999733333333547E-2,7.7020639999999974,10,0.77020639999999974,0,0.77020639999999974,0.877614038173957,8.1383136159458414E-2,8.138313615945842,15,"UYGUN  ","UYGUN  ",9.2725007916085275E-2,null,230,"Sulfotep",50,43.314999999999998,38.050666666666665,48.067,42.663666666666664,42.595000000000006,3,5,8.919000000000004,3.6773333333333369,5.3620000000000019,1.0253333333333359,-6.6990000000000052,-0.78499999999999659,-0.70466666666666811,4.3819999999999979,3.0493333333333368,11.653999999999996,-8.1340000000000003,-2.9726666666666617,-9.7439999999999998,-4.0746666666666655,-4.9550000000000054,"","","","","","","","","","","","","","","",42.938266666666671,85.876533333333342,37.895778400000019,544.27832133333345,10,54.427832133333347,0,54.427832133333347,7.3775220862653708,0.17181695161422531,17.181695161422532,15,"UYGUN  ","UYGUN  ",0.41329490806807057,0.13443265918881839]
[234,"Tecnazene","GC-MS/MS",230926,236266,null,656536,652784,null,1093795,1247605,null,3367611,3285963,null,6558474,6560067,null,13114070,13027219,{"$nulls":8},234,"Tecnazene",10,9.3409999999999993,11.01,11.43,9.5440000000000005,8.9730000000000008,10.622,11.551,9.3000000000000007,11.294,9.7929999999999993,11.029,9.0950000000000006,10.382999999999999,9.3510000000000009,8.407,{"$nulls":16},234,"Tecnazene",50,46.661000000000001,43.890999999999998,45.195,43.378,37.978999999999999,42.396999999999998,38.584000000000003,47.656999999999996,45.988999999999997,50.069000000000003,51.667999999999999,51.344000000000001,47.8,52.44,47.243000000000002,{"$nulls":16},234,"Tecnazene",10,10.667999999999999,9.01,10.121,9.9440000000000008,11.358000000000001,10.07,10.914999999999999,9.9760000000000009,9.9960000000000004,10.122,10.14,8.8290000000000006,7.6459999999999999,9.2859999999999996,8.0229999999999997,{"$nulls":16},234,"Tecnazene",50,51.203000000000003,39.021000000000001,45.521999999999998,44.344999999999999,37.091000000000001,44.954999999999998,40.603999999999999,41.981000000000002,45.960999999999999,51.082000000000001,46.813000000000002,44.933,51.359000000000002,51.957000000000001,54.15,{"$nulls":16},234,"Tecnazene",10,10.0596,1.0890575283243762,100.596,10.826052013244823,"uygun","uygun",10.512,0.96034499009470553,105.12000000000002,9.1357019605660721,"uygun","uygun",9.6530000000000005,1.0465849224979307,96.53,10.842069019972346,"uygun","uygun","--------","--------","--------","--------","uygun değil","uygun değil","--------","--------","--------","--------","uygun değil","uygun değil","--------","--------","--------","--------","uygun değil","uygun değil",null,233,"Tecnazene",50,43.4208,3.2970740361720732,86.8416,7.5933055958712723,"uygun","uygun",44.939199999999992,4.5181498647123242,89.878399999999985,10.053916991651665,"uygun","uygun",50.099000000000004,2.3944834516028708,100.19800000000001,4.7795034863028611,"uygun","uygun","--------","--------","--------","--------","uygun değil","uygun değil","--------","--------","--------","--------","uygun değil","uygun değil","--------","--------","--------","--------","uygun değil","uygun değil",{"$nulls":31},233,"Tecnazene",10,4.3428100000000094E-3,1.0200999999999997E-2,2.0449000000000005E-2,2.0793599999999975E-3,1.054728999999998E-2,3.868840000000004E-3,2.4056010000000006E-2,4.8999999999999929E-3,1.6744359999999989E-2,4.2849000000000213E-4,1.0588409999999998E-2,8.190249999999984E-3,1.46689E-3,4.2120099999999943E-3,2.5376489999999998E-2,"","","","","","","","","","","","","","","",4.4595683999999938E-3,1.4927952400000017E-2,9.2352099999999937E-3,1.7540353599999999E-2,5.7801776399999984E-2,2.3122243600000026E-2,5.2130022399999983E-2,2.1958596000000116E-3,6.4352484000000107E-3,1.9044000000004385E-6,1.1128896000000038E-3,7.2253440000000083E-4,1.9360000000000035E-3,2.3814399999999955E-3,3.0404195999999962E-3,"","","","","","","","","","","","","","","",4.4622399999999958E-3,9.8009999999999955E-3,1.4641E-4,3.1359999999999307E-5,1.844164000000004E-2,4.9000000000001638E-5,8.3722499999999839E-3,5.7599999999997975E-6,1.5999999999996475E-7,1.4883999999999972E-4,1.9600000000000035E-4,1.3712409999999996E-2,5.5413160000000024E-2,5.0979600000000029E-3,3.9085289999999995E-2,"","","","","","","","","","","","","","","",5.7888359999999856E-4,4.8215376399999996E-2,8.0209936000000155E-3,1.2791609999999995E-2,6.6656912399999976E-2,1.0180809999999998E-2,3.5313926399999994E-2,2.5721744399999989E-2,6.5254084000000122E-3,4.6828960000000448E-4,4.0627875999999881E-3,1.0269795599999998E-2,7.3875239999999902E-4,1.5319395999999963E-3,6.8889999999999941E-3,"","","","","","","","","","","","","","","",60,0.7374243427999998,0.11086210224117767,null,233,"Tecnazene",10,10.292666666666667,9.5846666666666653,9.2476666666666674,9.7419999999999991,9.8343333333333334,3,5,0.37533333333333196,-0.57466666666666555,0.87333333333333307,0.20200000000000173,1.5236666666666672,-0.22266666666666701,1.3303333333333338,0.7283333333333335,0.25400000000000134,0.28766666666666652,-0.15266666666666673,-0.75566666666666471,-1.6016666666666675,-0.45599999999999952,-1.8113333333333337,"","","","","","","","","","","","","","","",9.7402666666666669,97.402666666666676,0.43564756666666699,12.741836666666668,10,1.2741836666666668,0,1.2741836666666668,1.1287974427091279,0.11588978837428761,11.58897883742876,15,"UYGUN  ","UYGUN  ",0.18802620269212036,null,233,"Tecnazene",50,47.657000000000004,41.519333333333329,46.287333333333329,47.420999999999999,47.441000000000003,3,5,3.5459999999999994,-2.4983333333333277,-0.76533333333333076,-3.0760000000000005,-10.350000000000001,-2.7020000000000053,-0.91533333333332934,-4.3063333333333276,-1.4600000000000009,3.6409999999999982,-0.84400000000000119,3.4136666666666713,5.0716666666666725,4.5360000000000014,6.7089999999999961,"","","","","","","","","","","","","","","",46.065133333333328,92.130266666666657,20.234320100000041,281.73065933333339,10,28.173065933333341,0,28.173065933333341,5.3078306240245965,0.11522447109002029,11.522447109002028,15,"UYGUN  ","UYGUN  ",0.18587350233164893,0.11555760854961496]
[237,"Terbumeton","GC-MS/MS",2096193,2053314,null,4235765,5505809,null,7939756,8806661,null,23501141,25585655,null,47545384,44977063,null,101648183,80024256,{"$nulls":8},237,"Terbumeton",10,9.56,11.282999999999999,11.968999999999999,8.5670000000000002,9.6199999999999992,10.571,11.477,8.7530000000000001,11.792,11.329000000000001,11.457000000000001,10.401999999999999,9.3109999999999999,8.5120000000000005,7.6639999999999997,{"$nulls":16},237,"Terbumeton",50,45.57,46.545999999999999,38.683999999999997,50.54,45.106999999999999,40.448999999999998,43.375,51.296999999999997,41.18,49.46,46.44,43.179000000000002,46.802,42.445999999999998,35.18,{"$nulls":16},237,"Terbumeton",10,11.24,9.6029999999999998,11.96,10.722,11.569000000000001,10.275,11.856999999999999,9.8420000000000005,10.24,11.573,11.489000000000001,11.329000000000001,9.2910000000000004,10.443,8.8539999999999992,{"$nulls":16},237,"Terbumeton",50,49.284999999999997,41.165999999999997,49.100999999999999,39.81,44.814999999999998,43.158000000000001,39.616,49.595999999999997,40.548000000000002,49.377000000000002,37.25,42.35,36.075000000000003,35.35,40.491999999999997,{"$nulls":16},237,"Terbumeton",10,10.1998,1.3887889328476113,101.99799999999999,13.615844750363843,"uygun","uygun",10.784400000000002,1.2210310397364923,107.84400000000001,11.322197245433145,"uygun","uygun",9.4692000000000007,1.501788167485679,94.692000000000007,15.859715366511203,"uygun","uygun","--------","--------","--------","--------","uygun değil","uygun değil","--------","--------","--------","--------","uygun değil","uygun değil","--------","--------","--------","--------","uygun değil","uygun değil",null,236,"Terbumeton",50,45.289400000000001,4.2688159716717706,90.578800000000001,9.4256403742857504,"uygun","uygun",45.152200000000001,4.9338780588903894,90.304400000000001,10.927215194144226,"uygun","uygun",42.809399999999997,4.6797040291026946,85.618799999999993,10.93148707784434,"uygun","uygun","--------","--------","--------","--------","uygun değil","uygun değil","--------","--------","--------","--------","uygun değil","uygun değil","--------","--------","--------","--------","uygun değil","uygun değil",{"$nulls":31},236,"Terbumeton",10,1.9359999999999937E-3,1.6460889999999964E-2,3.8769609999999941E-2,2.0534889999999997E-2,1.4440000000000026E-3,3.2604099999999918E-3,2.1815289999999984E-2,1.5550090000000008E-2,3.2112640000000012E-2,1.7662410000000003E-2,2.1228490000000048E-2,1.6160400000000011E-3,4.7472099999999948E-3,2.2141439999999981E-2,5.4568960000000014E-2,"","","","","","","","","","","","","","","",7.8499600000000013E-3,4.7720464000000039E-3,5.1220742400000033E-2,1.1663999999999829E-4,9.5765796000000115E-3,3.6488640400000029E-2,1.7556249999999989E-2,6.7288359999999228E-4,3.1116959999999999E-2,1.1664000000000069E-4,5.0694400000000058E-3,1.8610416399999996E-2,4.0908816000000021E-3,2.2825166399999999E-2,8.7852959999999994E-2,"","","","","","","","","","","","","","","",1.5376000000000027E-2,1.5760900000000055E-3,3.8416000000000068E-2,5.2128400000000059E-3,2.4617610000000012E-2,7.5625000000000442E-4,3.4484489999999993E-2,2.4963999999999764E-4,5.7600000000000099E-4,2.4743289999999998E-2,2.2171210000000011E-2,1.7662410000000003E-2,5.0268099999999944E-3,1.9624900000000003E-3,1.3133160000000008E-2,"","","","","","","","","","","","","","","",2.0449000000000259E-4,3.121582240000002E-2,3.2328039999999987E-4,4.1534439999999992E-2,1.0753690000000003E-2,1.8725185599999989E-2,4.313098239999999E-2,6.5286400000001408E-5,3.5736121599999997E-2,1.552515999999979E-4,6.5024999999999999E-2,2.3409000000000006E-2,7.7562249999999985E-2,8.5848999999999953E-2,3.6160825600000043E-2,"","","","","","","","","","","","","","","",60,1.2475994928,0.14419890734676183,null,236,"Terbumeton",10,11.001333333333335,10.929666666666668,10.364333333333333,10.468333333333334,10.665333333333335,3,5,0.23866666666666525,-1.326666666666668,1.5956666666666681,0.25366666666666582,0.90366666666666617,-0.72633333333333461,0.92733333333333157,-0.52233333333333221,-0.2283333333333335,0.90766666666666573,0.4876666666666658,0.39933333333333287,-1.0733333333333324,-2.5333333333334096E-2,-1.8113333333333355,"","","","","","","","","","","","","","","",10.685800000000002,106.85800000000003,0.23256276666666797,12.611353333333341,10,1.2611353333333342,0,1.2611353333333342,1.1230028198243023,0.10509300378299258,10.509300378299258,15,"UYGUN  ","UYGUN  ",0.15462355221784929,null,236,"Terbumeton",50,43.230999999999995,41.044000000000004,44.923999999999999,38.569333333333333,44.894666666666666,3,5,6.054000000000002,0.12199999999999278,4.1769999999999996,1.2406666666666695,-7.9666666666668107E-2,-7.2999999999993292E-2,-1.4280000000000044,4.671999999999997,1.978666666666669,4.4823333333333366,-5.9809999999999945,1.3059999999999974,-8.8489999999999966,-3.2193333333333314,-4.4026666666666685,"","","","","","","","","","","","","","","",42.532600000000002,85.065200000000004,22.28199606666665,249.06763933333326,10,24.906763933333327,0,24.906763933333327,4.9906676841213669,0.11733747017867158,{"$f":"SM247*100","v":11.733747017867158},15,"UYGUN  ","UYGUN  ",0.192753146711029,0.11138361942418359]
[240,"Tetrachlorvinphos","GC-MS/MS",516357,505799,null,1208991,1265900,null,1964023,2229730,null,5216040,4758066,null,10551465,10591083,null,17352631,18741608,{"$nulls":8},240,"Tetrachlorvinphos",10,10.577999999999999,11.734,11.935,8.8019999999999996,10.901999999999999,11.747,11.983000000000001,8.8420000000000005,11.343,11.737,11.852,7.1870000000000003,7.8470000000000004,7.593,7.359,{"$nulls":16},240,"Tetrachlorvinphos",50,42.436999999999998,42.828000000000003,35.03,46.731999999999999,42.963000000000001,35.28,40.613,42.139000000000003,38.219000000000001,39.354999999999997,46.249000000000002,43.348999999999997,50.948999999999998,42.515999999999998,35.54,{"$nulls":16},240,"Tetrachlorvinphos",10,11.234,7.2510000000000003,11.605,11.58,11.919,8.9239999999999995,10.564,8.7579999999999991,9.7059999999999995,11.321999999999999,10.932,10.029,8.8569999999999993,9.8840000000000003,8.43,{"$nulls":16},240,"Tetrachlorvinphos",50,35.15,39.75,36.231999999999999,37.79,36.295999999999999,44.975000000000001,35.04,35.44,41.9,43.56,48.244,46.697000000000003,53.408000000000001,52.976999999999997,57.26,{"$nulls":16},240,"Tetrachlorvinphos",10,10.7902,1.2461734229231511,107.90200000000002,11.54912256420781,"uygun","uygun",11.130400000000002,1.2997172000092685,111.30400000000003,11.677183210030801,"uygun","uygun",8.3675999999999995,1.9636167650537093,83.675999999999988,23.46690526618994,"uygun","uygun değil","--------","--------","--------","--------","uygun değil","uygun değil","--------","--------","--------","--------","uygun değil","uygun değil","--------","--------","--------","--------","uygun değil","uygun değil",null,239,"Tetrachlorvinphos",50,41.997999999999998,4.2654608777950358,83.995999999999995,10.156342868220001,"uygun","uygun",39.121200000000002,2.5959597839720092,78.242400000000004,6.6356854696993164,"uygun","uygun",43.720599999999997,5.6381277300182386,87.441199999999995,12.895815084921614,"uygun","uygun","--------","--------","--------","--------","uygun değil","uygun değil","--------","--------","--------","--------","uygun değil","uygun değil","--------","--------","--------","--------","uygun değil","uygun değil",{"$nulls":31},239,"Tetrachlorvinphos",10,3.340839999999983E-3,3.006756E-2,3.7442250000000003E-2,1.4352040000000003E-2,8.1360399999999711E-3,3.0520090000000027E-2,3.9322890000000055E-2,1.3409639999999978E-2,1.8036490000000023E-2,3.0171689999999987E-2,3.429904000000001E-2,7.9129690000000003E-2,4.6354089999999973E-2,5.7936490000000014E-2,6.9748809999999994E-2,"","","","","","","","","","","","","","","",2.2879587600000018E-2,2.0575033599999973E-2,8.9640360000000002E-2,4.2719295999999966E-3,1.9807747599999995E-2,8.6671360000000003E-2,3.5246307600000006E-2,2.4718128399999973E-2,5.551678439999997E-2,4.5326410000000039E-2,5.628000399999996E-3,1.7694320400000008E-2,3.6024039999999987E-4,2.2404102400000011E-2,8.3636640000000012E-2,"","","","","","","","","","","","","","","",1.5227559999999989E-2,7.5570009999999951E-2,2.576025000000003E-2,2.4963999999999976E-2,3.6825609999999988E-2,1.1577760000000006E-2,3.1809600000000005E-3,1.5425640000000022E-2,8.6436000000000542E-4,1.7476839999999966E-2,8.6862399999999909E-3,8.409999999999435E-6,1.3064490000000015E-2,1.3455999999999868E-4,2.4649000000000008E-2,"","","","","","","","","","","","","","","",8.8209000000000024E-2,4.2024999999999986E-2,7.5823129600000025E-2,5.9633639999999988E-2,7.5119846399999995E-2,1.0100249999999984E-2,8.9520640000000012E-2,8.4797440000000002E-2,2.624400000000001E-2,1.658943999999998E-2,1.2334144000000029E-3,4.3639235999999859E-3,4.6457855999999997E-3,3.5450115999999914E-3,2.1083039999999997E-2,"","","","","","","","","","","","","","","",60,1.9229938535999995,0.17902485179438074,null,239,"Tetrachlorvinphos",10,10.363333333333335,9.2813333333333343,9.74,10.39,10.557,3,5,0.87066666666666492,-2.030333333333334,1.8650000000000002,1.1899999999999995,1.3620000000000001,-1.4393333333333356,1.2826666666666657,-0.98200000000000109,-0.68400000000000105,0.76499999999999879,0.56866666666666532,0.74766666666666559,-0.8830000000000009,-0.50600000000000023,-2.1270000000000007,"","","","","","","","","","","","","","","",10.066333333333334,100.66333333333336,0.86733100000000007,23.806243333333338,10,2.3806243333333339,0,2.3806243333333339,1.5429271963813891,0.15327598891169134,15.327598891169133,15,"UYGUN  ","UYGUN  ",0.32890940287599696,null,239,"Tetrachlorvinphos",50,42.789666666666669,40.495666666666665,41.693333333333335,44.222333333333331,45.705333333333328,3,5,-7.6396666666666704,-0.74566666666666492,-5.4613333333333358,-6.4323333333333323,-9.4093333333333291,2.1853333333333325,-5.4556666666666658,-6.2533333333333374,-2.3223333333333329,-2.1453333333333262,5.4543333333333308,6.2013333333333378,11.714666666666666,8.7546666666666653,11.55466666666667,"","","","","","","","","","","","","","","",42.981266666666663,85.962533333333326,12.625856899999977,717.89121133333333,10,71.789121133333339,0,71.789121133333339,8.4728461058450328,0.19712881361907358,19.712881361907357,15,"UYGUN  ","UYGUN  ",0.54403676822408831,0.17656910536064963]
[242,"Tetradifon","GC-MS/MS",491399,481948,null,1120472,1369080,null,2362794,2409249,null,6350950,6882630,null,13252031,13327314,null,25947737,25981301,{"$nulls":8},242,"Tetradifon",10,10.035,7.633,10.965999999999999,9.2789999999999999,9.16,9.5540000000000003,8.41,10.536,11.14,11.867000000000001,11.912000000000001,10.499000000000001,8.8889999999999993,10.723000000000001,8.3480000000000008,{"$nulls":16},242,"Tetradifon",50,36.302999999999997,40.927,38.408000000000001,59.594999999999999,43.701000000000001,43.94,47.619,52.939,49.567,37.953000000000003,35.686999999999998,38.645000000000003,44.777999999999999,41.304000000000002,47.661000000000001,{"$nulls":16},242,"Tetradifon",10,11.766999999999999,10.670999999999999,11.375999999999999,11.007999999999999,10.814,10.228999999999999,9.4580000000000002,11.509,11.273,11.281000000000001,11.477,9.5470000000000006,7.7939999999999996,9.5329999999999995,8.9209999999999994,{"$nulls":16},242,"Tetradifon",50,54.61,52.414000000000001,51.2,52.826000000000001,58.537999999999997,50.845999999999997,46.216999999999999,52.749000000000002,51.018000000000001,46.725999999999999,52.878,50.725000000000001,57.828000000000003,52.08,43.255000000000003,{"$nulls":16},242,"Tetradifon",10,9.4145999999999983,1.2297403384454924,94.145999999999987,13.062056151567699,"uygun","uygun",10.301400000000001,1.3551191091560808,103.01400000000001,13.154708186810343,"uygun","uygun",10.074200000000001,1.4459746539964005,100.74200000000002,14.353245458660741,"uygun","uygun","--------","--------","--------","--------","uygun değil","uygun değil","--------","--------","--------","--------","uygun değil","uygun değil","--------","--------","--------","--------","uygun değil","uygun değil",null,241,"Tetradifon",50,43.786799999999999,9.2604502698302866,87.573599999999999,21.148954182151439,"uygun","uygun değil",46.403599999999997,5.7375455379456364,92.807199999999995,12.364440556218993,"uygun","uygun",41.614999999999995,4.7596609648167307,83.22999999999999,11.437368652689491,"uygun","uygun","--------","--------","--------","--------","uygun değil","uygun değil","--------","--------","--------","--------","uygun değil","uygun değil","--------","--------","--------","--------","uygun değil","uygun değil",{"$nulls":31},241,"Tetradifon",10,1.225000000000041E-5,5.602689000000001E-2,9.3315600000000044E-3,5.1984100000000075E-3,7.0559999999999937E-3,1.9891599999999976E-3,2.5281000000000008E-2,2.872959999999986E-3,1.2996000000000023E-2,3.4856890000000036E-2,3.6557440000000017E-2,2.4900100000000056E-3,1.2343210000000019E-2,5.2272900000000042E-3,2.7291039999999968E-2,"","","","","","","","","","","","","","","",7.5043123600000039E-2,3.2927731599999982E-2,5.3749785599999968E-2,3.6825609999999988E-2,1.5870960399999995E-2,1.4689440000000021E-2,2.2676643999999997E-3,3.4550884000000065E-3,7.4995600000000024E-5,5.8052083599999971E-2,8.1944787600000041E-2,5.1574409999999987E-2,1.0907713599999995E-2,3.0248166399999988E-2,2.1883683999999936E-3,"","","","","","","","","","","","","","","",3.1222889999999951E-2,4.5024099999999914E-3,1.8933759999999984E-2,1.016064E-2,6.6259599999999863E-3,5.2440999999999632E-4,2.9376400000000026E-3,2.2770810000000009E-2,1.6205289999999994E-2,1.6409610000000026E-2,2.1815289999999984E-2,2.0520899999999904E-3,4.8664360000000011E-2,2.1808900000000069E-3,1.1642410000000023E-2,"","","","","","","","","","","","","","","",8.5008400000000112E-3,2.3309584000000098E-3,5.7600000000000099E-4,3.1945103999999891E-3,2.9158977600000007E-2,2.8628639999999403E-4,5.7244356000000088E-3,3.0228004000000031E-3,4.1452959999999729E-4,4.2876303999999981E-3,3.3131536000000064E-3,2.1024999999999877E-4,2.451103360000001E-2,1.7305599999999882E-3,1.8198009999999976E-2,"","","","","","","","","","","","","","","",60,1.0314584751999998,0.13111435690520953,null,241,"Tetradifon",10,11.157666666666666,9.8919999999999995,10.226333333333333,10.604666666666667,10.338666666666667,3,5,0.60933333333333373,0.77899999999999991,1.1496666666666666,0.40333333333333243,0.47533333333333339,-0.92866666666666653,-0.43399999999999928,1.2826666666666675,0.668333333333333,0.94233333333333391,0.31933333333333458,-0.34499999999999886,-2.4323333333333332,-1.0716666666666672,-1.4176666666666673,"","","","","","","","","","","","","","","",10.443866666666668,104.43866666666668,0.67373376666666629,16.014646666666671,10,1.6014646666666672,0,1.6014646666666672,1.2654898919654267,0.12117062888254285,12.117062888254285,15,"UYGUN  ","UYGUN  ",0.20555249825307298,null,241,"Tetradifon",50,52.777999999999999,49.785333333333334,53.925666666666672,51.974666666666657,49.506333333333338,3,5,1.8320000000000007,2.6286666666666676,-2.7256666666666689,0.85133333333334349,9.0316666666666592,-1.9320000000000022,-3.5683333333333351,-1.1766666666666694,-0.95666666666665634,-2.7803333333333384,0.10000000000000142,0.93966666666666754,3.9023333333333312,0.10533333333334127,-6.251333333333335,"","","","","","","","","","","","","","","",51.593999999999994,103.18799999999999,10.959794833333328,181.6982206666666,10,18.169822066666661,0,18.169822066666661,4.2626074258212734,8.2618277819538594E-2,8.2618277819538601,15,"UYGUN  ","UYGUN  ",9.5560917618130473E-2,0.10370173849472676]
[243,"Tetramethrin","GC-MS/MS",4054163,4101737,null,8907901,7813849,null,15419461,16170888,null,35362035,39749528,null,67190575,69410014,null,133919761,137032944,{"$nulls":8},243,"Tetramethrin",10,8.84,11.49,11.709,10.476000000000001,7.548,11.193,11.837999999999999,8.0009999999999994,11.616,10.263,11.538,11.865,8.3350000000000009,7.7149999999999999,8.1150000000000002,{"$nulls":16},243,"Tetramethrin",50,38.029000000000003,35.682000000000002,44.276000000000003,41.17,38.381999999999998,39.21,36.359000000000002,39.808,35.531999999999996,38.893999999999998,38.567999999999998,36.08,40.387,38.148000000000003,37.082000000000001,{"$nulls":16},243,"Tetramethrin",10,10.753,8.9779999999999998,9.1430000000000007,11.09,11.175000000000001,8.4429999999999996,7.6440000000000001,7.9390000000000001,7.157,11.55,11.227,11.368,10.097,10.951000000000001,9.7469999999999999,{"$nulls":16},243,"Tetramethrin",50,36.399000000000001,35.625,36.976999999999997,37.143999999999998,38.74,41.124000000000002,39.334000000000003,35.106999999999999,42.722999999999999,35.832000000000001,53.576000000000001,52.613999999999997,52.725000000000001,58.838000000000001,36.264000000000003,{"$nulls":16},243,"Tetramethrin",10,10.012600000000001,1.7835685576955018,100.126,17.813240893429295,"uygun","uygun",10.582199999999998,1.5639161422531698,105.82199999999999,14.778743004792672,"uygun","uygun",9.5136000000000003,2.0129219557647962,95.135999999999996,21.158362299915868,"uygun","uygun değil","--------","--------","--------","--------","uygun değil","uygun değil","--------","--------","--------","--------","uygun değil","uygun değil","--------","--------","--------","--------","uygun değil","uygun değil",null,242,"Tetramethrin",50,39.50780000000001,3.3011233239611033,79.01560000000002,8.3556242665020637,"uygun","uygun",37.960599999999999,1.8913185347793751,75.921199999999999,4.9823199179659303,"uygun","uygun",38.052999999999997,1.6246057983400162,76.105999999999995,4.269323833442872,"uygun","uygun","--------","--------","--------","--------","uygun değil","uygun değil","--------","--------","--------","--------","uygun değil","uygun değil","--------","--------","--------","--------","uygun değil","uygun değil",{"$nulls":31},242,"Tetramethrin",10,1.3455999999999997E-2,2.2201000000000005E-2,2.9206810000000017E-2,2.2657600000000081E-3,6.0123039999999989E-2,1.423248999999999E-2,3.378243999999999E-2,3.9960010000000032E-2,2.6114559999999988E-2,6.9168999999999947E-4,2.3654439999999981E-2,3.4782250000000042E-2,2.7722249999999955E-2,5.2212250000000016E-2,3.5532250000000001E-2,"","","","","","","","","","","","","","","",5.7321936399999981E-2,8.2002049599999974E-2,1.3105670399999981E-2,3.1187559999999993E-2,5.3991169600000007E-2,4.6569639999999995E-2,7.443075239999998E-2,4.1550745600000008E-2,8.3729209600000035E-2,4.9337294399999995E-2,5.2276249600000033E-2,7.7506559999999988E-2,3.6963907599999991E-2,5.6187961599999961E-2,6.6749889600000015E-2,"","","","","","","","","","","","","","","",5.6700899999999888E-3,1.0444840000000014E-2,7.3444899999999804E-3,1.1880999999999997E-2,1.3806250000000037E-2,2.4242490000000019E-2,5.5507360000000013E-2,4.2477209999999981E-2,8.0826490000000001E-2,2.4025000000000008E-2,1.5055290000000008E-2,1.871424000000001E-2,9.4090000000000815E-5,9.044009999999993E-3,6.4008999999999941E-4,"","","","","","","","","","","","","","","",7.3994880399999963E-2,8.2656249999999987E-2,6.783941160000001E-2,6.6110694400000003E-2,5.0715039999999982E-2,3.1513350399999966E-2,4.5505422399999981E-2,8.8720579600000002E-2,2.1181891600000002E-2,8.0292889599999973E-2,5.1151104000000036E-3,2.7331983999999876E-3,2.9702499999999994E-3,3.124409760000001E-2,7.5471078399999975E-2,"","","","","","","","","","","","","","","",60,2.2846849212000002,0.19513606027590083,null,242,"Tetramethrin",10,10.141,9.33,9.0596666666666668,9.7326666666666668,10.824,3,5,0.6120000000000001,-0.35200000000000031,8.3333333333333925E-2,1.3573333333333331,0.35100000000000087,-1.6980000000000004,-1.6859999999999999,-1.1206666666666667,-2.5756666666666668,0.72600000000000087,1.0860000000000003,2.0380000000000003,1.0373333333333328,1.2183333333333337,-1.077,"","","","","","","","","","","","","","","",9.8174666666666663,98.174666666666667,1.4526440999999997,25.666941333333341,10,2.5666941333333342,0,2.5666941333333342,1.6020905509156884,0.16318777596213094,12.4,15,"UYGUN  ","UYGUN  ",0.37282350312853296,null,242,"Tetramethrin",50,43.699666666666666,42.524333333333338,41.603000000000002,46.234999999999992,36.945333333333338,3,5,-7.3006666666666646,-6.8993333333333382,-4.6260000000000048,-9.090999999999994,1.7946666666666644,-2.5756666666666632,-3.190333333333335,-6.4960000000000022,-3.5119999999999933,-1.1133333333333368,9.876333333333335,10.089666666666659,11.122,12.603000000000009,-0.68133333333333468,"","","","","","","","","","","","","","","",42.201466666666661,84.402933333333323,34.95250293333325,763.09351800000013,10,76.309351800000016,0,76.309351800000016,8.7355224113958982,0.20699570658040081,10.42,15,"UYGUN  ","UYGUN  ",0.59986111559807143,0.18638330500099254]
[244,"Tetrasul","GC-MS/MS",1368281,1246842,null,2734824,3801413,null,5417658,6000155,null,16192795,18373900,null,34124974,32026250,null,72549343,66991120,{"$nulls":8},244,"Tetrasul",10,8.4329999999999998,10.295,11.784000000000001,7.1029999999999998,8.7330000000000005,8.8190000000000008,10.239000000000001,7.3040000000000003,10.704000000000001,11.907,11.177,11.308,9.3670000000000009,8.1349999999999998,7.38,{"$nulls":16},244,"Tetrasul",50,42.207000000000001,44.344999999999999,35.299999999999997,49.156999999999996,45.384,41.284999999999997,44.896000000000001,51.116,44.317999999999998,50,43.423999999999999,39.835000000000001,41.738999999999997,38.619999999999997,35.469000000000001,{"$nulls":16},244,"Tetrasul",10,9.6359999999999992,7.4320000000000004,11.975,10.43,10.555,7.8310000000000004,9.5749999999999993,7.335,8.5470000000000006,10.368,11.680999999999999,11.305,8.5229999999999997,10.847,9.07,{"$nulls":16},244,"Tetrasul",50,45.152000000000001,37.670999999999999,46.462000000000003,45.078000000000003,49.924999999999997,48.6,42.838999999999999,43.712000000000003,40.252000000000002,43.548999999999999,36.664999999999999,42.128,47.814,40.076999999999998,40.14,{"$nulls":16},244,"Tetrasul",10,9.2696000000000005,1.8066299565766097,92.695999999999998,19.489837280752241,"uygun","uygun",9.7945999999999991,1.7777525980855826,97.945999999999984,18.150333837886006,"uygun","uygun",9.4734000000000016,1.7644382392138247,94.734000000000023,18.625184613906566,"uygun","uygun","--------","--------","--------","--------","uygun değil","uygun değil","--------","--------","--------","--------","uygun değil","uygun değil","--------","--------","--------","--------","uygun değil","uygun değil",null,243,"Tetrasul",50,43.278599999999997,5.1218133800442454,86.557199999999995,11.834517244190538,"uygun","uygun",46.323,4.1210124969478086,92.646000000000001,8.8962556331580611,"uygun","uygun",39.817399999999999,3.043138560762555,79.634799999999998,7.6427354894155695,"uygun","uygun","--------","--------","--------","--------","uygun değil","uygun değil","--------","--------","--------","--------","uygun değil","uygun değil","--------","--------","--------","--------","uygun değil","uygun değil",{"$nulls":31},243,"Tetrasul",10,2.455489000000002E-2,8.7025000000000481E-4,3.1826560000000038E-2,8.3926090000000036E-2,1.6052889999999979E-2,1.394760999999997E-2,5.7121000000000157E-4,7.268415999999997E-2,4.9561600000000029E-3,3.6366490000000036E-2,1.385328999999998E-2,1.7108640000000008E-2,4.0068899999999887E-3,3.4782250000000001E-2,6.8644000000000011E-2,"","","","","","","","","","","","","","","",2.4292339600000001E-2,1.2791609999999995E-2,8.6436000000000027E-2,2.8425960000000327E-4,8.5229823999999916E-3,3.0380490000000041E-2,1.042032639999999E-2,4.9818239999999537E-4,1.2914049600000017E-2,0,1.7297510399999994E-2,4.1330890000000016E-2,2.729764840000001E-2,5.1801760000000009E-2,8.4459984399999993E-2,"","","","","","","","","","","","","","","",1.3249600000000072E-3,6.5946239999999962E-2,3.9006250000000006E-2,1.8489999999999937E-3,3.0802499999999871E-3,4.7045609999999995E-2,1.8062500000000079E-3,7.1022249999999981E-2,2.1112089999999997E-2,1.3542399999999959E-3,2.8257609999999971E-2,1.7030250000000014E-2,2.1815290000000015E-2,7.1740899999999993E-3,8.6489999999999952E-3,"","","","","","","","","","","","","","","",9.4012415999999866E-3,6.0801696400000008E-2,5.0069775999999908E-3,9.6904335999999942E-3,2.2500000000001707E-6,7.8400000000000138E-4,2.0511968400000004E-2,1.5815577599999995E-2,3.8009401599999965E-2,1.6646160400000005E-2,7.1128890000000028E-2,2.4787353600000006E-2,1.9114383999999983E-3,3.9386371600000032E-2,3.8887840000000014E-2,"","","","","","","","","","","","","","","",60,1.522124394,0.15927567265593323,null,243,"Tetrasul",10,9.7159999999999993,9.4373333333333331,9.2776666666666667,9.9413333333333327,9.9976666666666674,3,5,-8.0000000000000071E-2,-2.0053333333333327,2.6973333333333329,0.48866666666666703,0.55733333333333235,-1.8849999999999989,0.13766666666666616,-1.9426666666666668,-1.3943333333333321,0.37033333333333296,1.9649999999999999,1.8676666666666666,-0.75466666666666704,0.90566666666666684,-0.92766666666666708,"","","","","","","","","","","","","","","",9.6739999999999995,96.74,0.29331183333333338,30.879950666666652,10,3.0879950666666653,0,3.0879950666666653,1.7572692072265608,0.18164866727584875,{"$f":"QI254*100","v":18.164866727584876},15,"UYGUN  ","UYGUN  ",0.46194733652328801,null,243,"Tetrasul",50,43.472333333333331,40.879333333333328,45.996000000000002,41.802333333333337,44.53799999999999,3,5,1.6796666666666695,-3.2083333333333286,0.46600000000000108,3.2756666666666661,5.3870000000000076,5.1276666666666699,1.9596666666666707,-2.2839999999999989,-1.5503333333333345,-0.98899999999999011,-6.8073333333333323,1.2486666666666721,1.8179999999999978,-1.7253333333333387,-4.397999999999989,"","","","","","","","","","","","","","","",43.337599999999995,86.67519999999999,12.694741900000004,165.33642799999998,10,16.533642799999999,0,16.533642799999999,4.0661582359765589,9.3825182658397316E-2,{"$f":"SM254*100","v":9.3825182658397317},15,"UYGUN  ","UYGUN  ",0.12324430861234267,0.1445672909478033]
[245,"Thiazopyr","GC-MS/MS",294224,266514,null,510271,702305,null,1018214,1153168,null,3154734,3465106,null,6113413,5683809,null,13320762,10349269,{"$nulls":8},245,"Thiazopyr",10,8.1489999999999991,11.252000000000001,11.631,9,9.8580000000000005,10.99,11.907,8.9309999999999992,11.355,11.617000000000001,9.7119999999999997,8.5619999999999994,8.1739999999999995,9.3450000000000006,9.4019999999999992,{"$nulls":16},245,"Thiazopyr",50,49.326999999999998,48.518000000000001,38.996000000000002,51.256,45.052,42.356000000000002,46.110999999999997,51.527000000000001,45.246000000000002,50.11,49.720999999999997,45.451000000000001,50.930999999999997,45.366,37.18,{"$nulls":16},245,"Thiazopyr",10,10.231,9.2070000000000007,10.51,9.6289999999999996,11.234,9.4179999999999993,10.795999999999999,9.6690000000000005,10.144,11.654999999999999,11.355,11.819000000000001,9.7439999999999998,10.032999999999999,11.833,{"$nulls":16},245,"Thiazopyr",50,48.274999999999999,43.811999999999998,53.685000000000002,42.558,45.106000000000002,41.523000000000003,43.417000000000002,54.25,45.948,51.302,57.258000000000003,50.162999999999997,56.875,51.289000000000001,47.165999999999997,{"$nulls":16},245,"Thiazopyr",10,9.9779999999999998,1.4723798762547649,99.78,14.756262540135948,"uygun","uygun",10.959999999999999,1.1834508861799045,109.59999999999998,10.797909545437086,"uygun","uygun",9.0389999999999997,0.6430567626578545,90.389999999999986,7.1142467381110128,"uygun","uygun","--------","--------","--------","--------","uygun değil","uygun değil","--------","--------","--------","--------","uygun değil","uygun değil","--------","--------","--------","--------","uygun değil","uygun değil",null,244,"Thiazopyr",50,46.629800000000003,4.8219878888275929,93.259600000000006,10.341000580803676,"uygun","uygun",47.070000000000007,3.7274288054904545,94.140000000000015,7.9189054716177054,"uygun","uygun",45.729799999999997,5.3919226348306966,91.459599999999995,11.790829251015086,"uygun","uygun","--------","--------","--------","--------","uygun değil","uygun değil","--------","--------","--------","--------","uygun değil","uygun değil","--------","--------","--------","--------","uygun değil","uygun değil",{"$nulls":31},244,"Thiazopyr",10,3.4262010000000016E-2,1.5675039999999994E-2,2.6601610000000008E-2,9.999999999999995E-3,2.0163999999999973E-4,9.8009999999999955E-3,3.6366490000000036E-2,1.1427610000000022E-2,1.8360249999999988E-2,2.6146890000000058E-2,8.2944000000000279E-4,2.067844000000001E-2,3.3342760000000034E-2,4.2902499999999859E-3,3.5760400000000091E-3,"","","","","","","","","","","","","","","",1.8117160000000074E-4,8.7852959999999995E-4,4.8435206399999972E-2,6.310144000000016E-4,9.7930816000000101E-3,2.3372294400000004E-2,6.0497284000000113E-3,9.3269160000000067E-4,9.0402063999999883E-3,4.8399999999999113E-6,3.1136400000000328E-5,8.2773603999999907E-3,3.4670439999999475E-4,8.5895823999999968E-3,6.5740959999999973E-2,"","","","","","","","","","","","","","","",5.3360999999999535E-4,6.2884899999999886E-3,2.6009999999999935E-3,1.3764100000000015E-3,1.5227559999999989E-2,3.3872400000000036E-3,6.3361599999999831E-3,1.0956099999999938E-3,2.073599999999991E-4,2.7390249999999994E-2,1.8360249999999988E-2,3.3087610000000066E-2,6.5536000000000348E-4,1.0889999999999067E-5,3.3598890000000006E-2,"","","","","","","","","","","","","","","",1.1902499999999984E-3,1.5316537600000023E-2,5.4316900000000142E-3,2.2153345599999992E-2,9.5804943999999934E-3,2.8743811599999971E-2,1.73343556E-2,7.2249999999999936E-3,6.5674816000000002E-3,6.7808160000000332E-4,2.1071425599999988E-2,1.0627600000000266E-5,1.8906249999999989E-2,6.6460840000000698E-4,3.2126224000000071E-3,"","","","","","","","","","","","","","","",60,0.74210725000000022,0.11121355208186937,null,244,"Thiazopyr",10,10.334666666666667,10.607333333333335,9.9743333333333339,9.9353333333333325,11.574,3,5,-0.10366666666666724,-1.4003333333333341,0.53566666666666585,-0.3063333333333329,-0.33999999999999986,-0.91666666666666785,0.18866666666666454,-0.30533333333333346,0.20866666666666767,8.0999999999999517E-2,1.0203333333333333,1.211666666666666,-0.23033333333333417,9.7666666666667012E-2,0.25900000000000034,"","","","","","","","","","","","","","","",10.485133333333334,104.85133333333334,1.3398002666666669,6.1261526666666679,10,0.61261526666666677,0.24239500000000003,0.8550102666666668,0.92466765200620427,8.8188449551384274E-2,{"$f":"QI255*100","v":8.8188449551384274},15,"UYGUN  ","UYGUN  ",0.10888083687987868,null,244,"Thiazopyr",50,49.018666666666668,45.797333333333334,54.936666666666667,46.598333333333336,47.858000000000004,3,5,-0.74366666666666958,-1.9853333333333367,-1.2516666666666652,-4.0403333333333364,-2.7520000000000024,-7.4956666666666649,-2.3803333333333327,-0.68666666666666742,-0.65033333333333587,3.4439999999999955,8.2393333333333345,4.3656666666666624,1.9383333333333326,4.6906666666666652,-0.69200000000000728,"","","","","","","","","","","","","","","",48.841799999999999,97.683599999999998,39.336347933333322,217.74965466666663,10,21.774965466666664,5.8537941555555522,27.628759622222216,5.2563066522247555,0.1076190200243389,{"$f":"SM255*100","v":10.761902002433891},15,"UYGUN  ","UYGUN  ",0.16214594859398679,9.8384592557158326E-2]
[246,"Thiobencarb","GC-MS/MS",570141,539312,null,1607663,1927770,null,2732869,3179504,null,8184356,8794183,null,16760779,15183230,null,35212039,28916136,{"$nulls":8},246,"Thiobencarb",10,9.4649999999999999,11.128,11.96,8.73,9.7810000000000006,10.653,11.555999999999999,8.6050000000000004,11.955,11.821999999999999,11.693,10.246,9.8559999999999999,8.0939999999999994,7.8019999999999996,{"$nulls":16},246,"Thiobencarb",50,44.488,43.890999999999998,38.048999999999999,49.377000000000002,43.158000000000001,40.207999999999998,42.878,50.238999999999997,41.579000000000001,51.021999999999998,45.369,41.953000000000003,44.058999999999997,41.194000000000003,39.517000000000003,{"$nulls":16},246,"Thiobencarb",10,11.028,9.5530000000000008,11.689,11.888,11.734999999999999,10.132,11.41,10.198,9.4459999999999997,11.44,10.978999999999999,9.2219999999999995,11.08,8.9600000000000009,8.2149999999999999,{"$nulls":16},246,"Thiobencarb",50,47.127000000000002,40.061999999999998,47.32,41.405000000000001,47.128,43.857999999999997,40.298999999999999,47.436999999999998,41.287999999999997,49.113999999999997,50.194000000000003,46.954999999999998,54.427,56.863999999999997,40.378,{"$nulls":16},246,"Thiobencarb",10,10.2128,1.3071582536173725,102.128,12.799215235952651,"uygun","uygun",10.918199999999999,1.3892284549346166,109.18199999999997,12.723969655571585,"uygun","uygun",9.5381999999999998,1.6082012311896783,95.382000000000005,16.860636505731463,"uygun","uygun","--------","--------","--------","--------","uygun değil","uygun değil","--------","--------","--------","--------","uygun değil","uygun değil","--------","--------","--------","--------","uygun değil","uygun değil",null,245,"Thiobencarb",50,43.792600000000007,4.0333126955394878,87.585200000000015,9.2100325067237083,"uygun","uygun",45.185199999999995,5.0672847462916453,90.370399999999989,11.214478958357263,"uygun","uygun",42.418399999999998,2.3201014632985322,84.836799999999997,5.4695638291367237,"uygun","uygun","--------","--------","--------","--------","uygun değil","uygun değil","--------","--------","--------","--------","uygun değil","uygun değil","--------","--------","--------","--------","uygun değil","uygun değil",{"$nulls":31},245,"Thiobencarb",10,2.8622499999999993E-3,1.2723840000000002E-2,3.8416000000000068E-2,1.6129000000000001E-2,4.7960999999999647E-4,4.2640900000000181E-3,2.4211359999999987E-2,1.9460249999999988E-2,3.8220250000000004E-2,3.3196839999999971E-2,2.8662490000000002E-2,6.0515999999999782E-4,2.073599999999991E-4,3.6328360000000039E-2,4.8312040000000001E-2,"","","","","","","","","","","","","","","",1.2152857600000001E-2,1.4927952400000017E-2,5.7130560400000002E-2,1.552515999999979E-4,1.8725185599999989E-2,3.8353305600000005E-2,2.0289153600000002E-2,2.2848400000000061E-5,2.8365296400000004E-2,4.1779360000000055E-4,8.5784644000000063E-3,2.5901683599999992E-2,1.4118192400000009E-2,3.101825439999998E-2,4.3957315599999984E-2,"","","","","","","","","","","","","","","",1.056784E-2,1.9980899999999966E-3,2.8527210000000018E-2,3.5645440000000028E-2,3.0102249999999997E-2,1.7423999999999679E-4,1.9881000000000003E-2,3.9204000000000159E-4,3.0691600000000005E-3,2.0735999999999973E-2,9.5844099999999755E-3,6.0528400000000142E-3,1.1664000000000022E-2,1.0815999999999973E-2,3.1862249999999995E-2,"","","","","","","","","","","","","","","",3.3016515999999951E-3,3.9505537600000022E-2,2.8729599999999978E-3,2.954960999999998E-2,3.2993536000000055E-3,1.5089665600000015E-2,3.764376039999999E-2,2.6275876000000087E-3,3.0359577600000021E-2,3.1399840000000242E-4,1.5054400000000819E-5,3.7088100000000081E-3,7.8393316000000112E-3,1.8845798399999957E-2,3.7033153599999979E-2,"","","","","","","","","","","","","","","",60,1.0712716359999999,0.13362083395439001,null,245,"Thiobencarb",10,10.712999999999999,10.061666666666667,10.988999999999999,10.098000000000001,10.463333333333333,3,5,0.31500000000000128,-0.5086666666666666,0.70000000000000107,1.7899999999999991,1.2716666666666665,-0.58099999999999952,1.3483333333333327,-0.79099999999999859,-0.65200000000000102,0.97666666666666657,0.26600000000000001,-0.83966666666666789,9.100000000000108E-2,-1.1379999999999999,-2.2483333333333331,"","","","","","","","","","","","","","","",10.465,104.65,0.47508716666666478,16.96355333333333,10,1.696355333333333,0,1.696355333333333,1.3024420652502486,0.1244569579790013,{"$f":"QI256*100","v":12.445695797900131},15,"UYGUN  ","UYGUN  ",0.21685348145141656,null,245,"Thiobencarb",50,47.059666666666665,42.438666666666663,49.728000000000002,46.518999999999998,45.54,3,5,6.7333333333337464E-2,-2.3766666666666652,-2.4080000000000013,-5.1139999999999972,1.588000000000001,-3.201666666666668,-2.1396666666666633,-2.2910000000000039,-5.2310000000000016,3.5739999999999981,3.1343333333333376,4.5163333333333355,4.6989999999999981,10.344999999999999,-5.161999999999999,"","","","","","","","","","","","","","","",46.257066666666667,92.514133333333334,20.890887900000028,286.30782533333326,10,28.630782533333324,0,28.630782533333324,5.3507740125455987,0.11567473681597332,{"$f":"SM256*100","v":11.567473681597331},15,"UYGUN  ","UYGUN  ",0.18732902632422571,0.12014611755448361]
[247,"Thiometon","GC-MS/MS",40847,43754,null,120041,136368,null,199852,232333,null,625793,627195,null,1267208,1156564,null,2480897,1998704,{"$nulls":8},247,"Thiometon",10,9.9939999999999998,11.917999999999999,11.548,11.327999999999999,10.539,10.868,11.677,9.3829999999999991,11.675000000000001,10.291,11.066000000000001,8.82,10.808,8.0079999999999991,8.0640000000000001,{"$nulls":16},247,"Thiometon",50,45.052999999999997,45.213000000000001,41.417000000000002,49.329000000000001,40.395000000000003,44.786000000000001,43.405999999999999,55.71,37.860999999999997,51.33,44.031999999999996,42.69,44.718000000000004,40.258000000000003,38.359000000000002,{"$nulls":16},247,"Thiometon",10,10.733000000000001,9.6319999999999997,11.766999999999999,9.6790000000000003,11.308,10.571,11.702,11.545999999999999,8.9090000000000007,10.289,11.557,11.503,8.6910000000000007,11.180999999999999,9.2249999999999996,{"$nulls":16},247,"Thiometon",50,48.33,37.942,48.412999999999997,39.246000000000002,36.521999999999998,39.554000000000002,37.46,47.228000000000002,45.728999999999999,51.914999999999999,52.591000000000001,48.747999999999998,53.432000000000002,57.646999999999998,39.46,{"$nulls":16},247,"Thiometon",10,11.0654,0.78322780849507623,110.65400000000001,7.0781698672897155,"uygun","uygun",10.7788,0.97520520917394649,107.788,9.0474376477339451,"uygun","uygun",9.3531999999999993,1.4837476874455471,93.531999999999996,15.863529994499714,"uygun","uygun","--------","--------","--------","--------","uygun değil","uygun değil","--------","--------","--------","--------","uygun değil","uygun değil","--------","--------","--------","--------","uygun değil","uygun değil",null,246,"Thiometon",50,44.281400000000005,3.5443759394285466,88.56280000000001,8.0042093055516439,"uygun","uygun",46.618600000000001,6.9861581573851508,93.237200000000001,14.985774256166318,"uygun","uygun",42.011400000000002,2.6591090237145214,84.022800000000004,6.3294939557227829,"uygun","uygun","--------","--------","--------","--------","uygun değil","uygun değil","--------","--------","--------","--------","uygun değil","uygun değil","--------","--------","--------","--------","uygun değil","uygun değil",{"$nulls":31},246,"Thiometon",10,3.6000000000005394E-7,3.6787239999999992E-2,2.3963040000000015E-2,1.7635840000000007E-2,2.9052100000000062E-3,7.5342399999999976E-3,2.8123289999999988E-2,3.8068900000000107E-3,2.8056249999999994E-2,8.468100000000073E-4,1.1363560000000005E-2,1.3923999999999999E-2,6.528639999999997E-3,3.9680640000000017E-2,3.7480960000000001E-2,"","","","","","","","","","","","","","","",9.7891236000000048E-3,9.1661475999999884E-3,2.9467155599999975E-2,1.8009639999999965E-4,3.6902409999999976E-2,1.0874318399999985E-2,1.7392334400000001E-2,1.3041640000000018E-2,5.894212840000005E-2,7.075599999999977E-4,1.4246809600000005E-2,2.1374439999999998E-2,1.115980959999999E-2,3.7962625599999959E-2,5.4205152399999963E-2,"","","","","","","","","","","","","","","",5.3728900000000208E-3,1.3542400000000039E-3,3.1222889999999951E-2,1.0304100000000011E-3,1.7108640000000008E-2,3.2604099999999918E-3,2.8968039999999969E-2,2.3901159999999953E-2,1.1902809999999995E-2,8.3520999999999574E-4,2.4242489999999985E-2,2.2590090000000031E-2,1.7134809999999976E-2,1.394760999999997E-2,6.006250000000002E-3,"","","","","","","","","","","","","","","",1.1155599999999989E-3,5.8158145600000016E-2,1.0074276000000065E-3,4.6259406399999974E-2,7.2662593600000006E-2,4.3647566399999997E-2,6.2900640000000008E-2,3.0735935999999927E-3,7.2965764000000087E-3,1.46689E-3,2.6853123999999976E-3,6.270016000000031E-4,4.7114496000000049E-3,2.3390643600000025E-2,4.4436639999999993E-2,"","","","","","","","","","","","","","","",60,1.1663661184,0.13942537540443156,null,246,"Thiometon",10,10.953666666666669,10.945666666666668,10.667999999999999,9.923,10.274000000000001,3,5,-0.22066666666666812,-1.3136666666666681,1.0990000000000002,-0.24399999999999977,1.0339999999999989,-0.38266666666666893,0.75633333333333219,0.87800000000000011,-1.0139999999999993,1.4999999999998792E-2,0.60333333333333172,0.55733333333333235,-1.9769999999999985,1.2579999999999991,-1.0490000000000013,"","","","","","","","","","","","","","","",10.552866666666668,105.52866666666669,0.60201510000000136,13.894811333333328,10,1.3894811333333328,0,1.3894811333333328,1.1787625432347826,0.11170069522039341,{"$f":"QI257*100","v":11.170069522039341},15,"UYGUN  ","UYGUN  ",0.17467863437806908,null,246,"Thiometon",50,46.824999999999996,41.383333333333333,49.690999999999995,47.54066666666666,42.632333333333328,3,5,1.5050000000000026,-3.4413333333333327,-1.2779999999999987,-8.2946666666666573,-6.1103333333333296,-7.2709999999999937,-3.923333333333332,-2.4629999999999939,-1.8116666666666603,9.2826666666666711,5.7660000000000053,7.3646666666666647,3.7410000000000068,10.106333333333339,-3.1723333333333272,"","","","","","","","","","","","","","","",45.614466666666658,91.228933333333316,36.442027433333301,499.33696799999984,10,49.933696799999986,0,49.933696799999986,7.0663779123395312,0.15491528080286368,{"$f":"SM257*100","v":15.491528080286368},15,"UYGUN  ","UYGUN  ",0.33598241916722144,0.13504774996079963]
[248,"Thionazin","GC-MS/MS",207278,195821,null,586350,602476,null,886686,1069037,null,2812888,2915099,null,5795454,4989519,null,11874771,8994254,{"$nulls":8},248,"Thionazin",10,10.436,11.85,11.804,9.5869999999999997,10.363,10.426,11.515000000000001,9.9730000000000008,11.779,11.554,11.875999999999999,7.72,10.071999999999999,9.1210000000000004,8.5950000000000006,{"$nulls":16},248,"Thionazin",50,43.883000000000003,44.912999999999997,41.457999999999998,47.125999999999998,40.564,40.841999999999999,43.322000000000003,50.363999999999997,36.121000000000002,49.203000000000003,43.557000000000002,43.305999999999997,43.177,44.072000000000003,39.186,{"$nulls":16},248,"Thionazin",10,11.781000000000001,10.112,11.925000000000001,11.759,11.961,10.817,11.895,10.118,10.773999999999999,11.695,10.736000000000001,10.955,10.119999999999999,10.436,9.625,{"$nulls":16},248,"Thionazin",50,48.713999999999999,37.902999999999999,48.276000000000003,43.119,35.530999999999999,41.896999999999998,36.154000000000003,46.372999999999998,41.573999999999998,49.43,48.573,46.558999999999997,54.607999999999997,53.23,36.253,{"$nulls":16},248,"Thionazin",10,10.808000000000002,0.98805743760168119,108.08000000000003,9.1419081939459765,"uygun","uygun",11.0494,0.79859019528165998,110.494,7.2274530316728507,"uygun","uygun",9.4768000000000008,1.5890983921708519,94.768000000000001,16.768301453769752,"uygun","uygun","--------","--------","--------","--------","uygun değil","uygun değil","--------","--------","--------","--------","uygun değil","uygun değil","--------","--------","--------","--------","uygun değil","uygun değil",null,247,"Thionazin",50,43.588799999999999,2.6477144294655335,87.177599999999998,6.0742998877361467,"uygun","uygun",43.970399999999998,5.9177405570031407,87.940799999999996,13.458464232763726,"uygun","uygun",42.659599999999998,1.971777954030322,85.319199999999995,4.6221201184031777,"uygun","uygun","--------","--------","--------","--------","uygun değil","uygun değil","--------","--------","--------","--------","uygun değil","uygun değil","--------","--------","--------","--------","uygun değil","uygun değil",{"$nulls":31},247,"Thionazin",{"$f":"AE258","v":10},1.9009600000000073E-3,3.4225000000000019E-2,3.2544160000000044E-2,1.7056900000000004E-3,1.3176899999999998E-3,1.8147599999999975E-3,2.295224999999999E-2,7.2899999999995931E-6,3.1648409999999981E-2,2.4149159999999996E-2,3.5193759999999998E-2,5.1983999999999989E-2,5.1839999999998176E-5,7.7264099999999961E-3,1.9740249999999987E-2,"","","","","","","","","","","","","","","",1.4967075599999973E-2,1.035102760000001E-2,2.9186305599999997E-2,3.3039504000000101E-3,3.5615238399999999E-2,3.3547585599999999E-2,1.7838273599999975E-2,5.299839999999932E-5,7.7050656399999959E-2,2.5408359999999852E-4,1.6604899599999993E-2,1.7923854400000001E-2,1.8621331600000006E-2,1.4056473599999999E-2,4.6777038400000012E-2,"","","","","","","","","","","","","","","",3.1719610000000051E-2,1.2544000000000221E-4,3.7056250000000047E-2,3.0940809999999982E-2,3.8455209999999976E-2,6.6748900000000175E-3,3.5910249999999998E-2,1.3924000000000076E-4,5.9907599999999865E-3,2.8730249999999995E-2,5.4169600000000158E-3,9.1202499999999843E-3,1.4400000000000025E-4,1.9009600000000073E-3,1.4062499999999984E-3,"","","","","","","","","","","","","","","",6.6151840000000387E-4,5.8534963600000024E-2,1.188870399999997E-3,1.8939264399999989E-2,8.3740784399999976E-2,2.6263443599999995E-2,7.6684686399999966E-2,5.2620516000000074E-3,2.8398990400000001E-2,1.2995999999999922E-4,8.145316000000006E-4,4.7361924000000142E-3,8.4934656000000032E-3,4.1731599999999987E-3,7.5592003599999985E-2,"","","","","","","","","","","","","","","",60,1.2304574391999994,0.14320483227414729,null,247,"Thionazin",10,11.111333333333334,10.987333333333332,10.720999999999998,10.989666666666666,11.093666666666666,3,5,0.66966666666666619,-0.87533333333333196,1.2040000000000024,0.76933333333333387,0.86733333333333462,-0.29433333333333422,0.90766666666666751,-0.60299999999999798,-0.21566666666666734,0.60133333333333461,-0.37533333333333374,-3.2333333333331993E-2,-0.60099999999999909,-0.55366666666666653,-1.4686666666666657,"","","","","","","","","","","","","","","",10.980599999999999,109.80599999999998,7.3046233333334001E-2,8.6572826666666689,10,0.86572826666666691,0,0.86572826666666691,0.93044519809963389,8.4735369478865813E-2,14.24,15,"UYGUN  ","UYGUN  ",0.10052115977007867,null,247,"Thionazin",50,46.394666666666666,40.205333333333336,49.752333333333333,45.974333333333334,40.404666666666664,3,5,2.3193333333333328,-2.3023333333333369,-1.4763333333333293,-2.8553333333333342,-4.873666666666665,-4.4976666666666674,-4.0513333333333321,-3.3793333333333351,-4.4003333333333359,9.0253333333333359,2.1783333333333346,6.3536666666666619,4.8556666666666644,7.2556666666666629,-4.1516666666666637,"","","","","","","","","","","","","","","",44.546266666666661,89.092533333333321,51.4167299,332.21968733333324,10,33.221968733333327,6.0649203888888907,39.28688912222222,6.2679254241114117,0.14070596467743079,10.244,15,"UYGUN  ","UYGUN  ",0.27717435894128961,0.11614269528585582]
[249,"THPI (Tetrahydrophthalimide)","GC-MS/MS",749368,746890,null,2868820,2355389,null,4462218,5088310,null,12711373,13525553,null,26656398,24854040,null,53641389,53697479,{"$nulls":8},249,"THPI (Tetrahydrophthalimide)",10,8.9550000000000001,10.311999999999999,11.737,7.68,9.0760000000000005,8.968,10.103999999999999,7.8140000000000001,10.391999999999999,11.282,10.52,9.65,9.14,8.4,8.14,{"$nulls":16},249,"THPI (Tetrahydrophthalimide)",50,40.709000000000003,42.122,35.683999999999997,46.103000000000002,38.252000000000002,37.432000000000002,38.360999999999997,48.926000000000002,36.776000000000003,47.764000000000003,55.4,44.6,52.6,51.61,50.54,{"$nulls":16},249,"THPI (Tetrahydrophthalimide)",10,9.0969999999999995,7.298,10.989000000000001,9.641,10.196,8.3130000000000006,9.3000000000000007,8.49,8.4890000000000008,9.6530000000000005,9.9390000000000001,8.3580000000000005,8.4939999999999998,8.9730000000000008,10.112,{"$nulls":16},249,"THPI (Tetrahydrophthalimide)",50,41.75,38.918999999999997,37.847999999999999,36.109000000000002,41.552,40.752000000000002,39.768000000000001,39.048000000000002,39.853999999999999,40.226999999999997,46.564999999999998,43.835000000000001,52.158000000000001,52.654000000000003,35.628999999999998,{"$nulls":16},249,"THPI (Tetrahydrophthalimide)",10,9.5519999999999996,1.5361635655098747,95.52,16.082114379290982,"uygun","uygun",9.7119999999999997,1.3450747191141394,97.11999999999999,13.84961613585399,"uygun","uygun",9.17,0.96275645933953591,91.7,10.498979927366804,"uygun","uygun","--------","--------","--------","--------","uygun değil","uygun değil","--------","--------","--------","--------","uygun değil","uygun değil","--------","--------","--------","--------","uygun değil","uygun değil",null,248,"THPI (Tetrahydrophthalimide)",50,40.573999999999998,3.946142230077371,81.147999999999996,9.725790481779887,"uygun","uygun",41.851800000000004,5.9683011988337151,83.703600000000009,14.26056035542967,"uygun","uygun",50.949999999999996,3.982813076206313,101.89999999999999,7.8171012290604773,"uygun","uygun","--------","--------","--------","--------","uygun değil","uygun değil","--------","--------","--------","--------","uygun değil","uygun değil","--------","--------","--------","--------","uygun değil","uygun değil",{"$nulls":31},248,"THPI (Tetrahydrophthalimide)",10,1.0920250000000008E-2,9.7343999999999339E-4,3.0171689999999987E-2,5.382399999999999E-2,8.5377599999999863E-3,1.0650239999999991E-2,1.0815999999999926E-4,4.7785960000000009E-2,1.5366399999999923E-3,1.6435240000000025E-2,2.704000000000005E-3,1.2249999999999943E-3,7.3959999999999937E-3,2.5599999999999973E-2,3.4595999999999981E-2,"","","","","","","","","","","","","","","",3.4529072399999992E-2,2.4825153600000011E-2,8.197914240000001E-2,6.0746436000000013E-3,5.5206201599999977E-2,6.3181849599999965E-2,5.4186528400000045E-2,4.6139039999999759E-4,6.9949670399999969E-2,1.9998783999999985E-3,1.1663999999999973E-2,1.1663999999999997E-2,2.704000000000005E-3,1.0368400000000005E-3,1.1663999999999829E-4,"","","","","","","","","","","","","","","",8.1540900000000079E-3,7.3008039999999996E-2,9.7812099999999968E-3,1.2888100000000031E-3,3.8416000000000242E-4,2.8459689999999985E-2,4.8999999999999929E-3,2.2801000000000005E-2,2.283120999999997E-2,1.2040899999999966E-3,3.720999999999993E-5,2.6961639999999967E-2,2.2680360000000021E-2,1.054728999999998E-2,1.2544000000000221E-4,"","","","","","","","","","","","","","","",2.7225000000000013E-2,4.9115424400000017E-2,5.9068441600000014E-2,7.7183952399999978E-2,2.8547481600000001E-2,3.4210201599999962E-2,4.187752959999997E-2,4.7978521600000004E-2,4.1176526399999996E-2,3.8204611600000028E-2,4.7196900000000134E-3,1.5202889999999991E-2,1.8627856000000076E-3,2.8174864000000016E-3,8.2610256399999998E-2,"","","","","","","","","","","","","","","",60,1.4570084299999999,0.15583155596134352,null,248,"THPI (Tetrahydrophthalimide)",10,9.1163333333333334,8.3186666666666671,9.3243333333333336,9.0343333333333344,9.9870000000000001,3,5,-1.9333333333333869E-2,-1.0206666666666671,1.6646666666666672,0.60666666666666558,0.20899999999999963,-0.80333333333333279,0.98133333333333361,-0.83433333333333337,-0.54533333333333367,-0.33399999999999963,0.82266666666666666,3.9333333333333442E-2,-0.83033333333333381,-6.1333333333333684E-2,0.125,"","","","","","","","","","","","","","","",9.1561333333333348,91.561333333333351,1.0773002666666662,8.3255586666666677,10,0.83255586666666681,8.1581466666666477E-2,0.91413733333333325,0.95610529406197375,0.10442238653091993,{"$f":"QI259*100","v":10.442238653091993},15,"UYGUN  ","UYGUN  ",0.15265648732337986,null,248,"THPI (Tetrahydrophthalimide)",50,43.022333333333336,40.840666666666664,43.018000000000001,42.87233333333333,39.135999999999996,3,5,-1.2723333333333358,-1.9216666666666669,-5.1700000000000017,-6.7633333333333283,2.4160000000000039,-2.2703333333333333,-1.0726666666666631,-3.9699999999999989,-3.0183333333333309,1.0910000000000011,3.542666666666662,2.9943333333333371,9.14,9.7816666666666734,-3.5069999999999979,"","","","","","","","","","","","","","","",41.777866666666668,83.555733333333336,9.1067164333333555,329.02298400000006,10,32.902298400000006,0,32.902298400000006,5.7360525102198991,0.13729883710880161,{"$f":"SM259*100","v":13.729883710880161},15,"UYGUN  ","UYGUN  ",0.26391358940000936,0.12197336897913841]
[250,"Tolclofos-Methyl","GC-MS/MS",2304272,2067417,null,4941357,6269591,null,8664758,9927952,null,26630202,29919326,null,52234973,47183494,null,113708157,82533288,{"$nulls":8},250,"Tolclofos-Methyl",10,9.391,11.244999999999999,11.974,8.6050000000000004,9.4380000000000006,10.318,11.602,8.6080000000000005,11.586,11.763999999999999,11.384,9.1839999999999993,9.3550000000000004,8.3179999999999996,7.6289999999999996,{"$nulls":16},250,"Tolclofos-Methyl",50,46.988,47.048999999999999,41.142000000000003,51.121000000000002,42.874000000000002,40.957000000000001,43.640999999999998,52.52,41.164000000000001,49.545999999999999,44.472999999999999,42.198999999999998,45.783000000000001,41.024999999999999,37.594999999999999,{"$nulls":16},250,"Tolclofos-Methyl",10,10.724,8.8710000000000004,11.896000000000001,11.013,11.06,10.005000000000001,11.151,9.57,9.5180000000000007,10.938000000000001,10.212999999999999,9.0820000000000007,8.3149999999999995,8.8789999999999996,7.1779999999999999,{"$nulls":16},250,"Tolclofos-Methyl",50,49.475000000000001,41.332999999999998,49.241999999999997,39.581000000000003,41.631999999999998,41.829000000000001,37.531999999999996,50.155999999999999,40.820999999999998,50.570999999999998,47.372,46.322000000000003,55.6,53.871000000000002,35.588999999999999,{"$nulls":16},250,"Tolclofos-Methyl",10,10.130600000000001,1.4136980936536516,101.30600000000001,13.954732134855306,"uygun","uygun",10.775600000000001,1.3439221703655264,107.756,12.471901057625805,"uygun","uygun",9.1739999999999995,1.4174556430449645,91.74,15.450791836112543,"uygun","uygun","--------","--------","--------","--------","uygun değil","uygun değil","--------","--------","--------","--------","uygun değil","uygun değil","--------","--------","--------","--------","uygun değil","uygun değil",null,249,"Tolclofos-Methyl",50,45.834800000000001,3.9222688204660314,91.669600000000003,8.5574035895564755,"uygun","uygun",45.565599999999996,5.2087576541820777,91.131199999999993,11.431337794700559,"uygun","uygun",42.214999999999996,3.1855118897910275,84.429999999999993,7.5459241733768279,"uygun","uygun","--------","--------","--------","--------","uygun değil","uygun değil","--------","--------","--------","--------","uygun değil","uygun değil","--------","--------","--------","--------","uygun değil","uygun değil",{"$nulls":31},249,"Tolclofos-Methyl",10,3.7088099999999942E-3,1.5500249999999959E-2,3.896676000000001E-2,1.9460249999999988E-2,3.1584399999999907E-3,1.0112400000000033E-3,2.5664040000000037E-2,1.9376639999999997E-2,2.5153960000000024E-2,3.1116959999999961E-2,1.9154560000000022E-2,6.6585600000000191E-3,4.1602499999999999E-3,2.8291240000000006E-2,5.6216410000000043E-2,"","","","","","","","","","","","","","","",3.6288575999999951E-3,3.4833603999999954E-3,3.1385665599999994E-2,5.0265640000000478E-4,2.0311950399999994E-2,3.2710339600000006E-2,1.6174752400000016E-2,2.5401600000000001E-3,3.1229958399999997E-2,8.2446399999999584E-5,1.2219091599999994E-2,2.4342240400000013E-2,7.1132355999999949E-3,3.2220249999999999E-2,6.1553609999999995E-2,"","","","","","","","","","","","","","","",5.2417600000000033E-3,1.274641E-2,3.594816E-2,1.0261689999999988E-2,1.123600000000002E-2,2.5000000000016696E-7,1.3248009999999996E-2,1.8489999999999937E-3,2.3232399999999912E-3,8.7984400000000202E-3,4.5368999999999466E-4,8.4272399999999782E-3,2.8392250000000032E-2,1.2566410000000019E-2,7.963684E-2,"","","","","","","","","","","","","","","",1.1024999999999903E-4,3.0046755600000016E-2,2.298256000000019E-4,4.3422224399999959E-2,2.8009369600000021E-2,2.6706096400000004E-2,6.2180409600000014E-2,9.7344000000000723E-6,3.370161640000003E-2,1.3041639999999968E-4,2.7625536000000055E-3,5.4110735999999939E-3,1.2544000000000022E-2,5.9938564000000067E-3,8.3070768400000022E-2,"","","","","","","","","","","","","","","",60,1.1425552852,0.13799488427715959,null,249,"Tolclofos-Methyl",10,10.314,9.7013333333333325,9.9269999999999996,9.8033333333333328,9.7253333333333334,3,5,0.41000000000000014,-0.83033333333333204,1.9690000000000012,1.2096666666666671,1.3346666666666671,-0.30899999999999928,1.4496666666666673,-0.35699999999999932,-0.28533333333333211,1.2126666666666672,-0.10100000000000087,-0.61933333333333174,-1.6120000000000001,-0.92433333333333323,-2.5473333333333334,"","","","","","","","","","","","","","","",9.8941999999999997,98.941999999999993,0.18845860000000031,22.191200000000006,10,2.2191200000000006,0,2.2191200000000006,1.4896711046402158,0.15056003564110446,15.056003564110446,15,"UYGUN  ","UYGUN  ",0.31735654065150903,null,249,"Tolclofos-Methyl",50,46.225333333333332,41.728999999999999,51.665999999999997,44.757666666666665,42.597333333333331,3,5,3.2496666666666698,-0.3960000000000008,-2.4239999999999995,-5.1766666666666623,-0.9653333333333336,-4.396333333333331,-4.1970000000000027,-1.509999999999998,-3.9366666666666674,7.9736666666666665,1.1466666666666683,4.5930000000000035,3.9340000000000046,9.1133333333333368,-7.0083333333333329,"","","","","","","","","","","","","","","",45.395066666666665,90.79013333333333,46.26568723333331,332.67846200000008,10,33.267846200000008,4.3326136777777675,37.600459877777773,6.1319213854857741,0.13507902588869658,15.42,15,"UYGUN  ","UYGUN  ",0.25544880529054825,0.14302913613542137]
[251,"Transfluthrin","GC-MS/MS",821863,838332,null,1669207,2158919,null,3245484,3853785,null,9560456,9524353,null,16203197,13663695,null,25482249,25327957,{"$nulls":8},251,"Transfluthrin",10,9.27,11.428000000000001,11.968,8.9149999999999991,9.4719999999999995,10.127000000000001,11.872999999999999,8.7460000000000004,11.714,11.282999999999999,11.199,8.9260000000000002,9.6449999999999996,8.43,7.4169999999999998,{"$nulls":16},251,"Transfluthrin",50,47.743000000000002,48.981999999999999,42.616999999999997,51.332999999999998,43.237000000000002,42.850999999999999,45.204999999999998,52.845999999999997,42.805,50.844999999999999,47.067,43.738999999999997,47.478000000000002,43.139000000000003,37.148000000000003,{"$nulls":16},251,"Transfluthrin",10,10.718999999999999,8.8810000000000002,11.863,10.741,11.172000000000001,9.7569999999999997,11.606,9.3339999999999996,10.109,10.782999999999999,11.88,10.16,9.9209999999999994,10.590999999999999,7.9610000000000003,{"$nulls":16},251,"Transfluthrin",50,50.436999999999998,43.527000000000001,50.423999999999999,40.265000000000001,42.338999999999999,41.287999999999997,38.055999999999997,51.969000000000001,44.347000000000001,51.466000000000001,36.564999999999998,41.901000000000003,43.524999999999999,41.567999999999998,35.840000000000003,{"$nulls":16},251,"Transfluthrin",10,10.210599999999999,1.3855824767945097,102.10599999999998,13.570039731205902,"uygun","uygun",10.7486,1.3113589516223167,107.48599999999999,12.200276795325129,"uygun","uygun",9.1234000000000002,1.4152520270255693,91.234000000000009,15.51233122548139,"uygun","uygun","--------","--------","--------","--------","uygun değil","uygun değil","--------","--------","--------","--------","uygun değil","uygun değil","--------","--------","--------","--------","uygun değil","uygun değil",null,250,"Transfluthrin",50,46.782399999999996,3.7546428325474581,93.564799999999991,8.0257593294646234,"uygun","uygun",46.910399999999996,4.6624524447976938,93.820799999999991,9.9390592380318523,"uygun","uygun",43.714199999999998,4.1489128335022887,87.428399999999996,9.4909956798987256,"uygun","uygun","--------","--------","--------","--------","uygun değil","uygun değil","--------","--------","--------","--------","uygun değil","uygun değil","--------","--------","--------","--------","uygun değil","uygun değil",{"$nulls":31},250,"Transfluthrin",10,5.3290000000000091E-3,2.0391840000000012E-2,3.8730240000000034E-2,1.1772250000000008E-2,2.7878400000000071E-3,1.6129000000000395E-4,3.5081290000000008E-2,1.5725159999999988E-2,2.9377959999999998E-2,1.6460889999999964E-2,1.4376009999999976E-2,1.1534759999999988E-2,1.2602500000000062E-3,2.4649000000000008E-2,6.6718889999999989E-2,"","","","","","","","","","","","","","","",2.0376195999999964E-3,4.1452960000000185E-4,2.1803475600000004E-2,7.1075559999999498E-4,1.8295267599999984E-2,2.04432804E-2,9.196809999999998E-3,3.2398863999999841E-3,2.0707210000000007E-2,2.8560999999999712E-4,3.4409956000000055E-3,1.5680048400000028E-2,2.544193599999993E-3,1.8829328399999973E-2,6.6069561599999965E-2,"","","","","","","","","","","","","","","",5.169609999999979E-3,1.2521610000000001E-2,3.4707689999999965E-2,5.4908100000000083E-3,1.3735839999999994E-2,5.904899999999994E-4,2.5792360000000025E-2,4.435559999999999E-3,1.1880999999999803E-4,6.130890000000006E-3,3.5344000000000063E-2,2.5600000000000048E-4,6.2410000000000292E-5,3.4928099999999916E-3,4.1575209999999987E-2,"","","","","","","","","","","","","","","",7.6387599999999472E-5,1.6759891600000004E-2,7.1910400000000727E-5,3.7908089999999992E-2,2.3476368400000006E-2,3.0359577600000021E-2,5.7063654400000045E-2,1.5507843999999977E-3,1.2782563599999986E-2,8.5966240000000076E-4,7.2199690000000025E-2,2.6237520399999967E-2,1.6770250000000014E-2,2.8439449600000003E-2,8.0202239999999939E-2,"","","","","","","","","","","","","","","",60,1.0922373827999996,0.13492203815537324,null,250,"Transfluthrin",10,10.785333333333334,10.215666666666667,10.372666666666666,10.480333333333334,9.9719999999999995,3,5,-6.6333333333334465E-2,-1.3346666666666671,1.490333333333334,0.26066666666666549,1.2000000000000011,-1.0283333333333342,1.3903333333333325,-1.038666666666666,-0.37133333333333418,0.81099999999999994,1.0946666666666669,-5.5666666666667197E-2,-0.45166666666666622,0.11066666666666514,-2.0109999999999992,"","","","","","","","","","","","","","","",10.3652,103.65199999999999,0.27509243333333394,15.84147466666667,10,1.5841474666666671,0,1.5841474666666671,1.2586292014198093,0.1214283565603953,12.14283565603953,15,"UYGUN  ","UYGUN  ",0.20642784087741894,null,250,"Transfluthrin",50,42.763333333333328,41.161333333333339,48.639333333333333,42.059999999999995,43.215000000000003,3,5,7.6736666666666693,2.3656666666666624,1.7846666666666664,-1.7949999999999946,-0.87600000000000477,-1.4753333333333316,-3.1053333333333413,3.3296666666666681,2.2870000000000061,8.2509999999999977,-6.1983333333333306,0.7396666666666647,-5.1143333333333345,-0.49199999999999733,-7.375,"","","","","","","","","","","","","","","",43.567799999999998,87.135599999999997,25.917470599999994,287.62726600000008,10,28.762726600000008,0,28.762726600000008,5.3630892776458614,0.12309754629900664,{"$f":"SM261*100","v":12.309754629900665},15,"UYGUN  ","UYGUN  ",0.21214208266770518,0.12226579996424711]
[252,"Tri-Allate","GC-MS/MS",957973,969402,null,2106036,2865916,null,4249664,4980309,null,12843730,14786288,null,25406913,22846084,null,51146373,41192881,{"$nulls":8},252,"Tri-Allate",10,9.7059999999999995,11.81,11.856999999999999,9.3249999999999993,9.7609999999999992,10.603,11.734999999999999,9.3870000000000005,11.455,11.569000000000001,11.061999999999999,7.5410000000000004,9.3529999999999998,7.9489999999999998,7.1710000000000003,{"$nulls":16},252,"Tri-Allate",50,47.895000000000003,47.579000000000001,42.746000000000002,48.73,41.664999999999999,42.930999999999997,45.061,51.113999999999997,39.216000000000001,50.11,46.508000000000003,43.759,46.951999999999998,44.037999999999997,36.433999999999997,{"$nulls":16},252,"Tri-Allate",10,10.829000000000001,9.7430000000000003,11.631,11.319000000000001,11.628,10.798999999999999,11.569000000000001,10.596,9.8230000000000004,11.000999999999999,9.6859999999999999,7.89,8.1750000000000007,9.5630000000000006,7.0369999999999999,{"$nulls":16},252,"Tri-Allate",50,51.9,40.991999999999997,51.456000000000003,41.512,38.131999999999998,41.158000000000001,36.576000000000001,51.600999999999999,43.81,53.014000000000003,51.536999999999999,51.908000000000001,55.488,56.185000000000002,54.91,{"$nulls":16},252,"Tri-Allate",10,10.491799999999998,1.2363651159750748,104.91799999999998,11.784108694171401,"uygun","uygun",10.9498,0.97695813625763905,109.498,8.9221550736784145,"uygun","uygun",8.6151999999999997,1.5980160199447295,86.152000000000001,18.548797705737876,"uygun","uygun","--------","--------","--------","--------","uygun değil","uygun değil","--------","--------","--------","--------","uygun değil","uygun değil","--------","--------","--------","--------","uygun değil","uygun değil",null,251,"Tri-Allate",50,45.722999999999999,3.2609148256279248,91.445999999999998,7.1318916642125947,"uygun","uygun",45.686400000000006,4.9718333942319495,91.372800000000012,10.882523889454955,"uygun","uygun",43.538200000000003,4.2202474098090512,87.076400000000007,9.693205988784678,"uygun","uygun","--------","--------","--------","--------","uygun değil","uygun değil","--------","--------","--------","--------","uygun değil","uygun değil","--------","--------","--------","--------","uygun değil","uygun değil",{"$nulls":31},251,"Tri-Allate",10,8.6436000000000542E-4,3.2761000000000019E-2,3.4484489999999993E-2,4.556250000000016E-3,5.7121000000000157E-4,3.6360900000000024E-3,3.0102249999999997E-2,3.7576899999999889E-3,2.1170249999999988E-2,2.4617610000000012E-2,1.1278439999999968E-2,6.0466810000000003E-2,4.1860899999999973E-3,4.2066010000000022E-2,8.0032409999999957E-2,"","","","","","","","","","","","","","","",1.7724099999999929E-3,2.3444964000000016E-3,2.1048206399999995E-2,6.4516000000000454E-4,2.7788890000000024E-2,1.9988304400000018E-2,9.7574883999999966E-3,4.9639839999999352E-4,4.6517862399999992E-2,4.8399999999999113E-6,4.8776255999999863E-3,1.5580032400000011E-2,3.7161216000000017E-3,1.4218177600000003E-2,7.3614542399999996E-2,"","","","","","","","","","","","","","","",6.8724099999999955E-3,6.6048999999999719E-4,2.6601610000000008E-2,1.7397610000000036E-2,2.6503840000000018E-2,6.3840099999999773E-3,2.4617610000000012E-2,3.5521600000000117E-3,3.1328999999999781E-4,1.0020009999999972E-2,9.8595999999999905E-4,4.4521000000000033E-2,3.3306249999999961E-2,1.9096899999999967E-3,8.7793690000000008E-2,"","","","","","","","","","","","","","","",1.4440000000000026E-3,3.2457625600000033E-2,8.4797440000000202E-4,2.8818457600000007E-2,5.6339769600000006E-2,3.1272385600000001E-2,7.2081510399999965E-2,1.025280399999996E-3,1.5326439999999978E-2,3.6336784000000136E-3,9.4494759999999936E-4,1.4561855999999979E-3,1.2047257600000017E-2,1.5301690000000036E-2,9.6432399999999696E-3,"","","","","","","","","","","","","","","",60,1.1710015887999996,0.13970215870439032,null,251,"Tri-Allate",10,10.438000000000001,9.734,10.134,10.235000000000001,9.8886666666666656,3,5,0.39100000000000001,9.0000000000003411E-3,1.4969999999999999,1.0839999999999996,1.7393333333333345,0.36099999999999888,1.8350000000000009,0.46199999999999974,-0.41200000000000081,1.1123333333333338,-0.75200000000000067,-1.8440000000000003,-1.9589999999999996,-0.6720000000000006,-2.8516666666666657,"","","","","","","","","","","","","","","",10.085933333333333,100.85933333333332,0.23344006666666761,28.099434666666667,10,2.8099434666666667,0,2.8099434666666667,1.6762885988595957,0.16620064236589532,16.620064236589531,15,"UYGUN  ","UYGUN  ",0.38671714931970735,null,251,"Tri-Allate",50,48.198333333333331,43.158666666666669,52.848333333333336,47.169000000000004,48.685333333333325,3,5,3.701666666666668,-2.1666666666666714,-1.3923333333333332,-5.6570000000000036,-10.553333333333327,-7.0403333333333293,-6.5826666666666682,-1.2473333333333372,-3.3590000000000018,4.3286666666666775,3.3386666666666684,8.7493333333333325,2.6396666666666633,9.0159999999999982,6.2246666666666712,"","","","","","","","","","","","","","","",48.011933333333332,96.023866666666663,36.107783566666662,502.88383666666675,10,50.288383666666675,0,50.288383666666675,7.0914302976668022,0.14770141098949294,{"$f":"SM262*100","v":14.770141098949294},15,"UYGUN  ","UYGUN  ",0.30541989531601949,0.15722334484917205]
[253,"Triazophos","GC-MS/MS",951134,935506,null,2448878,2591094,null,4180519,4750721,null,13446740,13336068,null,25886325,22678063,null,55249598,40653037,{"$nulls":8},253,"Triazophos",10,8.4770000000000003,9.8379999999999992,11.933999999999999,7.9279999999999999,8.5389999999999997,9.0619999999999994,9.9179999999999993,7.766,10.516999999999999,11.901,11.481999999999999,10.987,9.5950000000000006,9.23,8.3949999999999996,{"$nulls":16},253,"Triazophos",50,37.039000000000001,35.732999999999997,38.99,44.021999999999998,40.764000000000003,37.893000000000001,39.994,43.594999999999999,37.253999999999998,43.472999999999999,36.529000000000003,35.604999999999997,40.438000000000002,42.8,41.222999999999999,{"$nulls":16},253,"Triazophos",10,9.5090000000000003,7.0350000000000001,11.265000000000001,9.4849999999999994,11.775,7.5220000000000002,8.0679999999999996,7.5529999999999999,8.24,10.814,10.548999999999999,10.738,9.2460000000000004,10.835000000000001,8.952,{"$nulls":16},253,"Triazophos",50,40.685000000000002,36.145000000000003,36.927,40.854999999999997,49.694000000000003,50.558,41.192,38.088999999999999,37.192,37.426000000000002,48.34,35.633000000000003,38.167999999999999,38.100999999999999,46.77,{"$nulls":16},253,"Triazophos",10,9.3431999999999995,1.6091071126559644,93.431999999999988,17.222226995632809,"uygun","uygun",9.8327999999999971,1.550696198486367,98.327999999999975,15.770647206150512,"uygun","uygun",9.9377999999999993,1.2731946826781915,99.377999999999986,12.811635197711682,"uygun","uygun","--------","--------","--------","--------","uygun değil","uygun değil","--------","--------","--------","--------","uygun değil","uygun değil","--------","--------","--------","--------","uygun değil","uygun değil",null,252,"Triazophos",50,39.309600000000003,3.2546823654544239,78.619200000000006,8.2796120170503489,"uygun","uygun",40.441800000000001,2.9995757533357943,80.883600000000001,7.4170184149464022,"uygun","uygun",39.319000000000003,3.1053435397714044,78.638000000000005,7.8978192216775707,"uygun","uygun","--------","--------","--------","--------","uygun değil","uygun değil","--------","--------","--------","--------","uygun değil","uygun değil","--------","--------","--------","--------","uygun değil","uygun değil",{"$nulls":31},252,"Triazophos",10,2.3195289999999997E-2,2.6244000000000332E-4,3.7403560000000009E-2,4.293184000000002E-2,2.1345210000000003E-2,8.7984400000000202E-3,6.7240000000001572E-5,4.9907560000000017E-2,2.6728899999999851E-3,3.6138009999999977E-2,2.1963239999999967E-2,9.7416900000000025E-3,1.6402499999999985E-3,5.9289999999999933E-3,2.576025000000003E-2,"","","","","","","","","","","","","","","",6.7195008400000006E-2,8.1418915600000016E-2,4.8488039999999975E-2,1.4294593600000001E-2,3.4121478399999995E-2,5.863177960000001E-2,4.0048014399999984E-2,1.6409609999999998E-2,6.4984206400000022E-2,1.7040691599999998E-2,7.2587136399999933E-2,8.2886410000000021E-2,3.6572737599999988E-2,2.0736000000000004E-2,3.0814291600000009E-2,"","","","","","","","","","","","","","","",2.4108099999999924E-3,8.7912249999999997E-2,1.6002250000000013E-2,2.6522500000000105E-3,3.150625E-2,6.1404840000000009E-2,3.7326240000000017E-2,5.9878090000000016E-2,3.0975999999999976E-2,6.6259599999999863E-3,3.0140099999999945E-3,5.4464399999999804E-3,5.6851599999999869E-3,6.9722500000000218E-3,1.0983040000000001E-2,"","","","","","","","","","","","","","","",3.4707689999999965E-2,7.6784409999999942E-2,6.8361331600000019E-2,3.3452410000000023E-2,3.7454399999998819E-5,1.2454560000000131E-4,3.1032345599999994E-2,5.6748768399999996E-2,6.5617945599999977E-2,6.3242190399999967E-2,1.1022399999999931E-3,8.2564275599999959E-2,5.5998489599999979E-2,5.6634480399999985E-2,4.1731599999999987E-3,"","","","","","","","","","","","","","","",60,1.9733634008000001,0.1813543217387811,null,252,"Triazophos",10,9.1933333333333334,8.613666666666667,9.3546666666666667,9.5200000000000014,10.513666666666666,3,5,0.31566666666666698,-1.5786666666666669,1.9103333333333339,-3.5000000000001918E-2,1.2613333333333347,-1.6713333333333331,-0.54566666666666741,-1.8016666666666667,-1.2800000000000011,0.30033333333333445,1.3556666666666661,2.1243333333333325,-0.10866666666666625,1.3149999999999995,-1.5616666666666656,"","","","","","","","","","","","","","","",9.4390666666666672,94.390666666666661,1.4325815666666646,26.429564666666668,10,2.6429564666666669,0,2.6429564666666669,1.6257172160823872,0.17223283545856091,17.223283545856091,15,"UYGUN  ","UYGUN  ",0.41529809454134003,null,252,"Triazophos",50,46.527666666666669,37.656666666666666,37.728000000000002,38.716000000000001,44.63,3,5,-5.8426666666666662,-1.5116666666666632,-0.80100000000000193,2.1389999999999958,5.0640000000000001,4.0303333333333313,3.5353333333333339,0.3609999999999971,-1.5240000000000009,-7.2040000000000006,1.8123333333333349,-2.0236666666666636,0.43999999999999773,-0.61500000000000199,2.1400000000000006,"","","","","","","","","","","","","","","",41.051666666666669,82.103333333333339,53.114377000000012,162.9067933333333,10,16.29067933333333,12.274565888888894,28.565245222222224,5.3446464075953823,0.13019316489615643,{"$f":"SM263*100","v":13.019316489615642},15,"UYGUN  ","UYGUN  ",0.23730364259948888,0.15266697382828659]
[254,"Trichloronate","GC-MS/MS",2345344,2386891,null,5781693,7602763,null,10740036,12464743,null,32396266,37413833,null,64858785,58347071,null,130894117,121146565,{"$nulls":8},254,"Trichloronate",10,9.641,11.223000000000001,11.984999999999999,8.7569999999999997,9.6460000000000008,10.497999999999999,11.512,8.7360000000000007,11.695,11.821,11.196,9.8170000000000002,9.1539999999999999,8.3840000000000003,7.4139999999999997,{"$nulls":16},254,"Trichloronate",50,47.154000000000003,46.859000000000002,40.996000000000002,51.98,45.457999999999998,42.64,45.573999999999998,52.344000000000001,42.969000000000001,51.107999999999997,46.029000000000003,42.884999999999998,45.969000000000001,41.267000000000003,36.485999999999997,{"$nulls":16},254,"Trichloronate",10,10.429,8.7409999999999997,11.757,11.311,11.445,10.196,11.321999999999999,9.7669999999999995,9.7230000000000008,11.023999999999999,10.218,7.907,7.242,11.433,9.3520000000000003,{"$nulls":16},254,"Trichloronate",50,50.033999999999999,44.109000000000002,50.761000000000003,41.432000000000002,44.322000000000003,44.119,40.325000000000003,50.918999999999997,43.514000000000003,51.707999999999998,49.148000000000003,51.268999999999998,58.636000000000003,54.536999999999999,37.393999999999998,{"$nulls":16},254,"Trichloronate",10,10.250400000000001,1.3154561186143687,102.50400000000002,12.833217421899326,"uygun","uygun",10.852399999999999,1.2930565726216281,108.524,11.914936535896468,"uygun","uygun",9.1930000000000014,1.4337213815801197,91.93,15.595794425977585,"uygun","uygun","--------","--------","--------","--------","uygun değil","uygun değil","--------","--------","--------","--------","uygun değil","uygun değil","--------","--------","--------","--------","uygun değil","uygun değil",null,253,"Trichloronate",50,46.489400000000003,3.9359311223648197,92.978800000000007,8.4662979568779537,"uygun","uygun",46.927,4.5469603033235284,93.853999999999999,9.6894331692277973,"uygun","uygun",42.527200000000001,3.9471766111994548,85.054400000000001,9.2815341974064953,"uygun","uygun","--------","--------","--------","--------","uygun değil","uygun değil","--------","--------","--------","--------","uygun değil","uygun değil","--------","--------","--------","--------","uygun değil","uygun değil",{"$nulls":31},253,"Trichloronate",10,1.2888100000000031E-3,1.4957290000000019E-2,3.9402249999999958E-2,1.545049000000002E-2,1.2531599999999912E-3,2.4800399999999846E-3,2.286144E-2,1.5976959999999988E-2,2.8730249999999995E-2,3.3160409999999974E-2,1.4304159999999982E-2,3.3488999999999936E-4,7.1571600000000018E-3,2.6114559999999988E-2,6.6873960000000024E-2,"","","","","","","","","","","","","","","",3.2398863999999966E-3,3.9463523999999986E-3,3.2428806399999968E-2,1.5681599999999888E-3,8.2519056000000066E-3,2.1667840000000001E-2,7.8357904000000075E-3,2.197734400000003E-3,1.9773984399999989E-2,4.9106559999999809E-4,6.3075363999999896E-3,2.0249290000000027E-2,6.4995844000000037E-3,3.0506115599999974E-2,7.3051278400000044E-2,"","","","","","","","","","","","","","","",1.8404099999999948E-3,1.5850810000000003E-2,3.087048999999999E-2,1.7187209999999998E-2,2.088025000000002E-2,3.8416000000000242E-4,1.7476839999999966E-2,5.4289000000000464E-4,7.6728999999999708E-4,1.0485759999999964E-2,4.7524000000000183E-4,4.3806490000000017E-2,7.6065640000000032E-2,2.0534889999999997E-2,4.1990399999999959E-3,"","","","","","","","","","","","","","","",4.6240000000001896E-7,1.3881552399999983E-2,2.3164840000000034E-4,2.9364249599999986E-2,1.2895873599999998E-2,1.3834464400000013E-2,3.7442249999999962E-2,3.3782439999999414E-4,1.6827278399999986E-2,1.1669055999999978E-3,2.9036159999999808E-4,6.4414439999999789E-4,2.9832198399999996E-2,8.2337476000000076E-3,6.3564494400000005E-2,"","","","","","","","","","","","","","","",60,1.0182760259999997,0.13027381586489281,null,253,"Trichloronate",10,10.281000000000001,9.3233333333333324,9.5886666666666667,10.822333333333333,10.607000000000001,3,5,0.14799999999999969,-0.5823333333333327,2.168333333333333,0.48866666666666703,0.83799999999999919,-8.5000000000000853E-2,1.9986666666666668,0.17833333333333279,-1.0993333333333322,0.41699999999999804,-6.3000000000000611E-2,-1.4163333333333323,-2.3466666666666667,0.61066666666666691,-1.2550000000000008,"","","","","","","","","","","","","","","",10.124466666666667,101.24466666666667,1.2549414333333349,20.884595999999995,10,2.0884595999999993,0,2.0884595999999993,1.445150372798623,0.1427384197487232,14.273841974872321,15,"UYGUN  ","UYGUN  ",0.28523959061307774,null,253,"Trichloronate",50,47.766999999999996,45.234333333333332,53.43866666666667,46.494333333333337,44.474666666666671,3,5,2.267000000000003,-1.1253333333333302,-2.6776666666666671,-5.0623333333333349,-0.1526666666666685,-3.6479999999999961,-4.9093333333333291,-2.5196666666666729,-2.9803333333333342,7.2333333333333272,1.3810000000000073,6.0346666666666664,5.1973333333333329,8.042666666666662,-7.0806666666666729,"","","","","","","","","","","","","","","",47.481800000000007,94.963600000000014,37.975985433333335,324.34472866666664,10,32.434472866666667,1.8471708555555562,34.281643722222221,5.8550528368429111,0.12331151803096997,{"$f":"SM264*100","v":12.331151803096997},15,"UYGUN  ","UYGUN  ",0.21288022670743126,0.13337913433416962]
[255,"Trifluralin","GC-MS/MS",1287567,1101127,null,3115120,3237646,null,5165717,5925276,null,16503567,16335526,null,34161172,30798452,null,71495033,54190028,{"$nulls":8},255,"Trifluralin",10,9.7620000000000005,11.958,11.843999999999999,9.4380000000000006,11.154,10.817,11.804,10.294,11.938000000000001,11.724,11.95,9.7330000000000005,10.433,9.6470000000000002,8.923,{"$nulls":16},255,"Trifluralin",50,40.253999999999998,43.206000000000003,37.289000000000001,42.959000000000003,37.06,36.057000000000002,36.814999999999998,42.914999999999999,35.6,38.530999999999999,42.889000000000003,43.344999999999999,48.773000000000003,40.947000000000003,39.006,{"$nulls":16},255,"Trifluralin",10,11.377000000000001,9.5220000000000002,11.936,11.359,11.897,10.162000000000001,11.779,10.337,10.452,10.932,10.253,9.5079999999999991,8.8339999999999996,10.706,8.2309999999999999,{"$nulls":16},255,"Trifluralin",50,39.86,36.521999999999998,41.487000000000002,37.002000000000002,35.279000000000003,36.622999999999998,36.259,43.753,36.125999999999998,39.905999999999999,47.363999999999997,48.796999999999997,56.27,53.543999999999997,55.12,{"$nulls":16},255,"Trifluralin",10,10.831200000000001,1.1708796693085073,108.31200000000001,10.810248811844552,"uygun","uygun",11.315400000000002,0.72197216012807586,113.15400000000002,6.3804386953008798,"uygun","uygun",10.1372,1.1458290448404462,101.372,11.303210401693232,"uygun","uygun","--------","--------","--------","--------","uygun değil","uygun değil","--------","--------","--------","--------","uygun değil","uygun değil","--------","--------","--------","--------","uygun değil","uygun değil",null,254,"Trifluralin",50,40.153600000000004,2.9569320756486785,80.307200000000009,7.3640522285640095,"uygun","uygun",37.983600000000003,2.9739416268649244,75.967200000000005,7.8295412411275507,"uygun","uygun",42.992000000000004,3.6614682847185782,85.984000000000009,8.5166270113476408,"uygun","uygun","--------","--------","--------","--------","uygun değil","uygun değil","--------","--------","--------","--------","uygun değil","uygun değil","--------","--------","--------","--------","uygun değil","uygun değil",{"$nulls":31},254,"Trifluralin",10,5.6643999999999672E-4,3.8337639999999992E-2,3.4003359999999962E-2,3.1584399999999907E-3,1.3317159999999988E-2,6.6748900000000175E-3,3.2544160000000044E-2,8.6436000000000542E-4,3.7558439999999992E-2,2.9721760000000038E-2,3.8024999999999941E-2,7.1288999999999717E-4,1.8748899999999908E-3,1.2460899999999998E-3,1.1599290000000003E-2,"","","","","","","","","","","","","","","",3.7993806400000038E-2,1.8463374399999968E-2,6.46278084E-2,1.9830272399999984E-2,6.6977439999999958E-2,7.7762899600000004E-2,6.9537690000000027E-2,2.0078890000000012E-2,8.2943999999999962E-2,5.2615184400000015E-2,2.0226528399999971E-2,1.771561E-2,6.0221159999999485E-4,3.2782723600000001E-2,4.8347214399999984E-2,"","","","","","","","","","","","","","","",1.8961290000000044E-2,2.2848399999999955E-3,3.7480960000000001E-2,1.8468809999999974E-2,3.5986089999999991E-2,2.6243999999999974E-4,3.1648409999999981E-2,1.1356900000000043E-3,2.0430399999999916E-3,8.6862399999999909E-3,6.4009000000000505E-4,2.420640000000013E-3,1.3595560000000008E-2,4.9843599999999993E-3,3.129361000000002E-2,"","","","","","","","","","","","","","","",4.1127839999999992E-2,7.2662593600000006E-2,2.8988467599999988E-2,6.7579201599999986E-2,8.6683136399999944E-2,7.15776516E-2,7.5526032399999971E-2,1.5610003600000012E-2,7.6995150400000031E-2,4.0755534400000022E-2,2.7793984000000107E-3,5.7888360000000387E-4,1.5725159999999988E-2,5.0239743999999763E-3,1.0485760000000009E-2,"","","","","","","","","","","","","","","",60,1.7027013215999995,0.16845876456866229,null,254,"Trifluralin",10,10.597333333333333,10.269666666666668,10.369,10.838999999999999,10.353333333333333,3,5,0.7796666666666674,-0.74766666666666737,1.5670000000000002,0.52000000000000135,1.5436666666666667,-0.43533333333333246,1.5093333333333323,-3.2000000000000028E-2,-0.38699999999999868,0.57866666666666688,-0.34433333333333316,-0.76166666666666849,-1.5350000000000001,-0.13299999999999912,-2.1223333333333336,"","","","","","","","","","","","","","","",10.485666666666667,104.85666666666667,0.1613198333333323,16.805846000000003,10,1.6805846000000002,0,1.6805846000000002,1.2963736344125485,0.12363292441229759,12.36329244122976,15,"UYGUN  ","UYGUN  ",0.21399139998231645,null,254,"Trifluralin",50,41.282333333333334,40.526000000000003,47.170000000000009,42.223999999999997,43.435000000000002,3,5,-1.4223333333333343,-4.0040000000000049,-5.6830000000000069,-5.2219999999999942,-8.1559999999999988,-4.6593333333333362,-4.267000000000003,-3.4170000000000087,-6.097999999999999,-3.5290000000000035,6.0816666666666634,8.2709999999999937,9.0999999999999943,11.32,11.684999999999995,"","","","","","","","","","","","","","","",42.927466666666668,85.854933333333335,20.418787766666714,698.26090266666654,10,69.826090266666654,0,69.826090266666654,8.3562007076581555,0.19465860337262286,1.24,15,"UYGUN  ","UYGUN  ",0.53048760613772139,0.16305991516267415]
[256,"Vinclozoline","GC-MS/MS",2070950,1893130,null,5171311,5802290,null,9522428,10490772,null,25030113,29861164,null,52268830,49494487,null,113624165,106722445,{"$nulls":8},256,"Vinclozoline",10,9.6240000000000006,10.574,11.833,7.84,9.8480000000000008,10.553000000000001,11.064,8.6189999999999998,11.358000000000001,11.936999999999999,11.156000000000001,10.430999999999999,10.321999999999999,9.1419999999999995,8.0250000000000004,{"$nulls":16},256,"Vinclozoline",50,46.712000000000003,44.411999999999999,40.698,52.558,43.747,40.575000000000003,44.56,51.05,42.908999999999999,49.481000000000002,45.863999999999997,43.253999999999998,46.649000000000001,43.447000000000003,36.000999999999998,{"$nulls":16},256,"Vinclozoline",10,11.372999999999999,9.1310000000000002,11.638999999999999,11.484999999999999,11.456,9.923,10.891999999999999,9.8330000000000002,10.074,11.842000000000001,8.6189999999999998,8.5109999999999992,7.0330000000000004,9.1449999999999996,10.69,{"$nulls":16},256,"Vinclozoline",50,48.83,42.091999999999999,49.454000000000001,41.182000000000002,43.381999999999998,42.174999999999997,39.465000000000003,48.868000000000002,42.83,51.055999999999997,45.868000000000002,43.718000000000004,52.774000000000001,54.988,37.484000000000002,{"$nulls":16},256,"Vinclozoline",10,9.9437999999999995,1.4580511650830508,99.437999999999988,14.662917245751633,"uygun","uygun",10.706199999999999,1.2696069076686707,107.06199999999998,11.85861377210094,"uygun","uygun",9.8152000000000008,1.2340801027486028,98.152000000000001,12.5731528929477,"uygun","uygun","--------","--------","--------","--------","uygun değil","uygun değil","--------","--------","--------","--------","uygun değil","uygun değil","--------","--------","--------","--------","uygun değil","uygun değil",null,255,"Vinclozoline",50,45.625399999999999,4.4306218299466726,91.250799999999998,9.710866819680863,"uygun","uygun",45.714999999999996,4.423580054661608,91.429999999999993,9.6764301753507773,"uygun","uygun",43.042999999999999,4.2059118511923197,86.085999999999999,9.7714189326773688,"uygun","uygun","--------","--------","--------","--------","uygun değil","uygun değil","--------","--------","--------","--------","uygun değil","uygun değil","--------","--------","--------","--------","uygun değil","uygun değil",{"$nulls":31},255,"Vinclozoline",10,1.4137599999999974E-3,3.2947599999999882E-3,3.3598890000000006E-2,4.6655999999999989E-2,2.3103999999999635E-4,3.0580900000000142E-3,1.132096000000001E-2,1.9071609999999999E-2,1.844164000000004E-2,3.7519689999999994E-2,1.3363360000000034E-2,1.8576099999999928E-3,1.0368400000000005E-3,7.3616400000000165E-3,3.9006250000000006E-2,"","","","","","","","","","","","","","","",4.3243775999999906E-3,1.2490297599999993E-2,3.4610881599999997E-2,2.6173456000000098E-3,1.5640003599999987E-2,3.553224999999996E-2,1.1837440000000001E-2,4.4099999999999614E-4,2.0112912400000016E-2,1.0774439999999885E-4,6.8425984000000028E-3,1.8203406400000011E-2,4.4916803999999954E-3,1.7176723599999989E-2,7.83888004E-2,"","","","","","","","","","","","","","","",1.8851289999999993E-2,7.5516099999999959E-3,2.6863209999999978E-2,2.2052249999999957E-2,2.1199359999999987E-2,5.929000000000062E-5,7.9566399999999905E-3,2.7888999999999789E-4,5.4760000000001082E-5,3.3929640000000053E-2,1.9071609999999999E-2,2.2171210000000011E-2,8.8030889999999973E-2,7.3102500000000034E-3,4.7609999999999935E-3,"","","","","","","","","","","","","","","",5.4756000000000412E-4,2.5014585600000024E-2,1.1924640000000088E-4,3.1102849599999986E-2,1.7519169600000009E-2,2.4492250000000024E-2,4.4394489999999953E-2,5.1256959999999971E-4,2.0563560000000022E-2,4.4605440000000115E-4,6.829369599999989E-3,1.5785409599999994E-2,3.0780303999999969E-3,9.9520576000000135E-3,6.2660102399999987E-2,"","","","","","","","","","","","","","","",60,1.0432088068000003,0.13185906660774854,null,255,"Vinclozoline",10,9.9716666666666658,9.511333333333333,9.5016666666666669,10.234666666666666,11.329333333333333,3,5,1.4013333333333335,-0.38033333333333275,2.1373333333333324,1.2503333333333337,0.12666666666666693,-4.8666666666665748E-2,1.3806666666666665,0.33133333333333326,-0.16066666666666585,0.51266666666666794,-1.352666666666666,-1.0003333333333337,-2.4686666666666666,-1.0896666666666661,-0.63933333333333309,"","","","","","","","","","","","","","","",10.109733333333331,101.09733333333331,1.6874418999999987,21.08380133333333,10,2.1083801333333332,0,2.1083801333333332,1.4520262164759055,0.14362655953430084,14.362655953430083,15,"UYGUN  ","UYGUN  ",0.28880024045124086,null,255,"Vinclozoline",50,45.624333333333333,41.758333333333333,50.365333333333332,46.333333333333336,43.973999999999997,3,5,3.2056666666666658,0.33366666666666589,-0.91133333333333155,-5.1513333333333335,-0.59199999999999875,-3.4493333333333354,-2.2933333333333294,-1.4973333333333301,-3.5033333333333374,7.0820000000000007,0.24366666666666958,1.9596666666666707,2.4086666666666687,8.6546666666666638,-6.4899999999999949,"","","","","","","","","","","","","","","",45.611066666666666,91.222133333333332,30.486328566666671,246.65691066666659,10,24.66569106666666,1.9402125000000037,26.605903566666665,5.1580910777793241,0.1130885869316655,{"$f":"SM266*100","v":11.308858693166551},15,"UYGUN  ","UYGUN  ",0.17904639891881211,0.12926255663930861]

{"sheet":"4_analist","index":1,"n_rows":170,"n_cols":20,"rows_kept":170,"cut":false,"hidden":false,"merged":[[123,7,123,9],[125,1,125,13],[126,1,126,2],[126,4,126,13],[169,1,169,2],[166,1,166,6],[128,1,133,1],[128,13,153,13],[134,1,139,1],[140,1,140,2],[140,4,140,12],[141,3,141,7],[141,8,141,12],[142,1,147,1],[148,1,153,1],[127,3,127,7],[127,8,127,12],[112,11,123,11],[99,12,123,12],[122,4,122,5],[122,7,122,9],[109,4,109,5],[109,7,109,9],[110,7,110,9],[112,7,112,9],[113,7,113,9],[114,7,114,9],[120,7,120,9],[121,4,121,5],[121,7,121,9],[115,7,115,9],[116,7,116,9],[32,4,32,5],[33,4,33,5],[34,4,34,5],[99,7,99,9],[108,4,108,5],[90,2,90,7],[117,7,117,9],[118,7,118,9],[119,7,119,9],[75,2,75,7],[76,2,76,7],[77,2,77,7],[91,2,91,7],[92,2,92,7],[93,2,93,7],[94,2,94,7],[78,2,78,7],[79,2,79,7],[80,2,80,7],[89,2,89,7],[99,11,110,11],[100,7,100,9],[101,7,101,9],[102,7,102,9],[103,7,103,9],[104,7,104,9],[105,7,105,9],[106,7,106,9],[107,7,107,9],[108,7,108,9],[31,4,31,5],[20,4,20,5],[21,4,21,5],[22,4,22,5],[23,4,23,5],[24,4,24,5],[25,4,25,5],[26,4,26,5],[27,4,27,5],[28,4,28,5],[29,4,29,5],[30,4,30,5],[19,4,19,5],[8,3,8,6],[9,3,9,7],[12,4,12,5],[13,4,13,5],[14,4,14,5],[15,4,15,5],[16,4,16,5],[17,4,17,5],[18,4,18,5],[10,7,11,7],[7,3,7,6],[1,0,1,2],[2,0,2,2],[3,1,4,2],[6,1,6,7],[3,3,4,5],[10,1,11,1],[10,2,11,2],[10,3,11,3],[10,4,11,5],[10,6,11,6]]}
[]
["Veri Girişine Geri Dön"]
[]
[null,"Pestisit Adı",null,"2,6-Dimethylaniline"]
[]
[]
[null,"Doğrusallık (Kalibrasyon (y=a+bx))"]
[null,"Kalibrasyon eğrisi verileri:",null,"a (kalibrasyon doğrusunun kesim noktası)",null,null,null,{"$f":"INTERCEPT(C13:C27,B13:B27)","v":-35324.205758735538}]
[null,null,null,"b (kalibrasyon doğrusunun eğimi)",null,null,null,{"$f":"SLOPE(C13:C27,B13:B27)","v":120160.07112163604}]
[null,"Kalibrasyon verileri"]
[null,"Xi (kons)","Yi (Alan)","Xi,hesaplanan","Sapma=xi,hesaplanan-xi",null,"% Sapma","Sapma kontrolü"]
[]
[null,{"$f":"VLOOKUP($B$11,Xi__kons,((ROW(A3)+1)))","v":2},{"$f":"VLOOKUP($D$4,DOĞRUSALLIK_KALIBRASYON_EĞRİSİ_VERİLERİ,(ROW(A2)+1),FALSE)","v":182398},{"$f":"IF(B13=0,\"--------\",IFERROR(((C13-$H$8)/$H$9),\"--------\"))","v":1.8119347277877274},{"$f":"IFERROR((B13-D13),\"--------\")","v":0.18806527221227265},null,{"$f":"IFERROR(((E13/B13)*100),\"--------\")","v":9.4032636106136316},{"$f":"IFERROR(IF(ABS(G13)>20,\"uygun değil\",\"uygun\"),\"--------\")","v":"uygun"}]
[null,2,180744,{"$f":"IF(B14=0,\"--------\",IFERROR(((C14-$H$8)/$H$9),\"--------\"))","v":1.7981697559084606},{"$f":"IFERROR((B14-D14),\"--------\")","v":0.20183024409153938},null,{"$f":"IFERROR(((E14/B14)*100),\"--------\")","v":10.091512204576969},"uygun"]
[null,0,0,"--------","--------",null,"--------","--------"]
[null,5,487485,4.3509395498734724,0.64906045012652758,null,12.981209002530553,"uygun"]
[null,5,559496,4.9502318050112422,4.9768194988757841E-2,null,0.99536389977515682,"uygun"]
[null,0,0,"--------","--------",null,"--------","--------"]
[null,10,1004077,8.6501380704624165,1.3498619295375835,null,13.498619295375835,"uygun"]
[null,10,1120788,9.6214341000882264,0.37856589991177358,null,3.7856589991177358,"uygun"]
[null,0,0,"--------","--------",null,"--------","--------"]
[null,25,3079491,25.922215064317498,-0.92221506431749845,null,-3.6888602572699938,"uygun"]
[null,{"$f":"VLOOKUP($B$11,Xi__kons,((ROW(A13)+1)))","v":25},3078023,25.909998027607241,-0.9099980276072408,null,-3.6399921104289632,"uygun"]
[null,0,{"$f":"VLOOKUP($D$4,DOĞRUSALLIK_KALIBRASYON_EĞRİSİ_VERİLERİ,(ROW(A13)+1),FALSE)","v":0},"--------","--------",null,"--------","--------"]
[null,50,6061621,50.74019305120833,-0.74019305120832968,null,-1.4803861024166594,"uygun"]
[null,50,5825467,48.774864653882858,1.2251353461171419,null,2.4502706922342838,"uygun"]
[null,0,0,"--------","--------",null,"--------","--------"]
[null,100,10567838,88.241976779668605,11.758023220331395,null,11.758023220331395,"uygun"]
[null,100,10638681,88.831548667723553,11.168451332276447,null,11.168451332276447,"uygun"]
[null,0,0,{"$f":"IF(B30=0,\"--------\",IFERROR(($H$8+$H$9*B30),\"--------\"))","v":"--------"},{"$f":"IFERROR((C30-D30),\"--------\")","v":"--------"},null,{"$f":"IFERROR(((E30/C30)*100),\"--------\")","v":"--------"},"--------"]
[null,0,0,"--------","--------",null,"--------","--------"]
[null,0,0,"--------","--------",null,"--------","--------"]
[null,0,0,"--------","--------",null,"--------","--------"]
[null,0,0,"--------","--------",null,"--------","--------"]
[null,0,0,"--------","--------",null,"--------","--------"]
[]
[]
[null,"Tekrarlanabilirlik-Kontrolü"]
[null,"Birinci konsantrasyon:",null,{"$f":"VLOOKUP($D$4,TEKRARLANABILIRLIK_1.KONS,((ROW(A1)+1)),FALSE)","v":10},"ppb"]
[null,"Tekrar (n)","I.Analist","II.Analist","III.Analist","IV.Analist","V.Analist","VI.Analist"]
[null,"Tekrar_1",{"$f":"IF(VLOOKUP($D$4,TEKRARLANABILIRLIK_1.KONS,((ROW(A2)+1)),FALSE)=0,\"-------- \",VLOOKUP($D$4,TEKRARLANABILIRLIK_1.KONS,((ROW(A2)+1)),FALSE))","v":9.766},{"$f":"IF(VLOOKUP($D$4,TEKRARLANABILIRLIK_1.KONS,((ROW(B7)+1)),FALSE)=0,\"-------- \",VLOOKUP($D$4,TEKRARLANABILIRLIK_1.KONS,((ROW(B7)+1)),FALSE))","v":10.922000000000001},{"$f":"IF(VLOOKUP($D$4,TEKRARLANABILIRLIK_1.KONS,((ROW(C12)+1)),FALSE)=0,\"-------- \",VLOOKUP($D$4,TEKRARLANABILIRLIK_1.KONS,((ROW(C12)+1)),FALSE))","v":11.362},{"$f":"IF(VLOOKUP($D$4,TEKRARLANABILIRLIK_1.KONS,((ROW(D17)+1)),FALSE)=0,\"-------- \",VLOOKUP($D$4,TEKRARLANABILIRLIK_1.KONS,((ROW(D17)+1)),FALSE))","v":"-------- "},{"$f":"IF(VLOOKUP($D$4,TEKRARLANABILIRLIK_1.KONS,((ROW(E22)+1)),FALSE)=0,\"-------- \",VLOOKUP($D$4,TEKRARLANABILIRLIK_1.KONS,((ROW(E22)+1)),FALSE))","v":"-------- "},{"$f":"IF(VLOOKUP($D$4,TEKRARLANABILIRLIK_1.KONS,((ROW(F27)+1)),FALSE)=0,\"-------- \",VLOOKUP($D$4,TEKRARLANABILIRLIK_1.KONS,((ROW(F27)+1)),FALSE))","v":"-------- "}]
[null,"Tekrar_2",{"$f":"IF(VLOOKUP($D$4,TEKRARLANABILIRLIK_1.KONS,((ROW(A3)+1)),FALSE)=0,\"-------- \",VLOOKUP($D$4,TEKRARLANABILIRLIK_1.KONS,((ROW(A3)+1)),FALSE))","v":11.579000000000001},{"$f":"IF(VLOOKUP($D$4,TEKRARLANABILIRLIK_1.KONS,((ROW(B8)+1)),FALSE)=0,\"-------- \",VLOOKUP($D$4,TEKRARLANABILIRLIK_1.KONS,((ROW(B8)+1)),FALSE))","v":11.137},{"$f":"IF(VLOOKUP($D$4,TEKRARLANABILIRLIK_1.KONS,((ROW(C13)+1)),FALSE)=0,\"-------- \",VLOOKUP($D$4,TEKRARLANABILIRLIK_1.KONS,((ROW(C13)+1)),FALSE))","v":10.525},{"$f":"IF(VLOOKUP($D$4,TEKRARLANABILIRLIK_1.KONS,((ROW(D18)+1)),FALSE)=0,\"-------- \",VLOOKUP($D$4,TEKRARLANABILIRLIK_1.KONS,((ROW(D18)+1)),FALSE))","v":"-------- "},{"$f":"IF(VLOOKUP($D$4,TEKRARLANABILIRLIK_1.KONS,((ROW(E23)+1)),FALSE)=0,\"-------- \",VLOOKUP($D$4,TEKRARLANABILIRLIK_1.KONS,((ROW(E23)+1)),FALSE))","v":"-------- "},{"$f":"IF(VLOOKUP($D$4,TEKRARLANABILIRLIK_1.KONS,((ROW(F28)+1)),FALSE)=0,\"-------- \",VLOOKUP($D$4,TEKRARLANABILIRLIK_1.KONS,((ROW(F28)+1)),FALSE))","v":"-------- "}]
[null,"Tekrar_3",{"$f":"IF(VLOOKUP($D$4,TEKRARLANABILIRLIK_1.KONS,((ROW(A4)+1)),FALSE)=0,\"-------- \",VLOOKUP($D$4,TEKRARLANABILIRLIK_1.KONS,((ROW(A4)+1)),FALSE))","v":11.404},{"$f":"IF(VLOOKUP($D$4,TEKRARLANABILIRLIK_1.KONS,((ROW(B9)+1)),FALSE)=0,\"-------- \",VLOOKUP($D$4,TEKRARLANABILIRLIK_1.KONS,((ROW(B9)+1)),FALSE))","v":9.859},{"$f":"IF(VLOOKUP($D$4,TEKRARLANABILIRLIK_1.KONS,((ROW(C14)+1)),FALSE)=0,\"-------- \",VLOOKUP($D$4,TEKRARLANABILIRLIK_1.KONS,((ROW(C14)+1)),FALSE))","v":11.183},{"$f":"IF(VLOOKUP($D$4,TEKRARLANABILIRLIK_1.KONS,((ROW(D19)+1)),FALSE)=0,\"-------- \",VLOOKUP($D$4,TEKRARLANABILIRLIK_1.KONS,((ROW(D19)+1)),FALSE))","v":"-------- "},{"$f":"IF(VLOOKUP($D$4,TEKRARLANABILIRLIK_1.KONS,((ROW(E24)+1)),FALSE)=0,\"-------- \",VLOOKUP($D$4,TEKRARLANABILIRLIK_1.KONS,((ROW(E24)+1)),FALSE))","v":"-------- "},{"$f":"IF(VLOOKUP($D$4,TEKRARLANABILIRLIK_1.KONS,((ROW(F29)+1)),FALSE)=0,\"-------- \",VLOOKUP($D$4,TEKRARLANABILIRLIK_1.KONS,((ROW(F29)+1)),FALSE))","v":"-------- "}]
[null,"Tekrar_4",{"$f":"IF(VLOOKUP($D$4,TEKRARLANABILIRLIK_1.KONS,((ROW(A5)+1)),FALSE)=0,\"-------- \",VLOOKUP($D$4,TEKRARLANABILIRLIK_1.KONS,((ROW(A5)+1)),FALSE))","v":10.664},{"$f":"IF(VLOOKUP($D$4,TEKRARLANABILIRLIK_1.KONS,((ROW(B10)+1)),FALSE)=0,\"-------- \",VLOOKUP($D$4,TEKRARLANABILIRLIK_1.KONS,((ROW(B10)+1)),FALSE))","v":9.8379999999999992},{"$f":"IF(VLOOKUP($D$4,TEKRARLANABILIRLIK_1.KONS,((ROW(C15)+1)),FALSE)=0,\"-------- \",VLOOKUP($D$4,TEKRARLANABILIRLIK_1.KONS,((ROW(C15)+1)),FALSE))","v":11.82},{"$f":"IF(VLOOKUP($D$4,TEKRARLANABILIRLIK_1.KONS,((ROW(D20)+1)),FALSE)=0,\"-------- \",VLOOKUP($D$4,TEKRARLANABILIRLIK_1.KONS,((ROW(D20)+1)),FALSE))","v":"-------- "},{"$f":"IF(VLOOKUP($D$4,TEKRARLANABILIRLIK_1.KONS,((ROW(E25)+1)),FALSE)=0,\"-------- \",VLOOKUP($D$4,TEKRARLANABILIRLIK_1.KONS,((ROW(E25)+1)),FALSE))","v":"-------- "},{"$f":"IF(VLOOKUP($D$4,TEKRARLANABILIRLIK_1.KONS,((ROW(F30)+1)),FALSE)=0,\"-------- \",VLOOKUP($D$4,TEKRARLANABILIRLIK_1.KONS,((ROW(F30)+1)),FALSE))","v":"-------- "}]
[null,"Tekrar_5",{"$f":"IF(VLOOKUP($D$4,TEKRARLANABILIRLIK_1.KONS,((ROW(A6)+1)),FALSE)=0,\"-------- \",VLOOKUP($D$4,TEKRARLANABILIRLIK_1.KONS,((ROW(A6)+1)),FALSE))","v":10.861000000000001},{"$f":"IF(VLOOKUP($D$4,TEKRARLANABILIRLIK_1.KONS,((ROW(B11)+1)),FALSE)=0,\"-------- \",VLOOKUP($D$4,TEKRARLANABILIRLIK_1.KONS,((ROW(B11)+1)),FALSE))","v":9.7040000000000006},{"$f":"IF(VLOOKUP($D$4,TEKRARLANABILIRLIK_1.KONS,((ROW(C16)+1)),FALSE)=0,\"-------- \",VLOOKUP($D$4,TEKRARLANABILIRLIK_1.KONS,((ROW(C16)+1)),FALSE))","v":11.15},{"$f":"IF(VLOOKUP($D$4,TEKRARLANABILIRLIK_1.KONS,((ROW(D21)+1)),FALSE)=0,\"-------- \",VLOOKUP($D$4,TEKRARLANABILIRLIK_1.KONS,((ROW(D21)+1)),FALSE))","v":"-------- "},{"$f":"IF(VLOOKUP($D$4,TEKRARLANABILIRLIK_1.KONS,((ROW(E26)+1)),FALSE)=0,\"-------- \",VLOOKUP($D$4,TEKRARLANABILIRLIK_1.KONS,((ROW(E26)+1)),FALSE))","v":"-------- "},{"$f":"IF(VLOOKUP($D$4,TEKRARLANABILIRLIK_1.KONS,((ROW(F31)+1)),FALSE)=0,\"-------- \",VLOOKUP($D$4,TEKRARLANABILIRLIK_1.KONS,((ROW(F31)+1)),FALSE))","v":"-------- "}]
[null,"ort",{"$f":"IFERROR(AVERAGE(C41:C45),\"-------- \")","v":10.854800000000001},10.292,11.208,"-------- ","-------- ","-------- "]
[null,"std sapma",{"$f":"IFERROR(_xlfn.STDEV.S(C41:C45),\"--------\")","v":0.71554433824886088},0.68012388577376137,0.46603057839588163,"--------","--------","--------"]
[null,"% RSD",{"$f":"IFERROR(C47/C46*100,\"--------\")","v":6.5919624336594023},6.6082771645332423,4.1580172947526908,"--------","--------","--------"]
[null,"% R (ort)",{"$f":"IFERROR(C46/$D$39*100,\"--------\")","v":108.548},102.91999999999999,112.08,"--------","--------","--------"]
[null,"Gerçeklik kontrolü",{"$f":"IF(C49=\"--------\",\"--------\",IF(C49<70,\"uygun değil\",IF(C49>120,\"uygun değil\",\"uygun\")))","v":"uygun"},"uygun","uygun","--------","--------","--------"]
[null,"Tekrarlanabilirlik kontrolü",{"$f":"IF(C48=\"--------\",\"--------\",IF(C48<=20,\"uygun\",\"uygun değil\"))","v":"uygun"},"uygun","uygun","--------","--------","--------"]
[]
[null,"İkinci konsantrasyon:",null,{"$f":"VLOOKUP($D$4,TEKRARLANABILIRLIK_2.Kons,((ROW(A1)+1)),FALSE)","v":50}]
[null,"Tekrar (n)","I.Analist","II.Analist","III.Analist","IV.Analist","IV.Analist","IV.Analist"]
[null,"Tekrar_1",{"$f":"IF(VLOOKUP($D$4,TEKRARLANABILIRLIK_2.Kons,(ROW(A3)),FALSE)=0,\"--------\",VLOOKUP($D$4,TEKRARLANABILIRLIK_2.Kons,(ROW(A3)),FALSE))","v":40.164000000000001},{"$f":"IF(VLOOKUP($D$4,TEKRARLANABILIRLIK_2.Kons,(ROW(A8)),FALSE)=0,\"--------\",VLOOKUP($D$4,TEKRARLANABILIRLIK_2.Kons,(ROW(A8)),FALSE))","v":42.128},{"$f":"IF(VLOOKUP($D$4,TEKRARLANABILIRLIK_2.Kons,(ROW(A13)),FALSE)=0,\"--------\",VLOOKUP($D$4,TEKRARLANABILIRLIK_2.Kons,(ROW(A13)),FALSE))","v":57.040999999999997},{"$f":"IF(VLOOKUP($D$4,TEKRARLANABILIRLIK_2.Kons,(ROW(A18)),FALSE)=0,\"--------\",VLOOKUP($D$4,TEKRARLANABILIRLIK_2.Kons,(ROW(A18)),FALSE))","v":"--------"},{"$f":"IF(VLOOKUP($D$4,TEKRARLANABILIRLIK_2.Kons,(ROW(A23)),FALSE)=0,\"--------\",VLOOKUP($D$4,TEKRARLANABILIRLIK_2.Kons,(ROW(A23)),FALSE))","v":"--------"},{"$f":"IF(VLOOKUP($D$4,TEKRARLANABILIRLIK_2.Kons,(ROW(A28)),FALSE)=0,\"--------\",VLOOKUP($D$4,TEKRARLANABILIRLIK_2.Kons,(ROW(A28)),FALSE))","v":"--------"}]
[null,"Tekrar_2",{"$f":"IF(VLOOKUP($D$4,TEKRARLANABILIRLIK_2.Kons,(ROW(A4)),FALSE)=0,\"--------\",VLOOKUP($D$4,TEKRARLANABILIRLIK_2.Kons,(ROW(A4)),FALSE))","v":47.552999999999997},{"$f":"IF(VLOOKUP($D$4,TEKRARLANABILIRLIK_2.Kons,(ROW(A9)),FALSE)=0,\"--------\",VLOOKUP($D$4,TEKRARLANABILIRLIK_2.Kons,(ROW(A9)),FALSE))","v":42.084000000000003},{"$f":"IF(VLOOKUP($D$4,TEKRARLANABILIRLIK_2.Kons,(ROW(A14)),FALSE)=0,\"--------\",VLOOKUP($D$4,TEKRARLANABILIRLIK_2.Kons,(ROW(A14)),FALSE))","v":54.348999999999997},{"$f":"IF(VLOOKUP($D$4,TEKRARLANABILIRLIK_2.Kons,(ROW(A19)),FALSE)=0,\"--------\",VLOOKUP($D$4,TEKRARLANABILIRLIK_2.Kons,(ROW(A19)),FALSE))","v":"--------"},{"$f":"IF(VLOOKUP($D$4,TEKRARLANABILIRLIK_2.Kons,(ROW(A24)),FALSE)=0,\"--------\",VLOOKUP($D$4,TEKRARLANABILIRLIK_2.Kons,(ROW(A24)),FALSE))","v":"--------"},{"$f":"IF(VLOOKUP($D$4,TEKRARLANABILIRLIK_2.Kons,(ROW(A29)),FALSE)=0,\"--------\",VLOOKUP($D$4,TEKRARLANABILIRLIK_2.Kons,(ROW(A29)),FALSE))","v":"--------"}]
[null,"Tekrar_3",{"$f":"IF(VLOOKUP($D$4,TEKRARLANABILIRLIK_2.Kons,(ROW(A5)),FALSE)=0,\"--------\",VLOOKUP($D$4,TEKRARLANABILIRLIK_2.Kons,(ROW(A5)),FALSE))","v":40.11},{"$f":"IF(VLOOKUP($D$4,TEKRARLANABILIRLIK_2.Kons,(ROW(A10)),FALSE)=0,\"--------\",VLOOKUP($D$4,TEKRARLANABILIRLIK_2.Kons,(ROW(A10)),FALSE))","v":48.673999999999999},{"$f":"IF(VLOOKUP($D$4,TEKRARLANABILIRLIK_2.Kons,(ROW(A15)),FALSE)=0,\"--------\",VLOOKUP($D$4,TEKRARLANABILIRLIK_2.Kons,(ROW(A15)),FALSE))","v":54.796999999999997},{"$f":"IF(VLOOKUP($D$4,TEKRARLANABILIRLIK_2.Kons,(ROW(A20)),FALSE)=0,\"--------\",VLOOKUP($D$4,TEKRARLANABILIRLIK_2.Kons,(ROW(A20)),FALSE))","v":"--------"},{"$f":"IF(VLOOKUP($D$4,TEKRARLANABILIRLIK_2.Kons,(ROW(A25)),FALSE)=0,\"--------\",VLOOKUP($D$4,TEKRARLANABILIRLIK_2.Kons,(ROW(A25)),FALSE))","v":"--------"},{"$f":"IF(VLOOKUP($D$4,TEKRARLANABILIRLIK_2.Kons,(ROW(A30)),FALSE)=0,\"--------\",VLOOKUP($D$4,TEKRARLANABILIRLIK_2.Kons,(ROW(A30)),FALSE))","v":"--------"}]
[null,"Tekrar_4",{"$f":"IF(VLOOKUP($D$4,TEKRARLANABILIRLIK_2.Kons,(ROW(A6)),FALSE)=0,\"--------\",VLOOKUP($D$4,TEKRARLANABILIRLIK_2.Kons,(ROW(A6)),FALSE))","v":41.006},{"$f":"IF(VLOOKUP($D$4,TEKRARLANABILIRLIK_2.Kons,(ROW(A11)),FALSE)=0,\"--------\",VLOOKUP($D$4,TEKRARLANABILIRLIK_2.Kons,(ROW(A11)),FALSE))","v":43.363},{"$f":"IF(VLOOKUP($D$4,TEKRARLANABILIRLIK_2.Kons,(ROW(A16)),FALSE)=0,\"--------\",VLOOKUP($D$4,TEKRARLANABILIRLIK_2.Kons,(ROW(A16)),FALSE))","v":53.856000000000002},{"$f":"IF(VLOOKUP($D$4,TEKRARLANABILIRLIK_2.Kons,(ROW(A21)),FALSE)=0,\"--------\",VLOOKUP($D$4,TEKRARLANABILIRLIK_2.Kons,(ROW(A21)),FALSE))","v":"--------"},{"$f":"IF(VLOOKUP($D$4,TEKRARLANABILIRLIK_2.Kons,(ROW(A26)),FALSE)=0,\"--------\",VLOOKUP($D$4,TEKRARLANABILIRLIK_2.Kons,(ROW(A26)),FALSE))","v":"--------"},{"$f":"IF(VLOOKUP($D$4,TEKRARLANABILIRLIK_2.Kons,(ROW(A31)),FALSE)=0,\"--------\",VLOOKUP($D$4,TEKRARLANABILIRLIK_2.Kons,(ROW(A31)),FALSE))","v":"--------"}]
[null,"Tekrar_5",{"$f":"IF(VLOOKUP($D$4,TEKRARLANABILIRLIK_2.Kons,(ROW(A7)),FALSE)=0,\"--------\",VLOOKUP($D$4,TEKRARLANABILIRLIK_2.Kons,(ROW(A7)),FALSE))","v":46.787999999999997},{"$f":"IF(VLOOKUP($D$4,TEKRARLANABILIRLIK_2.Kons,(ROW(A12)),FALSE)=0,\"--------\",VLOOKUP($D$4,TEKRARLANABILIRLIK_2.Kons,(ROW(A12)),FALSE))","v":44.811},{"$f":"IF(VLOOKUP($D$4,TEKRARLANABILIRLIK_2.Kons,(ROW(A17)),FALSE)=0,\"--------\",VLOOKUP($D$4,TEKRARLANABILIRLIK_2.Kons,(ROW(A17)),FALSE))","v":35.445999999999998},{"$f":"IF(VLOOKUP($D$4,TEKRARLANABILIRLIK_2.Kons,(ROW(A22)),FALSE)=0,\"--------\",VLOOKUP($D$4,TEKRARLANABILIRLIK_2.Kons,(ROW(A22)),FALSE))","v":"--------"},{"$f":"IF(VLOOKUP($D$4,TEKRARLANABILIRLIK_2.Kons,(ROW(A27)),FALSE)=0,\"--------\",VLOOKUP($D$4,TEKRARLANABILIRLIK_2.Kons,(ROW(A27)),FALSE))","v":"--------"},{"$f":"IF(VLOOKUP($D$4,TEKRARLANABILIRLIK_2.Kons,(ROW(A32)),FALSE)=0,\"--------\",VLOOKUP($D$4,TEKRARLANABILIRLIK_2.Kons,(ROW(A32)),FALSE))","v":"--------"}]
[null,"ort",{"$f":"IFERROR(AVERAGE(C55:C59),\"-------- \")","v":43.124199999999995},44.212000000000003,51.097799999999992,"-------- ","-------- ","-------- "]
[null,"std sapma",{"$f":"IFERROR(_xlfn.STDEV.S(C55:C59),\"--------\")","v":3.7206402943579464},2.7322374530776043,8.8340607706762135,"--------","--------","--------"]
[null,"% RSD",{"$f":"IFERROR(C61/C60*100,\"--------\")","v":8.6277317477378066},6.1798549106070837,17.28853447834587,"--------","--------","--------"]
[null,"% R (ort)",{"$f":"IFERROR(C60/$D$53*100,\"--------\")","v":86.24839999999999},88.424000000000007,102.19559999999998,"--------","--------","--------"]
[null,"Gerçeklik kontrolü",{"$f":"IF(C63=\"--------\",\"--------\",IF(C63<70,\"uygun değil\",IF(C63>120,\"uygun değil\",\"uygun\")))","v":"uygun"},"uygun","uygun","--------","--------","--------"]
[null,"Tekrarlanabilirlik kontrolü",{"$f":"IF(C62=\"--------\",\"--------\",IF(C62<=20,\"uygun\",\"uygun değil\"))","v":"uygun"},"uygun","uygun","--------","--------","--------"]
[]
[]
[null,"Lab İçi TekrarÜretilebilirlik-Kontrolü"]
[null,"Birinci konsantrasyon:",null,{"$f":"VLOOKUP($D$4,TEKRARLANABILIRLIK_1.KONS,((ROW(A1)+1)),FALSE)","v":10},"ppb"]
[null,"Tekrar (n)","I.Analist","II.Analist","III.Analist","IV.Analist","V.Analist","VI.Analist"]
[null,"Tekrar_1",{"$f":"IF(VLOOKUP($D$4,TEK_URETBLRLK_1.Kons,((ROW(A2)+1)),FALSE)=0,\"-------- \",VLOOKUP($D$4,TEK_URETBLRLK_1.Kons,((ROW(A2)+1)),FALSE))","v":11.818},{"$f":"IF(VLOOKUP($D$4,TEK_URETBLRLK_1.Kons,((ROW(A7)+1)),FALSE)=0,\"-------- \",VLOOKUP($D$4,TEK_URETBLRLK_1.Kons,((ROW(A7)+1)),FALSE))","v":11.195},{"$f":"IF(VLOOKUP($D$4,TEK_URETBLRLK_1.Kons,((ROW(A12)+1)),FALSE)=0,\"-------- \",VLOOKUP($D$4,TEK_URETBLRLK_1.Kons,((ROW(A12)+1)),FALSE))","v":11.51},{"$f":"IF(VLOOKUP($D$4,TEK_URETBLRLK_1.Kons,((ROW(A17)+1)),FALSE)=0,\"-------- \",VLOOKUP($D$4,TEK_URETBLRLK_1.Kons,((ROW(D2)+1)),FALSE))","v":"-------- "},{"$f":"IF(VLOOKUP($D$4,TEK_URETBLRLK_1.Kons,((ROW(A22)+1)),FALSE)=0,\"-------- \",VLOOKUP($D$4,TEK_URETBLRLK_1.Kons,((ROW(A22)+1)),FALSE))","v":"-------- "},{"$f":"IF(VLOOKUP($D$4,TEK_URETBLRLK_1.Kons,((ROW(A27)+1)),FALSE)=0,\"-------- \",VLOOKUP($D$4,TEK_URETBLRLK_1.Kons,((ROW(A27)+1)),FALSE))","v":"-------- "}]
[null,"Tekrar_2",{"$f":"IF(VLOOKUP($D$4,TEK_URETBLRLK_1.Kons,((ROW(A3)+1)),FALSE)=0,\"-------- \",VLOOKUP($D$4,TEK_URETBLRLK_1.Kons,((ROW(A3)+1)),FALSE))","v":11.315},{"$f":"IF(VLOOKUP($D$4,TEK_URETBLRLK_1.Kons,((ROW(A8)+1)),FALSE)=0,\"-------- \",VLOOKUP($D$4,TEK_URETBLRLK_1.Kons,((ROW(A8)+1)),FALSE))","v":11.691000000000001},{"$f":"IF(VLOOKUP($D$4,TEK_URETBLRLK_1.Kons,((ROW(A13)+1)),FALSE)=0,\"-------- \",VLOOKUP($D$4,TEK_URETBLRLK_1.Kons,((ROW(A13)+1)),FALSE))","v":11.752000000000001},{"$f":"IF(VLOOKUP($D$4,TEK_URETBLRLK_1.Kons,((ROW(A18)+1)),FALSE)=0,\"-------- \",VLOOKUP($D$4,TEK_URETBLRLK_1.Kons,((ROW(D3)+1)),FALSE))","v":"-------- "},{"$f":"IF(VLOOKUP($D$4,TEK_URETBLRLK_1.Kons,((ROW(A23)+1)),FALSE)=0,\"-------- \",VLOOKUP($D$4,TEK_URETBLRLK_1.Kons,((ROW(A23)+1)),FALSE))","v":"-------- "},{"$f":"IF(VLOOKUP($D$4,TEK_URETBLRLK_1.Kons,((ROW(A28)+1)),FALSE)=0,\"-------- \",VLOOKUP($D$4,TEK_URETBLRLK_1.Kons,((ROW(A28)+1)),FALSE))","v":"-------- "}]
[null,"Tekrar_3",{"$f":"IF(VLOOKUP($D$4,TEK_URETBLRLK_1.Kons,((ROW(A4)+1)),FALSE)=0,\"-------- \",VLOOKUP($D$4,TEK_URETBLRLK_1.Kons,((ROW(A4)+1)),FALSE))","v":11.068},{"$f":"IF(VLOOKUP($D$4,TEK_URETBLRLK_1.Kons,((ROW(A9)+1)),FALSE)=0,\"-------- \",VLOOKUP($D$4,TEK_URETBLRLK_1.Kons,((ROW(A9)+1)),FALSE))","v":11.218999999999999},{"$f":"IF(VLOOKUP($D$4,TEK_URETBLRLK_1.Kons,((ROW(A14)+1)),FALSE)=0,\"-------- \",VLOOKUP($D$4,TEK_URETBLRLK_1.Kons,((ROW(A14)+1)),FALSE))","v":7.57},{"$f":"IF(VLOOKUP($D$4,TEK_URETBLRLK_1.Kons,((ROW(A19)+1)),FALSE)=0,\"-------- \",VLOOKUP($D$4,TEK_URETBLRLK_1.Kons,((ROW(D4)+1)),FALSE))","v":"-------- "},{"$f":"IF(VLOOKUP($D$4,TEK_URETBLRLK_1.Kons,((ROW(A24)+1)),FALSE)=0,\"-------- \",VLOOKUP($D$4,TEK_URETBLRLK_1.Kons,((ROW(A24)+1)),FALSE))","v":"-------- "},{"$f":"IF(VLOOKUP($D$4,TEK_URETBLRLK_1.Kons,((ROW(A29)+1)),FALSE)=0,\"-------- \",VLOOKUP($D$4,TEK_URETBLRLK_1.Kons,((ROW(A29)+1)),FALSE))","v":"-------- "}]
[null,"Tekrar_4",{"$f":"IF(VLOOKUP($D$4,TEK_URETBLRLK_1.Kons,((ROW(A5)+1)),FALSE)=0,\"-------- \",VLOOKUP($D$4,TEK_URETBLRLK_1.Kons,((ROW(A5)+1)),FALSE))","v":11.173},{"$f":"IF(VLOOKUP($D$4,TEK_URETBLRLK_1.Kons,((ROW(A10)+1)),FALSE)=0,\"-------- \",VLOOKUP($D$4,TEK_URETBLRLK_1.Kons,((ROW(A10)+1)),FALSE))","v":10.746},{"$f":"IF(VLOOKUP($D$4,TEK_URETBLRLK_1.Kons,((ROW(A15)+1)),FALSE)=0,\"-------- \",VLOOKUP($D$4,TEK_URETBLRLK_1.Kons,((ROW(A15)+1)),FALSE))","v":10.688000000000001},{"$f":"IF(VLOOKUP($D$4,TEK_URETBLRLK_1.Kons,((ROW(A20)+1)),FALSE)=0,\"-------- \",VLOOKUP($D$4,TEK_URETBLRLK_1.Kons,((ROW(D5)+1)),FALSE))","v":"-------- "},{"$f":"IF(VLOOKUP($D$4,TEK_URETBLRLK_1.Kons,((ROW(A25)+1)),FALSE)=0,\"-------- \",VLOOKUP($D$4,TEK_URETBLRLK_1.Kons,((ROW(A25)+1)),FALSE))","v":"-------- "},{"$f":"IF(VLOOKUP($D$4,TEK_URETBLRLK_1.Kons,((ROW(A30)+1)),FALSE)=0,\"-------- \",VLOOKUP($D$4,TEK_URETBLRLK_1.Kons,((ROW(A30)+1)),FALSE))","v":"-------- "}]
[null,"Tekrar_5",{"$f":"IF(VLOOKUP($D$4,TEK_URETBLRLK_1.Kons,((ROW(A6)+1)),FALSE)=0,\"-------- \",VLOOKUP($D$4,TEK_URETBLRLK_1.Kons,((ROW(A6)+1)),FALSE))","v":10.821},{"$f":"IF(VLOOKUP($D$4,TEK_URETBLRLK_1.Kons,((ROW(A11)+1)),FALSE)=0,\"-------- \",VLOOKUP($D$4,TEK_URETBLRLK_1.Kons,((ROW(A11)+1)),FALSE))","v":10.646000000000001},{"$f":"IF(VLOOKUP($D$4,TEK_URETBLRLK_1.Kons,((ROW(A16)+1)),FALSE)=0,\"-------- \",VLOOKUP($D$4,TEK_URETBLRLK_1.Kons,((ROW(A16)+1)),FALSE))","v":11.773},{"$f":"IF(VLOOKUP($D$4,TEK_URETBLRLK_1.Kons,((ROW(A21)+1)),FALSE)=0,\"-------- \",VLOOKUP($D$4,TEK_URETBLRLK_1.Kons,((ROW(D6)+1)),FALSE))","v":"-------- "},{"$f":"IF(VLOOKUP($D$4,TEK_URETBLRLK_1.Kons,((ROW(A26)+1)),FALSE)=0,\"-------- \",VLOOKUP($D$4,TEK_URETBLRLK_1.Kons,((ROW(A26)+1)),FALSE))","v":"-------- "},{"$f":"IF(VLOOKUP($D$4,TEK_URETBLRLK_1.Kons,((ROW(A31)+1)),FALSE)=0,\"-------- \",VLOOKUP($D$4,TEK_URETBLRLK_1.Kons,((ROW(A31)+1)),FALSE))","v":"-------- "}]
[null,"ort",{"$f":"IFERROR(AVERAGE(C71:H75),\"-------- \")","v":10.998999999999999}]
[null,"SwR",{"$f":"K106","v":1.0381174039791663}]
[null,"% RSDwR",20]
[null,"% R ( genelort)",{"$f":"IFERROR(C76/$D$69*100,\"--------\")","v":109.98999999999998}]
[null,"Gerçeklik kontrolü",{"$f":"IF(C79=\"--------\",\"--------\",IF(C79<70,\"uygun değil\",IF(C79>120,\"uygun değil\",\"uygun\")))","v":"uygun"}]
[null,"Tekrarlanabilirlik kontrolü",{"$f":"IF(C78=\"--------\",\"--------\",IF(C78<=20,\"uygun\",\"uygun değil\"))","v":"uygun"}]
[]
[null,"İkinci konsantrasyon:",null,{"$f":"VLOOKUP($D$4,TEKRARLANABILIRLIK_2.Kons,((ROW(A1)+1)),FALSE)","v":50}]
[null,"Tekrar (n)","I.Analist","II.Analist","III.Analist","IV.Analist","IV.Analist","IV.Analist"]
[null,"Tekrar_1",{"$f":"IF(VLOOKUP($D$4,TEK_URETBLRLK_2.Kons,((ROW(A2)+1)),FALSE)=0,\"-------- \",VLOOKUP($D$4,TEK_URETBLRLK_2.Kons,((ROW(A2)+1)),FALSE))","v":43.32},{"$f":"IF(VLOOKUP($D$4,TEK_URETBLRLK_2.Kons,((ROW(A7)+1)),FALSE)=0,\"-------- \",VLOOKUP($D$4,TEK_URETBLRLK_2.Kons,((ROW(A7)+1)),FALSE))","v":42.314999999999998},{"$f":"IF(VLOOKUP($D$4,TEK_URETBLRLK_2.Kons,((ROW(A12)+1)),FALSE)=0,\"-------- \",VLOOKUP($D$4,TEK_URETBLRLK_2.Kons,((ROW(A12)+1)),FALSE))","v":57.942999999999998},{"$f":"IF(VLOOKUP($D$4,TEK_URETBLRLK_2.Kons,((ROW(A17)+1)),FALSE)=0,\"-------- \",VLOOKUP($D$4,TEK_URETBLRLK_2.Kons,((ROW(A17)+1)),FALSE))","v":"-------- "},{"$f":"IF(VLOOKUP($D$4,TEK_URETBLRLK_2.Kons,((ROW(A22)+1)),FALSE)=0,\"-------- \",VLOOKUP($D$4,TEK_URETBLRLK_2.Kons,((ROW(A22)+1)),FALSE))","v":"-------- "},{"$f":"IF(VLOOKUP($D$4,TEK_URETBLRLK_2.Kons,((ROW(A27)+1)),FALSE)=0,\"-------- \",VLOOKUP($D$4,TEK_URETBLRLK_2.Kons,((ROW(A27)+1)),FALSE))","v":"-------- "}]
[null,"Tekrar_2",{"$f":"IF(VLOOKUP($D$4,TEK_URETBLRLK_2.Kons,((ROW(A3)+1)),FALSE)=0,\"-------- \",VLOOKUP($D$4,TEK_URETBLRLK_2.Kons,((ROW(A3)+1)),FALSE))","v":48.834000000000003},{"$f":"IF(VLOOKUP($D$4,TEK_URETBLRLK_2.Kons,((ROW(A8)+1)),FALSE)=0,\"-------- \",VLOOKUP($D$4,TEK_URETBLRLK_2.Kons,((ROW(A8)+1)),FALSE))","v":37.936},{"$f":"IF(VLOOKUP($D$4,TEK_URETBLRLK_2.Kons,((ROW(A13)+1)),FALSE)=0,\"-------- \",VLOOKUP($D$4,TEK_URETBLRLK_2.Kons,((ROW(A13)+1)),FALSE))","v":52.618000000000002},{"$f":"IF(VLOOKUP($D$4,TEK_URETBLRLK_2.Kons,((ROW(A18)+1)),FALSE)=0,\"-------- \",VLOOKUP($D$4,TEK_URETBLRLK_2.Kons,((ROW(A18)+1)),FALSE))","v":"-------- "},{"$f":"IF(VLOOKUP($D$4,TEK_URETBLRLK_2.Kons,((ROW(A23)+1)),FALSE)=0,\"-------- \",VLOOKUP($D$4,TEK_URETBLRLK_2.Kons,((ROW(A23)+1)),FALSE))","v":"-------- "},{"$f":"IF(VLOOKUP($D$4,TEK_URETBLRLK_2.Kons,((ROW(A28)+1)),FALSE)=0,\"-------- \",VLOOKUP($D$4,TEK_URETBLRLK_2.Kons,((ROW(A28)+1)),FALSE))","v":"-------- "}]
[null,"Tekrar_3",{"$f":"IF(VLOOKUP($D$4,TEK_URETBLRLK_2.Kons,((ROW(A4)+1)),FALSE)=0,\"-------- \",VLOOKUP($D$4,TEK_URETBLRLK_2.Kons,((ROW(A4)+1)),FALSE))","v":44.720999999999997},{"$f":"IF(VLOOKUP($D$4,TEK_URETBLRLK_2.Kons,((ROW(A9)+1)),FALSE)=0,\"-------- \",VLOOKUP($D$4,TEK_URETBLRLK_2.Kons,((ROW(A9)+1)),FALSE))","v":39.118000000000002},{"$f":"IF(VLOOKUP($D$4,TEK_URETBLRLK_2.Kons,((ROW(A14)+1)),FALSE)=0,\"-------- \",VLOOKUP($D$4,TEK_URETBLRLK_2.Kons,((ROW(A14)+1)),FALSE))","v":51.948},{"$f":"IF(VLOOKUP($D$4,TEK_URETBLRLK_2.Kons,((ROW(A19)+1)),FALSE)=0,\"-------- \",VLOOKUP($D$4,TEK_URETBLRLK_2.Kons,((ROW(A19)+1)),FALSE))","v":"-------- "},{"$f":"IF(VLOOKUP($D$4,TEK_URETBLRLK_2.Kons,((ROW(A24)+1)),FALSE)=0,\"-------- \",VLOOKUP($D$4,TEK_URETBLRLK_2.Kons,((ROW(A24)+1)),FALSE))","v":"-------- "},{"$f":"IF(VLOOKUP($D$4,TEK_URETBLRLK_2.Kons,((ROW(A29)+1)),FALSE)=0,\"-------- \",VLOOKUP($D$4,TEK_URETBLRLK_2.Kons,((ROW(A29)+1)),FALSE))","v":"-------- "}]
[null,"Tekrar_4",{"$f":"IF(VLOOKUP($D$4,TEK_URETBLRLK_2.Kons,((ROW(A5)+1)),FALSE)=0,\"-------- \",VLOOKUP($D$4,TEK_URETBLRLK_2.Kons,((ROW(A5)+1)),FALSE))","v":45.067},{"$f":"IF(VLOOKUP($D$4,TEK_URETBLRLK_2.Kons,((ROW(A10)+1)),FALSE)=0,\"-------- \",VLOOKUP($D$4,TEK_URETBLRLK_2.Kons,((ROW(A10)+1)),FALSE))","v":51.320999999999998},{"$f":"IF(VLOOKUP($D$4,TEK_URETBLRLK_2.Kons,((ROW(A15)+1)),FALSE)=0,\"-------- \",VLOOKUP($D$4,TEK_URETBLRLK_2.Kons,((ROW(A15)+1)),FALSE))","v":59.393999999999998},{"$f":"IF(VLOOKUP($D$4,TEK_URETBLRLK_2.Kons,((ROW(A20)+1)),FALSE)=0,\"-------- \",VLOOKUP($D$4,TEK_URETBLRLK_2.Kons,((ROW(A20)+1)),FALSE))","v":"-------- "},{"$f":"IF(VLOOKUP($D$4,TEK_URETBLRLK_2.Kons,((ROW(A25)+1)),FALSE)=0,\"-------- \",VLOOKUP($D$4,TEK_URETBLRLK_2.Kons,((ROW(A25)+1)),FALSE))","v":"-------- "},{"$f":"IF(VLOOKUP($D$4,TEK_URETBLRLK_2.Kons,((ROW(A30)+1)),FALSE)=0,\"-------- \",VLOOKUP($D$4,TEK_URETBLRLK_2.Kons,((ROW(A30)+1)),FALSE))","v":"-------- "}]
[null,"Tekrar_5",{"$f":"IF(VLOOKUP($D$4,TEK_URETBLRLK_2.Kons,((ROW(A6)+1)),FALSE)=0,\"-------- \",VLOOKUP($D$4,TEK_URETBLRLK_2.Kons,((ROW(A6)+1)),FALSE))","v":35.345999999999997},{"$f":"IF(VLOOKUP($D$4,TEK_URETBLRLK_2.Kons,((ROW(A11)+1)),FALSE)=0,\"-------- \",VLOOKUP($D$4,TEK_URETBLRLK_2.Kons,((ROW(A11)+1)),FALSE))","v":50.491999999999997},{"$f":"IF(VLOOKUP($D$4,TEK_URETBLRLK_2.Kons,((ROW(A16)+1)),FALSE)=0,\"-------- \",VLOOKUP($D$4,TEK_URETBLRLK_2.Kons,((ROW(A16)+1)),FALSE))","v":50.139000000000003},{"$f":"IF(VLOOKUP($D$4,TEK_URETBLRLK_2.Kons,((ROW(A21)+1)),FALSE)=0,\"-------- \",VLOOKUP($D$4,TEK_URETBLRLK_2.Kons,((ROW(A21)+1)),FALSE))","v":"-------- "},{"$f":"IF(VLOOKUP($D$4,TEK_URETBLRLK_2.Kons,((ROW(A26)+1)),FALSE)=0,\"-------- \",VLOOKUP($D$4,TEK_URETBLRLK_2.Kons,((ROW(A26)+1)),FALSE))","v":"-------- "},{"$f":"IF(VLOOKUP($D$4,TEK_URETBLRLK_2.Kons,((ROW(A31)+1)),FALSE)=0,\"-------- \",VLOOKUP($D$4,TEK_URETBLRLK_2.Kons,((ROW(A31)+1)),FALSE))","v":"-------- "}]
[null,"ort",{"$f":"IFERROR(AVERAGE(C85:H89),\"-------- \")","v":47.367466666666665}]
[null,"SwR",{"$f":"K119","v":7.7757364238593736}]
[null,"% RSDwR",{"$f":"K121","v":16.415774308933642}]
[null,"% R ( genelort)",{"$f":"IFERROR(C90/$D$83*100,\"--------\")","v":94.734933333333331}]
[null,"Gerçeklik kontrolü",{"$f":"IF(C93=\"--------\",\"--------\",IF(C93<70,\"uygun değil\",IF(C93>120,\"uygun değil\",\"uygun\")))","v":"uygun"}]
[null,"Tekrarlanabilirlik kontrolü",{"$f":"IF(C92=\"--------\",\"--------\",IF(C92<=20,\"uygun\",\"uygun değil\"))","v":"uygun"}]
[]
[]
[null,"Tekrarüretilebilirlik-Gerçeklik"]
[null,"Birinci konsantrasyon:",null,{"$f":"VLOOKUP($D$4,TEK_URETBLRLK_1.Kons,((ROW(A1)+1)),FALSE)","v":10},"ppb",{"$nulls":6},"(RSD2)*(n-1)","RSDWR,pool"]
[null,"Zaman dilimi","1.zaman","2.zaman","3.zaman","4.zaman","5.zaman","Genel ortalama",null,null,{"$f":"IFERROR(AVERAGE(C101:G106),\"--------\")","v":10.998999999999999},{"$f":"IFERROR((K107^2)*(K109-1),\"--------\")","v":0.12471381819428651},{"$f":"IFERROR(SQRT((L100+L113)/((K109-1)+(K122-1))),\"--------\")","v":0.13389528462049186},null,{"$f":"IFERROR(C101-$C$107,\"\")","v":0.31033333333333424},{"$f":"IFERROR(D101-$D$107,\"\")","v":-0.2710000000000008},{"$f":"IFERROR(E101-$E$107,\"\")","v":1.1156666666666659},{"$f":"IFERROR(F101-$F$107,\"\")","v":0.30400000000000027},{"$f":"IFERROR(G101-$G$107,\"\")","v":-0.25899999999999856},{"$f":"IFERROR($C$107-H101,\"\")","v":""}]
[null,"I.Analist",{"$f":"IF(VLOOKUP($D$4,TEK_URETBLRLK_1.Kons,((COLUMN(B1)+1)),FALSE)=0,\"--------\",VLOOKUP($D$4,TEK_URETBLRLK_1.Kons,((COLUMN(B1)+1)),FALSE))","v":11.818},{"$f":"IF(VLOOKUP($D$4,TEK_URETBLRLK_1.Kons,((COLUMN(C1)+1)),FALSE)=0,\"--------\",VLOOKUP($D$4,TEK_URETBLRLK_1.Kons,((COLUMN(C1)+1)),FALSE))","v":11.315},{"$f":"IF(VLOOKUP($D$4,TEK_URETBLRLK_1.Kons,((COLUMN(D1)+1)),FALSE)=0,\"--------\",VLOOKUP($D$4,TEK_URETBLRLK_1.Kons,((COLUMN(D1)+1)),FALSE))","v":11.068},{"$f":"IF(VLOOKUP($D$4,TEK_URETBLRLK_1.Kons,((COLUMN(E1)+1)),FALSE)=0,\"--------\",VLOOKUP($D$4,TEK_URETBLRLK_1.Kons,((COLUMN(E1)+1)),FALSE))","v":11.173},{"$f":"IF(VLOOKUP($D$4,TEK_URETBLRLK_1.Kons,((COLUMN(F1)+1)),FALSE)=0,\"--------\",VLOOKUP($D$4,TEK_URETBLRLK_1.Kons,((COLUMN(F1)+1)),FALSE))","v":10.821},"% Geri Kazanım (genel)",null,null,{"$f":"IFERROR(K100/$D$99*100,\"--------\")","v":109.98999999999998},null,null,null,-0.31266666666666509,0.10500000000000043,1.2666666666666657,-0.12299999999999933,-0.4339999999999975,""]
[null,"II.Analist",{"$f":"IF(VLOOKUP($D$4,TEK_URETBLRLK_1.Kons,((COLUMN(G1)+1)),FALSE)=0,\"--------\",VLOOKUP($D$4,TEK_URETBLRLK_1.Kons,((COLUMN(G1)+1)),FALSE))","v":11.195},{"$f":"IF(VLOOKUP($D$4,TEK_URETBLRLK_1.Kons,((COLUMN(H1)+1)),FALSE)=0,\"--------\",VLOOKUP($D$4,TEK_URETBLRLK_1.Kons,((COLUMN(H1)+1)),FALSE))","v":11.691000000000001},{"$f":"IF(VLOOKUP($D$4,TEK_URETBLRLK_1.Kons,((COLUMN(I1)+1)),FALSE)=0,\"--------\",VLOOKUP($D$4,TEK_URETBLRLK_1.Kons,((COLUMN(I1)+1)),FALSE))","v":11.218999999999999},{"$f":"IF(VLOOKUP($D$4,TEK_URETBLRLK_1.Kons,((COLUMN(J1)+1)),FALSE)=0,\"--------\",VLOOKUP($D$4,TEK_URETBLRLK_1.Kons,((COLUMN(J1)+1)),FALSE))","v":10.746},{"$f":"IF(VLOOKUP($D$4,TEK_URETBLRLK_1.Kons,((COLUMN(K1)+1)),FALSE)=0,\"--------\",VLOOKUP($D$4,TEK_URETBLRLK_1.Kons,((COLUMN(K1)+1)),FALSE))","v":10.646000000000001},"Ortalamanın varyansı (Sd2)",null,null,{"$f":"IFERROR((1/(G109-1))*(G110)*(((C107-K100)^2)+((D107-K100)^2)+((E107-K100)^2)+((F107-K100)^2)+((G107-K100)^2)),\"--------\")","v":1.2917121666666651},null,null,null,2.3333333333344086E-3,0.16600000000000037,-2.3823333333333334,-0.18099999999999916,0.69300000000000139,""]
[null,"III.Analist",{"$f":"IF(VLOOKUP($D$4,TEK_URETBLRLK_1.Kons,((COLUMN(L1)+1)),FALSE)=0,\"--------\",VLOOKUP($D$4,TEK_URETBLRLK_1.Kons,((COLUMN(L1)+1)),FALSE))","v":11.51},{"$f":"IF(VLOOKUP($D$4,TEK_URETBLRLK_1.Kons,((COLUMN(M1)+1)),FALSE)=0,\"--------\",VLOOKUP($D$4,TEK_URETBLRLK_1.Kons,((COLUMN(M1)+1)),FALSE))","v":11.752000000000001},{"$f":"IF(VLOOKUP($D$4,TEK_URETBLRLK_1.Kons,((COLUMN(N1)+1)),FALSE)=0,\"--------\",VLOOKUP($D$4,TEK_URETBLRLK_1.Kons,((COLUMN(N1)+1)),FALSE))","v":7.57},{"$f":"IF(VLOOKUP($D$4,TEK_URETBLRLK_1.Kons,((COLUMN(O1)+1)),FALSE)=0,\"--------\",VLOOKUP($D$4,TEK_URETBLRLK_1.Kons,((COLUMN(O1)+1)),FALSE))","v":10.688000000000001},{"$f":"IF(VLOOKUP($D$4,TEK_URETBLRLK_1.Kons,((COLUMN(P1)+1)),FALSE)=0,\"--------\",VLOOKUP($D$4,TEK_URETBLRLK_1.Kons,((COLUMN(P1)+1)),FALSE))","v":11.773},"Tekrarlanabilirlik varyansı (Srep2)",null,null,{"$f":"IFERROR(O106/O107,\"--------\")","v":0.97067553333333279},null,null,null,"","","","","",""]
[null,"IV.Analist",{"$f":"IF(VLOOKUP($D$4,TEK_URETBLRLK_1.Kons,((COLUMN(Q1)+1)),FALSE)=0,\"--------\",VLOOKUP($D$4,TEK_URETBLRLK_1.Kons,((COLUMN(Q1)+1)),FALSE))","v":"--------"},{"$f":"IF(VLOOKUP($D$4,TEK_URETBLRLK_1.Kons,((COLUMN(R1)+1)),FALSE)=0,\"--------\",VLOOKUP($D$4,TEK_URETBLRLK_1.Kons,((COLUMN(R1)+1)),FALSE))","v":"--------"},{"$f":"IF(VLOOKUP($D$4,TEK_URETBLRLK_1.Kons,((COLUMN(S1)+1)),FALSE)=0,\"--------\",VLOOKUP($D$4,TEK_URETBLRLK_1.Kons,((COLUMN(S1)+1)),FALSE))","v":"--------"},{"$f":"IF(VLOOKUP($D$4,TEK_URETBLRLK_1.Kons,((COLUMN(T1)+1)),FALSE)=0,\"--------\",VLOOKUP($D$4,TEK_URETBLRLK_1.Kons,((COLUMN(T1)+1)),FALSE))","v":"--------"},{"$f":"IF(VLOOKUP($D$4,TEK_URETBLRLK_1.Kons,((COLUMN(U1)+1)),FALSE)=0,\"--------\",VLOOKUP($D$4,TEK_URETBLRLK_1.Kons,((COLUMN(U1)+1)),FALSE))","v":"--------"},"Günler arası varyans (SL2)",null,null,{"$f":"IF(IFERROR((((K102-K103)/G110)),\"--------\")<0,0,IFERROR((((K102-K103)/G110)),\"--------\"))","v":0.10701221111111077},null,null,null,"","","","","",""]
[null,"V.Analist",{"$f":"IF(VLOOKUP($D$4,TEK_URETBLRLK_1.Kons,((COLUMN(V1)+1)),FALSE)=0,\"--------\",VLOOKUP($D$4,TEK_URETBLRLK_1.Kons,((COLUMN(V1)+1)),FALSE))","v":"--------"},{"$f":"IF(VLOOKUP($D$4,TEK_URETBLRLK_1.Kons,((COLUMN(W1)+1)),FALSE)=0,\"--------\",VLOOKUP($D$4,TEK_URETBLRLK_1.Kons,((COLUMN(W1)+1)),FALSE))","v":"--------"},{"$f":"IF(VLOOKUP($D$4,TEK_URETBLRLK_1.Kons,((COLUMN(X1)+1)),FALSE)=0,\"--------\",VLOOKUP($D$4,TEK_URETBLRLK_1.Kons,((COLUMN(X1)+1)),FALSE))","v":"--------"},{"$f":"IF(VLOOKUP($D$4,TEK_URETBLRLK_1.Kons,((COLUMN(Y1)+1)),FALSE)=0,\"--------\",VLOOKUP($D$4,TEK_URETBLRLK_1.Kons,((COLUMN(Y1)+1)),FALSE))","v":"--------"},{"$f":"IF(VLOOKUP($D$4,TEK_URETBLRLK_1.Kons,((COLUMN(Z1)+1)),FALSE)=0,\"--------\",VLOOKUP($D$4,TEK_URETBLRLK_1.Kons,((COLUMN(Z1)+1)),FALSE))","v":"--------"},"Tekrarüretilebilirlik varyansı (SwR2)",null,null,{"$f":"IFERROR((K103+IF(K104>=0,K104,0)),\"--------\")","v":1.0776877444444435},null,null,null,"","","","","",""]
[null,"VI.Analist",{"$f":"IF(VLOOKUP($D$4,TEK_URETBLRLK_1.Kons,((COLUMN(AA1)+1)),FALSE)=0,\"--------\",VLOOKUP($D$4,TEK_URETBLRLK_1.Kons,((COLUMN(AA1)+1)),FALSE))","v":"--------"},{"$f":"IF(VLOOKUP($D$4,TEK_URETBLRLK_1.Kons,((COLUMN(AB1)+1)),FALSE)=0,\"--------\",VLOOKUP($D$4,TEK_URETBLRLK_1.Kons,((COLUMN(AB1)+1)),FALSE))","v":"--------"},{"$f":"IF(VLOOKUP($D$4,TEK_URETBLRLK_1.Kons,((COLUMN(AC1)+1)),FALSE)=0,\"--------\",VLOOKUP($D$4,TEK_URETBLRLK_1.Kons,((COLUMN(AC1)+1)),FALSE))","v":"--------"},{"$f":"IF(VLOOKUP($D$4,TEK_URETBLRLK_1.Kons,((COLUMN(AD1)+1)),FALSE)=0,\"--------\",VLOOKUP($D$4,TEK_URETBLRLK_1.Kons,((COLUMN(AD1)+1)),FALSE))","v":"--------"},{"$f":"IF(VLOOKUP($D$4,TEK_URETBLRLK_1.Kons,((COLUMN(AE1)+1)),FALSE)=0,\"--------\",VLOOKUP($D$4,TEK_URETBLRLK_1.Kons,((COLUMN(AE1)+1)),FALSE))","v":"--------"},"Tekrarüretilebilirlik standart sapması (SwR)",null,null,{"$f":"IFERROR((SQRT(K105)),\"--------\")","v":1.0381174039791663},null,null,null,{"$f":"SUMSQ(O100:S105)","v":9.7067553333333283}]
[null,"ort",{"$f":"IFERROR(AVERAGE(C101:C106),\"--------\")","v":11.507666666666665},{"$f":"IFERROR(AVERAGE(D101:D106),\"--------\")","v":11.586},{"$f":"IFERROR(AVERAGE(E101:E106),\"--------\")","v":9.9523333333333337},{"$f":"IFERROR(AVERAGE(F101:F106),\"--------\")","v":10.869},{"$f":"IFERROR(AVERAGE(G101:G106),\"--------\")","v":11.079999999999998},"RSDwR",null,null,{"$f":"IFERROR((K106/K100),\"--------\")","v":9.4382889715352886E-2},null,null,null,{"$f":"(G109*(G110-1))","v":10}]
[{"$nulls":7},"% RSDwR",null,null,{"$f":"IFERROR((K107*100),\"--------\")","v":9.4382889715352878},null,null,"Srep2",{"$f":"O106/O107","v":0.97067553333333279}]
[{"$nulls":4},"Zaman dilimi sayısı(k)",null,{"$f":"IF(COUNT(C101:G101)=0,\"--------\",COUNT(C101:G101))","v":5},"n(genel)",null,null,{"$f":"IFERROR((G109*G110),\"--------\")","v":15}]
[{"$nulls":4},"Analist sayısı (n)",null,{"$f":"IF(COUNT(C101:C106)=0,\"--------\",COUNT(C101:C106))","v":3},"Gerçeklik Kontrolü",null,null,{"$f":"IF(K101=\"--------\",\"--------\",IF(K101<70,\"uygun değil\",IF(K101>120,\"uygun değil\",\"uygun\")))","v":"uygun"}]
[{"$nulls":7},"Tekrarüretilebilirlik Kontrolü",null,null,{"$f":"IF(K108=\"--------\",\"--------\",IF(K108<20,\"uygun\",\"uygun değil\"))","v":"uygun"}]
[null,"İkinci konsantrasyon:",null,{"$f":"VLOOKUP($D$4,TEK_URETBLRLK_2.Kons,((ROW(A1)+1)))","v":50},"ppb"]
[null,"Zaman dilimi","1.zaman","2.zaman","3.zaman","4.zaman","5.zaman","Genel ortalama",null,null,{"$f":"IFERROR(AVERAGE(C114:G119),\"--------\")","v":47.367466666666665},{"$f":"IFERROR((K120^2)*(K122-1),\"--------\")","v":0.37726870462658407},null,null,{"$f":"IFERROR(C114-$C$120,\"\")","v":-4.5393333333333246},{"$f":"IFERROR(D114-$D$120,\"\")","v":2.3713333333333324},{"$f":"IFERROR(E114-$E$120,\"\")","v":-0.54133333333334122},{"$f":"IFERROR(F114-$F$120,\"\")","v":-6.8603333333333367},{"$f":"IFERROR(G114-$G$120,\"\")","v":-9.9796666666666738}]
[null,"I.Analist",{"$f":"IF(VLOOKUP($D$4,TEK_URETBLRLK_2.Kons,((COLUMN(B1)+1)),FALSE)=0,\"--------\",VLOOKUP($D$4,TEK_URETBLRLK_2.Kons,((COLUMN(B1)+1)),FALSE))","v":43.32},{"$f":"IF(VLOOKUP($D$4,TEK_URETBLRLK_2.Kons,((COLUMN(C1)+1)),FALSE)=0,\"--------\",VLOOKUP($D$4,TEK_URETBLRLK_2.Kons,((COLUMN(C1)+1)),FALSE))","v":48.834000000000003},{"$f":"IF(VLOOKUP($D$4,TEK_URETBLRLK_2.Kons,((COLUMN(D1)+1)),FALSE)=0,\"--------\",VLOOKUP($D$4,TEK_URETBLRLK_2.Kons,((COLUMN(D1)+1)),FALSE))","v":44.720999999999997},{"$f":"IF(VLOOKUP($D$4,TEK_URETBLRLK_2.Kons,((COLUMN(E1)+1)),FALSE)=0,\"--------\",VLOOKUP($D$4,TEK_URETBLRLK_2.Kons,((COLUMN(E1)+1)),FALSE))","v":45.067},{"$f":"IF(VLOOKUP($D$4,TEK_URETBLRLK_2.Kons,((COLUMN(F1)+1)),FALSE)=0,\"--------\",VLOOKUP($D$4,TEK_URETBLRLK_2.Kons,((COLUMN(F1)+1)),FALSE))","v":35.345999999999997},"% Geri Kazanım (genel)",null,null,{"$f":"IFERROR(K113/$D$112*100,\"--------\")","v":94.734933333333331},null,null,null,-5.5443333333333271,-8.5266666666666708,-6.1443333333333356,-0.60633333333333894,5.166333333333327]
[null,"II.Analist",{"$f":"IF(VLOOKUP($D$4,TEK_URETBLRLK_2.Kons,((COLUMN(G1)+1)),FALSE)=0,\"--------\",VLOOKUP($D$4,TEK_URETBLRLK_2.Kons,((COLUMN(G1)+1)),FALSE))","v":42.314999999999998},{"$f":"IF(VLOOKUP($D$4,TEK_URETBLRLK_2.Kons,((COLUMN(H1)+1)),FALSE)=0,\"--------\",VLOOKUP($D$4,TEK_URETBLRLK_2.Kons,((COLUMN(H1)+1)),FALSE))","v":37.936},{"$f":"IF(VLOOKUP($D$4,TEK_URETBLRLK_2.Kons,((COLUMN(I1)+1)),FALSE)=0,\"--------\",VLOOKUP($D$4,TEK_URETBLRLK_2.Kons,((COLUMN(I1)+1)),FALSE))","v":39.118000000000002},{"$f":"IF(VLOOKUP($D$4,TEK_URETBLRLK_2.Kons,((COLUMN(J1)+1)),FALSE)=0,\"--------\",VLOOKUP($D$4,TEK_URETBLRLK_2.Kons,((COLUMN(J1)+1)),FALSE))","v":51.320999999999998},{"$f":"IF(VLOOKUP($D$4,TEK_URETBLRLK_2.Kons,((COLUMN(K1)+1)),FALSE)=0,\"--------\",VLOOKUP($D$4,TEK_URETBLRLK_2.Kons,((COLUMN(K1)+1)),FALSE))","v":50.491999999999997},"Ortalamanın varyansı (Sd2)",null,null,{"$f":"IFERROR((1/(G122-1))*(G123)*(((C120-K113)^2)+((D120-K113)^2)+((E120-K113)^2)+((F120-K113)^2)+((G120-K113)^2)),\"--------\")","v":22.840135099999987},null,null,null,10.083666666666673,6.1553333333333313,6.6856666666666626,7.4666666666666615,4.8133333333333326]
[null,"III.Analist",{"$f":"IF(VLOOKUP($D$4,TEK_URETBLRLK_2.Kons,((COLUMN(L1)+1)),FALSE)=0,\"--------\",VLOOKUP($D$4,TEK_URETBLRLK_2.Kons,((COLUMN(L1)+1)),FALSE))","v":57.942999999999998},{"$f":"IF(VLOOKUP($D$4,TEK_URETBLRLK_2.Kons,((COLUMN(M1)+1)),FALSE)=0,\"--------\",VLOOKUP($D$4,TEK_URETBLRLK_2.Kons,((COLUMN(M1)+1)),FALSE))","v":52.618000000000002},{"$f":"IF(VLOOKUP($D$4,TEK_URETBLRLK_2.Kons,((COLUMN(N1)+1)),FALSE)=0,\"--------\",VLOOKUP($D$4,TEK_URETBLRLK_2.Kons,((COLUMN(N1)+1)),FALSE))","v":51.948},{"$f":"IF(VLOOKUP($D$4,TEK_URETBLRLK_2.Kons,((COLUMN(O1)+1)),FALSE)=0,\"--------\",VLOOKUP($D$4,TEK_URETBLRLK_2.Kons,((COLUMN(O1)+1)),FALSE))","v":59.393999999999998},{"$f":"IF(VLOOKUP($D$4,TEK_URETBLRLK_2.Kons,((COLUMN(P1)+1)),FALSE)=0,\"--------\",VLOOKUP($D$4,TEK_URETBLRLK_2.Kons,((COLUMN(P1)+1)),FALSE))","v":50.139000000000003},"Tekrarlanabilirlik varyansı (Srep2)",null,null,{"$f":"O119/O120","v":60.462076933333357},null,null,null,"","","","",""]
[null,"IV.Analist",{"$f":"IF(VLOOKUP($D$4,TEK_URETBLRLK_2.Kons,((COLUMN(Q1)+1)),FALSE)=0,\"--------\",VLOOKUP($D$4,TEK_URETBLRLK_2.Kons,((COLUMN(Q1)+1)),FALSE))","v":"--------"},{"$f":"IF(VLOOKUP($D$4,TEK_URETBLRLK_2.Kons,((COLUMN(R1)+1)),FALSE)=0,\"--------\",VLOOKUP($D$4,TEK_URETBLRLK_2.Kons,((COLUMN(R1)+1)),FALSE))","v":"--------"},{"$f":"IF(VLOOKUP($D$4,TEK_URETBLRLK_2.Kons,((COLUMN(S1)+1)),FALSE)=0,\"--------\",VLOOKUP($D$4,TEK_URETBLRLK_2.Kons,((COLUMN(S1)+1)),FALSE))","v":"--------"},{"$f":"IF(VLOOKUP($D$4,TEK_URETBLRLK_2.Kons,((COLUMN(T1)+1)),FALSE)=0,\"--------\",VLOOKUP($D$4,TEK_URETBLRLK_2.Kons,((COLUMN(T1)+1)),FALSE))","v":"--------"},{"$f":"IF(VLOOKUP($D$4,TEK_URETBLRLK_2.Kons,((COLUMN(U1)+1)),FALSE)=0,\"--------\",VLOOKUP($D$4,TEK_URETBLRLK_2.Kons,((COLUMN(U1)+1)),FALSE))","v":"--------"},"Günler arası varyans (SL2)",null,null,{"$f":"IF(IFERROR((((K115-K116)/G123)),\"--------\")<0,0,IFERROR((((K115-K116)/G123)),\"--------\"))","v":0},null,null,null,"","","","",""]
[null,"V.Analist",{"$f":"IF(VLOOKUP($D$4,TEK_URETBLRLK_2.Kons,((COLUMN(V1)+1)),FALSE)=0,\"--------\",VLOOKUP($D$4,TEK_URETBLRLK_2.Kons,((COLUMN(V1)+1)),FALSE))","v":"--------"},{"$f":"IF(VLOOKUP($D$4,TEK_URETBLRLK_2.Kons,((COLUMN(W1)+1)),FALSE)=0,\"--------\",VLOOKUP($D$4,TEK_URETBLRLK_2.Kons,((COLUMN(W1)+1)),FALSE))","v":"--------"},{"$f":"IF(VLOOKUP($D$4,TEK_URETBLRLK_2.Kons,((COLUMN(X1)+1)),FALSE)=0,\"--------\",VLOOKUP($D$4,TEK_URETBLRLK_2.Kons,((COLUMN(X1)+1)),FALSE))","v":"--------"},{"$f":"IF(VLOOKUP($D$4,TEK_URETBLRLK_2.Kons,((COLUMN(Y1)+1)),FALSE)=0,\"--------\",VLOOKUP($D$4,TEK_URETBLRLK_2.Kons,((COLUMN(Y1)+1)),FALSE))","v":"--------"},{"$f":"IF(VLOOKUP($D$4,TEK_URETBLRLK_2.Kons,((COLUMN(Z1)+1)),FALSE)=0,\"--------\",VLOOKUP($D$4,TEK_URETBLRLK_2.Kons,((COLUMN(Z1)+1)),FALSE))","v":"--------"},"Tekrarüretilebilirlik varyansı (SwR2)",null,null,{"$f":"IFERROR((K116+IF(K117>=0,K117,0)),\"--------\")","v":60.462076933333357},null,null,null,"","","","",""]
[null,"VI.Analist",{"$f":"IF(VLOOKUP($D$4,TEK_URETBLRLK_2.Kons,((COLUMN(AA1)+1)),FALSE)=0,\"--------\",VLOOKUP($D$4,TEK_URETBLRLK_2.Kons,((COLUMN(AA1)+1)),FALSE))","v":"--------"},{"$f":"IF(VLOOKUP($D$4,TEK_URETBLRLK_2.Kons,((COLUMN(AB1)+1)),FALSE)=0,\"--------\",VLOOKUP($D$4,TEK_URETBLRLK_2.Kons,((COLUMN(AB1)+1)),FALSE))","v":"--------"},{"$f":"IF(VLOOKUP($D$4,TEK_URETBLRLK_2.Kons,((COLUMN(AC1)+1)),FALSE)=0,\"--------\",VLOOKUP($D$4,TEK_URETBLRLK_2.Kons,((COLUMN(AC1)+1)),FALSE))","v":"--------"},{"$f":"IF(VLOOKUP($D$4,TEK_URETBLRLK_2.Kons,((COLUMN(AD1)+1)),FALSE)=0,\"--------\",VLOOKUP($D$4,TEK_URETBLRLK_2.Kons,((COLUMN(AD1)+1)),FALSE))","v":"--------"},{"$f":"IF(VLOOKUP($D$4,TEK_URETBLRLK_2.Kons,((COLUMN(AE1)+1)),FALSE)=0,\"--------\",VLOOKUP($D$4,TEK_URETBLRLK_2.Kons,((COLUMN(AE1)+1)),FALSE))","v":"--------"},"Tekrarüretilebilirlik standart sapması (SwR)",null,null,{"$f":"IFERROR((SQRT(K118)),\"--------\")","v":7.7757364238593736},null,null,null,{"$f":"SUMSQ(O113:S118)","v":604.62076933333356}]
[null,"ort",{"$f":"IFERROR(AVERAGE(C114:C119),\"--------\")","v":47.859333333333325},{"$f":"IFERROR(AVERAGE(D114:D119),\"--------\")","v":46.462666666666671},{"$f":"IFERROR(AVERAGE(E114:E119),\"--------\")","v":45.262333333333338},{"$f":"IFERROR(AVERAGE(F114:F119),\"--------\")","v":51.927333333333337},{"$f":"IFERROR(AVERAGE(G114:G119),\"--------\")","v":45.32566666666667},"RSDwR",null,null,{"$f":"IFERROR((K119/K113),\"--------\")","v":0.16415774308933642},null,null,null,{"$f":"(G122*(G123-1))","v":10}]
[{"$nulls":7},"% RSDwR",null,null,{"$f":"IFERROR((K120*100),\"--------\")","v":16.415774308933642},null,null,"Srep2",{"$f":"O119/O120","v":60.462076933333357}]
[{"$nulls":4},"Zaman dilimi sayısı(k)",null,{"$f":"IF(COUNT(C114:G114)=0,\"--------\",COUNT(C114:G114))","v":5},"n(genel)",null,null,{"$f":"IFERROR((G122*G123),\"--------\")","v":15}]
[{"$nulls":4},"Analist sayısı (n)",null,{"$f":"IF(COUNT(C114:C119)=0,\"--------\",COUNT(C114:C119))","v":3},"Gerçeklik Kontrolü",null,null,{"$f":"IF(K114=\"--------\",\"--------\",IF(K114<70,\"uygun değil\",IF(K114>120,\"uygun değil\",\"uygun\")))","v":"uygun"}]
[{"$nulls":7},"Tekrarüretilebilirlik Kontrolü",null,null,{"$f":"IF(K121=\"--------\",\"--------\",IF(K121<20,\"uygun\",\"uygun değil\"))","v":"uygun"}]
[]
[null,"Gerçeklik Belirsizliği"]
[null,"Birinci konsantrasyon:",null,{"$f":"D39","v":10},"ppb"]
[null,null,null,"Geri Kazanım (R)",{"$nulls":4},"Bias2=(R-1)2",{"$nulls":4},"ubias= RMSbias"]
[null,"Tekrarlanabilirlik","I.Analist",{"$f":"IFERROR((C41/$D$39),\"--------\")","v":0.97660000000000002},{"$f":"IFERROR((C42/$D$39),\"--------\")","v":1.1579000000000002},{"$f":"IFERROR((C43/$D$39),\"--------\")","v":1.1404000000000001},{"$f":"IFERROR((C44/$D$39),\"--------\")","v":1.0664},{"$f":"IFERROR((C45/$D$39),\"--------\")","v":1.0861000000000001},{"$f":"IFERROR((D129-1)^2,\"--------\")","v":5.4755999999999891E-4},2.4932410000000047E-2,1.9712160000000024E-2,4.4089600000000017E-3,7.4132100000000112E-3,{"$f":"SQRT((SUM(I129:M140,I143:M154))/((COUNT(I129:M140))+(COUNT(I143:M154))))","v":0.13557068623661483}]
[null,null,"II.Analist",{"$f":"IFERROR((D41/$D$39),\"--------\")","v":1.0922000000000001},{"$f":"IFERROR((D42/$D$39),\"--------\")","v":1.1137000000000001},{"$f":"IFERROR((D43/$D$39),\"--------\")","v":0.9859},{"$f":"IFERROR((D44/$D$39),\"--------\")","v":0.9837999999999999},{"$f":"IFERROR((D45/$D$39),\"--------\")","v":0.97040000000000004},8.5008400000000112E-3,1.292769000000003E-2,1.9881000000000003E-4,2.6244000000000332E-4,8.7615999999999757E-4]
[null,null,"III.Analist",{"$f":"IFERROR((E41/$D$39),\"--------\")","v":1.1362000000000001},{"$f":"IFERROR((E42/$D$39),\"--------\")","v":1.0525},{"$f":"IFERROR((E43/$D$39),\"--------\")","v":1.1183000000000001},{"$f":"IFERROR((E44/$D$39),\"--------\")","v":1.1819999999999999},{"$f":"IFERROR((E45/$D$39),\"--------\")","v":1.115},1.8550440000000026E-2,2.7562499999999992E-3,1.3994890000000017E-2,3.312399999999998E-2,1.3224999999999997E-2]
[null,null,"IV.Analist",{"$f":"IFERROR((F41/$D$39),\"--------\")","v":"--------"},{"$f":"IFERROR((F42/$D$39),\"--------\")","v":"--------"},{"$f":"IFERROR((F43/$D$39),\"--------\")","v":"--------"},{"$f":"IFERROR((F44/$D$39),\"--------\")","v":"--------"},{"$f":"IFERROR((F45/$D$39),\"--------\")","v":"--------"},"--------","--------","--------","--------","--------"]
[null,null,"V.Analist",{"$f":"IFERROR((G41/$D$39),\"--------\")","v":"--------"},{"$f":"IFERROR((G42/$D$39),\"--------\")","v":"--------"},{"$f":"IFERROR((G43/$D$39),\"--------\")","v":"--------"},{"$f":"IFERROR((G44/$D$39),\"--------\")","v":"--------"},{"$f":"IFERROR((G45/$D$39),\"--------\")","v":"--------"},"--------","--------","--------","--------","--------"]
[null,null,"VI.Analist",{"$f":"IFERROR((H41/$D$39),\"--------\")","v":"--------"},{"$f":"IFERROR((H42/$D$39),\"--------\")","v":"--------"},{"$f":"IFERROR((H43/$D$39),\"--------\")","v":"--------"},{"$f":"IFERROR((H44/$D$39),\"--------\")","v":"--------"},{"$f":"IFERROR((H45/$D$39),\"--------\")","v":"--------"},"--------","--------","--------","--------","--------"]
[null,"Tekrarüretilebilirlik","I.Analist",{"$f":"IFERROR(C101/$D$99,\"--------\")","v":1.1818},{"$f":"IFERROR(D101/$D$99,\"--------\")","v":1.1315},{"$f":"IFERROR(E101/$D$99,\"--------\")","v":1.1068},{"$f":"IFERROR(F101/$D$99,\"--------\")","v":1.1173},{"$f":"IFERROR(G101/$D$99,\"--------\")","v":1.0821000000000001},3.3051239999999989E-2,1.7292249999999988E-2,1.1406240000000002E-2,1.375928999999999E-2,6.74041000000001E-3]
[null,null,"II.Analist",{"$f":"IFERROR(C102/$D$99,\"--------\")","v":1.1194999999999999},1.1691,1.1218999999999999,1.0746,1.0646,1.4280249999999986E-2,2.8594810000000009E-2,1.4859609999999975E-2,5.5651599999999996E-3,4.1731599999999987E-3]
[null,null,"III.Analist",1.151,1.1752,0.75700000000000001,1.0688,1.1773,2.2801000000000005E-2,3.0695040000000007E-2,5.9048999999999997E-2,4.7334399999999959E-3,3.1435290000000005E-2]
[null,null,"IV.Analist","--------","--------","--------","--------","--------","--------","--------","--------","--------","--------"]
[null,null,"V.Analist","--------","--------","--------","--------","--------","--------","--------","--------","--------","--------"]
[null,null,"VI.Analist","--------",{"$f":"IFERROR(D106/$D$99,\"--------\")","v":"--------"},{"$f":"IFERROR(E106/$D$99,\"--------\")","v":"--------"},{"$f":"IFERROR(F106/$D$99,\"--------\")","v":"--------"},{"$f":"IFERROR(G106/$D$99,\"--------\")","v":"--------"},"--------","--------","--------","--------","--------"]
[null,"İkinci konsantrasyon:",null,{"$f":"$D$53","v":50},"ppb"]
[null,null,null,"Geri Kazanım (R)",{"$nulls":4},"Bias2=(R-1)2"]
[null,"Tekrarlanabilirlik","I.Analist",{"$f":"IFERROR((C55/$D$53),\"--------\")","v":0.80327999999999999},{"$f":"IFERROR((C56/$D$53),\"--------\")","v":0.95105999999999991},{"$f":"IFERROR((C57/$D$53),\"--------\")","v":0.80220000000000002},{"$f":"IFERROR((C58/$D$53),\"--------\")","v":0.82011999999999996},{"$f":"IFERROR((C59/$D$53),\"--------\")","v":0.93575999999999993},{"$f":"IFERROR((D143-1)^2,\"--------\")","v":3.8698758400000005E-2},2.3951236000000092E-3,3.9124839999999987E-2,3.2356814400000017E-2,4.1267776000000096E-3]
[null,null,"II.Analist",{"$f":"IFERROR((D55/$D$53),\"--------\")","v":0.84255999999999998},{"$f":"IFERROR((D56/$D$53),\"--------\")","v":0.84168000000000009},{"$f":"IFERROR((D57/$D$53),\"--------\")","v":0.97348000000000001},{"$f":"IFERROR((D58/$D$53),\"--------\")","v":0.86726000000000003},{"$f":"IFERROR((D59/$D$53),\"--------\")","v":0.89622000000000002},2.4787353600000006E-2,2.5065222399999969E-2,7.0331039999999934E-4,1.7619907599999991E-2,1.0770288399999996E-2]
[null,null,"III.Analist",{"$f":"IFERROR((E55/$D$53),\"--------\")","v":1.1408199999999999},{"$f":"IFERROR((E56/$D$53),\"--------\")","v":1.0869799999999998},{"$f":"IFERROR((E57/$D$53),\"--------\")","v":1.0959399999999999},{"$f":"IFERROR((E58/$D$53),\"--------\")","v":1.0771200000000001},{"$f":"IFERROR((E59/$D$53),\"--------\")","v":0.70891999999999999},1.9830272399999984E-2,7.5655203999999716E-3,9.2044835999999831E-3,5.9474944000000116E-3,8.4727566400000009E-2]
[null,null,"IV.Analist",{"$f":"IFERROR((F55/$D$53),\"--------\")","v":"--------"},{"$f":"IFERROR((F56/$D$53),\"--------\")","v":"--------"},{"$f":"IFERROR((F57/$D$53),\"--------\")","v":"--------"},{"$f":"IFERROR((F58/$D$53),\"--------\")","v":"--------"},{"$f":"IFERROR((F59/$D$53),\"--------\")","v":"--------"},"--------","--------","--------","--------","--------"]
[null,null,"V.Analist",{"$f":"IFERROR((G55/$D$53),\"--------\")","v":"--------"},{"$f":"IFERROR((G56/$D$53),\"--------\")","v":"--------"},{"$f":"IFERROR((G57/$D$53),\"--------\")","v":"--------"},{"$f":"IFERROR((G58/$D$53),\"--------\")","v":"--------"},{"$f":"IFERROR((G59/$D$53),\"--------\")","v":"--------"},"--------","--------","--------","--------","--------"]
[null,null,"VI.Analist",{"$f":"IFERROR((H55/$D$53),\"--------\")","v":"--------"},{"$f":"IFERROR((H56/$D$53),\"--------\")","v":"--------"},{"$f":"IFERROR((H57/$D$53),\"--------\")","v":"--------"},{"$f":"IFERROR((H58/$D$53),\"--------\")","v":"--------"},{"$f":"IFERROR((H59/$D$53),\"--------\")","v":"--------"},"--------","--------","--------","--------","--------"]
[null,"Tekrarüretilebilirlik","I.Analist",{"$f":"IFERROR(C114/$D$53,\"--------\")","v":0.86640000000000006},{"$f":"IFERROR(D114/$D$53,\"--------\")","v":0.9766800000000001},{"$f":"IFERROR(E114/$D$53,\"--------\")","v":0.89441999999999988},{"$f":"IFERROR(F114/$D$53,\"--------\")","v":0.90134000000000003},{"$f":"IFERROR(G114/$D$53,\"--------\")","v":0.70691999999999988},1.7848959999999983E-2,5.4382239999999516E-4,1.1147136400000025E-2,9.7337955999999941E-3,8.5895886400000065E-2]
[null,null,"II.Analist",{"$f":"IFERROR(C115/$D$53,\"--------\")","v":0.84629999999999994},0.75871999999999995,0.78236000000000006,1.0264199999999999,1.0098399999999998,2.3623690000000017E-2,5.8216038400000024E-2,4.7367169599999974E-2,6.9801639999999404E-4,9.6825599999997029E-5]
[null,null,"III.Analist",1.15886,1.05236,1.0389600000000001,1.18788,1.00278,2.52364996E-2,2.741569599999996E-3,1.5178816000000082E-3,3.5298894400000017E-2,7.7284000000000258E-6]
[null,null,"IV.Analist","--------","--------","--------","--------","--------","--------","--------","--------","--------","--------"]
[null,null,"V.Analist","--------","--------","--------","--------","--------","--------","--------","--------","--------","--------"]
[null,null,"VI.Analist","--------","--------","--------","--------","--------","--------","--------","--------","--------","--------"]
[]
[]
[null,"TOPLAM BELİRSİZLİK"]
[null,"Parametre",null,null,"Değer (X)","u(X)","u(X)/X"]
[null,"Gerçeklik",null,null,1,{"$f":"N129","v":0.13557068623661483},{"$f":"F159/E159","v":0.13557068623661483}]
[null,"Tekrarüretilebilirlik",null,null,1,{"$f":"M100","v":0.13389528462049186},{"$f":"IFERROR(F160/E160,\"--------\")","v":0.13389528462049186}]
[null,"Relatif birleşik belirsizlik=",{"$nulls":4},{"$f":"IFERROR(SQRT((G159^2)+(G160^2)),\"--------\")","v":0.19054489814809838}]
[null,"*Genişletilmiş relatif birleşik belirsizlik (hesaplanan)=",{"$nulls":4},{"$f":"IFERROR(2*G161,\"--------\")","v":0.38108979629619677}]
[null,"*Genişletilmiş relatif birleşik belirsizlik (kullanılan)=",{"$nulls":4},{"$f":"IF(G162<0.5,0.5,G162)","v":0.5}]
[null,"Raporlama="," X ± (Genişletilmiş relatif birleşik belirsizlik) *X"]
[null,"*%95 güven aralığı, k=2"]
[null,"X :ölçüm sonucu (ppm)"]
[null,{"$f":"IF(G162<=0.5,\"% \"&ROUND(G162*100,2)&\" < % 50 olduğundan, % 50 genişletilmiş belirsizlik değeri kullanılacaktır\",\"% \"&ROUND(G162*100,2)&\" > % 50 olduğundan, % \"&ROUND(G162*100,2)&\" genişletilmiş belirsizlik değeri kullanılacaktır\")","v":"% 38.11 < % 50 olduğundan, % 50 genişletilmiş belirsizlik değeri kullanılacaktır"}]
[null,"Örnek:"]
[null,null,"Ölçüm sonucu (X):",0.05,"ppm"]
[null,"Raporlama:",null,{"$f":"D169","v":0.05},"±",{"$f":"G163*D169","v":2.5000000000000001E-2},"ppm"]

{"sheet":"Gerçeklik Kontrolü TE","index":2,"n_rows":492,"n_cols":31,"rows_kept":492,"cut":false,"hidden":false,"merged":[[1,31,4,31],[1,1,1,30],[2,5,2,17],[2,18,2,30],[3,29,3,30],[3,27,3,28],[3,25,3,26],[3,23,3,24],[3,21,3,22],[3,19,3,20],[3,16,3,17],[3,14,3,15],[3,12,3,13],[3,10,3,11],[3,8,3,9],[3,6,3,7]]}
[]
[null,"Gerçeklik ve Tekrarlanabilirlik Kontrolü"]
[{"$nulls":5},"1.KONSATRASYON",{"$nulls":12},"2.KONSATRASYON"]
[{"$nulls":6},"Analist 1",null,"Analist 2",null,"Analist 3",null,"Analist 4",null,"Analist 5",null,"Analist 6",null,null,"Analist 1",null,"Analist 2",null,"Analist 3",null,"Analist 4",null,"Analist 5",null,"Analist 6"]
[null,"SIRA NO","ANALİT","CHEK","CİHAZ","1.KONSATRASYON","%R (ort) 70-120","% RSD <20","%R (ort) 70-120","% RSD <20","%R (ort) 70-120","% RSD <20","%R (ort) 70-120","% RSD <20","%R (ort) 70-120","% RSD <20","%R (ort) 70-120","% RSD <20","2 .Kons.","%R (ort) 70-120","% RSD <20","%R (ort) 70-120","% RSD <20","%R (ort) 70-120","% RSD <20","%R (ort) 70-120","% RSD <20","%R (ort) 70-120","% RSD <20","%R (ort) 70-120","% RSD <20"]
[null,1,"(E)-Metominostrobin",{"$f":"'Belirsizlik Bütçesi'!K5","v":1},{"$f":"'Veri Girişi'!C11","v":"GC-MS/MS"},{"$f":"VLOOKUP($C6,GERCEKLİK_KONTROL_1_KONS,2,FALSE)","v":{"$error":"#N/A"}},{"$f":"VLOOKUP($C6,GERCEKLİK_KONTROL_1_KONS,5,FALSE)","v":{"$error":"#N/A"}},{"$f":"VLOOKUP($C6,GERCEKLİK_KONTROL_1_KONS,6,FALSE)","v":{"$error":"#N/A"}},{"$f":"VLOOKUP($C6,GERCEKLİK_KONTROL_1_KONS,11,FALSE)","v":{"$error":"#N/A"}},{"$f":"VLOOKUP($C6,GERCEKLİK_KONTROL_1_KONS,12,FALSE)","v":{"$error":"#N/A"}},{"$f":"VLOOKUP($C6,GERCEKLİK_KONTROL_1_KONS,17,FALSE)","v":{"$error":"#N/A"}},{"$f":"VLOOKUP($C6,GERCEKLİK_KONTROL_1_KONS,11,FALSE)","v":{"$error":"#N/A"}},{"$nulls":6},{"$f":"VLOOKUP($C6,GERCEKLIK_KONTROLU_TE_2_KONs,2,FALSE)","v":{"$error":"#N/A"}},{"$f":"VLOOKUP($C6,GERCEKLIK_KONTROLU_TE_2_KONs,5,FALSE)","v":{"$error":"#N/A"}},{"$f":"VLOOKUP($C6,GERCEKLIK_KONTROLU_TE_2_KONs,6,FALSE)","v":{"$error":"#N/A"}},{"$f":"VLOOKUP($C6,GERCEKLIK_KONTROLU_TE_2_KONs,11,FALSE)","v":{"$error":"#N/A"}},{"$f":"VLOOKUP($C6,GERCEKLIK_KONTROLU_TE_2_KONs,12,FALSE)","v":{"$error":"#N/A"}},{"$f":"VLOOKUP($C6,GERCEKLIK_KONTROLU_TE_2_KONs,17,FALSE)","v":{"$error":"#N/A"}},{"$f":"VLOOKUP($C6,GERCEKLİK_KONTROL_1_KONS,11,FALSE)","v":{"$error":"#N/A"}}]
[null,2,"(Z)-Metominostrobin",{"$f":"'Belirsizlik Bütçesi'!K6","v":1},{"$f":"'Veri Girişi'!#REF!","v":{"$error":"#REF!"}},{"$error":"#N/A"},{"$error":"#N/A"},{"$error":"#N/A"},{"$error":"#N/A"},{"$error":"#N/A"},{"$error":"#N/A"},{"$error":"#N/A"},{"$nulls":6},{"$error":"#N/A"},{"$error":"#N/A"},{"$error":"#N/A"},{"$error":"#N/A"},{"$error":"#N/A"},{"$error":"#N/A"},{"$error":"#N/A"}]
[null,3,"2,4,5-T-Methyl",{"$f":"'Belirsizlik Bütçesi'!K7","v":0},{"$f":"'Veri Girişi'!#REF!","v":{"$error":"#REF!"}},{"$error":"#N/A"},{"$error":"#N/A"},{"$error":"#N/A"},{"$error":"#N/A"},{"$error":"#N/A"},{"$error":"#N/A"},{"$f":"VLOOKUP($C8,GERCEKLİK_KONTROL_1_KONS,18,FALSE)","v":{"$error":"#N/A"}},{"$nulls":6},{"$error":"#N/A"},{"$error":"#N/A"},{"$error":"#N/A"},{"$error":"#N/A"},{"$error":"#N/A"},{"$error":"#N/A"},{"$f":"VLOOKUP($C8,GERCEKLIK_KONTROLU_TE_2_KONs,18,FALSE)","v":{"$error":"#N/A"}}]
[null,4,"2,4-DB-Methyl",{"$f":"'Belirsizlik Bütçesi'!K8","v":1},{"$f":"'Veri Girişi'!C12","v":"GC-MS/MS"},{"$error":"#N/A"},{"$error":"#N/A"},{"$error":"#N/A"},{"$error":"#N/A"},{"$error":"#N/A"},{"$error":"#N/A"},{"$f":"VLOOKUP($C9,GERCEKLİK_KONTROL_1_KONS,11,FALSE)","v":{"$error":"#N/A"}},{"$nulls":6},{"$error":"#N/A"},{"$error":"#N/A"},{"$error":"#N/A"},{"$error":"#N/A"},{"$error":"#N/A"},{"$error":"#N/A"},{"$f":"VLOOKUP($C9,GERCEKLİK_KONTROL_1_KONS,11,FALSE)","v":{"$error":"#N/A"}}]
[null,5,"2,4-D-BUTYL",{"$f":"'Belirsizlik Bütçesi'!K9","v":1},{"$f":"'Veri Girişi'!C13","v":"GC-MS/MS"},{"$error":"#N/A"},{"$error":"#N/A"},{"$error":"#N/A"},{"$error":"#N/A"},{"$error":"#N/A"},{"$error":"#N/A"},{"$error":"#N/A"},{"$nulls":6},{"$error":"#N/A"},{"$error":"#N/A"},{"$error":"#N/A"},{"$error":"#N/A"},{"$error":"#N/A"},{"$error":"#N/A"},{"$error":"#N/A"}]
[null,6,"2,4'-DDD",{"$f":"'Belirsizlik Bütçesi'!K10","v":1},{"$f":"'Veri Girişi'!C14","v":"GC-MS/MS"},10,102.44,11.405387336093716,106.134,10.251498447982852,99.792000000000002,106.134,{"$nulls":6},50,89.762000000000015,9.1152307704091253,94.123999999999995,7.7638429775425344,91.270799999999994,106.134]
[null,7,"2,4'-DDE",{"$f":"'Belirsizlik Bütçesi'!K11","v":0},{"$f":"'Veri Girişi'!#REF!","v":{"$error":"#REF!"}},10,100.47999999999999,11.058138241488939,108.45400000000001,11.68646253907667,98.935999999999993,16.803093319588136,{"$nulls":6},50,91.961999999999989,9.2679299893421199,92.52600000000001,8.4585993602615606,95.174399999999991,8.7346231891958332]
[null,8,"2,4'-DDT",{"$f":"'Belirsizlik Bütçesi'!K12","v":0},{"$f":"'Veri Girişi'!#REF!","v":{"$error":"#REF!"}},10,97.232000000000014,16.375959707101657,97.573999999999984,13.550723380852739,101.93600000000001,10.738756076588791,{"$nulls":6},50,81.592000000000013,5.2347567215438247,93.579599999999999,13.02987597636446,89.911600000000007,10.832231974647733]
[null,9,"2,4-D-ETHYL",{"$f":"'Belirsizlik Bütçesi'!K13","v":1},{"$f":"'Veri Girişi'!C15","v":"GC-MS/MS"},{"$error":"#N/A"},{"$error":"#N/A"},{"$error":"#N/A"},{"$error":"#N/A"},{"$error":"#N/A"},{"$error":"#N/A"},102.4,{"$nulls":6},{"$error":"#N/A"},{"$error":"#N/A"},{"$error":"#N/A"},{"$error":"#N/A"},{"$error":"#N/A"},{"$error":"#N/A"},{"$f":"VLOOKUP($C14,GERCEKLİK_KONTROL_1_KONS,11,FALSE)","v":{"$error":"#N/A"}}]
[null,10,"2,4-D-ISOBUTYL",{"$f":"'Belirsizlik Bütçesi'!K14","v":1},{"$f":"'Veri Girişi'!C16","v":"GC-MS/MS"},{"$error":"#N/A"},{"$error":"#N/A"},{"$error":"#N/A"},{"$error":"#N/A"},{"$error":"#N/A"},{"$error":"#N/A"},98.24,{"$nulls":6},{"$error":"#N/A"},{"$error":"#N/A"},{"$error":"#N/A"},{"$error":"#N/A"},{"$error":"#N/A"},{"$error":"#N/A"},{"$error":"#N/A"}]
[null,11,"2,4-D-Methyl",{"$f":"'Belirsizlik Bütçesi'!K15","v":1},{"$f":"'Veri Girişi'!#REF!","v":{"$error":"#REF!"}},{"$error":"#N/A"},{"$error":"#N/A"},{"$error":"#N/A"},{"$error":"#N/A"},{"$error":"#N/A"},{"$error":"#N/A"},1,{"$nulls":6},{"$error":"#N/A"},{"$error":"#N/A"},{"$error":"#N/A"},{"$error":"#N/A"},{"$error":"#N/A"},{"$error":"#N/A"},{"$error":"#N/A"}]
[null,12,"2,6-Dichlorobenzamine",{"$f":"'Belirsizlik Bütçesi'!K16","v":1},{"$f":"'Veri Girişi'!#REF!","v":{"$error":"#REF!"}},10,96.74199999999999,14.856774222238576,100.69399999999999,14.149492858699894,88.994,14.059710934711417,{"$nulls":6},50,85.680800000000005,12.14057923516935,93.17519999999999,9.7710510426958148,85.307200000000009,6.4621454243897887]
[null,13,"2,6-Dimethylaniline",{"$f":"'Belirsizlik Bütçesi'!K17","v":1},{"$f":"'Veri Girişi'!C17","v":"GC-MS/MS"},10,108.548,6.5919624336594023,102.91999999999999,6.6082771645332423,112.08,4.1580172947526908,{"$nulls":6},50,86.24839999999999,8.6277317477378066,88.424000000000007,6.1798549106070837,102.19559999999998,17.28853447834587]
[null,14,"2-AMINO-4METHOXY-6 METHYL",{"$f":"'Belirsizlik Bütçesi'!K18","v":0},{"$f":"'Veri Girişi'!C18","v":"GC-MS/MS"},{"$error":"#N/A"},{"$error":"#N/A"},{"$error":"#N/A"},{"$error":"#N/A"},{"$error":"#N/A"},{"$error":"#N/A"},{"$error":"#N/A"},{"$nulls":6},{"$error":"#N/A"},{"$error":"#N/A"},{"$error":"#N/A"},{"$error":"#N/A"},{"$error":"#N/A"},{"$error":"#N/A"},{"$error":"#N/A"}]
[null,15,"3,5-Dicloroaniline",{"$f":"'Belirsizlik Bütçesi'!K19","v":0},{"$f":"'Veri Girişi'!C19","v":"GC-MS/MS"},{"$error":"#N/A"},{"$error":"#N/A"},{"$error":"#N/A"},{"$error":"#N/A"},{"$error":"#N/A"},{"$error":"#N/A"},{"$error":"#N/A"},{"$nulls":6},{"$error":"#N/A"},{"$error":"#N/A"},{"$error":"#N/A"},{"$error":"#N/A"},{"$error":"#N/A"},{"$error":"#N/A"},{"$error":"#N/A"}]
[null,16,"4,4'-DDD",{"$f":"'Belirsizlik Bütçesi'!K20","v":1},{"$f":"'Veri Girişi'!C20","v":"GC-MS/MS"},10,97.408000000000001,15.547693979979801,105.35600000000001,15.83828669533569,98.740000000000009,17.277943884905696,{"$nulls":6},50,88.289599999999993,11.890109348316923,93.731999999999999,9.1252466760663111,81.260800000000003,7.8396253794042599]
[null,17,"4,4'-DDE",{"$f":"'Belirsizlik Bütçesi'!K21","v":1},{"$f":"'Veri Girişi'!#REF!","v":{"$error":"#REF!"}},10,102.20800000000001,15.204974595594415,108.89599999999999,11.038718538780046,93.687999999999988,15.342724770049571,{"$nulls":6},50,89.787999999999997,10.418046926930783,91.725999999999999,6.7360438542013057,91.438800000000001,1.24]
[null,18,"4,4'-DDT",{"$f":"'Belirsizlik Bütçesi'!K22","v":1},{"$f":"'Veri Girişi'!C21","v":"GC-MS/MS"},10,112.86600000000003,6.6168742189782259,111.86800000000001,7.7472933986110535,109.47999999999998,{"$f":"VLOOKUP($C23,GERCEKLİK_KONTROL_1_KONS,11,FALSE)","v":111.86800000000001},{"$nulls":6},50,77.285600000000002,11.612457892772458,74.451999999999998,5.3851864345952141,86.278000000000006,{"$f":"VLOOKUP($C23,GERCEKLİK_KONTROL_1_KONS,11,FALSE)","v":111.86800000000001}]
[null,19,"4,4'-Dichlorobenzophenone",{"$f":"'Belirsizlik Bütçesi'!K23","v":0},{"$f":"'Veri Girişi'!C22","v":"GC-MS/MS"},{"$error":"#N/A"},{"$error":"#N/A"},{"$error":"#N/A"},{"$error":"#N/A"},{"$error":"#N/A"},{"$error":"#N/A"},{"$error":"#N/A"},{"$nulls":6},{"$error":"#N/A"},{"$error":"#N/A"},{"$error":"#N/A"},{"$error":"#N/A"},{"$error":"#N/A"},{"$error":"#N/A"},{"$error":"#N/A"}]
[null,20,"4-FLUORO-N-ISOPROPYLANILINE",{"$f":"'Belirsizlik Bütçesi'!K24","v":1},{"$f":"'Veri Girişi'!C23","v":"GC-MS/MS"},{"$error":"#N/A"},{"$error":"#N/A"},{"$error":"#N/A"},{"$error":"#N/A"},{"$error":"#N/A"},{"$error":"#N/A"},{"$f":"VLOOKUP($C25,GERCEKLİK_KONTROL_1_KONS,11,FALSE)","v":{"$error":"#N/A"}},{"$nulls":6},{"$error":"#N/A"},{"$error":"#N/A"},{"$error":"#N/A"},{"$error":"#N/A"},{"$error":"#N/A"},{"$error":"#N/A"},{"$f":"VLOOKUP($C25,GERCEKLİK_KONTROL_1_KONS,11,FALSE)","v":{"$error":"#N/A"}}]
[null,21,"Acetochlor",{"$f":"'Belirsizlik Bütçesi'!K25","v":1},{"$f":"'Veri Girişi'!#REF!","v":{"$error":"#REF!"}},10,100.49,10.86282683871606,106.736,9.3954139059564525,99.073999999999998,106.736,{"$nulls":6},50,93.4876,10.525126156385509,93.134800000000013,9.0269856433524467,88.864800000000002,106.736]
[null,22,"Aclonifen",{"$f":"'Belirsizlik Bütçesi'!K26","v":0},{"$f":"'Veri Girişi'!#REF!","v":{"$error":"#REF!"}},10,112.25999999999998,5.9703582965706019,112.08200000000002,3.8596787044542085,104.21799999999999,9.7067100554984211,{"$nulls":6},50,79.076800000000006,9.3779514642692021,81.923999999999992,4.5985515208340644,83.256,7.836236464706797]
[null,23,"acrinathrin",{"$f":"'Belirsizlik Bütçesi'!K27","v":1},{"$f":"'Veri Girişi'!#REF!","v":{"$error":"#REF!"}},{"$error":"#N/A"},{"$error":"#N/A"},{"$error":"#N/A"},{"$error":"#N/A"},{"$error":"#N/A"},{"$error":"#N/A"},{"$f":"VLOOKUP($C28,GERCEKLİK_KONTROL_1_KONS,11,FALSE)","v":{"$error":"#N/A"}},{"$nulls":6},{"$error":"#N/A"},{"$error":"#N/A"},{"$error":"#N/A"},{"$error":"#N/A"},{"$error":"#N/A"},{"$error":"#N/A"},{"$f":"VLOOKUP($C28,GERCEKLİK_KONTROL_1_KONS,11,FALSE)","v":{"$error":"#N/A"}}]
[null,24,"Alachlor",{"$f":"'Belirsizlik Bütçesi'!K28","v":1},{"$f":"'Veri Girişi'!#REF!","v":{"$error":"#REF!"}},10,97.293999999999983,10.843784947504432,103.36199999999999,14.645107177914257,101.508,103.36199999999999,{"$nulls":6},50,95.889600000000002,9.1132989392144186,94.470799999999983,10.885985362504105,89.965599999999995,103.36199999999999]
[null,25,"Allidochlor",{"$f":"'Belirsizlik Bütçesi'!K29","v":1},{"$f":"'Veri Girişi'!#REF!","v":{"$error":"#REF!"}},{"$error":"#N/A"},{"$error":"#N/A"},{"$error":"#N/A"},{"$error":"#N/A"},{"$error":"#N/A"},{"$error":"#N/A"},{"$error":"#N/A"},{"$nulls":6},{"$error":"#N/A"},{"$error":"#N/A"},{"$error":"#N/A"},{"$error":"#N/A"},{"$error":"#N/A"},{"$error":"#N/A"},{"$error":"#N/A"}]
[null,26,"Ametryne",{"$f":"'Belirsizlik Bütçesi'!K30","v":1},{"$f":"'Veri Girişi'!C25","v":"GC-MS/MS"},{"$error":"#N/A"},{"$error":"#N/A"},{"$error":"#N/A"},{"$error":"#N/A"},{"$error":"#N/A"},{"$error":"#N/A"},{"$f":"VLOOKUP($C31,GERCEKLİK_KONTROL_1_KONS,11,FALSE)","v":{"$error":"#N/A"}},{"$nulls":6},{"$error":"#N/A"},{"$error":"#N/A"},{"$error":"#N/A"},{"$error":"#N/A"},{"$error":"#N/A"},{"$error":"#N/A"},{"$error":"#N/A"}]
[null,27,"amitraz",{"$f":"'Belirsizlik Bütçesi'!K31","v":0},{"$f":"'Veri Girişi'!#REF!","v":{"$error":"#REF!"}},10,113.16,6.2707536056393689,114.3,4.7458281207753359,96.24,12.691031480962275,{"$nulls":6},50,87.539999999999992,8.4134964715919232,90.056000000000012,6.2650611312067479,91.595200000000006,6.4810410716597735]
[null,28,"Anthracene",{"$f":"'Belirsizlik Bütçesi'!K32","v":1},{"$f":"'Veri Girişi'!C26","v":"GC-MS/MS"},{"$error":"#N/A"},{"$error":"#N/A"},{"$error":"#N/A"},{"$error":"#N/A"},{"$error":"#N/A"},{"$error":"#N/A"},{"$f":"VLOOKUP($C33,GERCEKLİK_KONTROL_1_KONS,11,FALSE)","v":{"$error":"#N/A"}},{"$nulls":6},{"$error":"#N/A"},{"$error":"#N/A"},{"$error":"#N/A"},{"$error":"#N/A"},{"$error":"#N/A"},{"$error":"#N/A"},{"$f":"VLOOKUP($C33,GERCEKLİK_KONTROL_1_KONS,11,FALSE)","v":{"$error":"#N/A"}}]
[null,29,"Anthraquinone",{"$f":"'Belirsizlik Bütçesi'!K33","v":1},{"$f":"'Veri Girişi'!#REF!","v":{"$error":"#REF!"}},{"$error":"#N/A"},{"$error":"#N/A"},{"$error":"#N/A"},{"$error":"#N/A"},{"$error":"#N/A"},{"$error":"#N/A"},{"$error":"#N/A"},{"$nulls":6},{"$error":"#N/A"},{"$error":"#N/A"},{"$error":"#N/A"},{"$error":"#N/A"},{"$error":"#N/A"},{"$error":"#N/A"},{"$error":"#N/A"}]
[null,30,"Aspon",{"$f":"'Belirsizlik Bütçesi'!K34","v":1},{"$f":"'Veri Girişi'!C27","v":"GC-MS/MS"},{"$error":"#N/A"},{"$error":"#N/A"},{"$error":"#N/A"},{"$error":"#N/A"},{"$error":"#N/A"},{"$error":"#N/A"},{"$error":"#N/A"},{"$nulls":6},{"$error":"#N/A"},{"$error":"#N/A"},{"$error":"#N/A"},{"$error":"#N/A"},{"$error":"#N/A"},{"$error":"#N/A"},{"$error":"#N/A"}]
[null,31,"Atraton",{"$f":"'Belirsizlik Bütçesi'!K35","v":1},{"$f":"'Veri Girişi'!C28","v":"GC-MS/MS"},{"$error":"#N/A"},{"$error":"#N/A"},{"$error":"#N/A"},{"$error":"#N/A"},{"$error":"#N/A"},{"$error":"#N/A"},{"$error":"#N/A"},{"$nulls":6},{"$error":"#N/A"},{"$error":"#N/A"},{"$error":"#N/A"},{"$error":"#N/A"},{"$error":"#N/A"},{"$error":"#N/A"},{"$error":"#N/A"}]
[null,32,"Atrazine",{"$f":"'Belirsizlik Bütçesi'!K36","v":1},{"$f":"'Veri Girişi'!C29","v":"GC-MS/MS"},10,101.95599999999997,12.860968951564129,106.538,9.2622656599245712,101.4,106.538,{"$nulls":6},50,88.9512,8.7776548856489924,88.541199999999989,11.533360747494735,84.142799999999994,106.538]
[null,33,"Atrazine-Desethyl",{"$f":"'Belirsizlik Bütçesi'!K37","v":1},{"$f":"'Veri Girişi'!#REF!","v":{"$error":"#REF!"}},{"$error":"#N/A"},{"$error":"#N/A"},{"$error":"#N/A"},{"$error":"#N/A"},{"$error":"#N/A"},{"$error":"#N/A"},{"$error":"#N/A"},{"$nulls":6},{"$error":"#N/A"},{"$error":"#N/A"},{"$error":"#N/A"},{"$error":"#N/A"},{"$error":"#N/A"},{"$error":"#N/A"},{"$error":"#N/A"}]
[null,34,"Azobenzene",{"$f":"'Belirsizlik Bütçesi'!K38","v":0},{"$f":"'Veri Girişi'!#REF!","v":{"$error":"#REF!"}},{"$error":"#N/A"},{"$error":"#N/A"},{"$error":"#N/A"},{"$error":"#N/A"},{"$error":"#N/A"},{"$error":"#N/A"},{"$error":"#N/A"},{"$nulls":6},{"$error":"#N/A"},{"$error":"#N/A"},{"$error":"#N/A"},{"$error":"#N/A"},{"$error":"#N/A"},{"$error":"#N/A"},{"$error":"#N/A"}]
[null,35,"Beflubutamid",{"$f":"'Belirsizlik Bütçesi'!K39","v":0},{"$f":"'Veri Girişi'!C30","v":"GC-MS/MS"},{"$error":"#N/A"},{"$error":"#N/A"},{"$error":"#N/A"},{"$error":"#N/A"},{"$error":"#N/A"},{"$error":"#N/A"},{"$error":"#N/A"},{"$nulls":6},{"$error":"#N/A"},{"$error":"#N/A"},{"$error":"#N/A"},{"$error":"#N/A"},{"$error":"#N/A"},{"$error":"#N/A"},{"$error":"#N/A"}]
[null,36,"BENALAXY",{"$f":"'Belirsizlik Bütçesi'!K40","v":1},{"$f":"'Veri Girişi'!#REF!","v":{"$error":"#REF!"}},{"$error":"#N/A"},{"$error":"#N/A"},{"$error":"#N/A"},{"$error":"#N/A"},{"$error":"#N/A"},{"$error":"#N/A"},{"$f":"VLOOKUP($C41,GERCEKLİK_KONTROL_1_KONS,11,FALSE)","v":{"$error":"#N/A"}},{"$nulls":6},{"$error":"#N/A"},{"$error":"#N/A"},{"$error":"#N/A"},{"$error":"#N/A"},{"$error":"#N/A"},{"$error":"#N/A"},{"$f":"VLOOKUP($C41,GERCEKLİK_KONTROL_1_KONS,11,FALSE)","v":{"$error":"#N/A"}}]
[null,37,"Benfluralin",{"$f":"'Belirsizlik Bütçesi'!K41","v":1},{"$f":"'Veri Girişi'!C31","v":"GC-MS/MS"},10,109.70600000000002,5.6369337093979102,112.97999999999999,5.4868581580206612,105.97600000000003,112.97999999999999,{"$nulls":6},50,82.976799999999997,5.341923235879066,83.222399999999993,9.0372838665086412,83.093999999999994,112.97999999999999]
[null,38,"Benfuresate",{"$f":"'Belirsizlik Bütçesi'!K42","v":0},{"$f":"'Veri Girişi'!#REF!","v":{"$error":"#REF!"}},10,98.507999999999967,9.6255523893123787,103.59399999999998,15.381332174720781,102.43600000000002,7.8838233896159089,{"$nulls":6},50,94.072400000000016,10.813915086679264,91.666000000000011,8.9450985265047454,87.67240000000001,10.221150795712171]
[null,39,"Bentazone-Methyl",{"$f":"'Belirsizlik Bütçesi'!K43","v":1},{"$f":"'Veri Girişi'!C32","v":"GC-MS/MS"},10,101.33399999999999,13.554176545885793,109.084,11.708194519698546,98.98599999999999,{"$f":"VLOOKUP($C44,GERCEKLİK_KONTROL_1_KONS,11,FALSE)","v":109.084},{"$nulls":6},50,91.026399999999995,9.488527948382842,91.398800000000008,9.4065298351688789,90.578000000000003,{"$f":"VLOOKUP($C44,GERCEKLİK_KONTROL_1_KONS,11,FALSE)","v":109.084}]
[null,40,"Benzoylprop-Ethyl",{"$f":"'Belirsizlik Bütçesi'!K44","v":1},{"$f":"'Veri Girişi'!#REF!","v":{"$error":"#REF!"}},{"$error":"#N/A"},{"$error":"#N/A"},{"$error":"#N/A"},{"$error":"#N/A"},{"$error":"#N/A"},{"$error":"#N/A"},{"$error":"#N/A"},{"$nulls":6},{"$error":"#N/A"},{"$error":"#N/A"},{"$error":"#N/A"},{"$error":"#N/A"},{"$error":"#N/A"},{"$error":"#N/A"},{"$error":"#N/A"}]
[null,41,"Bifenazate",{"$f":"'Belirsizlik Bütçesi'!K45","v":1},{"$f":"'Veri Girişi'!C33","v":"GC-MS/MS"},10,103.13199999999998,13.477964399298781,108.084,13.066752777060506,100.56,108.084,{"$nulls":6},50,83.63239999999999,10.694027937958509,90.933199999999999,1.974567069817889,84.004400000000004,108.084]
[null,42,"Bifenox",{"$f":"'Belirsizlik Bütçesi'!K46","v":1},{"$f":"'Veri Girişi'!C34","v":"GC-MS/MS"},{"$error":"#N/A"},{"$error":"#N/A"},{"$error":"#N/A"},{"$error":"#N/A"},{"$error":"#N/A"},{"$error":"#N/A"},{"$error":"#N/A"},{"$nulls":6},{"$error":"#N/A"},{"$error":"#N/A"},{"$error":"#N/A"},{"$error":"#N/A"},{"$error":"#N/A"},{"$error":"#N/A"},{"$error":"#N/A"}]
[null,43,"Bifenthrin",{"$f":"'Belirsizlik Bütçesi'!K47","v":1},{"$f":"'Veri Girişi'!C35","v":"GC-MS/MS"},10,99.942000000000007,14.944782595854541,107.01199999999997,12.555699445286386,92.61399999999999,107.01199999999997,{"$nulls":6},50,87.800799999999995,9.5429561803008287,91.927599999999998,7.4573886070871387,81.400000000000006,107.01199999999997]
[null,44,"Biphenyl",{"$f":"'Belirsizlik Bütçesi'!K48","v":0},{"$f":"'Veri Girişi'!C36","v":"GC-MS/MS"},10,100.738,12.250125665675251,94.49799999999999,12.460037224112144,90.825999999999993,16.562016521721858,{"$nulls":6},50,102.0836,5.4779880361089033,100.67080000000001,10.587534126560167,98.613200000000006,13.409007396330288]
[null,45,"bitrex",{"$f":"'Belirsizlik Bütçesi'!K49","v":1},{"$f":"'Veri Girişi'!#REF!","v":{"$error":"#REF!"}},{"$error":"#N/A"},{"$error":"#N/A"},{"$error":"#N/A"},{"$error":"#N/A"},{"$error":"#N/A"},{"$error":"#N/A"},{"$f":"VLOOKUP($C50,GERCEKLİK_KONTROL_1_KONS,11,FALSE)","v":{"$error":"#N/A"}},{"$nulls":6},{"$error":"#N/A"},{"$error":"#N/A"},{"$error":"#N/A"},{"$error":"#N/A"},{"$error":"#N/A"},{"$error":"#N/A"},{"$f":"VLOOKUP($C50,GERCEKLİK_KONTROL_1_KONS,11,FALSE)","v":{"$error":"#N/A"}}]
[null,46,"Bromocyclen",{"$f":"'Belirsizlik Bütçesi'!K50","v":0},{"$f":"'Veri Girişi'!C37","v":"GC-MS/MS"},10,106.718,8.5693593711582992,113.28,2.2412669891007755,91.43,13.217326667946674,{"$nulls":6},50,82.986400000000003,9.7543866408836717,84.880399999999995,7.5493380114446254,90.139600000000002,4.8406577056276312]
[null,47,"Bromophos Methyl",{"$f":"'Belirsizlik Bütçesi'!K51","v":0},{"$f":"'Veri Girişi'!C38","v":"GC-MS/MS"},10,103.00999999999998,13.852797778653331,107.64999999999998,11.720265393739655,98.924000000000007,13.649332518653235,{"$nulls":6},50,90.289199999999994,9.8737838135047848,89.948399999999992,10.860975866180748,93.196399999999997,10.207074600254879]
[null,48,"Bromophos-Ethyl",{"$f":"'Belirsizlik Bütçesi'!K52","v":1},{"$f":"'Veri Girişi'!#REF!","v":{"$error":"#REF!"}},10,102.62600000000002,13.628164929434798,108.24799999999999,11.859262849006532,113.82400000000001,{"$f":"VLOOKUP($C53,GERCEKLİK_KONTROL_1_KONS,11,FALSE)","v":108.24799999999999},{"$nulls":6},50,90.059600000000003,8.5281767143633136,90.570799999999991,8.4369120620969884,99.336399999999998,{"$f":"VLOOKUP($C53,GERCEKLİK_KONTROL_1_KONS,11,FALSE)","v":108.24799999999999}]
[null,49,"Bromopropylate",{"$f":"'Belirsizlik Bütçesi'!K53","v":0},{"$f":"'Veri Girişi'!C39","v":"GC-MS/MS"},10,95.581999999999994,16.627150881159743,102.13799999999999,14.841994436407447,97.703999999999994,16.950258207211704,{"$nulls":6},50,92.999200000000002,13.923552650900481,100.2496,7.9434679497256049,82.695999999999998,9.2446646602504767]
[null,50,"BROMOXYNILMETYHL",{"$f":"'Belirsizlik Bütçesi'!K54","v":1},{"$f":"'Veri Girişi'!C40","v":"GC-MS/MS"},{"$error":"#N/A"},{"$error":"#N/A"},{"$error":"#N/A"},{"$error":"#N/A"},{"$error":"#N/A"},{"$error":"#N/A"},{"$f":"VLOOKUP($C55,GERCEKLİK_KONTROL_1_KONS,11,FALSE)","v":{"$error":"#N/A"}},{"$nulls":6},{"$error":"#N/A"},{"$error":"#N/A"},{"$error":"#N/A"},{"$error":"#N/A"},{"$error":"#N/A"},{"$error":"#N/A"},{"$f":"VLOOKUP($C55,GERCEKLİK_KONTROL_1_KONS,11,FALSE)","v":{"$error":"#N/A"}}]
[null,51,"Butachlor",{"$f":"'Belirsizlik Bütçesi'!K55","v":1},{"$f":"'Veri Girişi'!C41","v":"GC-MS/MS"},10,96.72999999999999,13.222280616514492,102.19799999999999,11.369797947551241,96.858000000000004,102.19799999999999,{"$nulls":6},50,94.52000000000001,9.1978431601655775,95.081999999999994,8.173536937779792,92.419600000000003,102.19799999999999]
[null,52,"Butafenacil",{"$f":"'Belirsizlik Bütçesi'!K56","v":1},{"$f":"'Veri Girişi'!C42","v":"GC-MS/MS"},10,102.12400000000001,15.036102246569468,110.77999999999999,14.591954097414096,89.878,110.77999999999999,{"$nulls":6},50,91.237200000000001,12.905987075179699,91.828800000000001,10.37041429024069,82.22999999999999,110.77999999999999]
[null,53,"Butamifos",{"$f":"'Belirsizlik Bütçesi'!K57","v":1},{"$f":"'Veri Girişi'!#REF!","v":{"$error":"#REF!"}},10,100.32000000000001,14.072342551440665,105.548,11.679970342701138,102.51600000000001,105.548,{"$nulls":6},50,87.818399999999997,12.152685519445482,88.471199999999996,9.6089617362800759,82.66040000000001,105.548]
[null,54,"Butralin",{"$f":"'Belirsizlik Bütçesi'!K58","v":1},{"$f":"'Veri Girişi'!C44","v":"GC-MS/MS"},10,104.46200000000002,8.607704898695971,109.57400000000001,7.9902793541119417,101.17999999999998,109.57400000000001,{"$nulls":6},50,86.1404,9.0756370067981074,85.861200000000011,6.6105381116601789,85.982399999999998,109.57400000000001]
[null,55,"Butylate",{"$f":"'Belirsizlik Bütçesi'!K59","v":1},{"$f":"'Veri Girişi'!#REF!","v":{"$error":"#REF!"}},10,107.57400000000001,5.7756422636136557,97.74,6.7273673921758714,94.543999999999997,97.74,{"$nulls":6},50,90.242800000000017,8.1667740693496089,91.768400000000014,16.510033797243644,110.35559999999998,97.74]
[null,56,"Cadusafos",{"$f":"'Belirsizlik Bütçesi'!K60","v":1},{"$f":"'Veri Girişi'!#REF!","v":{"$error":"#REF!"}},10,102.93800000000002,9.2960116642664961,108.26400000000001,9.7025441763708891,99.614000000000019,108.26400000000001,{"$nulls":6},50,88.000799999999998,8.1889844719501443,87.194000000000003,13.396826766213769,90.67519999999999,108.26400000000001]
[null,57,"Cafenstrole",{"$f":"'Belirsizlik Bütçesi'!K61","v":0},{"$f":"'Veri Girişi'!#REF!","v":{"$error":"#REF!"}},{"$error":"#N/A"},{"$error":"#N/A"},{"$error":"#N/A"},{"$error":"#N/A"},{"$error":"#N/A"},{"$error":"#N/A"},{"$error":"#N/A"},{"$nulls":6},{"$error":"#N/A"},{"$error":"#N/A"},{"$error":"#N/A"},{"$error":"#N/A"},{"$error":"#N/A"},{"$error":"#N/A"},{"$error":"#N/A"}]
[null,58,"CAPTAFOL",{"$f":"'Belirsizlik Bütçesi'!K62","v":0},{"$f":"'Veri Girişi'!#REF!","v":{"$error":"#REF!"}},{"$error":"#N/A"},{"$error":"#N/A"},{"$error":"#N/A"},{"$error":"#N/A"},{"$error":"#N/A"},{"$error":"#N/A"},{"$error":"#N/A"},{"$nulls":6},{"$error":"#N/A"},{"$error":"#N/A"},{"$error":"#N/A"},{"$error":"#N/A"},{"$error":"#N/A"},{"$error":"#N/A"},{"$error":"#N/A"}]
[null,59,"CAPTAN",{"$f":"'Belirsizlik Bütçesi'!K63","v":1},{"$f":"'Veri Girişi'!C45","v":"GC-MS/MS"},10,97.603999999999999,14.082256443735325,102.98799999999999,13.779577646291068,104.94200000000001,{"$f":"VLOOKUP($C64,GERCEKLİK_KONTROL_1_KONS,11,FALSE)","v":102.98799999999999},{"$nulls":6},50,94.326800000000006,16.941992827148621,105.86959999999999,7.7392922633569601,84.66,{"$f":"VLOOKUP($C64,GERCEKLİK_KONTROL_1_KONS,11,FALSE)","v":102.98799999999999}]
[null,60,"Carbophenothion",{"$f":"'Belirsizlik Bütçesi'!K64","v":0},{"$f":"'Veri Girişi'!C46","v":"GC-MS/MS"},{"$error":"#N/A"},{"$error":"#N/A"},{"$error":"#N/A"},{"$error":"#N/A"},{"$error":"#N/A"},{"$error":"#N/A"},{"$error":"#N/A"},{"$nulls":6},{"$error":"#N/A"},{"$error":"#N/A"},{"$error":"#N/A"},{"$error":"#N/A"},{"$error":"#N/A"},{"$error":"#N/A"},{"$error":"#N/A"}]
[null,61,"Carbophenothion Methyl",{"$f":"'Belirsizlik Bütçesi'!K65","v":1},{"$f":"'Veri Girişi'!#REF!","v":{"$error":"#REF!"}},{"$error":"#N/A"},{"$error":"#N/A"},{"$error":"#N/A"},{"$error":"#N/A"},{"$error":"#N/A"},{"$error":"#N/A"},{"$f":"VLOOKUP($C66,GERCEKLİK_KONTROL_1_KONS,11,FALSE)","v":{"$error":"#N/A"}},{"$nulls":6},{"$error":"#N/A"},{"$error":"#N/A"},{"$error":"#N/A"},{"$error":"#N/A"},{"$error":"#N/A"},{"$error":"#N/A"},{"$f":"VLOOKUP($C66,GERCEKLİK_KONTROL_1_KONS,11,FALSE)","v":{"$error":"#N/A"}}]
[null,62,"Carbosulfan",{"$f":"'Belirsizlik Bütçesi'!K66","v":1},{"$f":"'Veri Girişi'!C47","v":"GC-MS/MS"},2,98.45,7.4839212097101369,112.1,14.26739409350567,105.00000000000003,112.1,{"$nulls":6},{"$error":"#N/A"},{"$error":"#N/A"},{"$error":"#N/A"},{"$error":"#N/A"},{"$error":"#N/A"},{"$error":"#N/A"},112.1]
[null,63,"Chinomethionat",{"$f":"'Belirsizlik Bütçesi'!K67","v":1},{"$f":"'Veri Girişi'!C48","v":"GC-MS/MS"},{"$f":"VLOOKUP($C68,GERCEKLİK_KONTROL_1_KONS,2,FALSE)","v":10},{"$f":"VLOOKUP($C68,GERCEKLİK_KONTROL_1_KONS,5,FALSE)","v":100.30399999999999},{"$f":"VLOOKUP($C68,GERCEKLİK_KONTROL_1_KONS,6,FALSE)","v":12.297522503270072},{"$f":"VLOOKUP($C68,GERCEKLİK_KONTROL_1_KONS,11,FALSE)","v":100.74799999999999},{"$f":"VLOOKUP($C68,GERCEKLİK_KONTROL_1_KONS,12,FALSE)","v":17.6797185393314},{"$f":"VLOOKUP($C68,GERCEKLİK_KONTROL_1_KONS,17,FALSE)","v":105.542},100.74799999999999,{"$nulls":6},{"$f":"VLOOKUP($C68,GERCEKLIK_KONTROLU_TE_2_KONs,2,FALSE)","v":50},{"$f":"VLOOKUP($C68,GERCEKLIK_KONTROLU_TE_2_KONs,5,FALSE)","v":87.219599999999986},{"$f":"VLOOKUP($C68,GERCEKLIK_KONTROLU_TE_2_KONs,6,FALSE)","v":7.3338125030659462},{"$f":"VLOOKUP($C68,GERCEKLIK_KONTROLU_TE_2_KONs,11,FALSE)","v":97.668000000000006},{"$f":"VLOOKUP($C68,GERCEKLIK_KONTROLU_TE_2_KONs,12,FALSE)","v":8.1448903835077999},{"$f":"VLOOKUP($C68,GERCEKLIK_KONTROLU_TE_2_KONs,17,FALSE)","v":80.817599999999999},100.74799999999999]
[null,64,"Chlorbenside",{"$f":"'Belirsizlik Bütçesi'!K68","v":1},{"$f":"'Veri Girişi'!C49","v":"GC-MS/MS"},10,102.06199999999998,15.509677801199695,106.48599999999999,13.909600072682682,90.569999999999979,106.48599999999999,{"$nulls":6},50,84.512400000000014,10.346855553240237,90.087599999999995,9.1281733388441211,79.813200000000009,106.48599999999999]
[null,65,"Chlordane-cis(alpha)",{"$f":"'Belirsizlik Bütçesi'!K69","v":0},{"$f":"'Veri Girişi'!#REF!","v":{"$error":"#REF!"}},{"$error":"#N/A"},{"$error":"#N/A"},{"$error":"#N/A"},{"$error":"#N/A"},{"$error":"#N/A"},{"$error":"#N/A"},{"$f":"VLOOKUP($C70,GERCEKLİK_KONTROL_1_KONS,18,FALSE)","v":{"$error":"#N/A"}},{"$nulls":6},{"$error":"#N/A"},{"$error":"#N/A"},{"$error":"#N/A"},{"$error":"#N/A"},{"$error":"#N/A"},{"$error":"#N/A"},{"$f":"VLOOKUP($C70,GERCEKLIK_KONTROLU_TE_2_KONs,18,FALSE)","v":{"$error":"#N/A"}}]
[null,66,"Chlordane-trans (gamma)",{"$f":"'Belirsizlik Bütçesi'!K70","v":1},{"$f":"'Veri Girişi'!C50","v":"GC-MS/MS"},{"$error":"#N/A"},{"$error":"#N/A"},{"$error":"#N/A"},{"$error":"#N/A"},{"$error":"#N/A"},{"$error":"#N/A"},{"$f":"VLOOKUP($C71,GERCEKLİK_KONTROL_1_KONS,11,FALSE)","v":{"$error":"#N/A"}},{"$nulls":6},{"$error":"#N/A"},{"$error":"#N/A"},{"$error":"#N/A"},{"$error":"#N/A"},{"$error":"#N/A"},{"$error":"#N/A"},{"$f":"VLOOKUP($C71,GERCEKLİK_KONTROL_1_KONS,11,FALSE)","v":{"$error":"#N/A"}}]
[null,67,"Chlordecone",{"$f":"'Belirsizlik Bütçesi'!K71","v":1},{"$f":"'Veri Girişi'!C51","v":"GC-MS/MS"},10,110.48800000000001,7.0390784047360375,108.68799999999999,5.8064485230648977,101.74400000000001,108.68799999999999,{"$nulls":6},50,85.259600000000006,10.204635102417081,82.397999999999996,5.0177229494723736,84.010000000000019,108.68799999999999]
[null,68,"Chlorethoxyfos",{"$f":"'Belirsizlik Bütçesi'!K72","v":0},{"$f":"'Veri Girişi'!C52","v":"GC-MS/MS"},{"$error":"#N/A"},{"$error":"#N/A"},{"$error":"#N/A"},{"$error":"#N/A"},{"$error":"#N/A"},{"$error":"#N/A"},{"$error":"#N/A"},{"$nulls":6},{"$error":"#N/A"},{"$error":"#N/A"},{"$error":"#N/A"},{"$error":"#N/A"},{"$error":"#N/A"},{"$error":"#N/A"},{"$error":"#N/A"}]
[null,69,"Chlorfenapyr",{"$f":"'Belirsizlik Bütçesi'!K73","v":1},{"$f":"'Veri Girişi'!C53","v":"GC-MS/MS"},10,96.513999999999982,14.634082299126755,104.38799999999999,9.9958109672187039,93.622,{"$f":"VLOOKUP($C74,GERCEKLİK_KONTROL_1_KONS,11,FALSE)","v":104.38799999999999},{"$nulls":6},50,90.170400000000001,13.115565605273824,90.993599999999986,8.9149437752143115,79.986800000000002,{"$f":"VLOOKUP($C74,GERCEKLİK_KONTROL_1_KONS,11,FALSE)","v":104.38799999999999}]
[null,70,"Chlorfenprop Methyl",{"$f":"'Belirsizlik Bütçesi'!K74","v":1},{"$f":"'Veri Girişi'!C54","v":"GC-MS/MS"},10,102.40800000000002,8.1640537008265177,106.87000000000002,9.3259444605543198,95.87,106.87000000000002,{"$nulls":6},50,89.558000000000007,7.5892214665456663,91.548000000000002,13.167080315893651,85.270799999999994,106.87000000000002]
[null,71,"Chlorfenson",{"$f":"'Belirsizlik Bütçesi'!K75","v":1},{"$f":"'Veri Girişi'!C55","v":"GC-MS/MS"},10,99.141999999999996,14.135497494786383,104.634,12.623799234554264,99.626000000000005,104.634,{"$nulls":6},50,81.626000000000005,6.5594614393492732,83.586399999999998,9.6139491673729545,83.471199999999996,104.634]
[null,72,"Chlorfenvinphos",{"$f":"'Belirsizlik Bütçesi'!K76","v":1},{"$f":"'Veri Girişi'!C56","v":"GC-MS/MS"},10,103.27,11.686771681716538,108.65799999999999,11.329091513418422,102.25,108.65799999999999,{"$nulls":6},50,82.314000000000007,9.001267513509978,84.202799999999996,5.9455696311486879,84.796399999999991,108.65799999999999]
[null,73,"Chlormephos",{"$f":"'Belirsizlik Bütçesi'!K77","v":1},{"$f":"'Veri Girişi'!#REF!","v":{"$error":"#REF!"}},10,107.982,6.6124673598628645,104.74800000000002,8.3232724699640741,93.861999999999995,104.74800000000002,{"$nulls":6},50,88.758399999999995,5.0863398699752187,92.010800000000003,12.054498142610777,107.7796,104.74800000000002]
[null,74,"Chlorobenzilate",{"$f":"'Belirsizlik Bütçesi'!K78","v":1},{"$f":"'Veri Girişi'!#REF!","v":{"$error":"#REF!"}},{"$error":"#N/A"},{"$error":"#N/A"},{"$error":"#N/A"},{"$error":"#N/A"},{"$error":"#N/A"},{"$error":"#N/A"},{"$error":"#N/A"},{"$nulls":6},{"$error":"#N/A"},{"$error":"#N/A"},{"$error":"#N/A"},{"$error":"#N/A"},{"$error":"#N/A"},{"$error":"#N/A"},{"$error":"#N/A"}]
[null,75,"Chloroneb",{"$f":"'Belirsizlik Bütçesi'!K79","v":0},{"$f":"'Veri Girişi'!C57","v":"GC-MS/MS"},10,105.24,8.6539972604814466,108.14400000000002,7.9771550818584824,97.903999999999996,11.786053401794288,{"$nulls":6},50,88.993200000000002,5.5984594411549375,91.789600000000007,13.062855956575895,95.279600000000002,7.7405267237797784]
[null,76,"Chloropropylate",{"$f":"'Belirsizlik Bütçesi'!K80","v":0},{"$f":"'Veri Girişi'!C58","v":"GC-MS/MS"},{"$error":"#N/A"},{"$error":"#N/A"},{"$error":"#N/A"},{"$error":"#N/A"},{"$error":"#N/A"},{"$error":"#N/A"},{"$error":"#N/A"},{"$nulls":6},{"$error":"#N/A"},{"$error":"#N/A"},{"$error":"#N/A"},{"$error":"#N/A"},{"$error":"#N/A"},{"$error":"#N/A"},{"$error":"#N/A"}]
[null,77,"Chlorothalonil",{"$f":"'Belirsizlik Bütçesi'!K81","v":1},{"$f":"'Veri Girişi'!C59","v":"GC-MS/MS"},10,99.475999999999999,13.30937214720646,102.34799999999997,11.122304273523099,111.34600000000002,4.913085104918725,{"$nulls":6},50,107.41720000000001,8.6080565879688269,97.086799999999997,10.764675475023006,104.62519999999999,{"$f":"VLOOKUP($C82,GERCEKLİK_KONTROL_1_KONS,11,FALSE)","v":102.34799999999997}]
[null,78,"Chlorpropham",{"$f":"'Belirsizlik Bütçesi'!K82","v":1},{"$f":"'Veri Girişi'!C60","v":"GC-MS/MS"},10,99.563999999999993,11.759354746077689,106.114,11.6465172126415,90.853999999999999,12.512300495703741,{"$nulls":6},50,89.921199999999999,8.9221608852019472,91.277999999999992,12.748882842733186,84.061999999999998,106.114]
[null,79,"Chlorpyrifos Methyl",{"$f":"'Belirsizlik Bütçesi'!K83","v":1},{"$f":"'Veri Girişi'!#REF!","v":{"$error":"#REF!"}},{"$error":"#N/A"},{"$error":"#N/A"},{"$error":"#N/A"},{"$error":"#N/A"},{"$error":"#N/A"},{"$error":"#N/A"},{"$error":"#N/A"},{"$nulls":6},{"$error":"#N/A"},{"$error":"#N/A"},{"$error":"#N/A"},{"$error":"#N/A"},{"$error":"#N/A"},{"$error":"#N/A"},{"$error":"#N/A"}]
[null,80,"Chlorpyrifos-Ethyl",{"$f":"'Belirsizlik Bütçesi'!K84","v":1},{"$f":"'Veri Girişi'!#REF!","v":{"$error":"#REF!"}},{"$error":"#N/A"},{"$error":"#N/A"},{"$error":"#N/A"},{"$error":"#N/A"},{"$error":"#N/A"},{"$error":"#N/A"},{"$error":"#N/A"},{"$nulls":6},{"$error":"#N/A"},{"$error":"#N/A"},{"$error":"#N/A"},{"$error":"#N/A"},{"$error":"#N/A"},{"$error":"#N/A"},{"$error":"#N/A"}]
[null,81,"Chlorthal-Dimethyl",{"$f":"'Belirsizlik Bütçesi'!K85","v":0},{"$f":"'Veri Girişi'!#REF!","v":{"$error":"#REF!"}},10,102.782,7.0560197797760624,111.178,4.6821218318627746,100.47200000000001,5.2313256467234934,{"$nulls":6},50,100.8596,6.1443788018293395,97.388000000000005,12.770269618358238,100.01880000000001,8.1791195851762843]
[null,82,"chlorthiamid",{"$f":"'Belirsizlik Bütçesi'!K86","v":1},{"$f":"'Veri Girişi'!C62","v":"GC-MS/MS"},{"$error":"#N/A"},{"$error":"#N/A"},{"$error":"#N/A"},{"$error":"#N/A"},{"$error":"#N/A"},{"$error":"#N/A"},{"$error":"#N/A"},{"$nulls":6},{"$error":"#N/A"},{"$error":"#N/A"},{"$error":"#N/A"},{"$error":"#N/A"},{"$error":"#N/A"},{"$error":"#N/A"},{"$f":"VLOOKUP($C87,GERCEKLİK_KONTROL_1_KONS,11,FALSE)","v":{"$error":"#N/A"}}]
[null,83,"Chlorthion",{"$f":"'Belirsizlik Bütçesi'!K87","v":0},{"$f":"'Veri Girişi'!C63","v":"GC-MS/MS"},{"$error":"#N/A"},{"$error":"#N/A"},{"$error":"#N/A"},{"$error":"#N/A"},{"$error":"#N/A"},{"$error":"#N/A"},{"$error":"#N/A"},{"$nulls":6},{"$error":"#N/A"},{"$error":"#N/A"},{"$error":"#N/A"},{"$error":"#N/A"},{"$error":"#N/A"},{"$error":"#N/A"},{"$error":"#N/A"}]
[null,84,"Chlorthiopos",{"$f":"'Belirsizlik Bütçesi'!K88","v":1},{"$f":"'Veri Girişi'!C64","v":"GC-MS/MS"},10,97.566000000000003,13.022813707403206,104.90599999999999,10.46216816228274,100.37200000000001,16.325723690290769,{"$nulls":6},50,89.531200000000013,9.4065537740843936,92.76400000000001,8.0674065114356761,82.956400000000002,{"$f":"VLOOKUP($C89,GERCEKLİK_KONTROL_1_KONS,11,FALSE)","v":104.90599999999999}]
[null,85,"Chlozolinate",{"$f":"'Belirsizlik Bütçesi'!K89","v":1},{"$f":"'Veri Girişi'!#REF!","v":{"$error":"#REF!"}},{"$error":"#N/A"},{"$error":"#N/A"},{"$error":"#N/A"},{"$error":"#N/A"},{"$error":"#N/A"},{"$error":"#N/A"},{"$error":"#N/A"},{"$nulls":6},{"$error":"#N/A"},{"$error":"#N/A"},{"$error":"#N/A"},{"$error":"#N/A"},{"$error":"#N/A"},{"$error":"#N/A"},{"$error":"#N/A"}]
[null,86,"Cinidon-Ethyl",{"$f":"'Belirsizlik Bütçesi'!K90","v":1},{"$f":"'Veri Girişi'!C65","v":"GC-MS/MS"},{"$error":"#N/A"},{"$error":"#N/A"},{"$error":"#N/A"},{"$error":"#N/A"},{"$error":"#N/A"},{"$error":"#N/A"},{"$error":"#N/A"},{"$nulls":6},{"$error":"#N/A"},{"$error":"#N/A"},{"$error":"#N/A"},{"$error":"#N/A"},{"$error":"#N/A"},{"$error":"#N/A"},{"$error":"#N/A"}]
[null,87,"Clomazone",{"$f":"'Belirsizlik Bütçesi'!K91","v":1},{"$f":"'Veri Girişi'!C66","v":"GC-MS/MS"},10,106.01800000000001,10.039201240932641,107.744,8.5687127135571952,91.820000000000007,17.590063766174254,{"$nulls":6},50,89.665199999999999,8.2051659739925462,87.271199999999993,11.992602325448679,93.995199999999997,107.744]
[null,88,"CLOXYFONAC",{"$f":"'Belirsizlik Bütçesi'!K92","v":1},{"$f":"'Veri Girişi'!C67","v":"GC-MS/MS"},{"$error":"#N/A"},{"$error":"#N/A"},{"$error":"#N/A"},{"$error":"#N/A"},{"$error":"#N/A"},{"$error":"#N/A"},{"$error":"#N/A"},{"$nulls":6},{"$error":"#N/A"},{"$error":"#N/A"},{"$error":"#N/A"},{"$error":"#N/A"},{"$error":"#N/A"},{"$error":"#N/A"},{"$error":"#N/A"}]
[null,89,"Coumaphos",{"$f":"'Belirsizlik Bütçesi'!K93","v":1},{"$f":"'Veri Girişi'!#REF!","v":{"$error":"#REF!"}},10,102.13999999999999,13.521471406527965,107.504,14.457202792949674,108.10600000000001,108.10600000000001,{"$nulls":6},50,85.502800000000008,12.106415942974101,88.086799999999997,8.3081728436197348,106.27200000000001,107.504]
[null,90,"Crimidine",{"$f":"'Belirsizlik Bütçesi'!K94","v":1},{"$f":"'Veri Girişi'!#REF!","v":{"$error":"#REF!"}},10,101.57799999999999,11.816371489946697,103.13,10.248147313648042,98.31,98.31,{"$nulls":6},50,90.5488,6.9645897550571725,93.098800000000011,13.420066348544593,84.995199999999997,103.13]
[null,91,"Crotoxyphos",{"$f":"'Belirsizlik Bütçesi'!K95","v":1},{"$f":"'Veri Girişi'!C68","v":"GC-MS/MS"},{"$error":"#N/A"},{"$error":"#N/A"},{"$error":"#N/A"},{"$error":"#N/A"},{"$error":"#N/A"},{"$error":"#N/A"},{"$error":"#N/A"},{"$nulls":6},{"$error":"#N/A"},{"$error":"#N/A"},{"$error":"#N/A"},{"$error":"#N/A"},{"$error":"#N/A"},{"$error":"#N/A"},{"$error":"#N/A"}]
[null,92,"Cyanazine",{"$f":"'Belirsizlik Bütçesi'!K96","v":1},{"$f":"'Veri Girişi'!C69","v":"GC-MS/MS"},{"$error":"#N/A"},{"$error":"#N/A"},{"$error":"#N/A"},{"$error":"#N/A"},{"$error":"#N/A"},{"$error":"#N/A"},{"$error":"#N/A"},{"$nulls":6},{"$error":"#N/A"},{"$error":"#N/A"},{"$error":"#N/A"},{"$error":"#N/A"},{"$error":"#N/A"},{"$error":"#N/A"},{"$error":"#N/A"}]
[null,93,"Cyanofenphos",{"$f":"'Belirsizlik Bütçesi'!K97","v":0},{"$f":"'Veri Girişi'!C70","v":"GC-MS/MS"},10,101.93600000000001,12.668905533595517,106.694,15.108908368327404,109.744,8.1049145148662163,{"$nulls":6},50,82.007999999999996,8.3836540052609934,80.29079999999999,6.9010561732254461,101.6156,10.191710182254695]
[null,94,"Cyanophos",{"$f":"'Belirsizlik Bütçesi'!K98","v":1},{"$f":"'Veri Girişi'!C71","v":"GC-MS/MS"},10,104.64800000000001,11.515219478327847,109.87399999999998,9.112391575754252,86.432000000000002,86.432000000000002,{"$nulls":6},50,84.037200000000013,8.8476587593651939,84.754800000000003,11.866033571811547,85.298399999999987,{"$f":"VLOOKUP($C99,GERCEKLİK_KONTROL_1_KONS,11,FALSE)","v":109.87399999999998}]
[null,95,"Cycloate",{"$f":"'Belirsizlik Bütçesi'!K99","v":1},{"$f":"'Veri Girişi'!C72","v":"GC-MS/MS"},10,92.26,8.5765248365184767,101.958,9.2914114842724533,94.821999999999989,94.821999999999989,{"$nulls":6},50,91.140800000000013,3.3647845666953051,93.607200000000006,18.143157866034304,101.98439999999999,101.958]
[null,96,"Cycluron",{"$f":"'Belirsizlik Bütçesi'!K100","v":0},{"$f":"'Veri Girişi'!C73","v":"GC-MS/MS"},10,99.031999999999996,13.465580980061434,104.464,10.126650405329068,89.492000000000019,13.794915843520824,{"$nulls":6},50,86.700400000000016,7.476160502041199,86.690399999999997,11.32557835851529,83.916399999999996,9.43575877497919]
[null,97,"Cyflufenamid",{"$f":"'Belirsizlik Bütçesi'!K101","v":0},{"$f":"'Veri Girişi'!C74","v":"GC-MS/MS"},10,103.67799999999998,7.245396247352093,108.70799999999998,6.9820110859635891,103.33400000000002,10.805670609241053,{"$nulls":6},50,95.132000000000005,8.4417078037612523,93.379599999999996,7.4225808342131483,101.0964,10.16937265019447]
[null,98,"Cyfluthrin",{"$f":"'Belirsizlik Bütçesi'!K102","v":1},{"$f":"'Veri Girişi'!C75","v":"GC-MS/MS"},10,95.478000000000009,15.964842291778655,102.81400000000001,10.875122474025057,97.110000000000014,97.110000000000014,{"$nulls":6},50,87.980800000000002,17.405570429695615,97.347999999999985,10.959200313450452,75.348399999999998,5.323935634779513]
[null,99,"Cyfluthrin-Beta",{"$f":"'Belirsizlik Bütçesi'!K103","v":1},{"$f":"'Veri Girişi'!C76","v":"GC-MS/MS"},10,105.04400000000001,9.5147177026332486,105.79800000000002,10.015595593378524,90.389999999999986,90.389999999999986,{"$nulls":6},50,86.21759999999999,9.7671506028261792,79.233599999999996,8.3755819117718033,80.656800000000004,9.9629721641003179]
[null,100,"Cyhalofop Buthyl",{"$f":"'Belirsizlik Bütçesi'!K104","v":1},{"$f":"'Veri Girişi'!C77","v":"GC-MS/MS"},{"$error":"#N/A"},{"$error":"#N/A"},{"$error":"#N/A"},{"$error":"#N/A"},{"$error":"#N/A"},{"$error":"#N/A"},{"$error":"#N/A"},{"$nulls":6},{"$error":"#N/A"},{"$error":"#N/A"},{"$error":"#N/A"},{"$error":"#N/A"},{"$error":"#N/A"},{"$error":"#N/A"},{"$error":"#N/A"}]
[null,101,"Cyhalothrin-Gamma",{"$f":"'Belirsizlik Bütçesi'!K105","v":1},{"$f":"'Veri Girişi'!C78","v":"GC-MS/MS"},{"$error":"#N/A"},{"$error":"#N/A"},{"$error":"#N/A"},{"$error":"#N/A"},{"$error":"#N/A"},{"$error":"#N/A"},{"$error":"#N/A"},{"$nulls":6},{"$error":"#N/A"},{"$error":"#N/A"},{"$error":"#N/A"},{"$error":"#N/A"},{"$error":"#N/A"},{"$error":"#N/A"},{"$error":"#N/A"}]
[null,102,"Cyhalothrin-Lambda",{"$f":"'Belirsizlik Bütçesi'!K106","v":1},{"$f":"'Veri Girişi'!C79","v":"GC-MS/MS"},{"$error":"#N/A"},{"$error":"#N/A"},{"$error":"#N/A"},{"$error":"#N/A"},{"$error":"#N/A"},{"$error":"#N/A"},{"$error":"#N/A"},{"$nulls":6},{"$error":"#N/A"},{"$error":"#N/A"},{"$error":"#N/A"},{"$error":"#N/A"},{"$error":"#N/A"},{"$error":"#N/A"},3.24]
[null,103,"Cymiazole",{"$f":"'Belirsizlik Bütçesi'!K107","v":0},{"$f":"'Veri Girişi'!#REF!","v":{"$error":"#REF!"}},10,98.452000000000012,14.648158416919021,104.24200000000002,13.179381076803859,92.033999999999978,15.473194369986281,{"$nulls":6},50,86.080799999999996,8.764656487372033,88.266400000000004,10.629364715246343,82.04440000000001,6.9667702968490035]
[null,104,"Cypermethrin-Zeta",{"$f":"'Belirsizlik Bütçesi'!K108","v":0},{"$f":"'Veri Girişi'!#REF!","v":{"$error":"#REF!"}},{"$error":"#N/A"},{"$error":"#N/A"},{"$error":"#N/A"},{"$error":"#N/A"},{"$error":"#N/A"},{"$error":"#N/A"},{"$error":"#N/A"},{"$nulls":6},{"$error":"#N/A"},{"$error":"#N/A"},{"$error":"#N/A"},{"$error":"#N/A"},{"$error":"#N/A"},{"$error":"#N/A"},{"$error":"#N/A"}]
[null,105,"Cyprazine",{"$f":"'Belirsizlik Bütçesi'!K109","v":1},{"$f":"'Veri Girişi'!C80","v":"GC-MS/MS"},{"$error":"#N/A"},{"$error":"#N/A"},{"$error":"#N/A"},{"$error":"#N/A"},{"$error":"#N/A"},{"$error":"#N/A"},{"$error":"#N/A"},{"$nulls":6},{"$error":"#N/A"},{"$error":"#N/A"},{"$error":"#N/A"},{"$error":"#N/A"},{"$error":"#N/A"},{"$error":"#N/A"},{"$error":"#N/A"}]
[null,106,"Cyprofuram",{"$f":"'Belirsizlik Bütçesi'!K110","v":0},{"$f":"'Veri Girişi'!#REF!","v":{"$error":"#REF!"}},{"$error":"#N/A"},{"$error":"#N/A"},{"$error":"#N/A"},{"$error":"#N/A"},{"$error":"#N/A"},{"$error":"#N/A"},{"$error":"#N/A"},{"$nulls":6},{"$error":"#N/A"},{"$error":"#N/A"},{"$error":"#N/A"},{"$error":"#N/A"},{"$error":"#N/A"},{"$error":"#N/A"},{"$error":"#N/A"}]
[null,107,"Deltamethrin",{"$f":"'Belirsizlik Bütçesi'!K111","v":0},{"$f":"'Veri Girişi'!#REF!","v":{"$error":"#REF!"}},10,95.59999999999998,16.84905373000025,98.82,11.824595481094702,103.08,11.225465621518861,{"$nulls":6},50,94.795999999999992,14.624770241442924,81.525200000000012,8.9413347970533668,86.295600000000007,7.9789206942373276]
[null,108,"Demeton-S",{"$f":"'Belirsizlik Bütçesi'!K112","v":0},{"$f":"'Veri Girişi'!C81","v":"GC-MS/MS"},10,102.69800000000001,9.6313749521458387,106.55399999999999,9.42952261593644,97.24199999999999,13.547643787950332,{"$nulls":6},50,88.177600000000012,6.7539395063075398,88.948399999999992,12.784077337345215,81.342799999999983,5.9265723399381169]
[null,109,"Demeton-S-Methyl",{"$f":"'Belirsizlik Bütçesi'!K113","v":1},{"$f":"'Veri Girişi'!C82","v":"GC-MS/MS"},10,93.990000000000009,16.342302593660332,101.414,12.800363725489957,105.51600000000001,9.2225765289192587,{"$nulls":6},50,83.199600000000004,2.9719136025112505,88.739199999999997,6.864087439954333,91.4148,8.049624835165524]
[null,110,"Dialifos",{"$f":"'Belirsizlik Bütçesi'!K114","v":0},{"$f":"'Veri Girişi'!#REF!","v":{"$error":"#REF!"}},{"$error":"#N/A"},{"$error":"#N/A"},{"$error":"#N/A"},{"$error":"#N/A"},{"$error":"#N/A"},{"$error":"#N/A"},{"$error":"#N/A"},{"$nulls":6},{"$error":"#N/A"},{"$error":"#N/A"},{"$error":"#N/A"},{"$error":"#N/A"},{"$error":"#N/A"},{"$error":"#N/A"},{"$error":"#N/A"}]
[null,111,"Diazinon",{"$f":"'Belirsizlik Bütçesi'!K115","v":0},{"$f":"'Veri Girişi'!#REF!","v":{"$error":"#REF!"}},10,101.67399999999999,11.945088821912325,108.64,10.716240746608511,93.382000000000005,17.015912320939552,{"$nulls":6},50,90.901600000000002,7.8777741515918169,89.378799999999984,10.803361109224332,91.372799999999998,9.3899300738488218]
[null,112,"Dichlobenil",{"$f":"'Belirsizlik Bütçesi'!K116","v":0},{"$f":"'Veri Girişi'!C83","v":"GC-MS/MS"},10,105.80799999999999,8.1970856929253735,106.31600000000002,10.159742512442245,99.336000000000027,10.659175291963892,{"$nulls":6},50,92.298000000000002,7.0085197097282004,94.070400000000006,12.93837609356604,89.695999999999998,8.505254761983613]
[null,113,"Dichlobutrazol",{"$f":"'Belirsizlik Bütçesi'!K117","v":1},{"$f":"'Veri Girişi'!C84","v":"GC-MS/MS"},10,99.910000000000011,15.309271144197941,105.518,14.167836502648811,97.022000000000006,17.60715917623466,{"$nulls":6},50,87.566400000000002,12.834794323969206,92.741599999999991,7.7898738731328248,83.308000000000007,7.7329955954914515]
[null,114,"Dichlofenthion",{"$f":"'Belirsizlik Bütçesi'!K118","v":0},{"$f":"'Veri Girişi'!C85","v":"GC-MS/MS"},10,102.72000000000001,12.384245181891981,107.36199999999999,9.9244421115712473,83.336000000000013,15.78796460332596,{"$nulls":6},50,92.598399999999998,8.805461676390582,92.50200000000001,10.357794365030866,91.372,9.1585439288539234]
[null,115,"Dichlofluanid",{"$f":"'Belirsizlik Bütçesi'!K119","v":0},{"$f":"'Veri Girişi'!C86","v":"GC-MS/MS"},{"$error":"#N/A"},{"$error":"#N/A"},{"$error":"#N/A"},{"$error":"#N/A"},{"$error":"#N/A"},{"$error":"#N/A"},{"$error":"#N/A"},{"$nulls":6},{"$error":"#N/A"},{"$error":"#N/A"},{"$error":"#N/A"},{"$error":"#N/A"},{"$error":"#N/A"},{"$error":"#N/A"},{"$error":"#N/A"}]
[null,116,"Dichlormid",{"$f":"'Belirsizlik Bütçesi'!K120","v":1},{"$f":"'Veri Girişi'!#REF!","v":{"$error":"#REF!"}},10,105.50999999999999,6.6302063464195342,102.35400000000001,8.8696192655843848,96.717999999999989,11.862147502333928,{"$nulls":6},50,91.374800000000008,7.0421605007368395,91.566800000000001,12.474542369454058,101.0132,{"$f":"VLOOKUP($C121,GERCEKLİK_KONTROL_1_KONS,11,FALSE)","v":102.35400000000001}]
[null,117,"Dichlorvos",{"$f":"'Belirsizlik Bütçesi'!K121","v":1},{"$f":"'Veri Girişi'!C87","v":"GC-MS/MS"},10,103.31199999999998,9.0318106493250259,100.776,9.3924371859051412,102.93600000000001,12.167417511270894,{"$nulls":6},50,94.429200000000009,6.9638452673564171,95.742800000000003,15.921607688180586,101.86120000000001,7.0679429009893715]
[null,118,"Diclofop-Methyl",{"$f":"'Belirsizlik Bütçesi'!K122","v":1},{"$f":"'Veri Girişi'!C88","v":"GC-MS/MS"},10,101.92000000000002,13.882004311039731,108.524,13.313430550083707,98.238,98.238,{"$nulls":6},50,85.116800000000012,7.8657861502494724,87.092400000000012,8.6871376706748009,81.3416,8.1717618146226556]
[null,119,"Dicofol (sum)",{"$f":"'Belirsizlik Bütçesi'!K123","v":0},{"$f":"'Veri Girişi'!C89","v":"GC-MS/MS"},{"$error":"#N/A"},{"$error":"#N/A"},{"$error":"#N/A"},{"$error":"#N/A"},{"$error":"#N/A"},{"$error":"#N/A"},{"$error":"#N/A"},{"$nulls":6},{"$error":"#N/A"},{"$error":"#N/A"},{"$error":"#N/A"},{"$error":"#N/A"},{"$error":"#N/A"},{"$error":"#N/A"},{"$error":"#N/A"}]
[null,120,"Dicofol, o,p`",{"$f":"'Belirsizlik Bütçesi'!K124","v":1},{"$f":"'Veri Girişi'!C90","v":"GC-MS/MS"},{"$error":"#N/A"},{"$error":"#N/A"},{"$error":"#N/A"},{"$error":"#N/A"},{"$error":"#N/A"},{"$error":"#N/A"},{"$error":"#N/A"},{"$nulls":6},{"$error":"#N/A"},{"$error":"#N/A"},{"$error":"#N/A"},{"$error":"#N/A"},{"$error":"#N/A"},{"$error":"#N/A"},{"$error":"#N/A"}]
[null,121,"Dicofol-p,p",{"$f":"'Belirsizlik Bütçesi'!K125","v":0},{"$f":"'Veri Girişi'!C91","v":"GC-MS/MS"},10,93.623999999999995,17.286828343739575,99.72,14.357981505612946,97.603999999999985,19.667906286342475,{"$nulls":6},50,91.264399999999995,11.68870253253413,98.681999999999988,9.3279644618582847,83.887600000000006,8.9864155883117345]
[null,122,"Dieldrin",{"$f":"'Belirsizlik Bütçesi'!K126","v":1},{"$f":"'Veri Girişi'!#REF!","v":{"$error":"#REF!"}},10,92.183999999999983,18.476651959984679,97.468000000000004,10.157691213833525,104.28599999999999,9.1688974405906229,{"$nulls":6},50,89.059200000000004,8.9178313760888024,87.060400000000001,9.4931980542281114,93.202399999999997,5.24]
[null,123,"Diethofencarb",{"$f":"'Belirsizlik Bütçesi'!K127","v":1},{"$f":"'Veri Girişi'!C92","v":"GC-MS/MS"},10,104.27800000000001,11.405506341499255,107.646,6.47665483774158,95.574000000000012,14.4293056647443,{"$nulls":6},50,87.681200000000018,6.3539857514244211,85.8172,9.7647445735178184,82.04679999999999,9.0769291887500376]
[null,124,"Diflufenican",{"$f":"'Belirsizlik Bütçesi'!K128","v":1},{"$f":"'Veri Girişi'!#REF!","v":{"$error":"#REF!"}},10,98.841999999999999,11.311047674271919,106.52599999999998,14.696641489580669,107.738,{"$f":"VLOOKUP($C129,GERCEKLİK_KONTROL_1_KONS,17,FALSE)","v":107.738},{"$nulls":6},50,94.492400000000004,16.23176662952465,100.93719999999999,8.0301956634467953,81.061999999999983,6.1775812534914358]
[null,125,"Dimefox",{"$f":"'Belirsizlik Bütçesi'!K129","v":0},{"$f":"'Veri Girişi'!C93","v":"GC-MS/MS"},{"$f":"VLOOKUP($C130,GERCEKLİK_KONTROL_1_KONS,2,FALSE)","v":{"$error":"#N/A"}},{"$f":"VLOOKUP($C130,GERCEKLİK_KONTROL_1_KONS,5,FALSE)","v":{"$error":"#N/A"}},{"$f":"VLOOKUP($C130,GERCEKLİK_KONTROL_1_KONS,6,FALSE)","v":{"$error":"#N/A"}},{"$f":"VLOOKUP($C130,GERCEKLİK_KONTROL_1_KONS,11,FALSE)","v":{"$error":"#N/A"}},{"$f":"VLOOKUP($C130,GERCEKLİK_KONTROL_1_KONS,12,FALSE)","v":{"$error":"#N/A"}},{"$error":"#N/A"},{"$f":"VLOOKUP($C130,GERCEKLİK_KONTROL_1_KONS,18,FALSE)","v":{"$error":"#N/A"}},{"$nulls":6},{"$f":"VLOOKUP($C130,GERCEKLIK_KONTROLU_TE_2_KONs,2,FALSE)","v":{"$error":"#N/A"}},{"$f":"VLOOKUP($C130,GERCEKLIK_KONTROLU_TE_2_KONs,5,FALSE)","v":{"$error":"#N/A"}},{"$f":"VLOOKUP($C130,GERCEKLIK_KONTROLU_TE_2_KONs,6,FALSE)","v":{"$error":"#N/A"}},{"$f":"VLOOKUP($C130,GERCEKLIK_KONTROLU_TE_2_KONs,11,FALSE)","v":{"$error":"#N/A"}},{"$f":"VLOOKUP($C130,GERCEKLIK_KONTROLU_TE_2_KONs,12,FALSE)","v":{"$error":"#N/A"}},{"$f":"VLOOKUP($C130,GERCEKLIK_KONTROLU_TE_2_KONs,17,FALSE)","v":{"$error":"#N/A"}},{"$f":"VLOOKUP($C130,GERCEKLIK_KONTROLU_TE_2_KONs,18,FALSE)","v":{"$error":"#N/A"}}]
[null,126,"Dimepiperate",{"$f":"'Belirsizlik Bütçesi'!K130","v":0},{"$f":"'Veri Girişi'!C94","v":"GC-MS/MS"},10,101.16400000000002,10.93723888086391,103.00799999999998,7.7606827548410324,106.952,10.05351081601413,{"$nulls":6},50,92.499600000000015,7.1488105620923017,93.337999999999994,8.442763089336065,87.748000000000005,11.211486359543226]
[null,127,"Dimethachlor",{"$f":"'Belirsizlik Bütçesi'!K131","v":0},{"$f":"'Veri Girişi'!#REF!","v":{"$error":"#REF!"}},10,103.878,10.803479310099299,108.626,8.5296706927326174,96.225999999999999,11.476321525034521,{"$nulls":6},50,89.504400000000004,8.1374883334334598,88.718400000000003,11.018840615095684,84.360399999999998,7.0556086534686164]
[null,128,"Dimethenamid",{"$f":"'Belirsizlik Bütçesi'!K132","v":1},{"$f":"'Veri Girişi'!C95","v":"GC-MS/MS"},{"$error":"#N/A"},{"$error":"#N/A"},{"$error":"#N/A"},{"$error":"#N/A"},{"$error":"#N/A"},{"$error":"#N/A"},{"$error":"#N/A"},{"$nulls":6},{"$error":"#N/A"},{"$error":"#N/A"},{"$error":"#N/A"},{"$error":"#N/A"},{"$error":"#N/A"},{"$error":"#N/A"},{"$error":"#N/A"}]
[null,129,"Dimethipin",{"$f":"'Belirsizlik Bütçesi'!K133","v":0},{"$f":"'Veri Girişi'!C96","v":"GC-MS/MS"},10,99.891999999999996,13.261556909825442,105.21799999999999,9.3921934245542857,96.175999999999988,15.195906908363927,{"$nulls":6},50,85.425600000000003,9.4866238637812152,89.342799999999997,9.8775480182260882,78.261200000000002,10.748994887300185]
[null,130,"DIMETHYLNAPHTHALENE-1-4",{"$f":"'Belirsizlik Bütçesi'!K134","v":1},{"$f":"'Veri Girişi'!C97","v":"GC-MS/MS"},{"$error":"#N/A"},{"$error":"#N/A"},{"$error":"#N/A"},{"$error":"#N/A"},{"$error":"#N/A"},{"$error":"#N/A"},{"$error":"#N/A"},{"$nulls":6},{"$error":"#N/A"},{"$error":"#N/A"},{"$error":"#N/A"},{"$error":"#N/A"},{"$error":"#N/A"},{"$error":"#N/A"},{"$error":"#N/A"}]
[null,131,"Diniconazole",{"$f":"'Belirsizlik Bütçesi'!K135","v":1},{"$f":"'Veri Girişi'!C98","v":"GC-MS/MS"},10,94.37,14.550786000320068,98.92,15.367546725436551,93.56,93.56,{"$nulls":6},50,93.762799999999999,16.052802712257744,100.88680000000001,6.8209449377836613,76.797200000000004,{"$f":"VLOOKUP($C136,GERCEKLİK_KONTROL_1_KONS,11,FALSE)","v":98.92}]
[null,132,"Dinitramine",{"$f":"'Belirsizlik Bütçesi'!K136","v":1},{"$f":"'Veri Girişi'!C99","v":"GC-MS/MS"},10,100.608,6.2139048313866612,107.72800000000001,7.5386146620492855,99.126000000000019,99.126000000000019,{"$nulls":6},50,90.462800000000016,9.602666805705768,91.58959999999999,10.709338297817265,86.48599999999999,11.825126560780355]
[null,133,"Dinobuton",{"$f":"'Belirsizlik Bütçesi'!K137","v":1},{"$f":"'Veri Girişi'!C100","v":"GC-MS/MS"},10,99.917999999999992,14.549436169644297,100.86200000000001,13.035211161077868,81.829999999999984,81.829999999999984,{"$nulls":6},50,97.867199999999997,3.6153699343968735,100.90119999999997,9.857527976949255,96.356400000000008,10.960838065554249]
[null,134,"Diofenolan",{"$f":"'Belirsizlik Bütçesi'!K138","v":1},{"$f":"'Veri Girişi'!C101","v":"GC-MS/MS"},10,98.891999999999996,14.631347165219816,105.636,10.451151111075454,96.875999999999991,96.875999999999991,{"$nulls":6},50,88.649600000000007,17.273259693349079,90.710000000000008,8.8533537234616286,83.153999999999996,5.8370317403373697]
[null,135,"Dioxabenzafos",{"$f":"'Belirsizlik Bütçesi'!K139","v":1},{"$f":"'Veri Girişi'!C102","v":"GC-MS/MS"},10,108.964,9.2977187607599632,109.748,8.484172261592752,98.72399999999999,98.72399999999999,{"$nulls":6},50,89.387599999999992,7.8630291307672042,90.935600000000008,12.908193538383394,82.598800000000011,7.2968949713630646]
[null,136,"Dioxathion",{"$f":"'Belirsizlik Bütçesi'!K140","v":1},{"$f":"'Veri Girişi'!C103","v":"GC-MS/MS"},10,106.57600000000001,9.1399010280403292,112.44000000000001,6.8847599283309302,94.75,94.75,{"$nulls":6},50,87.714799999999997,3.5514958779990153,84.836399999999998,9.6549456380531975,93.2,5.24]
[null,137,"Diphenamide",{"$f":"'Belirsizlik Bütçesi'!K141","v":0},{"$f":"'Veri Girişi'!C104","v":"GC-MS/MS"},10,94.651999999999987,11.822767285401909,103.366,14.001071029025233,100.67600000000002,14.537692199871765,{"$nulls":6},50,90.499599999999987,6.5726988861515041,91.325999999999993,8.4460530650214114,86.801199999999994,8.8996258339706724]
[null,138,"Diphenylamine",{"$f":"'Belirsizlik Bütçesi'!K142","v":0},{"$f":"'Veri Girişi'!C105","v":"GC-MS/MS"},10,93.518000000000015,16.476704900365998,104.30600000000001,11.664023489320769,80.720000000000013,13.024957587306888,{"$nulls":6},50,93.157600000000002,8.1062972098785178,97.436799999999991,13.477648984701224,77.637199999999993,9.7324370396052977]
[null,139,"Disulfoton",{"$f":"'Belirsizlik Bütçesi'!K143","v":0},{"$f":"'Veri Girişi'!C106","v":"GC-MS/MS"},10,100.86600000000001,10.017560372854849,111.208,7.4418994625968775,93.577999999999989,12.224622503876027,{"$nulls":6},50,88.946399999999997,8.1932461169707818,89.941200000000009,11.175339788910325,89.234799999999993,4.5713849950374934,{"$f":"VLOOKUP($C144,GERCEKLIK_KONTROLU_TE_2_KONs,23,FALSE)","v":"--------"},{"$f":"VLOOKUP($C144,GERCEKLIK_KONTROLU_TE_2_KONs,24,FALSE)","v":"--------"},{"$f":"VLOOKUP($C144,GERCEKLIK_KONTROLU_TE_2_KONs,29,FALSE)","v":"--------"},{"$f":"VLOOKUP($C144,GERCEKLIK_KONTROLU_TE_2_KONs,30,FALSE)","v":"--------"},{"$f":"VLOOKUP($C144,GERCEKLIK_KONTROLU_TE_2_KONs,35,FALSE)","v":"--------"},{"$f":"VLOOKUP($C144,GERCEKLIK_KONTROLU_TE_2_KONs,36,FALSE)","v":"--------"}]
[null,140,"Disulfoton-sulfone",{"$f":"'Belirsizlik Bütçesi'!K144","v":0},{"$f":"'Veri Girişi'!#REF!","v":{"$error":"#REF!"}},10,100.52200000000001,8.0257181613227075,108.834,8.5909979764420061,101.15,11.004801394902323,{"$nulls":6},50,88.436000000000007,8.8264614011732778,87.416000000000011,11.102781589638781,92.022400000000005,9.6355071764924425,"--------","--------","--------","--------","--------","--------"]
[null,141,"Ditalimfos",{"$f":"'Belirsizlik Bütçesi'!K145","v":0},{"$f":"'Veri Girişi'!C107","v":"GC-MS/MS"},10,97.422000000000011,15.230797415874864,104.43799999999999,10.167313599182545,92.328000000000003,13.702030847840438,{"$nulls":6},50,90.103999999999999,11.845676977344629,90.750399999999999,11.160095055241365,92.486799999999988,9.7551070930143684,"--------","--------","--------","--------","--------","--------"]
[null,142,"Dithiopyr",{"$f":"'Belirsizlik Bütçesi'!K146","v":0},{"$f":"'Veri Girişi'!C108","v":"GC-MS/MS"},10,101.31400000000002,12.207774032830633,105.34200000000003,7.3160729433448504,98.813999999999993,13.783224176027439,{"$nulls":6},50,94.3964,8.9529893008318044,94.008400000000009,9.3873495331802452,88.100400000000008,10.279352615553513,"--------","--------","--------","--------","--------","--------"]
[null,143,"Dodemorph",{"$f":"'Belirsizlik Bütçesi'!K147","v":0},{"$f":"'Veri Girişi'!C109","v":"GC-MS/MS"},10,100.596,13.992962622999499,108.53599999999999,12.546826842546583,90.240000000000009,17.452704588062947,{"$nulls":6},50,92.736799999999988,8.5542825160375973,92.053200000000004,10.817256000256277,91.112399999999994,4.6746826059047741,{"$nulls":5},"--------"]
[null,144,"Edifenphos",{"$f":"'Belirsizlik Bütçesi'!K148","v":1},{"$f":"'Veri Girişi'!C110","v":"GC-MS/MS"},10,100.806,9.8681997412803764,88.9,14.776386496964811,105.718,105.718,{"$nulls":6},50,104.3784,13.879277207883444,100.9152,8.9967605673348299,{"$f":"VLOOKUP($C149,GERCEKLİK_KONTROL_1_KONS,11,FALSE)","v":88.9},88.9,{"$nulls":5},"--------"]
[null,145,"Endrin",{"$f":"'Belirsizlik Bütçesi'!K149","v":0},{"$f":"'Veri Girişi'!C111","v":"GC-MS/MS"},10,101.904,8.8462678319963874,107.86,10.131468292463012,94.76600000000002,12.722017368951438,{"$nulls":6},50,90.95320000000001,6.7755356006047585,89.984399999999994,10.656668055044664,76.797200000000004,7.1745598630915559,{"$nulls":5},"--------"]
[null,146,"EPN",{"$f":"'Belirsizlik Bütçesi'!K150","v":1},{"$f":"'Veri Girişi'!#REF!","v":{"$error":"#REF!"}},10,106.10000000000002,7.6536768045934549,111.05799999999999,5.4902240482846629,107.474,107.474,{"$nulls":6},50,109.81559999999999,9.8979210467362755,97.321200000000005,5.3789383919698075,86.48599999999999,11.825126560780355,{"$nulls":5},"--------"]
[null,147,"Esfenvalerate/Fenvalerate",{"$f":"'Belirsizlik Bütçesi'!K151","v":1},{"$f":"'Veri Girişi'!#REF!","v":{"$error":"#REF!"}},10,96.207999999999998,15.351633599078021,103.01599999999999,11.619170246563273,92.996000000000009,92.996000000000009,{"$nulls":6},50,99.213600000000014,15.809451949770063,88.001199999999997,10.301582304658858,96.356400000000008,{"$f":"VLOOKUP($C152,GERCEKLİK_KONTROL_1_KONS,11,FALSE)","v":103.01599999999999},{"$nulls":5},"--------"]
[null,148,"Ethalfluarin",{"$f":"'Belirsizlik Bütçesi'!K152","v":1},{"$f":"'Veri Girişi'!#REF!","v":{"$error":"#REF!"}},10,105.67400000000001,7.7219473908157132,109.62599999999998,8.3850689877757212,104.834,104.834,{"$nulls":6},50,81.408799999999999,8.8995789833207137,83.548000000000002,7.3007441545254004,83.153999999999996,109.62599999999998,{"$nulls":5},"--------"]
[null,149,"Ethiolate",{"$f":"'Belirsizlik Bütçesi'!K153","v":1},{"$f":"'Veri Girişi'!#REF!","v":{"$error":"#REF!"}},10,104.18400000000001,9.8453569437336892,104.31000000000002,14.574313972848399,91.927999999999997,91.927999999999997,{"$nulls":6},50,91.326799999999992,9.5378110934259137,96.246399999999994,15.939209688621586,82.598800000000011,7.2968949713630646,{"$nulls":5},"--------"]
[null,150,"Ethion",{"$f":"'Belirsizlik Bütçesi'!K154","v":1},{"$f":"'Veri Girişi'!#REF!","v":{"$error":"#REF!"}},10,94.262,16.932725036190671,102.386,15.459055206346964,99.321999999999974,99.321999999999974,{"$nulls":6},50,90.813599999999994,12.63618561692156,94.087999999999994,8.0191853577467622,93.2,{"$f":"VLOOKUP($C155,GERCEKLİK_KONTROL_1_KONS,11,FALSE)","v":102.386},{"$nulls":5},"--------"]
[null,151,"Ethofumasate",{"$f":"'Belirsizlik Bütçesi'!K155","v":1},{"$f":"'Veri Girişi'!#REF!","v":{"$error":"#REF!"}},{"$error":"#N/A"},{"$error":"#N/A"},{"$error":"#N/A"},{"$error":"#N/A"},{"$error":"#N/A"},{"$error":"#N/A"},{"$error":"#N/A"},{"$nulls":6},{"$error":"#N/A"},{"$error":"#N/A"},{"$error":"#N/A"},{"$error":"#N/A"},{"$error":"#N/A"},{"$error":"#N/A"},{"$error":"#N/A"},{"$nulls":5},{"$error":"#N/A"}]
[null,152,"Ethofumesate-2-keto",{"$f":"'Belirsizlik Bütçesi'!K156","v":0},{"$f":"'Veri Girişi'!C112","v":"GC-MS/MS"},10,100.03800000000001,12.742201542220775,108.128,11.695791272001125,102.69999999999999,14.604758168314493,{"$nulls":6},50,86.197199999999995,8.1765991442803561,88.150800000000004,7.7469455185169736,77.637199999999993,9.7324370396052977,{"$nulls":5},"--------"]
[null,153,"Ethoprophos",{"$f":"'Belirsizlik Bütçesi'!K157","v":1},{"$f":"'Veri Girişi'!C116","v":"GC-MS/MS"},10,105.39400000000001,12.384661866181933,109.99600000000001,7.749943498958757,98.129999999999981,11.754312569933353,{"$nulls":6},50,87.448800000000006,6.5938222695592223,88.531999999999996,11.72541856571916,89.234799999999993,{"$f":"VLOOKUP($C158,GERCEKLİK_KONTROL_1_KONS,11,FALSE)","v":109.99600000000001},{"$nulls":5},"--------"]
[null,154,"etobenzanid",{"$f":"'Belirsizlik Bütçesi'!K158","v":1},{"$f":"'Veri Girişi'!C117","v":"GC-MS/MS"},10,89.4,16.925547119924051,86.828000000000003,18.630157323474897,101.99199999999999,101.99199999999999,{"$nulls":6},50,92.770799999999994,10.546237129921661,89.269599999999997,10.39177443124645,92.022400000000005,86.828000000000003,{"$nulls":5},"--------"]
[null,155,"Etoconazole",{"$f":"'Belirsizlik Bütçesi'!K159","v":1},{"$f":"'Veri Girişi'!C118","v":"GC-MS/MS"},{"$error":"#N/A"},{"$error":"#N/A"},{"$error":"#N/A"},{"$error":"#N/A"},{"$error":"#N/A"},{"$error":"#N/A"},{"$error":"#N/A"},{"$nulls":6},{"$error":"#N/A"},{"$error":"#N/A"},{"$error":"#N/A"},{"$error":"#N/A"},{"$error":"#N/A"},{"$error":"#N/A"},{"$error":"#N/A"},{"$nulls":5},{"$error":"#N/A"}]
[null,156,"Etofenprox",{"$f":"'Belirsizlik Bütçesi'!K160","v":0},{"$f":"'Veri Girişi'!C119","v":"GC-MS/MS"},10,90.181999999999988,22.544989926558522,101.91599999999998,14.099615799162466,97.494000000000014,15.818577139711499,{"$nulls":6},50,99.064800000000005,12.298451547068606,96.714399999999998,10.170257938987101,92.486799999999988,9.7551070930143684,{"$nulls":5},"--------"]
[null,157,"Etoxazole",{"$f":"'Belirsizlik Bütçesi'!K161","v":0},{"$f":"'Veri Girişi'!C120","v":"GC-MS/MS"},{"$error":"#N/A"},{"$error":"#N/A"},{"$error":"#N/A"},{"$error":"#N/A"},{"$error":"#N/A"},{"$error":"#N/A"},{"$error":"#N/A"},{"$nulls":6},{"$error":"#N/A"},{"$error":"#N/A"},{"$error":"#N/A"},{"$error":"#N/A"},{"$error":"#N/A"},{"$error":"#N/A"},{"$error":"#N/A"},{"$nulls":5},{"$error":"#N/A"}]
[null,158,"Etridiazole",{"$f":"'Belirsizlik Bütçesi'!K162","v":1},{"$f":"'Veri Girişi'!C121","v":"GC-MS/MS"},10,92.078000000000003,15.657259962949691,98.174000000000007,8.1935770489995843,98.78,20.499213846748592,{"$nulls":6},50,87.086800000000011,10.69873248190896,91.293199999999999,10.278076364000333,88.100400000000008,{"$f":"VLOOKUP($C163,GERCEKLİK_KONTROL_1_KONS,11,FALSE)","v":98.174000000000007},{"$nulls":5},"--------"]
[null,159,"Fenamidone",{"$f":"'Belirsizlik Bütçesi'!K163","v":1},{"$f":"'Veri Girişi'!C122","v":"GC-MS/MS"},10,101.61,15.450840193865256,107.06599999999999,14.637160628723034,97.789999999999992,16.396002199879835,{"$nulls":6},50,82.697199999999995,{"$f":"VLOOKUP($C164,GERCEKLİK_KONTROL_1_KONS,17,FALSE)","v":97.789999999999992},80.672799999999995,7.8359523899146915,91.112399999999994,107.06599999999999,{"$nulls":5},"--------"]
[null,160,"Fenarimol",{"$f":"'Belirsizlik Bütçesi'!K164","v":1},{"$f":"'Veri Girişi'!C123","v":"GC-MS/MS"},10,94.578000000000003,18.463578436869017,103.72200000000001,15.042402694696563,89.617999999999995,17.589358817342273,{"$nulls":6},50,87.556799999999996,8.1955460721702575,83.854399999999998,7.7472349344232558,102.55799999999999,11.940321115497547,{"$nulls":5},"--------"]
[null,161,"fenchlorazole ethyl",{"$f":"'Belirsizlik Bütçesi'!K165","v":1},{"$f":"'Veri Girişi'!C124","v":"GC-MS/MS"},{"$error":"#N/A"},{"$error":"#N/A"},{"$error":"#N/A"},{"$error":"#N/A"},{"$error":"#N/A"},{"$error":"#N/A"},{"$error":"#N/A"},{"$nulls":6},{"$error":"#N/A"},{"$error":"#N/A"},{"$error":"#N/A"},{"$error":"#N/A"},{"$error":"#N/A"},{"$error":"#N/A"},{"$error":"#N/A"},{"$nulls":5},{"$error":"#N/A"}]
[null,162,"Fenchlorphos",{"$f":"'Belirsizlik Bütçesi'!K166","v":1},{"$f":"'Veri Girişi'!#REF!","v":{"$error":"#REF!"}},10,106.47800000000001,10.354711356610503,111.038,8.7422573529703467,97.110000000000014,14.966054328002212,{"$nulls":6},50,87.224800000000002,7.7887893097852015,86.695599999999985,10.516620916585358,86.045999999999992,9.0511267350358295,{"$nulls":5},"--------"]
[null,163,"Fenitrothion",{"$f":"'Belirsizlik Bütçesi'!K167","v":1},{"$f":"'Veri Girişi'!C125","v":"GC-MS/MS"},10,98.04,15.292404335582631,104.11600000000001,13.319378015078726,90.176000000000002,17.342229310652574,{"$nulls":6},50,82.486800000000002,11.122802069304212,81.5672,12.071496422357452,82.889600000000002,9.9245827127237831,{"$nulls":5},"--------"]
[null,164,"Fenothiocarb",{"$f":"'Belirsizlik Bütçesi'!K168","v":1},{"$f":"'Veri Girişi'!C126","v":"GC-MS/MS"},10,101.762,16.959482639518132,107.22200000000002,16.330461846071533,95.529999999999987,17.227626356350189,{"$nulls":6},50,84.9636,6.4648744571441066,88.766799999999989,10.300843528878072,76.327199999999991,5.4962409724978674,{"$nulls":5},"--------"]
[null,165,"Fenoxanil",{"$f":"'Belirsizlik Bütçesi'!K169","v":1},{"$f":"'Veri Girişi'!C127","v":"GC-MS/MS"},10,93.313999999999993,19.15885163554675,99.63600000000001,17.120780297681584,104.50200000000001,11.401281845370358,{"$nulls":6},50,76.88,10.922602997155964,76.703999999999994,9.418501121593561,100.1952,10.284447416195466,{"$nulls":5},"--------"]
[null,166,"Fenpropathrin",{"$f":"'Belirsizlik Bütçesi'!K170","v":1},{"$f":"'Veri Girişi'!C128","v":"GC-MS/MS"},10,99.25200000000001,16.013655807958727,109.32,13.474514671974024,95.410000000000011,95.410000000000011,{"$nulls":6},50,77.049599999999998,5.2007077326530489,79.296399999999991,8.7578799185182277,80.340799999999987,6.5747218494065232,{"$nulls":5},"--------"]
[null,167,"Fenson",{"$f":"'Belirsizlik Bütçesi'!K171","v":0},{"$f":"'Veri Girişi'!#REF!","v":{"$error":"#REF!"}},10,99.902000000000015,14.6459051945633,107.426,11.61317495362951,94.834000000000003,16.103835619839145,{"$nulls":6},50,82.78,10.042264395951216,88.524799999999999,9.6691937265949814,91.94,7.0799310354597083,{"$nulls":5},"--------"]
[null,168,"Fensulfothion",{"$f":"'Belirsizlik Bütçesi'!K172","v":1},{"$f":"'Veri Girişi'!C129","v":"GC-MS/MS"},10,92.415999999999997,19.119506378233609,106.25800000000001,17.813781139624226,114.872,114.872,{"$nulls":6},50,84.638400000000004,10.145651274699951,84.062000000000012,6.8566476904470806,108.55999999999999,5.24,{"$nulls":5},"--------"]
[null,169,"Fenthion",{"$f":"'Belirsizlik Bütçesi'!K173","v":1},{"$f":"'Veri Girişi'!C130","v":"GC-MS/MS"},10,101.71000000000001,13.181411430776709,108.61399999999999,10.598979416830272,96.117999999999995,14.050751733923919,{"$nulls":6},50,87.654000000000011,9.2598641253559268,89.734000000000009,11.602262559735605,91.049999999999983,9.218353158342337,{"$nulls":5},"--------"]
[null,170,"Fipronil-Sulfide",{"$f":"'Belirsizlik Bütçesi'!K174","v":1},{"$f":"'Veri Girişi'!C131","v":"GC-MS/MS"},10,101.45200000000001,13.229280743873634,108.50800000000001,13.848512695132751,97.001999999999981,13.848512695132751,{"$nulls":6},50,87.118399999999994,11.521510688135175,92.223600000000005,9.8180118714988431,84.4452,10.603449916636958,{"$nulls":5},"--------"]
[null,171,"Fipronil-Sulfone",{"$f":"'Belirsizlik Bütçesi'!K175","v":1},{"$f":"'Veri Girişi'!C132","v":"GC-MS/MS"},10,101.93999999999998,14.417552623818599,103.60600000000002,15.698504750964693,110.34000000000002,110.34000000000002,{"$nulls":6},50,93.508400000000009,6.1906787079001546,97.984399999999994,5.2185326493174653,88.621600000000001,8.2605529353776674,{"$nulls":5},"--------"]
[null,172,"Fluchloraline",{"$f":"'Belirsizlik Bütçesi'!K176","v":0},{"$f":"'Veri Girişi'!C133","v":"GC-MS/MS"},10,107.916,7.1587954939453429,112.578,7.1988744093617898,101.176,10.23033997384454,{"$nulls":6},50,80.976799999999997,9.0953488946297796,81.948800000000006,9.7167213426648189,82.844799999999992,6.958439097470567,{"$nulls":5},"--------"]
[null,173,"Flucythrinate",{"$f":"'Belirsizlik Bütçesi'!K177","v":1},{"$f":"'Veri Girişi'!C134","v":"GC-MS/MS"},10,119.08400000000002,0.59166461306013385,118.708,0.39661896109993366,89.304000000000002,89.304000000000002,{"$nulls":6},50,77.135199999999998,5.3673843518225981,71.981200000000001,2.9611667119583602,93.983999999999995,8.6362932263668597,{"$nulls":5},"--------"]
[null,174,"Fludioxanil",{"$f":"'Belirsizlik Bütçesi'!K178","v":1},{"$f":"'Veri Girişi'!C135","v":"GC-MS/MS"},{"$error":"#N/A"},{"$error":"#N/A"},{"$error":"#N/A"},{"$error":"#N/A"},{"$error":"#N/A"},{"$error":"#N/A"},{"$error":"#N/A"},{"$nulls":6},{"$error":"#N/A"},{"$error":"#N/A"},{"$error":"#N/A"},{"$error":"#N/A"},{"$error":"#N/A"},{"$error":"#N/A"},{"$error":"#N/A"},{"$nulls":5},{"$error":"#N/A"}]
[null,175,"fluensulfone",{"$f":"'Belirsizlik Bütçesi'!K179","v":1},{"$f":"'Veri Girişi'!C136","v":"GC-MS/MS"},10,98.718000000000004,9.9137520556638137,105.43,11.106948219653958,95.593999999999994,95.593999999999994,{"$nulls":6},50,88.91040000000001,8.0647397539556742,89.875599999999991,13.451066593567898,86.281199999999984,1.1574000430342517,{"$nulls":5},"--------"]
[null,176,"Flufenacat",{"$f":"'Belirsizlik Bütçesi'!K180","v":1},{"$f":"'Veri Girişi'!#REF!","v":{"$error":"#REF!"}},{"$error":"#N/A"},{"$error":"#N/A"},{"$error":"#N/A"},{"$error":"#N/A"},{"$error":"#N/A"},{"$error":"#N/A"},{"$error":"#N/A"},{"$nulls":6},{"$error":"#N/A"},{"$error":"#N/A"},{"$error":"#N/A"},{"$error":"#N/A"},{"$error":"#N/A"},{"$error":"#N/A"},{"$error":"#N/A"},{"$nulls":5},{"$error":"#N/A"}]
[null,177,"Flumetralin",{"$f":"'Belirsizlik Bütçesi'!K182","v":0},{"$f":"'Veri Girişi'!#REF!","v":{"$error":"#REF!"}},10,99.817999999999998,12.643560793244124,106.542,11.86615721495207,94.738000000000014,16.804511562135556,{"$nulls":6},50,87.975200000000001,4.1265581743820583,81.960799999999992,7.7789426004616091,89.7376,10.427913713763953,{"$nulls":5},"--------"]
[null,178,"Flumioxazin",{"$f":"'Belirsizlik Bütçesi'!K183","v":0},{"$f":"'Veri Girişi'!C138","v":"GC-MS/MS"},10,97.919999999999987,17.529148222741195,104.20799999999998,13.448678086305485,98.582000000000008,13.243456501149439,{"$nulls":6},50,97.440399999999997,8.7630900611633393,92.283600000000007,12.485096605655366,80.260000000000005,2.9180925219637177,{"$nulls":5},"--------"]
[null,179,"Fluotrimazole",{"$f":"'Belirsizlik Bütçesi'!K184","v":1},{"$f":"'Veri Girişi'!#REF!","v":{"$error":"#REF!"}},10,91.341999999999999,19.889455091583947,99.436000000000007,16.733557834955107,108.03600000000002,6.8139794028913583,{"$nulls":6},50,94.611199999999997,14.87293592158904,101.7484,8.1179637535515052,85.621200000000002,9.0996711121519276,{"$nulls":5},"--------"]
[null,180,"Fluquinconazole",{"$f":"'Belirsizlik Bütçesi'!K185","v":1},{"$f":"'Veri Girişi'!C139","v":"GC-MS/MS"},10,100.268,19.30129606293961,108.76600000000001,16.844766785560424,111.86199999999999,5.4793662499294609,{"$nulls":6},50,97.477999999999994,11.679692498430496,98.391599999999997,10.811237176216801,84.051199999999994,5.3464372603185053,{"$nulls":5},"--------"]
[null,181,"FLURTAMONE",{"$f":"'Belirsizlik Bütçesi'!K186","v":1},{"$f":"'Veri Girişi'!C140","v":"GC-MS/MS"},10,94.338000000000008,18.619340795966266,99.676000000000016,15.303258507971954,94.556000000000012,5.3319926317705049,{"$nulls":6},50,81.646799999999999,5.2638475066393449,76.578400000000002,11.041196783168933,81.317199999999985,3.4834967018445671,{"$nulls":5},"--------"]
[null,182,"Flusilazole",{"$f":"'Belirsizlik Bütçesi'!K187","v":1},{"$f":"'Veri Girişi'!C141","v":"GC-MS/MS"},10,92.411999999999992,19.077583496259017,99.14,16.910502645891196,95.646000000000015,19.655901181959031,{"$nulls":6},50,91.392399999999995,14.921732988681157,97.184799999999996,8.5410468795114181,83.630799999999994,7.8065245254431233,{"$nulls":5},"--------"]
[null,183,"Flutriafol",{"$f":"'Belirsizlik Bütçesi'!K188","v":1},{"$f":"'Veri Girişi'!C142","v":"GC-MS/MS"},10,99.328000000000003,12.644480052411755,105.494,13.199137568944492,93.43,19.82198156159663,{"$nulls":6},50,83.790400000000005,7.9350846958116481,82.272799999999989,7.7888939792203145,77.985200000000006,7.3710581903072256,{"$nulls":5},"--------"]
[null,184,"Folpet",{"$f":"'Belirsizlik Bütçesi'!K189","v":1},{"$f":"'Veri Girişi'!C143","v":"GC-MS/MS"},{"$f":"VLOOKUP($C189,GERCEKLİK_KONTROL_1_KONS,2,FALSE)","v":10},{"$f":"VLOOKUP($C189,GERCEKLİK_KONTROL_1_KONS,5,FALSE)","v":88.660000000000011},{"$f":"VLOOKUP($C189,GERCEKLİK_KONTROL_1_KONS,6,FALSE)","v":15.292078810339163},{"$f":"VLOOKUP($C189,GERCEKLİK_KONTROL_1_KONS,11,FALSE)","v":100.79599999999999},{"$f":"VLOOKUP($C189,GERCEKLİK_KONTROL_1_KONS,12,FALSE)","v":15.401965725165853},{"$f":"VLOOKUP($C189,GERCEKLİK_KONTROL_1_KONS,17,FALSE)","v":118.11199999999999},{"$f":"VLOOKUP($C189,GERCEKLİK_KONTROL_1_KONS,18,FALSE)","v":1.7256524651028182},{"$nulls":6},{"$f":"VLOOKUP($C189,GERCEKLIK_KONTROLU_TE_2_KONs,2,FALSE)","v":50},{"$f":"VLOOKUP($C189,GERCEKLIK_KONTROLU_TE_2_KONs,5,FALSE)","v":95.640799999999984},{"$f":"VLOOKUP($C189,GERCEKLIK_KONTROLU_TE_2_KONs,6,FALSE)","v":16.925911980258999},{"$f":"VLOOKUP($C189,GERCEKLIK_KONTROLU_TE_2_KONs,11,FALSE)","v":94.433199999999999},{"$f":"VLOOKUP($C189,GERCEKLIK_KONTROLU_TE_2_KONs,12,FALSE)","v":21.025021342391017},{"$f":"VLOOKUP($C189,GERCEKLIK_KONTROLU_TE_2_KONs,17,FALSE)","v":100.59039999999999},{"$f":"VLOOKUP($C189,GERCEKLIK_KONTROLU_TE_2_KONs,18,FALSE)","v":8.3249739528078841},{"$nulls":5},{"$f":"VLOOKUP($C189,GERCEKLIK_KONTROLU_TE_2_KONs,36,FALSE)","v":"--------"}]
[null,185,"Fonofos",{"$f":"'Belirsizlik Bütçesi'!K190","v":1},{"$f":"'Veri Girişi'!C144","v":"GC-MS/MS"},10,99.382000000000005,11.85950700672357,106.77200000000001,10.558958173822433,91.975999999999985,91.975999999999985,{"$nulls":6},50,91.70320000000001,7.1675992336505869,92.482799999999997,11.695507087072894,85.47999999999999,10.065420622086439,{"$nulls":5},"--------"]
[null,186,"Formothion",{"$f":"'Belirsizlik Bütçesi'!K191","v":1},{"$f":"'Veri Girişi'!C145","v":"GC-MS/MS"},10,101.26599999999999,14.92329233238164,109.28400000000001,11.129978909415387,89.181999999999988,89.181999999999988,{"$nulls":6},50,83.076800000000006,11.592463234506337,85.56880000000001,12.159331264193094,89.678000000000011,10.337803302842454,{"$nulls":5},"--------"]
[null,187,"Furalaxyl",{"$f":"'Belirsizlik Bütçesi'!K192","v":1},{"$f":"'Veri Girişi'!C146","v":"GC-MS/MS"},10,95.217999999999989,16.671194272472896,102.11999999999999,17.743372775882907,96.536000000000016,18.916795532641686,{"$nulls":6},50,97.429999999999993,12.145999316827806,100.3776,8.8364746652817399,85.468000000000004,8.0225566864667446,{"$nulls":5},"--------"]
[null,188,"Halfenprox",{"$f":"'Belirsizlik Bütçesi'!K193","v":1},{"$f":"'Veri Girişi'!C147","v":"GC-MS/MS"},10,95.913999999999987,20.177549516175336,105.01400000000001,18.026616393748355,113.32200000000002,3.7388773723548838,{"$nulls":6},50,88.511200000000002,9.2982830919450539,85.808799999999991,7.2022962414301146,75.584400000000002,6.9582681702461402,{"$nulls":5},"--------"]
[null,189,"HCH alpha",{"$f":"'Belirsizlik Bütçesi'!K194","v":1},{"$f":"'Veri Girişi'!C148","v":"GC-MS/MS"},{"$error":"#N/A"},{"$error":"#N/A"},{"$error":"#N/A"},{"$error":"#N/A"},{"$error":"#N/A"},{"$error":"#N/A"},{"$error":"#N/A"},{"$nulls":6},{"$error":"#N/A"},{"$error":"#N/A"},{"$error":"#N/A"},{"$error":"#N/A"},{"$error":"#N/A"},{"$error":"#N/A"},{"$error":"#N/A"},{"$nulls":5},{"$error":"#N/A"}]
[null,190,"HCH beta",{"$f":"'Belirsizlik Bütçesi'!K195","v":0},{"$f":"'Veri Girişi'!C149","v":"GC-MS/MS"},{"$error":"#N/A"},{"$error":"#N/A"},{"$error":"#N/A"},{"$error":"#N/A"},{"$error":"#N/A"},{"$error":"#N/A"},{"$error":"#N/A"},{"$nulls":6},{"$error":"#N/A"},{"$error":"#N/A"},{"$error":"#N/A"},{"$error":"#N/A"},{"$error":"#N/A"},{"$error":"#N/A"},{"$error":"#N/A"},{"$nulls":5},{"$error":"#N/A"}]
[null,191,"HCH gamma",{"$f":"'Belirsizlik Bütçesi'!K196","v":1},{"$f":"'Veri Girişi'!C151","v":"GC-MS/MS"},{"$error":"#N/A"},{"$error":"#N/A"},{"$error":"#N/A"},{"$error":"#N/A"},{"$error":"#N/A"},{"$error":"#N/A"},{"$error":"#N/A"},{"$nulls":6},{"$error":"#N/A"},{"$error":"#N/A"},{"$error":"#N/A"},{"$error":"#N/A"},{"$error":"#N/A"},{"$error":"#N/A"},{"$error":"#N/A"},{"$nulls":5},{"$error":"#N/A"}]
[null,192,"HCH-Delta",{"$f":"'Belirsizlik Bütçesi'!K197","v":0},{"$f":"'Veri Girişi'!C152","v":"GC-MS/MS"},10,103.30200000000001,14.093395306101772,107.56400000000002,12.04030704130262,84.02800000000002,16.067830468313566,{"$nulls":6},50,87.861599999999996,9.5988461724616627,88.279599999999988,10.907152406612028,88.666399999999996,11.382129637572486,{"$nulls":5},"--------"]
[null,193,"Heptachlor",{"$f":"'Belirsizlik Bütçesi'!K198","v":0},{"$f":"'Veri Girişi'!C153","v":"GC-MS/MS"},10,102.71999999999998,10.356061596456598,107.81200000000001,8.2514138278370481,92.024000000000001,15.601659328260606,{"$nulls":6},50,87.101600000000005,7.5849270603293677,84.494800000000012,10.144560990848236,87.31880000000001,3.7181232237115172,{"$nulls":5},"--------"]
[null,194,"Heptachlor-endo-epoxide",{"$f":"'Belirsizlik Bütçesi'!K199","v":0},{"$f":"'Veri Girişi'!C154","v":"GC-MS/MS"},10,91.787999999999997,16.215669915828283,101.54999999999998,14.025008583879101,97.847999999999999,9.0490491762692002,{"$nulls":6},50,95.386800000000008,8.3081357897637726,91.306399999999996,13.456803239138395,94.075200000000009,10.272715958396924,{"$nulls":5},"--------"]
[null,195,"Heptachlor-exo-epoxide",{"$f":"'Belirsizlik Bütçesi'!K200","v":0},{"$f":"'Veri Girişi'!C155","v":"GC-MS/MS"},10,105.04799999999999,12.106979102836897,105.55600000000001,10.401941965252508,100.19800000000001,9.3545388791398238,{"$nulls":6},50,93.35799999999999,10.114120822402461,93.598399999999998,8.8512125628711846,89.876800000000003,10.036369684100521,{"$nulls":5},"--------"]
[null,196,"Heptenaphos",{"$f":"'Belirsizlik Bütçesi'!K201","v":0},{"$f":"'Veri Girişi'!C156","v":"GC-MS/MS"},10,101.95600000000002,11.473028731197303,106.158,10.010436894489553,97.703999999999994,12.608443968736664,{"$nulls":6},50,83.993200000000002,9.4521224091698741,83.957599999999999,13.559833777991928,87.697599999999994,7.6956830149005215,{"$nulls":5},"--------"]
[null,197,"Hexachloro-1,3-Butadiene",{"$f":"'Belirsizlik Bütçesi'!K202","v":1},{"$f":"'Veri Girişi'!C157","v":"GC-MS/MS"},{"$error":"#N/A"},{"$error":"#N/A"},{"$error":"#N/A"},{"$error":"#N/A"},{"$error":"#N/A"},{"$error":"#N/A"},{"$error":"#N/A"},{"$nulls":6},{"$error":"#N/A"},{"$error":"#N/A"},{"$error":"#N/A"},{"$error":"#N/A"},{"$error":"#N/A"},{"$error":"#N/A"},{"$error":"#N/A"},{"$nulls":5},{"$error":"#N/A"}]
[null,198,"Hexachlorobenzene",{"$f":"'Belirsizlik Bütçesi'!K203","v":1},{"$f":"'Veri Girişi'!C158","v":"GC-MS/MS"},10,102.14000000000001,11.05895694108494,106.02399999999999,10.700945957520934,87.303999999999988,19.10402727884804,{"$nulls":6},50,88.538399999999996,4.7242290826171853,88.799199999999999,13.001076269163248,84.836799999999997,5.008094091181138,{"$nulls":5},"--------"]
[null,199,"Hexaconazole",{"$f":"'Belirsizlik Bütçesi'!K204","v":1},{"$f":"'Veri Girişi'!C159","v":"GC-MS/MS"},10,98.881999999999991,17.969630587793752,103.654,14.814341863235878,97.638000000000005,19.249387067347364,{"$nulls":6},50,83.309600000000003,6.8837564594288621,82.7744,8.3282416610540153,83.892799999999994,7.835826414325286,{"$nulls":5},"--------"]
[null,200,"Iodofenphos",{"$f":"'Belirsizlik Bütçesi'!K205","v":0},{"$f":"'Veri Girişi'!C160","v":"GC-MS/MS"},10,103.15600000000001,12.007348184543973,108.26800000000001,12.190803685058688,98.506,15.532573966576582,{"$nulls":6},50,83.109599999999986,3.8795054123304316,80.127600000000001,8.3572798834014623,83.73,9.6165512960250705,{"$nulls":5},"--------"]
[null,201,"IOXYNIL-OCTAONATE",{"$f":"'Belirsizlik Bütçesi'!K206","v":0},{"$f":"'Veri Girişi'!C161","v":"GC-MS/MS"},{"$error":"#N/A"},{"$error":"#N/A"},{"$error":"#N/A"},{"$error":"#N/A"},{"$error":"#N/A"},{"$error":"#N/A"},{"$error":"#N/A"},{"$nulls":6},{"$error":"#N/A"},{"$error":"#N/A"},{"$error":"#N/A"},{"$error":"#N/A"},{"$error":"#N/A"},{"$error":"#N/A"},{"$error":"#N/A"},{"$nulls":5},{"$error":"#N/A"}]
[null,202,"Iprobenfos",{"$f":"'Belirsizlik Bütçesi'!K207","v":1},{"$f":"'Veri Girişi'!C162","v":"GC-MS/MS"},10,107.182,9.5699458682948659,111.358,7.9577561109335031,82.72999999999999,10.705238706205847,{"$nulls":6},50,90.529199999999989,9.1643576453968958,90.047599999999989,10.432282306726302,90.601599999999991,6.8785067049880828,{"$nulls":5},"--------"]
[null,203,"Iprodione",{"$f":"'Belirsizlik Bütçesi'!K208","v":1},{"$f":"'Veri Girişi'!C163","v":"GC-MS/MS"},10,93.281999999999982,17.498148572054998,99.688000000000002,11.187960727663643,98.534000000000006,15.988808972074771,{"$nulls":6},50,80.497600000000006,9.4605093389654886,83.6828,6.5839835718965789,85.71520000000001,85.71520000000001,{"$nulls":5},"--------"]
[null,204,"Isazofos",{"$f":"'Belirsizlik Bütçesi'!K209","v":0},{"$f":"'Veri Girişi'!#REF!","v":{"$error":"#REF!"}},10,97.908000000000001,10.176802050495068,101.61199999999999,9.002592136822603,95.858000000000004,12.361076777129586,{"$nulls":6},50,90.887200000000007,9.410325129829971,91.072000000000003,11.577758545807972,84.219200000000001,9.5031415906595278,{"$nulls":5},"--------"]
[null,205,"Isobenzan",{"$f":"'Belirsizlik Bütçesi'!K210","v":1},{"$f":"'Veri Girişi'!C164","v":"GC-MS/MS"},{"$error":"#N/A"},{"$error":"#N/A"},{"$error":"#N/A"},{"$error":"#N/A"},{"$error":"#N/A"},{"$error":"#N/A"},{"$error":"#N/A"},{"$nulls":6},{"$error":"#N/A"},{"$error":"#N/A"},{"$error":"#N/A"},{"$error":"#N/A"},{"$error":"#N/A"},{"$error":"#N/A"},{"$error":"#N/A"},{"$nulls":5},{"$error":"#N/A"}]
[null,206,"Isocarbamid",{"$f":"'Belirsizlik Bütçesi'!K211","v":0},{"$f":"'Veri Girişi'!C165","v":"GC-MS/MS"},10,99.676000000000016,16.33700170852514,104.128,11.912021972325334,114.61000000000001,1.8832076370443644,{"$nulls":6},50,84.5732,11.841003784739222,91.551600000000008,9.8891750255715323,82.645599999999988,6.0416498862949339,{"$nulls":5},"--------"]
[null,207,"Isocarbophos",{"$f":"'Belirsizlik Bütçesi'!K212","v":0},{"$f":"'Veri Girişi'!C166","v":"GC-MS/MS"},10,105.54600000000001,9.6886644219875357,107.11600000000001,11.407605863499775,84.105999999999995,10.802938346940921,{"$nulls":6},50,84.845600000000005,7.8939802264923902,79.771199999999993,10.752112984372065,87.943200000000004,9.2189292243604797,{"$nulls":5},"--------"]
[null,208,"Isodrin",{"$f":"'Belirsizlik Bütçesi'!K213","v":1},{"$f":"'Veri Girişi'!#REF!","v":{"$error":"#REF!"}},10,103.84199999999998,12.166645115080879,109.642,8.597936133347396,85.43,85.43,{"$nulls":6},50,92.366799999999998,6.6290135549817286,92.330800000000011,9.8962805353696357,89.036000000000001,5.4658040152430143,{"$nulls":5},"--------"]
[null,209,"Isofenphos",{"$f":"'Belirsizlik Bütçesi'!K214","v":1},{"$f":"'Veri Girişi'!C167","v":"GC-MS/MS"},10,95.33,15.413233619156522,101.928,15.183580226180116,98.835999999999984,15.07151684085845,{"$nulls":6},50,96.991200000000006,10.687306401610766,97.655200000000008,9.117150508756211,88.208399999999997,10.592016960664861,{"$nulls":5},"--------"]
[null,210,"Isofenphos-Methyl",{"$f":"'Belirsizlik Bütçesi'!K215","v":0},{"$f":"'Veri Girişi'!C168","v":"GC-MS/MS"},10,102.53800000000001,14.310737066803686,107.666,13.128630136777014,99.188000000000017,14.772712527872175,{"$nulls":6},50,93.891600000000011,10.458919849375219,95.033199999999994,9.3343590022419676,89.360399999999998,9.4910210193936368,{"$nulls":5},"--------"]
[null,211,"isoprocarb",{"$f":"'Belirsizlik Bütçesi'!K216","v":1},{"$f":"'Veri Girişi'!C169","v":"GC-MS/MS"},10,103.30200000000001,10.143125808540788,107.68600000000002,9.4226527542423213,96.027999999999977,9.5588166812156867,{"$nulls":6},50,85.742400000000004,8.4697863244500731,87.288399999999996,14.09511455028874,92.010400000000004,92.010400000000004,{"$nulls":5},"--------"]
[null,212,"Isopropalin",{"$f":"'Belirsizlik Bütçesi'!K217","v":1},{"$f":"'Veri Girişi'!C170","v":"GC-MS/MS"},10,105.786,9.7530835446425996,111.03999999999998,11.073182489732638,89.01,13.690151905996839,{"$nulls":6},50,89.671199999999999,9.0171091816576698,88.499200000000002,8.9550839739135668,86.558399999999978,86.558399999999978,{"$nulls":5},"--------"]
[null,213,"Kresoxim-Methyl",{"$f":"'Belirsizlik Bütçesi'!K218","v":0},{"$f":"'Veri Girişi'!#REF!","v":{"$error":"#REF!"}},10,101.88399999999997,13.335949827945297,105.508,12.705298287049786,97.60199999999999,18.598957865505497,{"$nulls":6},50,87.400399999999991,12.094700980308827,90.893999999999977,8.7546262537958963,83.424800000000005,9.0622365571450008,{"$nulls":5},"--------"]
[null,214,"Lactofen",{"$f":"'Belirsizlik Bütçesi'!K219","v":0},{"$f":"'Veri Girişi'!C171","v":"GC-MS/MS"},{"$error":"#N/A"},{"$error":"#N/A"},{"$error":"#N/A"},{"$error":"#N/A"},{"$error":"#N/A"},{"$error":"#N/A"},{"$error":"#N/A"},{"$nulls":6},{"$error":"#N/A"},{"$error":"#N/A"},{"$error":"#N/A"},{"$error":"#N/A"},{"$error":"#N/A"},{"$error":"#N/A"},{"$error":"#N/A"},{"$nulls":5},{"$error":"#N/A"}]
[null,215,"Leptophos",{"$f":"'Belirsizlik Bütçesi'!K220","v":1},{"$f":"'Veri Girişi'!C172","v":"GC-MS/MS"},10,99.531999999999982,16.095720288242596,106.012,14.529420199835741,102.096,12.493846518529146,{"$nulls":6},50,81.199600000000004,7.008344003108685,81.312399999999997,7.3837401202885538,79.345200000000006,7.5545514260264586,{"$nulls":5},"--------"]
[null,216,"MCPA-Methyl",{"$f":"'Belirsizlik Bütçesi'!K221","v":1},{"$f":"'Veri Girişi'!C173","v":"GC-MS/MS"},{"$error":"#N/A"},{"$error":"#N/A"},{"$error":"#N/A"},{"$error":"#N/A"},{"$error":"#N/A"},{"$error":"#N/A"},{"$error":"#N/A"},{"$nulls":6},{"$error":"#N/A"},{"$error":"#N/A"},{"$error":"#N/A"},{"$error":"#N/A"},{"$error":"#N/A"},{"$error":"#N/A"},{"$error":"#N/A"},{"$nulls":5},{"$error":"#N/A"}]
[null,217,"MCPB-Methyl-Ester",{"$f":"'Belirsizlik Bütçesi'!K222","v":1},{"$f":"'Veri Girişi'!C174","v":"GC-MS/MS"},{"$error":"#N/A"},{"$error":"#N/A"},{"$error":"#N/A"},{"$error":"#N/A"},{"$error":"#N/A"},{"$error":"#N/A"},{"$error":"#N/A"},{"$nulls":6},{"$error":"#N/A"},{"$error":"#N/A"},{"$error":"#N/A"},{"$error":"#N/A"},{"$error":"#N/A"},{"$error":"#N/A"},{"$error":"#N/A"},{"$nulls":5},{"$error":"#N/A"}]
[null,218,"Mefenpyr-diethyl",{"$f":"'Belirsizlik Bütçesi'!K223","v":1},{"$f":"'Veri Girişi'!C175","v":"GC-MS/MS"},10,99.522000000000006,15.249220540511413,108.13800000000001,14.397568621716832,88.99799999999999,18.147095095803703,{"$nulls":6},50,82.162800000000004,9.9937335368640614,86.418000000000006,7.4893998740214016,77.368399999999994,4.828027410272087,{"$nulls":5},"--------"]
[null,219,"Mephosfolan",{"$f":"'Belirsizlik Bütçesi'!K224","v":0},{"$f":"'Veri Girişi'!C176","v":"GC-MS/MS"},10,102.08999999999999,9.7510535571336856,94.927999999999997,18.351494442819916,117.17600000000002,1.6107509849971728,{"$f":"VLOOKUP($C224,GERCEKLİK_KONTROL_1_KONS,23,FALSE)","v":"--------"},{"$f":"VLOOKUP($C224,GERCEKLİK_KONTROL_1_KONS,24,FALSE)","v":"--------"},{"$f":"VLOOKUP($C224,GERCEKLİK_KONTROL_1_KONS,29,FALSE)","v":"--------"},{"$f":"VLOOKUP($C224,GERCEKLİK_KONTROL_1_KONS,30,FALSE)","v":"--------"},{"$f":"VLOOKUP($C224,GERCEKLİK_KONTROL_1_KONS,35,FALSE)","v":"--------"},{"$f":"VLOOKUP($C224,GERCEKLİK_KONTROL_1_KONS,36,FALSE)","v":"--------"},50,80.206800000000001,9.69054061263577,83.450399999999988,6.5335297019633449,95.209599999999995,9.7192820657544789,{"$f":"VLOOKUP($C224,GERCEKLIK_KONTROLU_TE_2_KONs,23,FALSE)","v":"--------"},{"$f":"VLOOKUP($C224,GERCEKLIK_KONTROLU_TE_2_KONs,24,FALSE)","v":"--------"},{"$f":"VLOOKUP($C224,GERCEKLIK_KONTROLU_TE_2_KONs,29,FALSE)","v":"--------"},{"$f":"VLOOKUP($C224,GERCEKLIK_KONTROLU_TE_2_KONs,30,FALSE)","v":"--------"},{"$f":"VLOOKUP($C224,GERCEKLIK_KONTROLU_TE_2_KONs,35,FALSE)","v":"--------"},"--------"]
[null,220,"Metazachlor",{"$f":"'Belirsizlik Bütçesi'!K225","v":1},{"$f":"'Veri Girişi'!C177","v":"GC-MS/MS"},10,101.77400000000002,10.904594217727782,106.02199999999999,11.560428023587068,93.936000000000007,19.796125530983343,{"$nulls":6},50,91.631200000000007,12.765507542724173,91.924000000000007,8.5897567543198061,91.17,10.199270194957323,{"$nulls":5},"--------"]
[null,221,"Methacrifos",{"$f":"'Belirsizlik Bütçesi'!K226","v":0},{"$f":"'Veri Girişi'!#REF!","v":{"$error":"#REF!"}},10,107.598,6.3385760726407172,107.586,6.7319087865203864,93.039999999999992,17.771801736728186,"--------","--------","--------","--------","--------","--------",50,87.14439999999999,6.8773672498514955,88.342399999999998,13.67148076215762,91.234000000000009,13.040816850445951,"--------","--------","--------","--------","--------","--------"]
[null,222,"Methidathion",{"$f":"'Belirsizlik Bütçesi'!K227","v":1},{"$f":"'Veri Girişi'!C178","v":"GC-MS/MS"},10,98.323999999999998,15.905893176429235,98.469999999999985,8.2629394268490124,101.37799999999999,{"$f":"VLOOKUP($C227,GERCEKLİK_KONTROL_1_KONS,11,FALSE)","v":98.469999999999985},{"$nulls":6},50,95.233199999999982,14.441530718722944,93.398399999999995,12.486657121081809,81.083999999999989,9.2485620835452167,{"$nulls":5},"--------"]
[null,223,"Methoxychlor",{"$f":"'Belirsizlik Bütçesi'!K228","v":1},{"$f":"'Veri Girişi'!C179","v":"GC-MS/MS"},10,112.02999999999999,7.3674062559693905,113.21600000000001,2.8053620517882738,109.58799999999999,9.1816906112783041,{"$nulls":6},50,95.492800000000003,14.995090514716383,83.494,6.1529698018797134,76.053200000000004,7.1977776408216272,{"$nulls":5},"--------"]
[null,224,"Metolachlor",{"$f":"'Belirsizlik Bütçesi'!K229","v":1},{"$f":"'Veri Girişi'!#REF!","v":{"$error":"#REF!"}},{"$error":"#N/A"},{"$error":"#N/A"},{"$error":"#N/A"},{"$error":"#N/A"},{"$error":"#N/A"},{"$error":"#N/A"},{"$error":"#N/A"},{"$nulls":6},{"$error":"#N/A"},{"$error":"#N/A"},{"$error":"#N/A"},{"$error":"#N/A"},{"$error":"#N/A"},{"$error":"#N/A"},{"$error":"#N/A"},{"$nulls":5},{"$error":"#N/A"}]
[null,225,"Metribuzin",{"$f":"'Belirsizlik Bütçesi'!K230","v":1},{"$f":"'Veri Girişi'!#REF!","v":{"$error":"#REF!"}},10,100.78800000000001,12.324623790858089,106.50200000000001,13.34097307790805,94.11,19.236890862691677,{"$nulls":6},50,88.135200000000012,8.1395323130376944,90.382400000000004,9.0689079959159731,91.583199999999991,8.5587897823846717,{"$nulls":5},"--------"]
[null,226,"MGK-264",{"$f":"'Belirsizlik Bütçesi'!K231","v":1},{"$f":"'Veri Girişi'!C180","v":"GC-MS/MS"},{"$error":"#N/A"},{"$error":"#N/A"},{"$error":"#N/A"},{"$error":"#N/A"},{"$error":"#N/A"},{"$error":"#N/A"},{"$f":"VLOOKUP($C231,GERCEKLİK_KONTROL_1_KONS,11,FALSE)","v":{"$error":"#N/A"}},{"$nulls":6},{"$error":"#N/A"},{"$error":"#N/A"},{"$error":"#N/A"},{"$error":"#N/A"},{"$error":"#N/A"},{"$error":"#N/A"},{"$error":"#N/A"},{"$nulls":5},{"$error":"#N/A"}]
[null,227,"Mirex",{"$f":"'Belirsizlik Bütçesi'!K232","v":1},{"$f":"'Veri Girişi'!C181","v":"GC-MS/MS"},10,98.49799999999999,15.873184821789515,104.03200000000001,13.310350534417365,103.70399999999999,{"$f":"VLOOKUP($C232,GERCEKLİK_KONTROL_1_KONS,11,FALSE)","v":104.03200000000001},{"$nulls":6},50,87.459199999999981,10.525112950300327,85.666800000000009,6.699158499192241,83.29079999999999,8.6031731761449137,{"$nulls":5},"--------"]
[null,228,"Naled",{"$f":"'Belirsizlik Bütçesi'!K233","v":0},{"$f":"'Veri Girişi'!C182","v":"GC-MS/MS"},{"$error":"#N/A"},{"$error":"#N/A"},{"$error":"#N/A"},{"$error":"#N/A"},{"$error":"#N/A"},{"$error":"#N/A"},{"$error":"#N/A"},{"$nulls":6},{"$error":"#N/A"},{"$error":"#N/A"},{"$error":"#N/A"},{"$error":"#N/A"},{"$error":"#N/A"},{"$error":"#N/A"},{"$error":"#N/A"},{"$nulls":5},{"$error":"#N/A"}]
[null,229,"Napropamide",{"$f":"'Belirsizlik Bütçesi'!K234","v":1},{"$f":"'Veri Girişi'!C183","v":"GC-MS/MS"},10,93.753999999999991,16.063790213253561,96.911999999999992,16.251558275614183,98.515999999999991,{"$f":"VLOOKUP($C234,GERCEKLİK_KONTROL_1_KONS,11,FALSE)","v":96.911999999999992},{"$nulls":6},50,89.539599999999993,13.416706445724488,94.003599999999992,8.9530196835028324,88.02000000000001,9.5282544657062136,{"$nulls":5},"--------"]
[null,230,"naptalam",{"$f":"'Belirsizlik Bütçesi'!K235","v":1},{"$f":"'Veri Girişi'!C184","v":"GC-MS/MS"},{"$error":"#N/A"},{"$error":"#N/A"},{"$error":"#N/A"},{"$error":"#N/A"},{"$error":"#N/A"},{"$error":"#N/A"},{"$error":"#N/A"},{"$nulls":6},{"$error":"#N/A"},{"$error":"#N/A"},{"$error":"#N/A"},{"$error":"#N/A"},{"$error":"#N/A"},{"$error":"#N/A"},{"$error":"#N/A"},{"$nulls":5},{"$error":"#N/A"}]
[null,231,"Nitralin",{"$f":"'Belirsizlik Bütçesi'!K236","v":0},{"$f":"'Veri Girişi'!C185","v":"GC-MS/MS"},10,95.550000000000011,19.970799519784556,101.982,12.263094749515163,92.794000000000011,17.237658478225594,{"$nulls":6},50,77.368399999999994,6.7732079059284178,81.33359999999999,5.6518835185501928,79.537999999999997,9.7500080208942066,{"$nulls":5},"--------"]
[null,232,"nitrapyrin",{"$f":"'Belirsizlik Bütçesi'!K237","v":1},{"$f":"'Veri Girişi'!C186","v":"GC-MS/MS"},10,100.57000000000001,8.8362720962198029,97.932000000000002,13.091752216262121,92.063999999999993,18.368901135723327,{"$nulls":6},50,83.596000000000004,11.544472681301993,81.881999999999991,6.5819839333133139,86.759600000000006,4.6494459412797795,{"$nulls":5},"--------"]
[null,233,"Nitrofen",{"$f":"'Belirsizlik Bütçesi'!K238","v":1},{"$f":"'Veri Girişi'!C187","v":"GC-MS/MS"},10,98.044000000000011,14.717831582622948,103.11799999999999,10.982145995348649,109.274,{"$f":"VLOOKUP($C238,GERCEKLİK_KONTROL_1_KONS,11,FALSE)","v":103.11799999999999},{"$nulls":6},50,79.795199999999994,6.2585395323833364,75.526399999999995,5.2084594453114672,73.532799999999995,73.532799999999995,{"$nulls":5},"--------"]
[null,234,"Nitrothal-Isopropyl",{"$f":"'Belirsizlik Bütçesi'!K239","v":1},{"$f":"'Veri Girişi'!C188","v":"GC-MS/MS"},10,103.81800000000001,10.911389297162581,105.09200000000001,13.230925121409715,96.045999999999992,105.09200000000001,{"$nulls":6},50,80.496400000000008,8.1902981696936141,78.77239999999999,9.5611251994076998,85.18719999999999,85.18719999999999,{"$nulls":5},"--------"]
[null,235,"Norflurazon",{"$f":"'Belirsizlik Bütçesi'!K240","v":1},{"$f":"'Veri Girişi'!#REF!","v":{"$error":"#REF!"}},10,96.103999999999999,17.07253864685002,99.823999999999984,15.587048560609723,92.448000000000022,{"$f":"VLOOKUP($C240,GERCEKLİK_KONTROL_1_KONS,11,FALSE)","v":99.823999999999984},{"$nulls":6},50,88.216800000000006,18.790283769663002,83.815999999999988,18.024303687295369,77.457599999999999,77.457599999999999,{"$nulls":5},"--------"]
[null,236,"Nuarimol",{"$f":"'Belirsizlik Bütçesi'!K241","v":1},{"$f":"'Veri Girişi'!C189","v":"GC-MS/MS"},10,99.478000000000009,14.532445059702964,106.30599999999998,13.066363751641221,92.588000000000008,15.730427613941487,{"$nulls":6},50,84.819199999999995,9.271569446814647,83.400400000000005,7.3274240270722597,76.452400000000011,3.5460917645426644,{"$nulls":5},"--------"]
[null,237,"Orbencarb",{"$f":"'Belirsizlik Bütçesi'!K242","v":1},{"$f":"'Veri Girişi'!#REF!","v":{"$error":"#REF!"}},{"$error":"#N/A"},{"$error":"#N/A"},{"$error":"#N/A"},{"$error":"#N/A"},{"$error":"#N/A"},{"$error":"#N/A"},{"$f":"VLOOKUP($C242,GERCEKLİK_KONTROL_1_KONS,11,FALSE)","v":{"$error":"#N/A"}},{"$nulls":6},{"$error":"#N/A"},{"$error":"#N/A"},{"$error":"#N/A"},{"$error":"#N/A"},{"$error":"#N/A"},{"$error":"#N/A"},{"$error":"#N/A"},{"$nulls":5},{"$error":"#N/A"}]
[null,238,"Ortho-phenylphenol",{"$f":"'Belirsizlik Bütçesi'!K243","v":1},{"$f":"'Veri Girişi'!C190","v":"GC-MS/MS"},{"$error":"#N/A"},{"$error":"#N/A"},{"$error":"#N/A"},{"$error":"#N/A"},{"$error":"#N/A"},{"$error":"#N/A"},{"$error":"#N/A"},{"$nulls":6},{"$error":"#N/A"},{"$error":"#N/A"},{"$error":"#N/A"},{"$error":"#N/A"},{"$error":"#N/A"},{"$error":"#N/A"},{"$error":"#N/A"},{"$nulls":5},{"$error":"#N/A"}]
[null,239,"oryzalin",{"$f":"'Belirsizlik Bütçesi'!K244","v":0},{"$f":"'Veri Girişi'!C191","v":"GC-MS/MS"},{"$error":"#N/A"},{"$error":"#N/A"},{"$error":"#N/A"},{"$error":"#N/A"},{"$error":"#N/A"},{"$error":"#N/A"},{"$error":"#N/A"},{"$nulls":6},{"$error":"#N/A"},{"$error":"#N/A"},{"$error":"#N/A"},{"$error":"#N/A"},{"$error":"#N/A"},{"$error":"#N/A"},{"$error":"#N/A"},{"$nulls":5},{"$error":"#N/A"}]
[null,240,"Oxadiazon",{"$f":"'Belirsizlik Bütçesi'!K245","v":1},{"$f":"'Veri Girişi'!C192","v":"GC-MS/MS"},10,90.495999999999995,19.771242363073515,97.768000000000001,17.089278763048927,102.05800000000001,104.54600000000001,{"$nulls":6},50,97.745200000000011,11.585461914072194,101.7448,9.5243425389851044,91.776799999999994,9.8109506346130999,{"$nulls":5},"--------"]
[null,241,"Oxadixyl",{"$f":"'Belirsizlik Bütçesi'!K246","v":0},{"$f":"'Veri Girişi'!C193","v":"GC-MS/MS"},10,105.66999999999997,12.466197749776773,109.83399999999999,12.846078109996583,89.929999999999993,108.67,{"$nulls":6},50,89.291200000000003,10.29960581351687,86.275199999999998,6.697182642206255,76.858800000000002,5.6834867900934256,{"$nulls":5},"--------"]
[null,242,"PCB138",{"$f":"'Belirsizlik Bütçesi'!K247","v":1},{"$f":"'Veri Girişi'!C194","v":"GC-MS/MS"},{"$error":"#N/A"},{"$error":"#N/A"},{"$error":"#N/A"},{"$error":"#N/A"},{"$error":"#N/A"},{"$error":"#N/A"},101.53000000000002,{"$nulls":6},{"$error":"#N/A"},{"$error":"#N/A"},{"$error":"#N/A"},{"$error":"#N/A"},{"$error":"#N/A"},{"$error":"#N/A"},{"$error":"#N/A"},{"$nulls":5},{"$error":"#N/A"}]
[null,243,"PCB18",{"$f":"'Belirsizlik Bütçesi'!K248","v":1},{"$f":"'Veri Girişi'!C195","v":"GC-MS/MS"},{"$error":"#N/A"},{"$error":"#N/A"},{"$error":"#N/A"},{"$error":"#N/A"},{"$error":"#N/A"},{"$error":"#N/A"},113.584,{"$nulls":6},{"$error":"#N/A"},{"$error":"#N/A"},{"$error":"#N/A"},{"$error":"#N/A"},{"$error":"#N/A"},{"$error":"#N/A"},{"$error":"#N/A"},{"$nulls":5},{"$error":"#N/A"}]
[null,244,"Pebulate",{"$f":"'Belirsizlik Bütçesi'!K249","v":1},{"$f":"'Veri Girişi'!#REF!","v":{"$error":"#REF!"}},{"$error":"#N/A"},{"$error":"#N/A"},{"$error":"#N/A"},{"$error":"#N/A"},{"$error":"#N/A"},{"$error":"#N/A"},109.77000000000001,{"$nulls":6},{"$error":"#N/A"},{"$error":"#N/A"},{"$error":"#N/A"},{"$error":"#N/A"},{"$error":"#N/A"},{"$error":"#N/A"},{"$error":"#N/A"},{"$nulls":5},{"$error":"#N/A"}]
[null,245,"Pendimethaline",{"$f":"'Belirsizlik Bütçesi'!K250","v":0},{"$f":"'Veri Girişi'!C196","v":"GC-MS/MS"},10,107.21599999999999,8.147190597762517,111.572,6.4917858029732169,95.3,111.398,{"$nulls":6},50,86.031999999999996,10.152958284579968,87.36399999999999,8.7284992415044691,85.808000000000007,10.432795738626691,{"$nulls":5},"--------"]
[null,246,"Pentachloroaniline",{"$f":"'Belirsizlik Bütçesi'!K251","v":0},{"$f":"'Veri Girişi'!C197","v":"GC-MS/MS"},10,101.52600000000001,13.922580508754104,105.49,11.486937044638797,95.611999999999995,104.09000000000002,{"$nulls":6},50,89.482799999999997,7.8912991982181113,91.334800000000001,9.5285316705587757,80.684799999999996,7.6790595729650519,{"$nulls":5},"--------"]
[null,247,"Pentachloroanisole",{"$f":"'Belirsizlik Bütçesi'!K252","v":1},{"$f":"'Veri Girişi'!C198","v":"GC-MS/MS"},10,89.728000000000009,14.97558206739602,89.537999999999997,9.2638995316343138,88.123999999999995,107.03999999999998,{"$nulls":6},50,85.767200000000017,4.9708032920766438,87.295199999999994,12.522311340597048,93.552400000000006,2.5188721177375588,{"$nulls":5},"--------"]
[null,248,"Pentachlorobenzene",{"$f":"'Belirsizlik Bütçesi'!K253","v":1},{"$f":"'Veri Girişi'!#REF!","v":{"$error":"#REF!"}},{"$f":"VLOOKUP($C253,GERCEKLİK_KONTROL_1_KONS,2,FALSE)","v":10},{"$f":"VLOOKUP($C253,GERCEKLİK_KONTROL_1_KONS,5,FALSE)","v":96.718000000000018},{"$f":"VLOOKUP($C253,GERCEKLİK_KONTROL_1_KONS,6,FALSE)","v":17.531246773634741},{"$f":"VLOOKUP($C253,GERCEKLİK_KONTROL_1_KONS,11,FALSE)","v":98.100000000000009},{"$f":"VLOOKUP($C253,GERCEKLİK_KONTROL_1_KONS,12,FALSE)","v":10.401495325247129},{"$f":"VLOOKUP($C253,GERCEKLİK_KONTROL_1_KONS,17,FALSE)","v":97.49799999999999},94.13,{"$nulls":6},{"$f":"VLOOKUP($C253,GERCEKLIK_KONTROLU_TE_2_KONs,2,FALSE)","v":50},{"$f":"VLOOKUP($C253,GERCEKLIK_KONTROLU_TE_2_KONs,5,FALSE)","v":91.533199999999994},{"$f":"VLOOKUP($C253,GERCEKLIK_KONTROLU_TE_2_KONs,6,FALSE)","v":7.9030929891394885},{"$f":"VLOOKUP($C253,GERCEKLIK_KONTROLU_TE_2_KONs,11,FALSE)","v":92.3964},{"$f":"VLOOKUP($C253,GERCEKLIK_KONTROLU_TE_2_KONs,12,FALSE)","v":18.510534656079354},{"$f":"VLOOKUP($C253,GERCEKLIK_KONTROLU_TE_2_KONs,17,FALSE)","v":101.78719999999998},{"$f":"VLOOKUP($C253,GERCEKLIK_KONTROLU_TE_2_KONs,18,FALSE)","v":4.4426167241590226},{"$nulls":5},{"$f":"VLOOKUP($C253,GERCEKLIK_KONTROLU_TE_2_KONs,36,FALSE)","v":"--------"}]
[null,249,"Pentonochlor",{"$f":"'Belirsizlik Bütçesi'!K254","v":0},{"$f":"'Veri Girişi'!#REF!","v":{"$error":"#REF!"}},10,90.711999999999989,20.098049945177216,95.75800000000001,17.790350389146482,100.05599999999998,94.593999999999994,{"$nulls":6},50,87.444400000000002,11.595598927813985,92.5852,9.6378233633222052,86.992799999999988,7.5716196511694198,{"$nulls":5},"--------"]
[null,250,"Permethrin1",{"$f":"'Belirsizlik Bütçesi'!K255","v":0},{"$f":"'Veri Girişi'!#REF!","v":{"$error":"#REF!"}},{"$error":"#N/A"},{"$error":"#N/A"},{"$error":"#N/A"},{"$error":"#N/A"},{"$error":"#N/A"},{"$error":"#N/A"},106.97399999999999,{"$nulls":6},{"$error":"#N/A"},{"$error":"#N/A"},{"$error":"#N/A"},{"$error":"#N/A"},{"$error":"#N/A"},{"$error":"#N/A"},{"$error":"#N/A"},{"$nulls":5},{"$error":"#N/A"}]
[null,251,"Perthane",{"$f":"'Belirsizlik Bütçesi'!K256","v":1},{"$f":"'Veri Girişi'!#REF!","v":{"$error":"#REF!"}},10,94.801999999999992,18.518761402949881,101.89200000000001,14.792247971531591,91.637999999999991,102.93600000000001,{"$nulls":6},50,94.256400000000014,11.13248295183204,94.972000000000008,8.016315494439489,88.409199999999998,9.0317221215493593,{"$nulls":5},"--------"]
[null,252,"Pethoxamid",{"$f":"'Belirsizlik Bütçesi'!K258","v":1},{"$f":"'Veri Girişi'!#REF!","v":{"$error":"#REF!"}},10,98.385999999999996,16.483043756705761,102.28199999999998,12.6086658654334,100.66199999999998,103.52600000000001,{"$nulls":6},50,89.590799999999987,12.469988003353954,88.653999999999996,9.961513143169249,92.040400000000005,9.012259505852791,{"$nulls":5},"--------"]
[null,253,"phenkapton",{"$f":"'Belirsizlik Bütçesi'!K260","v":0},{"$f":"'Veri Girişi'!#REF!","v":{"$error":"#REF!"}},{"$error":"#N/A"},{"$error":"#N/A"},{"$error":"#N/A"},{"$error":"#N/A"},{"$error":"#N/A"},{"$error":"#N/A"},84.927999999999997,{"$nulls":6},{"$error":"#N/A"},{"$error":"#N/A"},{"$error":"#N/A"},{"$error":"#N/A"},{"$error":"#N/A"},{"$error":"#N/A"},{"$error":"#N/A"},{"$nulls":5},{"$error":"#N/A"}]
[null,254,"Phenothrin",{"$f":"'Belirsizlik Bütçesi'!K261","v":1},{"$f":"'Veri Girişi'!C200","v":"GC-MS/MS"},{"$error":"#N/A"},{"$error":"#N/A"},{"$error":"#N/A"},{"$error":"#N/A"},{"$error":"#N/A"},{"$error":"#N/A"},{"$f":"VLOOKUP($C259,GERCEKLİK_KONTROL_1_KONS,18,FALSE)","v":{"$error":"#N/A"}},{"$nulls":6},{"$error":"#N/A"},{"$error":"#N/A"},{"$error":"#N/A"},{"$error":"#N/A"},{"$error":"#N/A"},{"$error":"#N/A"},{"$error":"#N/A"},{"$nulls":5},{"$error":"#N/A"}]
[null,255,"Phenthoate",{"$f":"'Belirsizlik Bütçesi'!K262","v":1},{"$f":"'Veri Girişi'!C201","v":"GC-MS/MS"},10,104.21000000000001,11.96051079455701,111.354,9.5937466460564007,97.707999999999998,20.974191325317822,{"$nulls":6},50,89.532000000000011,10.092454819427177,91.343599999999995,9.7011290885884129,87.069199999999995,7.2021084655923664,{"$nulls":5},"--------"]
[null,256,"Phosalone",{"$f":"'Belirsizlik Bütçesi'!K263","v":1},{"$f":"'Veri Girişi'!C202","v":"GC-MS/MS"},10,99.586000000000013,14.561099480583344,107.99799999999999,12.34675284303545,93.81,104.54600000000001,{"$nulls":6},50,79.283199999999994,8.2567078335135733,79.006,5.3879930555654463,80.308399999999992,80.308399999999992,{"$nulls":5},"--------"]
[null,257,"Phosfolan",{"$f":"'Belirsizlik Bütçesi'!K264","v":0},{"$f":"'Veri Girişi'!C203","v":"GC-MS/MS"},{"$error":"#N/A"},{"$error":"#N/A"},{"$error":"#N/A"},{"$error":"#N/A"},{"$error":"#N/A"},{"$error":"#N/A"},108.67,{"$nulls":6},{"$error":"#N/A"},{"$error":"#N/A"},{"$error":"#N/A"},{"$error":"#N/A"},{"$error":"#N/A"},{"$error":"#N/A"},{"$error":"#N/A"},{"$nulls":5},{"$error":"#N/A"}]
[null,258,"Phosmet",{"$f":"'Belirsizlik Bütçesi'!K265","v":1},{"$f":"'Veri Girişi'!C204","v":"GC-MS/MS"},2,102.54,2.2781207565103387,114.4,8.9111548832691394,108.60000000000001,101.53000000000002,{"$nulls":6},{"$error":"#N/A"},{"$error":"#N/A"},{"$error":"#N/A"},{"$error":"#N/A"},{"$error":"#N/A"},{"$error":"#N/A"},{"$error":"#N/A"},{"$nulls":5},{"$error":"#N/A"}]
[null,259,"Phosphamidon",{"$f":"'Belirsizlik Bütçesi'!K266","v":1},{"$f":"'Veri Girişi'!C205","v":"GC-MS/MS"},10,105.98800000000001,11.11342932859678,111.13800000000001,9.0150130913568098,103.03999999999998,113.584,{"$nulls":6},50,83.13239999999999,12.865176911934043,76.586399999999998,8.2356675225917559,82.809200000000004,11.530129403357567,{"$nulls":5},"--------"]
[null,260,"Phthalimide",{"$f":"'Belirsizlik Bütçesi'!K267","v":1},{"$f":"'Veri Girişi'!C206","v":"GC-MS/MS"},10,99.945999999999998,12.914823554508908,100.58799999999999,15.191120250974995,93.580000000000013,109.77000000000001,{"$nulls":6},50,97.986000000000004,9.7610612029848518,102.3112,12.259758114593298,105.54400000000001,7.7006045524710718,{"$nulls":5},"--------"]
[null,261,"Pirimiphos-Ethyl",{"$f":"'Belirsizlik Bütçesi'!K268","v":1},{"$f":"'Veri Girişi'!C207","v":"GC-MS/MS"},10,101.044,13.429155897822181,110.00000000000001,14.610517834935013,90.341999999999985,111.398,{"$nulls":6},50,99.058399999999992,6.4445258578369735,98.450400000000002,10.704262348257403,95.531599999999997,10.798031245475674,{"$nulls":5},"--------"]
[null,262,"Pretilachlor",{"$f":"'Belirsizlik Bütçesi'!K269","v":1},{"$f":"'Veri Girişi'!C208","v":"GC-MS/MS"},10,94.28,16.693947113650268,100.50399999999999,15.304556425058552,94.46,104.09000000000002,{"$nulls":6},50,91.080000000000013,11.615023878869497,92.311999999999998,9.1246965666119486,86.428399999999996,86.428399999999996,{"$nulls":5},"--------"]
[null,263,"Procymidone",{"$f":"'Belirsizlik Bütçesi'!K270","v":1},{"$f":"'Veri Girişi'!C209","v":"GC-MS/MS"},10,99.064000000000021,14.593492404722481,104.74599999999998,13.260856797337301,100.57400000000001,107.03999999999998,{"$nulls":6},50,90.556400000000011,13.29641269695318,96.006,10.753002717021127,89.28479999999999,7.1604073032507394,{"$nulls":5},"--------"]
[null,264,"Prodiamine",{"$f":"'Belirsizlik Bütçesi'!K271","v":1},{"$f":"'Veri Girişi'!#REF!","v":{"$error":"#REF!"}},{"$error":"#N/A"},{"$error":"#N/A"},{"$error":"#N/A"},{"$error":"#N/A"},{"$error":"#N/A"},{"$error":"#N/A"},94.13,{"$nulls":6},{"$error":"#N/A"},{"$error":"#N/A"},{"$error":"#N/A"},{"$error":"#N/A"},{"$error":"#N/A"},{"$error":"#N/A"},{"$error":"#N/A"},{"$nulls":5},{"$error":"#N/A"}]
[null,265,"Profenofos",{"$f":"'Belirsizlik Bütçesi'!K272","v":1},{"$f":"'Veri Girişi'!#REF!","v":{"$error":"#REF!"}},10,98.223999999999975,13.189127165047864,103.804,12.780619496713033,92.47,94.593999999999994,{"$nulls":6},50,83.904399999999995,7.0011435774332647,78.705199999999991,5.4682785964396112,83.868399999999994,83.868399999999994,{"$nulls":5},"--------"]
[null,266,"Profluralin",{"$f":"'Belirsizlik Bütçesi'!K273","v":1},{"$f":"'Veri Girişi'!C211","v":"GC-MS/MS"},10,108.39000000000001,104.54600000000001,2.9696926061490232,99.410000000000025,98.488000000000014,106.97399999999999,{"$nulls":6},50,85.678799999999995,11.345485655903165,82.675600000000003,9.2120264441648452,80.736400000000003,80.736400000000003,{"$nulls":5},"--------"]
[null,267,"Prometon",{"$f":"'Belirsizlik Bütçesi'!K274","v":1},{"$f":"'Veri Girişi'!C212","v":"GC-MS/MS"},10,102.26400000000002,108.67,1.7768175951078653,104.958,96.684000000000012,102.93600000000001,{"$nulls":6},50,91.5672,7.9873799252568212,90.916799999999995,9.7300025282123581,87.347999999999999,87.347999999999999,{"$nulls":5},"--------"]
[null,268,"Prometryn",{"$f":"'Belirsizlik Bütçesi'!K275","v":1},{"$f":"'Veri Girişi'!C214","v":"GC-MS/MS"},10,104.00200000000001,101.53000000000002,9.5299603105608313,101.17400000000001,101.66999999999999,103.52600000000001,{"$nulls":6},50,100.5628,6.0799751581230739,97.200800000000001,9.3368137199844874,91.82559999999998,100.2,{"$nulls":5},"--------"]
[null,269,"Propachlor",{"$f":"'Belirsizlik Bütçesi'!K276","v":1},{"$f":"'Veri Girişi'!#REF!","v":{"$error":"#REF!"}},10,94.227999999999994,113.584,6.5056041423032385,112.666,106.83799999999999,84.927999999999997,{"$nulls":6},50,86.025999999999996,9.908592316738126,88.082399999999993,15.337683837097718,90.164000000000001,90.164000000000001,{"$nulls":5},"--------"]
[null,270,"Propanil",{"$f":"'Belirsizlik Bütçesi'!K278","v":0},{"$f":"'Veri Girişi'!#REF!","v":{"$error":"#REF!"}},10,93.286000000000001,109.77000000000001,4.9191533424931126,101.13800000000002,101.542,13.488638718941814,8.9215320124791244,97.762,{"$f":"VLOOKUP($C275,GERCEKLİK_KONTROL_1_KONS,29,FALSE)","v":"--------"},{"$f":"VLOOKUP($C275,GERCEKLİK_KONTROL_1_KONS,30,FALSE)","v":"--------"},{"$f":"VLOOKUP($C275,GERCEKLİK_KONTROL_1_KONS,35,FALSE)","v":"--------"},{"$f":"VLOOKUP($C275,GERCEKLİK_KONTROL_1_KONS,36,FALSE)","v":"--------"},50,85.094000000000008,12.853298999737921,92.0608,9.9354003601166188,76.416800000000009,5.0631324100312884,{"$f":"VLOOKUP($C275,GERCEKLIK_KONTROLU_TE_2_KONs,23,FALSE)","v":"--------"},{"$f":"VLOOKUP($C275,GERCEKLIK_KONTROLU_TE_2_KONs,24,FALSE)","v":"--------"},{"$f":"VLOOKUP($C275,GERCEKLIK_KONTROLU_TE_2_KONs,29,FALSE)","v":"--------"},{"$f":"VLOOKUP($C275,GERCEKLIK_KONTROLU_TE_2_KONs,30,FALSE)","v":"--------"},{"$f":"VLOOKUP($C275,GERCEKLIK_KONTROLU_TE_2_KONs,35,FALSE)","v":"--------"},"--------"]
[null,271,"Propazine",{"$f":"'Belirsizlik Bütçesi'!K279","v":1},{"$f":"'Veri Girişi'!C215","v":"GC-MS/MS"},10,101.908,111.398,6.2695225300016837,107.85199999999999,96.825999999999993,2.3598371076701166,{"$nulls":6},50,87.921600000000012,7.6066203857321923,90.054000000000002,10.955466383492007,91.397999999999996,13.813495103595683,{"$nulls":5},"--------"]
[null,272,"Propetamphos",{"$f":"'Belirsizlik Bütçesi'!K280","v":1},{"$f":"'Veri Girişi'!#REF!","v":{"$error":"#REF!"}},10,106.89800000000001,104.09000000000002,5.4115701187877825,101.37,94.786000000000001,8.9215320124791244,{"$nulls":6},50,89.8292,9.1337558139960979,91.398400000000009,10.036516992024861,85.995199999999983,85.995199999999983,{"$nulls":5},"--------"]
[null,273,"Propiconazole-1",{"$f":"'Belirsizlik Bütçesi'!K281","v":1},{"$f":"'Veri Girişi'!C216","v":"GC-MS/MS"},{"$error":"#N/A"},{"$error":"#N/A"},107.03999999999998,10.206829365859958,103.36399999999999,{"$error":"#N/A"},6.3383647400107197,{"$nulls":6},{"$error":"#N/A"},{"$error":"#N/A"},{"$error":"#N/A"},{"$error":"#N/A"},{"$error":"#N/A"},{"$error":"#N/A"},{"$error":"#N/A"},{"$nulls":5},{"$error":"#N/A"}]
[null,274,"propisochlor",{"$f":"'Belirsizlik Bütçesi'!K282","v":1},{"$f":"'Veri Girişi'!C217","v":"GC-MS/MS"},10,104.806,94.13,12.787853927478382,87.839999999999989,99.537999999999968,9.5099975458401964,{"$nulls":6},50,91.517199999999988,10.355496647677651,91.177599999999998,8.8809372507005389,88.864800000000002,12.354547973098294,{"$nulls":5},"--------"]
[null,275,"Prothiofos",{"$f":"'Belirsizlik Bütçesi'!K283","v":0},{"$f":"'Veri Girişi'!C218","v":"GC-MS/MS"},10,102.45399999999998,94.593999999999994,5.425976741821759,106.43199999999999,101.758,11.134067450376142,8.9215320124791244,97.762,"--------","--------","--------","--------",50,89.494,9.4657333721487618,91.542400000000001,9.3421123429031176,87.435600000000008,11.44668321341177,"--------","--------","--------","--------","--------","--------"]
[null,276,"Pyraclofos",{"$f":"'Belirsizlik Bütçesi'!K284","v":1},{"$f":"'Veri Girişi'!C219","v":"GC-MS/MS"},10,93.048000000000002,106.97399999999999,13.824003146605756,88.921999999999997,86.38000000000001,4.7992878599827291,{"$nulls":6},50,78.603999999999999,7.3819917851223256,78.335999999999999,7.8492790890890705,82.620399999999989,11.732071598878532,{"$nulls":5},"--------"]
[null,277,"Pyraflufen Ethyl",{"$f":"'Belirsizlik Bütçesi'!K285","v":1},{"$f":"'Veri Girişi'!C220","v":"GC-MS/MS"},{"$error":"#N/A"},{"$error":"#N/A"},102.93600000000001,10.453362507511114,99.53,{"$error":"#N/A"},4.3207062629738813,{"$nulls":6},{"$error":"#N/A"},{"$error":"#N/A"},{"$error":"#N/A"},{"$error":"#N/A"},{"$error":"#N/A"},{"$error":"#N/A"},{"$error":"#N/A"},{"$nulls":5},{"$error":"#N/A"}]
[null,278,"Pyrasulfotole",{"$f":"'Belirsizlik Bütçesi'!K286","v":1},{"$f":"'Veri Girişi'!C221","v":"GC-MS/MS"},{"$error":"#N/A"},{"$error":"#N/A"},103.52600000000001,5.4826427290080524,102.76,{"$error":"#N/A"},2.3598371076701166,{"$nulls":6},{"$error":"#N/A"},{"$error":"#N/A"},{"$error":"#N/A"},{"$error":"#N/A"},{"$error":"#N/A"},{"$error":"#N/A"},{"$error":"#N/A"},{"$nulls":5},{"$error":"#N/A"}]
[null,279,"Pyrazophos",{"$f":"'Belirsizlik Bütçesi'!K287","v":1},{"$f":"'Veri Girişi'!C222","v":"GC-MS/MS"},10,103.1,84.927999999999997,11.027883046464012,80.190000000000012,93.048000000000002,8.9215320124791244,{"$nulls":6},50,78.978399999999993,2.7099526854900762,74.80319999999999,3.9320068364759568,74.1768,4.44292800844,{"$nulls":5},"--------"]
[null,280,"Pyributicarb",{"$f":"'Belirsizlik Bütçesi'!K288","v":1},{"$f":"'Veri Girişi'!C223","v":"GC-MS/MS"},10,92.677999999999997,19.577636706167386,101.25800000000002,18.338033132207965,101.25599999999999,6.3383647400107197,{"$nulls":6},50,88.348400000000012,13.176514509572881,93.592399999999998,8.7186583976441447,76.321200000000005,7.0396210454546333,{"$nulls":5},"--------"]
[null,281,"Pyridophenthion",{"$f":"'Belirsizlik Bütçesi'!K289","v":0},{"$f":"'Veri Girişi'!C224","v":"GC-MS/MS"},10,100.41799999999998,14.014355720929572,109.684,10.573589141593164,94.506,9.5099975458401964,{"$nulls":6},50,77.816400000000002,5.8599592094161803,74.852000000000004,4.8172861025110709,79.383200000000002,8.5438156335696132,{"$nulls":5},"--------"]
[null,282,"Pyrimethaline",{"$f":"'Belirsizlik Bütçesi'!K290","v":1},{"$f":"'Veri Girişi'!C225","v":"GC-MS/MS"},{"$error":"#N/A"},{"$error":"#N/A"},{"$error":"#N/A"},{"$error":"#N/A"},{"$error":"#N/A"},{"$error":"#N/A"},11.134067450376142,{"$nulls":6},{"$error":"#N/A"},{"$error":"#N/A"},{"$error":"#N/A"},{"$error":"#N/A"},{"$error":"#N/A"},{"$error":"#N/A"},{"$error":"#N/A"},{"$nulls":5},{"$error":"#N/A"}]
[null,283,"Pyroquilon",{"$f":"'Belirsizlik Bütçesi'!K291","v":0},{"$f":"'Veri Girişi'!C226","v":"GC-MS/MS"},10,93.841999999999999,17.028134773069389,98.597999999999999,16.519291213811176,98.671999999999983,4.7992878599827291,{"$nulls":6},50,80.9148,9.5535335737312383,84.496400000000008,10.145021503428357,81.823599999999999,6.9902965653638809,{"$nulls":5},"--------"]
[null,284,"Quinalphos",{"$f":"'Belirsizlik Bütçesi'!K292","v":1},{"$f":"'Veri Girişi'!C227","v":"GC-MS/MS"},10,95.712000000000003,19.5284156186095,102.16399999999999,18.522293847833719,99.043999999999983,4.3207062629738813,{"$nulls":6},50,86.808000000000007,10.087937324306962,89.217999999999989,10.131812439860131,85.322800000000001,9.4997287328418523,{"$nulls":5},"--------"]
[null,285,"Quinoclamine",{"$f":"'Belirsizlik Bütçesi'!K293","v":1},{"$f":"'Veri Girişi'!C228","v":"GC-MS/MS"},10,94.670000000000016,16.410208860397887,97.43,15.388271855452585,109.64000000000003,{"$f":"VLOOKUP($C290,GERCEKLİK_KONTROL_1_KONS,11,FALSE)","v":97.43},{"$nulls":6},50,74.63039999999998,5.0985588639851471,76.978000000000009,5.5902672989741049,75.250399999999999,75.250399999999999,{"$nulls":5},"--------"]
[null,286,"Quintozene",{"$f":"'Belirsizlik Bütçesi'!K294","v":1},{"$f":"'Veri Girişi'!C229","v":"GC-MS/MS"},10,104.37400000000001,10.054707099554486,108.066,5.9011142136475536,83.69,108.066,{"$nulls":6},50,89.777599999999993,7.5906887740403857,88.461199999999991,12.739753201994791,92.238,92.238,{"$nulls":5},"--------"]
[null,287,"Resmethrin-2",{"$f":"'Belirsizlik Bütçesi'!K295","v":1},{"$f":"'Veri Girişi'!C230","v":"GC-MS/MS"},{"$error":"#N/A"},{"$error":"#N/A"},{"$error":"#N/A"},{"$error":"#N/A"},{"$error":"#N/A"},{"$error":"#N/A"},{"$error":"#N/A"},{"$nulls":6},{"$error":"#N/A"},{"$error":"#N/A"},{"$error":"#N/A"},{"$error":"#N/A"},{"$error":"#N/A"},{"$error":"#N/A"},{"$error":"#N/A"},{"$nulls":5},{"$error":"#N/A"}]
[null,288,"S421",{"$f":"'Belirsizlik Bütçesi'!K296","v":1},{"$f":"'Veri Girişi'!C231","v":"GC-MS/MS"},{"$error":"#N/A"},{"$error":"#N/A"},{"$error":"#N/A"},{"$error":"#N/A"},{"$error":"#N/A"},{"$error":"#N/A"},{"$error":"#N/A"},{"$nulls":6},{"$error":"#N/A"},{"$error":"#N/A"},{"$error":"#N/A"},{"$error":"#N/A"},{"$error":"#N/A"},{"$error":"#N/A"},{"$error":"#N/A"},{"$nulls":5},{"$error":"#N/A"}]
[null,289,"Simazine",{"$f":"'Belirsizlik Bütçesi'!K297","v":1},{"$f":"'Veri Girişi'!C232","v":"GC-MS/MS"},10,103.62599999999999,14.304549802473376,107.666,13.800825130155811,95.122,16.131510420509851,{"$nulls":6},50,92.357600000000005,8.6902464868030069,89.828400000000002,7.9274700324640168,86.456800000000001,5.7286865868251704,{"$nulls":5},"--------"]
[null,290,"Simeconazole",{"$f":"'Belirsizlik Bütçesi'!K298","v":0},{"$f":"'Veri Girişi'!C233","v":"GC-MS/MS"},{"$error":"#N/A"},{"$error":"#N/A"},{"$error":"#N/A"},{"$error":"#N/A"},{"$error":"#N/A"},{"$error":"#N/A"},{"$error":"#N/A"},{"$nulls":6},{"$error":"#N/A"},{"$error":"#N/A"},{"$error":"#N/A"},{"$error":"#N/A"},{"$error":"#N/A"},{"$error":"#N/A"},{"$error":"#N/A"},{"$nulls":5},{"$error":"#N/A"}]
[null,291,"Simetryn",{"$f":"'Belirsizlik Bütçesi'!K299","v":1},{"$f":"'Veri Girişi'!C234","v":"GC-MS/MS"},10,96.018000000000001,17.58099862186425,103.544,12.835696579423949,98.521999999999991,15.720480283779173,{"$nulls":6},50,90.332799999999992,7.5943416191818978,93.638400000000019,9.9469947358893975,87.504000000000005,87.504000000000005,{"$nulls":5},"--------"]
[null,292,"Spiromesifen",{"$f":"'Belirsizlik Bütçesi'!K300","v":1},{"$f":"'Veri Girişi'!C235","v":"GC-MS/MS"},10,94.227999999999994,23.332917544852585,104.25200000000001,18.577462720758916,89.231999999999999,19.830131852109293,{"$nulls":6},50,89.760400000000004,12.507065350619778,91.763599999999997,8.0443106350829492,83.563200000000009,12.14461261929717,{"$nulls":5},"--------"]
[null,293,"Sulfotep",{"$f":"'Belirsizlik Bütçesi'!K301","v":1},{"$f":"'Veri Girişi'!C236","v":"GC-MS/MS"},10,105.40600000000002,11.616488140115761,109.1,9.0530008086161207,91.262000000000015,{"$f":"VLOOKUP($C298,GERCEKLİK_KONTROL_1_KONS,5,FALSE)","v":105.40600000000002},{"$nulls":6},50,89.455200000000005,9.4827735348507911,90.22999999999999,13.202522699955299,90.124800000000008,90.124800000000008,{"$nulls":5},"--------"]
[null,294,"Sulprofos",{"$f":"'Belirsizlik Bütçesi'!K302","v":1},{"$f":"'Veri Girişi'!#REF!","v":{"$error":"#REF!"}},10,97.697999999999993,16.247971416431252,104.13799999999998,16.45584560608545,98.972000000000008,97.697999999999993,{"$nulls":6},50,91.108800000000002,5.7165988421089411,92.268799999999999,8.362427980741133,80.020399999999995,9.1425824259300992,{"$nulls":5},"--------"]
[null,295,"Swep",{"$f":"'Belirsizlik Bütçesi'!K303","v":1},{"$f":"'Veri Girişi'!#REF!","v":{"$error":"#REF!"}},{"$error":"#N/A"},{"$error":"#N/A"},{"$error":"#N/A"},{"$error":"#N/A"},{"$error":"#N/A"},{"$error":"#N/A"},{"$error":"#N/A"},{"$nulls":6},{"$error":"#N/A"},{"$error":"#N/A"},{"$error":"#N/A"},{"$error":"#N/A"},{"$error":"#N/A"},{"$error":"#N/A"},{"$error":"#N/A"},{"$nulls":5},{"$error":"#N/A"}]
[null,296,"Tau-Fluvalinate1",{"$f":"'Belirsizlik Bütçesi'!K304","v":1},{"$f":"'Veri Girişi'!C237","v":"GC-MS/MS"},{"$error":"#N/A"},{"$error":"#N/A"},{"$error":"#N/A"},{"$error":"#N/A"},{"$error":"#N/A"},{"$error":"#N/A"},{"$error":"#N/A"},{"$nulls":6},{"$error":"#N/A"},{"$error":"#N/A"},{"$error":"#N/A"},{"$error":"#N/A"},{"$error":"#N/A"},{"$error":"#N/A"},{"$error":"#N/A"},{"$nulls":5},{"$error":"#N/A"}]
[null,297,"Tebupirimfos",{"$f":"'Belirsizlik Bütçesi'!K305","v":1},{"$f":"'Veri Girişi'!C238","v":"GC-MS/MS"},{"$error":"#N/A"},{"$error":"#N/A"},{"$error":"#N/A"},{"$error":"#N/A"},{"$error":"#N/A"},{"$error":"#N/A"},{"$error":"#N/A"},{"$nulls":6},{"$error":"#N/A"},{"$error":"#N/A"},{"$error":"#N/A"},{"$error":"#N/A"},{"$error":"#N/A"},{"$error":"#N/A"},{"$error":"#N/A"},{"$nulls":5},{"$error":"#N/A"}]
[null,298,"Tecnazene",{"$f":"'Belirsizlik Bütçesi'!K306","v":1},{"$f":"'Veri Girişi'!#REF!","v":{"$error":"#REF!"}},10,100.596,10.826052013244823,105.12000000000002,9.1357019605660721,96.53,100.596,{"$nulls":6},50,86.8416,7.5933055958712723,89.878399999999985,10.053916991651665,100.19800000000001,4.7795034863028611,{"$nulls":5},"--------"]
[null,299,"Tefluthrine",{"$f":"'Belirsizlik Bütçesi'!K307","v":1},{"$f":"'Veri Girişi'!C239","v":"GC-MS/MS"},10,103.52999999999999,12.880026656508875,108.24799999999999,10.732544966785289,88.47,103.52999999999999,{"$nulls":6},50,94.013199999999998,8.9297627337198282,93.100399999999993,10.717477660727441,86.826800000000006,8.4305916185853444,{"$nulls":5},"--------"]
[null,300,"Terbacil",{"$f":"'Belirsizlik Bütçesi'!K308","v":0},{"$f":"'Veri Girişi'!C240","v":"GC-MS/MS"},{"$error":"#N/A"},{"$error":"#N/A"},{"$error":"#N/A"},{"$error":"#N/A"},{"$error":"#N/A"},{"$error":"#N/A"},{"$error":"#N/A"},{"$nulls":6},{"$error":"#N/A"},{"$error":"#N/A"},{"$error":"#N/A"},{"$error":"#N/A"},{"$error":"#N/A"},{"$error":"#N/A"},{"$error":"#N/A"},{"$nulls":5},{"$error":"#N/A"}]
[null,301,"Terbufos",{"$f":"'Belirsizlik Bütçesi'!K309","v":1},{"$f":"'Veri Girişi'!C241","v":"GC-MS/MS"},10,105.952,10.448187988072185,111.47799999999999,9.2324132107730001,93.936000000000007,{"$f":"VLOOKUP($C306,GERCEKLİK_KONTROL_1_KONS,5,FALSE)","v":105.952},{"$nulls":6},50,88.470399999999998,8.2455434079856502,88.948400000000021,11.841446034863683,86.775999999999982,5.2638414858823479,{"$nulls":5},"--------"]
[null,302,"Terbumeton",{"$f":"'Belirsizlik Bütçesi'!K310","v":1},{"$f":"'Veri Girişi'!C242","v":"GC-MS/MS"},10,101.99799999999999,13.615844750363843,107.84400000000001,11.322197245433145,94.692000000000007,101.99799999999999,{"$nulls":6},50,90.578800000000001,9.4256403742857504,90.304400000000001,10.927215194144226,85.618799999999993,10.93148707784434,{"$nulls":5},"--------"]
[null,303,"Terbuthylazine",{"$f":"'Belirsizlik Bütçesi'!K311","v":1},{"$f":"'Veri Girişi'!#REF!","v":{"$error":"#REF!"}},10,102.17800000000001,13.927303511878245,107.87200000000001,10.635157201295614,96.86399999999999,102.17800000000001,{"$nulls":6},50,88.75160000000001,8.792756254975167,89.151600000000002,9.8086206296907399,89.403199999999998,12.66045444476239,{"$nulls":5},"--------"]
[null,304,"Terbutyrn",{"$f":"'Belirsizlik Bütçesi'!K312","v":1},{"$f":"'Veri Girişi'!#REF!","v":{"$error":"#REF!"}},10,101.586,12.446476063973533,108.52599999999998,12.194437305615178,103.20000000000003,101.586,{"$nulls":6},50,91.935999999999993,9.9325304213859553,91.980800000000002,9.35830412985527,92.584800000000001,92.584800000000001,{"$nulls":5},"--------"]
[null,305,"Tetrachlorvinphos",{"$f":"'Belirsizlik Bütçesi'!K313","v":0},{"$f":"'Veri Girişi'!C243","v":"GC-MS/MS"},10,107.90200000000002,11.54912256420781,111.30400000000003,11.677183210030801,83.675999999999988,23.46690526618994,{"$nulls":6},50,83.995999999999995,10.156342868220001,78.242400000000004,6.6356854696993164,87.441199999999995,12.895815084921614,{"$nulls":5},"--------"]
[null,306,"Tetraconazole",{"$f":"'Belirsizlik Bütçesi'!K314","v":1},{"$f":"'Veri Girişi'!C244","v":"GC-MS/MS"},10,89.043999999999983,17.278152130122596,100.244,17.169737952591703,103.44200000000001,{"$f":"VLOOKUP($C311,GERCEKLİK_KONTROL_1_KONS,5,FALSE)","v":89.043999999999983},{"$nulls":6},50,90.927600000000012,12.686614167823951,92.805199999999999,8.5558239924769719,81.170800000000014,81.170800000000014,{"$nulls":5},"--------"]
[null,307,"Tetradifon",{"$f":"'Belirsizlik Bütçesi'!K315","v":1},{"$f":"'Veri Girişi'!C245","v":"GC-MS/MS"},10,94.145999999999987,13.062056151567699,103.01400000000001,13.154708186810343,100.74200000000002,94.145999999999987,{"$nulls":6},50,87.573599999999999,21.148954182151439,92.807199999999995,12.364440556218993,83.22999999999999,11.437368652689491,{"$nulls":5},"--------"]
[null,308,"Tetramethrin",{"$f":"'Belirsizlik Bütçesi'!K316","v":1},{"$f":"'Veri Girişi'!#REF!","v":{"$error":"#REF!"}},10,100.126,17.813240893429295,105.82199999999999,14.778743004792672,95.135999999999996,{"$f":"VLOOKUP($C313,GERCEKLİK_KONTROL_1_KONS,11,FALSE)","v":105.82199999999999},{"$nulls":6},50,79.01560000000002,8.3556242665020637,75.921199999999999,4.9823199179659303,76.105999999999995,4.269323833442872,{"$nulls":5},"--------"]
[null,309,"Tetrasul",{"$f":"'Belirsizlik Bütçesi'!K317","v":0},{"$f":"'Veri Girişi'!C246","v":"GC-MS/MS"},{"$f":"VLOOKUP($C314,GERCEKLİK_KONTROL_1_KONS,2,FALSE)","v":10},{"$f":"VLOOKUP($C314,GERCEKLİK_KONTROL_1_KONS,5,FALSE)","v":92.695999999999998},{"$f":"VLOOKUP($C314,GERCEKLİK_KONTROL_1_KONS,6,FALSE)","v":19.489837280752241},{"$f":"VLOOKUP($C314,GERCEKLİK_KONTROL_1_KONS,11,FALSE)","v":97.945999999999984},{"$f":"VLOOKUP($C314,GERCEKLİK_KONTROL_1_KONS,12,FALSE)","v":18.150333837886006},{"$f":"VLOOKUP($C314,GERCEKLİK_KONTROL_1_KONS,17,FALSE)","v":94.734000000000023},97.945999999999984,{"$nulls":6},{"$f":"VLOOKUP($C314,GERCEKLIK_KONTROLU_TE_2_KONs,2,FALSE)","v":50},{"$f":"VLOOKUP($C314,GERCEKLIK_KONTROLU_TE_2_KONs,5,FALSE)","v":86.557199999999995},{"$f":"VLOOKUP($C314,GERCEKLIK_KONTROLU_TE_2_KONs,6,FALSE)","v":11.834517244190538},{"$f":"VLOOKUP($C314,GERCEKLIK_KONTROLU_TE_2_KONs,11,FALSE)","v":92.646000000000001},{"$f":"VLOOKUP($C314,GERCEKLIK_KONTROLU_TE_2_KONs,12,FALSE)","v":8.8962556331580611},{"$f":"VLOOKUP($C314,GERCEKLIK_KONTROLU_TE_2_KONs,17,FALSE)","v":79.634799999999998},{"$f":"VLOOKUP($C314,GERCEKLIK_KONTROLU_TE_2_KONs,18,FALSE)","v":7.6427354894155695},{"$nulls":5},{"$f":"VLOOKUP($C314,GERCEKLIK_KONTROLU_TE_2_KONs,36,FALSE)","v":"--------"}]
[null,310,"Thiazopyr",{"$f":"'Belirsizlik Bütçesi'!K318","v":1},{"$f":"'Veri Girişi'!C247","v":"GC-MS/MS"},10,99.78,14.756262540135948,109.59999999999998,10.797909545437086,90.389999999999986,109.59999999999998,{"$nulls":6},50,93.259600000000006,10.341000580803676,94.140000000000015,7.9189054716177054,91.459599999999995,11.790829251015086,{"$nulls":5},"--------"]
[null,311,"Thiobencarb",{"$f":"'Belirsizlik Bütçesi'!K319","v":1},{"$f":"'Veri Girişi'!C248","v":"GC-MS/MS"},10,102.128,12.799215235952651,109.18199999999997,12.723969655571585,95.382000000000005,109.18199999999997,{"$nulls":6},50,87.585200000000015,9.2100325067237083,90.370399999999989,11.214478958357263,84.836799999999997,5.4695638291367237,{"$nulls":5},"--------"]
[null,312,"Thiometon",{"$f":"'Belirsizlik Bütçesi'!K320","v":1},{"$f":"'Veri Girişi'!C249","v":"GC-MS/MS"},10,110.65400000000001,7.0781698672897155,107.788,9.0474376477339451,93.531999999999996,107.788,{"$nulls":6},50,88.56280000000001,8.0042093055516439,93.237200000000001,14.985774256166318,84.022800000000004,84.022800000000004,{"$nulls":5},"--------"]
[null,313,"Thionazin",{"$f":"'Belirsizlik Bütçesi'!K321","v":1},{"$f":"'Veri Girişi'!C250","v":"GC-MS/MS"},10,108.08000000000003,9.1419081939459765,110.494,7.2274530316728507,94.768000000000001,110.494,{"$nulls":6},50,87.177599999999998,6.0742998877361467,87.940799999999996,13.458464232763726,85.319199999999995,85.319199999999995,{"$nulls":5},"--------"]
[null,314,"THPI",{"$f":"'Belirsizlik Bütçesi'!K322","v":1},{"$f":"'Veri Girişi'!C251","v":"GC-MS/MS"},{"$error":"#N/A"},{"$error":"#N/A"},{"$error":"#N/A"},{"$error":"#N/A"},{"$error":"#N/A"},{"$error":"#N/A"},{"$f":"VLOOKUP($C319,GERCEKLİK_KONTROL_1_KONS,18,FALSE)","v":{"$error":"#N/A"}},{"$nulls":6},{"$error":"#N/A"},{"$error":"#N/A"},{"$error":"#N/A"},{"$error":"#N/A"},{"$error":"#N/A"},{"$error":"#N/A"},{"$error":"#N/A"},{"$nulls":5},{"$error":"#N/A"}]
[null,315,"Tolclofos Methyl",{"$f":"'Belirsizlik Bütçesi'!K323","v":1},{"$f":"'Veri Girişi'!C252","v":"GC-MS/MS"},{"$error":"#N/A"},{"$error":"#N/A"},{"$error":"#N/A"},{"$error":"#N/A"},{"$error":"#N/A"},{"$error":"#N/A"},{"$error":"#N/A"},{"$nulls":6},{"$error":"#N/A"},{"$error":"#N/A"},{"$error":"#N/A"},{"$error":"#N/A"},{"$error":"#N/A"},{"$error":"#N/A"},{"$error":"#N/A"},{"$nulls":5},{"$error":"#N/A"}]
[null,316,"Tolyfluanid",{"$f":"'Belirsizlik Bütçesi'!K324","v":1},{"$f":"'Veri Girişi'!C253","v":"GC-MS/MS"},{"$error":"#N/A"},{"$error":"#N/A"},{"$error":"#N/A"},{"$error":"#N/A"},{"$error":"#N/A"},{"$error":"#N/A"},{"$f":"VLOOKUP($C321,GERCEKLİK_KONTROL_1_KONS,11,FALSE)","v":{"$error":"#N/A"}},{"$nulls":6},{"$error":"#N/A"},{"$error":"#N/A"},{"$error":"#N/A"},{"$error":"#N/A"},{"$error":"#N/A"},{"$error":"#N/A"},{"$error":"#N/A"},{"$nulls":5},{"$error":"#N/A"}]
[null,317,"Transfluthrin",{"$f":"'Belirsizlik Bütçesi'!K325","v":1},{"$f":"'Veri Girişi'!C254","v":"GC-MS/MS"},10,102.10599999999998,13.570039731205902,107.48599999999999,12.200276795325129,91.234000000000009,{"$f":"VLOOKUP($C322,GERCEKLİK_KONTROL_1_KONS,5,FALSE)","v":102.10599999999998},{"$nulls":6},50,93.564799999999991,8.0257593294646234,93.820799999999991,9.9390592380318523,87.428399999999996,9.4909956798987256,{"$nulls":5},"--------"]
[null,318,"Tri-Allate",{"$f":"'Belirsizlik Bütçesi'!K326","v":1},{"$f":"'Veri Girişi'!C255","v":"GC-MS/MS"},10,104.91799999999998,11.784108694171401,109.498,8.9221550736784145,86.152000000000001,18.548797705737876,{"$nulls":6},50,91.445999999999998,7.1318916642125947,91.372800000000012,10.882523889454955,87.076400000000007,9.693205988784678,{"$nulls":5},"--------"]
[null,319,"Tributylphosphate",{"$f":"'Belirsizlik Bütçesi'!K327","v":0},{"$f":"'Veri Girişi'!C256","v":"GC-MS/MS"},{"$error":"#N/A"},{"$error":"#N/A"},{"$error":"#N/A"},{"$error":"#N/A"},{"$error":"#N/A"},{"$error":"#N/A"},{"$error":"#N/A"},{"$nulls":6},{"$error":"#N/A"},{"$error":"#N/A"},{"$error":"#N/A"},{"$error":"#N/A"},{"$error":"#N/A"},{"$error":"#N/A"},{"$error":"#N/A"},{"$nulls":5},{"$error":"#N/A"}]
[null,320,"Trichloronate",{"$f":"'Belirsizlik Bütçesi'!K328","v":1},{"$f":"'Veri Girişi'!C257","v":"GC-MS/MS"},10,102.50400000000002,12.833217421899326,108.524,11.914936535896468,91.93,15.595794425977585,{"$nulls":6},50,92.978800000000007,8.4662979568779537,93.853999999999999,9.6894331692277973,85.054400000000001,9.2815341974064953,{"$nulls":5},"--------"]
[null,321,"Trichlorophenol-2,4,6",{"$f":"'Belirsizlik Bütçesi'!K329","v":1},{"$f":"'Veri Girişi'!C258","v":"GC-MS/MS"},{"$error":"#N/A"},{"$error":"#N/A"},{"$error":"#N/A"},{"$error":"#N/A"},{"$error":"#N/A"},{"$error":"#N/A"},{"$error":"#N/A"},{"$nulls":6},{"$error":"#N/A"},{"$error":"#N/A"},{"$error":"#N/A"},{"$error":"#N/A"},{"$error":"#N/A"},{"$error":"#N/A"},{"$error":"#N/A"},{"$nulls":5},{"$error":"#N/A"}]
[null,322,"Trifluralin",{"$f":"'Belirsizlik Bütçesi'!K330","v":1},{"$f":"'Veri Girişi'!C259","v":"GC-MS/MS"},10,108.31200000000001,10.810248811844552,113.15400000000002,6.3804386953008798,101.372,101.372,{"$nulls":6},50,80.307200000000009,7.3640522285640095,75.967200000000005,7.8295412411275507,85.984000000000009,8.5166270113476408,{"$nulls":5},"--------"]
[null,323,"Vinclozoline",{"$f":"'Belirsizlik Bütçesi'!K331","v":1},{"$f":"'Veri Girişi'!C260","v":"GC-MS/MS"},10,99.437999999999988,14.662917245751633,107.06199999999998,11.85861377210094,98.152000000000001,12.5731528929477,{"$nulls":6},50,91.250799999999998,9.710866819680863,91.429999999999993,9.6764301753507773,86.085999999999999,9.7714189326773688,{"$nulls":5},"--------"]
[null,324,null,{"$f":"'Belirsizlik Bütçesi'!K332","v":1},{"$f":"'Veri Girişi'!C261","v":"GC-MS/MS"},{"$error":"#N/A"},{"$error":"#N/A"},{"$error":"#N/A"},{"$error":"#N/A"},{"$error":"#N/A"},{"$error":"#N/A"},{"$error":"#N/A"},{"$nulls":6},{"$error":"#N/A"},{"$error":"#N/A"},{"$error":"#N/A"},{"$error":"#N/A"},{"$error":"#N/A"},{"$error":"#N/A"},{"$error":"#N/A"},{"$nulls":5},{"$error":"#N/A"}]
[null,325,null,{"$f":"'Belirsizlik Bütçesi'!K333","v":1},{"$f":"'Veri Girişi'!C262","v":"GC-MS/MS"},{"$error":"#N/A"},{"$error":"#N/A"},{"$error":"#N/A"},{"$error":"#N/A"},{"$error":"#N/A"},{"$error":"#N/A"},{"$error":"#N/A"},{"$nulls":6},{"$error":"#N/A"},{"$error":"#N/A"},{"$error":"#N/A"},{"$error":"#N/A"},{"$error":"#N/A"},{"$error":"#N/A"},{"$error":"#N/A"},{"$nulls":5},{"$error":"#N/A"}]
[null,326,null,{"$f":"'Belirsizlik Bütçesi'!K334","v":0},{"$f":"'Veri Girişi'!C263","v":"GC-MS/MS"},{"$error":"#N/A"},{"$error":"#N/A"},{"$error":"#N/A"},{"$error":"#N/A"},{"$error":"#N/A"},{"$error":"#N/A"},{"$error":"#N/A"},{"$f":"VLOOKUP($C331,GERCEKLİK_KONTROL_1_KONS,23,FALSE)","v":{"$error":"#N/A"}},{"$f":"VLOOKUP($C331,GERCEKLİK_KONTROL_1_KONS,24,FALSE)","v":{"$error":"#N/A"}},{"$f":"VLOOKUP($C331,GERCEKLİK_KONTROL_1_KONS,29,FALSE)","v":{"$error":"#N/A"}},{"$f":"VLOOKUP($C331,GERCEKLİK_KONTROL_1_KONS,30,FALSE)","v":{"$error":"#N/A"}},{"$f":"VLOOKUP($C331,GERCEKLİK_KONTROL_1_KONS,35,FALSE)","v":{"$error":"#N/A"}},{"$f":"VLOOKUP($C331,GERCEKLİK_KONTROL_1_KONS,36,FALSE)","v":{"$error":"#N/A"}},{"$error":"#N/A"},{"$error":"#N/A"},{"$error":"#N/A"},{"$error":"#N/A"},{"$error":"#N/A"},{"$error":"#N/A"},{"$error":"#N/A"},{"$f":"VLOOKUP($C331,GERCEKLIK_KONTROLU_TE_2_KONs,23,FALSE)","v":{"$error":"#N/A"}},{"$f":"VLOOKUP($C331,GERCEKLIK_KONTROLU_TE_2_KONs,24,FALSE)","v":{"$error":"#N/A"}},{"$f":"VLOOKUP($C331,GERCEKLIK_KONTROLU_TE_2_KONs,29,FALSE)","v":{"$error":"#N/A"}},{"$f":"VLOOKUP($C331,GERCEKLIK_KONTROLU_TE_2_KONs,30,FALSE)","v":{"$error":"#N/A"}},{"$f":"VLOOKUP($C331,GERCEKLIK_KONTROLU_TE_2_KONs,35,FALSE)","v":{"$error":"#N/A"}},{"$error":"#N/A"}]
[null,327,null,{"$f":"'Belirsizlik Bütçesi'!K335","v":0},{"$f":"'Veri Girişi'!#REF!","v":{"$error":"#REF!"}},{"$error":"#N/A"},{"$error":"#N/A"},{"$error":"#N/A"},{"$error":"#N/A"},{"$error":"#N/A"},{"$error":"#N/A"},{"$error":"#N/A"},{"$nulls":6},{"$error":"#N/A"},{"$error":"#N/A"},{"$error":"#N/A"},{"$error":"#N/A"},{"$error":"#N/A"},{"$error":"#N/A"},{"$error":"#N/A"},{"$nulls":5},{"$error":"#N/A"}]
[null,328,null,{"$f":"'Belirsizlik Bütçesi'!K336","v":1},{"$f":"'Veri Girişi'!#REF!","v":{"$error":"#REF!"}},{"$error":"#N/A"},{"$error":"#N/A"},{"$error":"#N/A"},{"$error":"#N/A"},{"$error":"#N/A"},{"$error":"#N/A"},{"$error":"#N/A"},{"$nulls":6},{"$error":"#N/A"},{"$error":"#N/A"},{"$error":"#N/A"},{"$error":"#N/A"},{"$error":"#N/A"},{"$error":"#N/A"},{"$error":"#N/A"},{"$nulls":5},{"$error":"#N/A"}]
[null,329,null,{"$f":"'Belirsizlik Bütçesi'!K337","v":0},{"$f":"'Veri Girişi'!C264","v":"GC-MS/MS"},{"$error":"#N/A"},{"$error":"#N/A"},{"$error":"#N/A"},{"$error":"#N/A"},{"$error":"#N/A"},{"$error":"#N/A"},{"$error":"#N/A"},{"$error":"#N/A"},{"$error":"#N/A"},{"$error":"#N/A"},{"$error":"#N/A"},{"$error":"#N/A"},{"$error":"#N/A"},{"$error":"#N/A"},{"$error":"#N/A"},{"$error":"#N/A"},{"$error":"#N/A"},{"$error":"#N/A"},{"$error":"#N/A"},{"$error":"#N/A"},{"$error":"#N/A"},{"$error":"#N/A"},{"$error":"#N/A"},{"$error":"#N/A"},{"$error":"#N/A"},{"$error":"#N/A"}]
[null,330,null,{"$f":"'Belirsizlik Bütçesi'!K338","v":1},{"$f":"'Veri Girişi'!#REF!","v":{"$error":"#REF!"}},{"$error":"#N/A"},{"$error":"#N/A"},{"$error":"#N/A"},{"$error":"#N/A"},{"$error":"#N/A"},{"$error":"#N/A"},{"$error":"#N/A"},{"$nulls":6},{"$error":"#N/A"},{"$error":"#N/A"},{"$error":"#N/A"},{"$error":"#N/A"},{"$error":"#N/A"},{"$error":"#N/A"},{"$error":"#N/A"},{"$nulls":5},{"$error":"#N/A"}]
[null,331,null,{"$f":"'Belirsizlik Bütçesi'!K339","v":1},{"$f":"'Veri Girişi'!C265","v":"GC-MS/MS"},{"$error":"#N/A"},{"$error":"#N/A"},{"$error":"#N/A"},{"$error":"#N/A"},{"$error":"#N/A"},{"$error":"#N/A"},{"$error":"#N/A"},{"$nulls":6},{"$error":"#N/A"},{"$error":"#N/A"},{"$error":"#N/A"},{"$error":"#N/A"},{"$error":"#N/A"},{"$error":"#N/A"},{"$error":"#N/A"},{"$nulls":5},{"$error":"#N/A"}]
[null,332,null,{"$f":"'Belirsizlik Bütçesi'!K341","v":1},{"$f":"'Veri Girişi'!#REF!","v":{"$error":"#REF!"}},{"$error":"#N/A"},{"$error":"#N/A"},{"$error":"#N/A"},{"$error":"#N/A"},{"$error":"#N/A"},{"$error":"#N/A"},{"$error":"#N/A"},{"$nulls":6},{"$error":"#N/A"},{"$error":"#N/A"},{"$error":"#N/A"},{"$error":"#N/A"},{"$error":"#N/A"},{"$error":"#N/A"},{"$error":"#N/A"},{"$nulls":5},{"$error":"#N/A"}]
[null,333,null,{"$f":"'Belirsizlik Bütçesi'!K342","v":1},{"$f":"'Veri Girişi'!#REF!","v":{"$error":"#REF!"}},{"$error":"#N/A"},{"$error":"#N/A"},{"$error":"#N/A"},{"$error":"#N/A"},{"$error":"#N/A"},{"$error":"#N/A"},{"$error":"#N/A"},{"$nulls":6},{"$error":"#N/A"},{"$error":"#N/A"},{"$error":"#N/A"},{"$error":"#N/A"},{"$error":"#N/A"},{"$error":"#N/A"},{"$error":"#N/A"},{"$nulls":5},{"$error":"#N/A"}]
[null,334,null,{"$f":"'Belirsizlik Bütçesi'!K343","v":0},{"$f":"'Veri Girişi'!#REF!","v":{"$error":"#REF!"}},{"$error":"#N/A"},{"$error":"#N/A"},{"$error":"#N/A"},{"$error":"#N/A"},{"$error":"#N/A"},{"$error":"#N/A"},{"$error":"#N/A"},{"$error":"#N/A"},{"$error":"#N/A"},{"$error":"#N/A"},{"$error":"#N/A"},{"$error":"#N/A"},{"$error":"#N/A"},{"$error":"#N/A"},{"$error":"#N/A"},{"$error":"#N/A"},{"$error":"#N/A"},{"$error":"#N/A"},{"$error":"#N/A"},{"$error":"#N/A"},{"$error":"#N/A"},{"$error":"#N/A"},{"$error":"#N/A"},{"$error":"#N/A"},{"$error":"#N/A"},{"$error":"#N/A"}]
[null,335,null,{"$f":"'Belirsizlik Bütçesi'!K344","v":1},{"$f":"'Veri Girişi'!#REF!","v":{"$error":"#REF!"}},{"$error":"#N/A"},{"$error":"#N/A"},{"$error":"#N/A"},{"$error":"#N/A"},{"$error":"#N/A"},{"$error":"#N/A"},{"$error":"#N/A"},{"$nulls":6},{"$error":"#N/A"},{"$error":"#N/A"},{"$error":"#N/A"},{"$error":"#N/A"},{"$error":"#N/A"},{"$error":"#N/A"},{"$error":"#N/A"},{"$nulls":5},{"$error":"#N/A"}]
[null,336,null,{"$f":"'Belirsizlik Bütçesi'!K345","v":1},{"$f":"'Veri Girişi'!#REF!","v":{"$error":"#REF!"}},{"$error":"#N/A"},{"$error":"#N/A"},{"$error":"#N/A"},{"$error":"#N/A"},{"$error":"#N/A"},{"$error":"#N/A"},{"$error":"#N/A"},{"$nulls":6},{"$error":"#N/A"},{"$error":"#N/A"},{"$error":"#N/A"},{"$error":"#N/A"},{"$error":"#N/A"},{"$error":"#N/A"},{"$error":"#N/A"},{"$nulls":5},{"$error":"#N/A"}]
[null,337,null,{"$f":"'Belirsizlik Bütçesi'!K346","v":1},{"$f":"'Veri Girişi'!C266","v":"GC-MS/MS"},{"$error":"#N/A"},{"$error":"#N/A"},{"$error":"#N/A"},{"$error":"#N/A"},{"$error":"#N/A"},{"$error":"#N/A"},{"$error":"#N/A"},{"$nulls":6},{"$error":"#N/A"},{"$error":"#N/A"},{"$error":"#N/A"},{"$error":"#N/A"},{"$error":"#N/A"},{"$error":"#N/A"},{"$error":"#N/A"},{"$nulls":5},{"$error":"#N/A"}]
[null,338,null,{"$f":"'Belirsizlik Bütçesi'!K347","v":1},{"$f":"'Veri Girişi'!#REF!","v":{"$error":"#REF!"}},{"$error":"#N/A"},{"$error":"#N/A"},{"$error":"#N/A"},{"$error":"#N/A"},{"$error":"#N/A"},{"$error":"#N/A"},{"$error":"#N/A"},{"$nulls":6},{"$error":"#N/A"},{"$error":"#N/A"},{"$error":"#N/A"},{"$error":"#N/A"},{"$error":"#N/A"},{"$error":"#N/A"},{"$error":"#N/A"},{"$nulls":5},{"$error":"#N/A"}]
[null,339,null,{"$f":"'Belirsizlik Bütçesi'!K348","v":1},{"$f":"'Veri Girişi'!#REF!","v":{"$error":"#REF!"}},{"$error":"#N/A"},{"$error":"#N/A"},{"$error":"#N/A"},{"$error":"#N/A"},{"$error":"#N/A"},{"$error":"#N/A"},{"$error":"#N/A"},{"$nulls":6},{"$error":"#N/A"},{"$error":"#N/A"},{"$error":"#N/A"},{"$error":"#N/A"},{"$error":"#N/A"},{"$error":"#N/A"},{"$error":"#N/A"},{"$nulls":5},{"$error":"#N/A"}]
[null,340,null,{"$f":"'Belirsizlik Bütçesi'!K349","v":1},{"$f":"'Veri Girişi'!#REF!","v":{"$error":"#REF!"}},{"$error":"#N/A"},{"$error":"#N/A"},{"$error":"#N/A"},{"$error":"#N/A"},{"$error":"#N/A"},{"$error":"#N/A"},{"$error":"#N/A"},{"$nulls":6},{"$error":"#N/A"},{"$error":"#N/A"},{"$error":"#N/A"},{"$error":"#N/A"},{"$error":"#N/A"},{"$error":"#N/A"},{"$error":"#N/A"},{"$nulls":5},{"$error":"#N/A"}]
[null,341,null,{"$f":"'Belirsizlik Bütçesi'!K350","v":1},{"$f":"'Veri Girişi'!#REF!","v":{"$error":"#REF!"}},{"$error":"#N/A"},{"$error":"#N/A"},{"$error":"#N/A"},{"$error":"#N/A"},{"$error":"#N/A"},{"$error":"#N/A"},{"$error":"#N/A"},{"$nulls":6},{"$error":"#N/A"},{"$error":"#N/A"},{"$error":"#N/A"},{"$error":"#N/A"},{"$error":"#N/A"},{"$error":"#N/A"},{"$error":"#N/A"},{"$nulls":5},{"$error":"#N/A"}]
[null,342,null,{"$f":"'Belirsizlik Bütçesi'!K351","v":1},{"$f":"'Veri Girişi'!#REF!","v":{"$error":"#REF!"}},{"$error":"#N/A"},{"$error":"#N/A"},{"$error":"#N/A"},{"$error":"#N/A"},{"$error":"#N/A"},{"$error":"#N/A"},{"$error":"#N/A"},{"$nulls":6},{"$error":"#N/A"},{"$error":"#N/A"},{"$error":"#N/A"},{"$error":"#N/A"},{"$error":"#N/A"},{"$error":"#N/A"},{"$error":"#N/A"},{"$nulls":5},{"$error":"#N/A"}]
[null,343,null,{"$f":"'Belirsizlik Bütçesi'!K352","v":0},{"$f":"'Veri Girişi'!#REF!","v":{"$error":"#REF!"}},{"$error":"#N/A"},{"$error":"#N/A"},{"$error":"#N/A"},{"$error":"#N/A"},{"$error":"#N/A"},{"$error":"#N/A"},{"$error":"#N/A"},{"$error":"#N/A"},{"$error":"#N/A"},{"$error":"#N/A"},{"$error":"#N/A"},{"$error":"#N/A"},{"$error":"#N/A"},{"$error":"#N/A"},{"$error":"#N/A"},{"$error":"#N/A"},{"$error":"#N/A"},{"$error":"#N/A"},{"$error":"#N/A"},{"$error":"#N/A"},{"$error":"#N/A"},{"$error":"#N/A"},{"$error":"#N/A"},{"$error":"#N/A"},{"$error":"#N/A"},{"$error":"#N/A"}]
[null,344,null,{"$f":"'Belirsizlik Bütçesi'!K353","v":1},{"$f":"'Veri Girişi'!#REF!","v":{"$error":"#REF!"}},{"$error":"#N/A"},{"$error":"#N/A"},{"$error":"#N/A"},{"$error":"#N/A"},{"$error":"#N/A"},{"$error":"#N/A"},{"$error":"#N/A"},{"$nulls":6},{"$error":"#N/A"},{"$error":"#N/A"},{"$error":"#N/A"},{"$error":"#N/A"},{"$error":"#N/A"},{"$error":"#N/A"},{"$error":"#N/A"},{"$nulls":5},{"$error":"#N/A"}]
[null,345,null,{"$f":"'Belirsizlik Bütçesi'!K354","v":1},{"$f":"'Veri Girişi'!#REF!","v":{"$error":"#REF!"}},{"$error":"#N/A"},{"$error":"#N/A"},{"$error":"#N/A"},{"$error":"#N/A"},{"$error":"#N/A"},{"$error":"#N/A"},{"$error":"#N/A"},{"$nulls":6},{"$error":"#N/A"},{"$error":"#N/A"},{"$error":"#N/A"},{"$error":"#N/A"},{"$error":"#N/A"},{"$error":"#N/A"},{"$error":"#N/A"},{"$nulls":5},{"$error":"#N/A"}]
[null,346,null,{"$f":"'Belirsizlik Bütçesi'!K355","v":1},{"$f":"'Veri Girişi'!#REF!","v":{"$error":"#REF!"}},{"$error":"#N/A"},{"$error":"#N/A"},{"$error":"#N/A"},{"$error":"#N/A"},{"$error":"#N/A"},{"$error":"#N/A"},{"$error":"#N/A"},{"$nulls":6},{"$error":"#N/A"},{"$error":"#N/A"},{"$error":"#N/A"},{"$error":"#N/A"},{"$error":"#N/A"},{"$error":"#N/A"},{"$error":"#N/A"},{"$nulls":5},{"$error":"#N/A"}]
[null,347,null,{"$f":"'Belirsizlik Bütçesi'!K356","v":1},{"$f":"'Veri Girişi'!#REF!","v":{"$error":"#REF!"}},{"$error":"#N/A"},{"$error":"#N/A"},{"$error":"#N/A"},{"$error":"#N/A"},{"$error":"#N/A"},{"$error":"#N/A"},{"$error":"#N/A"},{"$nulls":6},{"$error":"#N/A"},{"$error":"#N/A"},{"$error":"#N/A"},{"$error":"#N/A"},{"$error":"#N/A"},{"$error":"#N/A"},{"$error":"#N/A"},{"$nulls":5},{"$error":"#N/A"}]
[null,348,null,{"$f":"'Belirsizlik Bütçesi'!K357","v":1},{"$f":"'Veri Girişi'!#REF!","v":{"$error":"#REF!"}},{"$error":"#N/A"},{"$error":"#N/A"},{"$error":"#N/A"},{"$error":"#N/A"},{"$error":"#N/A"},{"$error":"#N/A"},{"$error":"#N/A"},{"$nulls":6},{"$error":"#N/A"},{"$error":"#N/A"},{"$error":"#N/A"},{"$error":"#N/A"},{"$error":"#N/A"},{"$error":"#N/A"},{"$error":"#N/A"},{"$nulls":5},{"$error":"#N/A"}]
[null,349,null,{"$f":"'Belirsizlik Bütçesi'!K358","v":0},{"$f":"'Veri Girişi'!#REF!","v":{"$error":"#REF!"}},{"$error":"#N/A"},{"$error":"#N/A"},{"$error":"#N/A"},{"$error":"#N/A"},{"$error":"#N/A"},{"$error":"#N/A"},{"$error":"#N/A"},{"$error":"#N/A"},{"$error":"#N/A"},{"$error":"#N/A"},{"$error":"#N/A"},{"$error":"#N/A"},{"$error":"#N/A"},{"$error":"#N/A"},{"$error":"#N/A"},{"$error":"#N/A"},{"$error":"#N/A"},{"$error":"#N/A"},{"$error":"#N/A"},{"$error":"#N/A"},{"$error":"#N/A"},{"$error":"#N/A"},{"$error":"#N/A"},{"$error":"#N/A"},{"$error":"#N/A"},{"$error":"#N/A"}]
[null,350,null,{"$f":"'Belirsizlik Bütçesi'!K359","v":1},{"$f":"'Veri Girişi'!#REF!","v":{"$error":"#REF!"}},{"$error":"#N/A"},{"$error":"#N/A"},{"$error":"#N/A"},{"$error":"#N/A"},{"$error":"#N/A"},{"$error":"#N/A"},{"$error":"#N/A"},{"$nulls":6},{"$error":"#N/A"},{"$error":"#N/A"},{"$error":"#N/A"},{"$error":"#N/A"},{"$error":"#N/A"},{"$error":"#N/A"},{"$error":"#N/A"},{"$nulls":5},{"$error":"#N/A"}]
[null,351,null,{"$f":"'Belirsizlik Bütçesi'!K360","v":1},{"$f":"'Veri Girişi'!#REF!","v":{"$error":"#REF!"}},{"$error":"#N/A"},{"$error":"#N/A"},{"$error":"#N/A"},{"$error":"#N/A"},{"$error":"#N/A"},{"$error":"#N/A"},{"$error":"#N/A"},{"$nulls":6},{"$error":"#N/A"},{"$error":"#N/A"},{"$error":"#N/A"},{"$error":"#N/A"},{"$error":"#N/A"},{"$error":"#N/A"},{"$error":"#N/A"},{"$nulls":5},{"$error":"#N/A"}]
[null,352,null,{"$f":"'Belirsizlik Bütçesi'!K361","v":0},{"$f":"'Veri Girişi'!#REF!","v":{"$error":"#REF!"}},{"$error":"#N/A"},{"$error":"#N/A"},{"$error":"#N/A"},{"$error":"#N/A"},{"$error":"#N/A"},{"$error":"#N/A"},{"$error":"#N/A"},{"$error":"#N/A"},{"$error":"#N/A"},{"$error":"#N/A"},{"$error":"#N/A"},{"$error":"#N/A"},{"$error":"#N/A"},{"$error":"#N/A"},{"$error":"#N/A"},{"$error":"#N/A"},{"$error":"#N/A"},{"$error":"#N/A"},{"$error":"#N/A"},{"$error":"#N/A"},{"$error":"#N/A"},{"$error":"#N/A"},{"$error":"#N/A"},{"$error":"#N/A"},{"$error":"#N/A"},{"$error":"#N/A"}]
[null,353,null,{"$f":"'Belirsizlik Bütçesi'!K362","v":0},{"$f":"'Veri Girişi'!#REF!","v":{"$error":"#REF!"}},{"$error":"#N/A"},{"$error":"#N/A"},{"$error":"#N/A"},{"$error":"#N/A"},{"$error":"#N/A"},{"$error":"#N/A"},{"$error":"#N/A"},{"$error":"#N/A"},{"$error":"#N/A"},{"$error":"#N/A"},{"$error":"#N/A"},{"$error":"#N/A"},{"$error":"#N/A"},{"$error":"#N/A"},{"$error":"#N/A"},{"$error":"#N/A"},{"$error":"#N/A"},{"$error":"#N/A"},{"$error":"#N/A"},{"$error":"#N/A"},{"$error":"#N/A"},{"$error":"#N/A"},{"$error":"#N/A"},{"$error":"#N/A"},{"$error":"#N/A"},{"$error":"#N/A"}]
[null,354,null,{"$f":"'Belirsizlik Bütçesi'!K363","v":1},{"$f":"'Veri Girişi'!#REF!","v":{"$error":"#REF!"}},{"$error":"#N/A"},{"$error":"#N/A"},{"$error":"#N/A"},{"$error":"#N/A"},{"$error":"#N/A"},{"$error":"#N/A"},{"$error":"#N/A"},{"$nulls":6},{"$error":"#N/A"},{"$error":"#N/A"},{"$error":"#N/A"},{"$error":"#N/A"},{"$error":"#N/A"},{"$error":"#N/A"},{"$error":"#N/A"},{"$nulls":5},{"$error":"#N/A"}]
[null,355,null,{"$f":"'Belirsizlik Bütçesi'!K364","v":1},{"$f":"'Veri Girişi'!#REF!","v":{"$error":"#REF!"}},{"$error":"#N/A"},{"$error":"#N/A"},{"$error":"#N/A"},{"$error":"#N/A"},{"$error":"#N/A"},{"$error":"#N/A"},{"$error":"#N/A"},{"$nulls":6},{"$error":"#N/A"},{"$error":"#N/A"},{"$error":"#N/A"},{"$error":"#N/A"},{"$error":"#N/A"},{"$error":"#N/A"},{"$error":"#N/A"},{"$nulls":5},{"$error":"#N/A"}]
[null,356,null,{"$f":"'Belirsizlik Bütçesi'!K365","v":1},{"$f":"'Veri Girişi'!#REF!","v":{"$error":"#REF!"}},{"$error":"#N/A"},{"$error":"#N/A"},{"$error":"#N/A"},{"$error":"#N/A"},{"$error":"#N/A"},{"$error":"#N/A"},{"$error":"#N/A"},{"$error":"#N/A"},{"$error":"#N/A"},{"$error":"#N/A"},{"$error":"#N/A"},{"$error":"#N/A"},{"$error":"#N/A"},{"$error":"#N/A"},{"$error":"#N/A"},{"$error":"#N/A"},{"$error":"#N/A"},{"$error":"#N/A"},{"$error":"#N/A"},{"$error":"#N/A"},{"$nulls":5},{"$error":"#N/A"}]
[null,357,null,{"$f":"'Belirsizlik Bütçesi'!K366","v":1},{"$f":"'Veri Girişi'!#REF!","v":{"$error":"#REF!"}},{"$error":"#N/A"},{"$error":"#N/A"},{"$error":"#N/A"},{"$error":"#N/A"},{"$error":"#N/A"},{"$error":"#N/A"},{"$error":"#N/A"},{"$error":"#N/A"},{"$error":"#N/A"},{"$error":"#N/A"},{"$error":"#N/A"},{"$error":"#N/A"},{"$error":"#N/A"},{"$error":"#N/A"},{"$error":"#N/A"},{"$error":"#N/A"},{"$error":"#N/A"},{"$error":"#N/A"},{"$error":"#N/A"},{"$error":"#N/A"},{"$nulls":5},{"$error":"#N/A"}]
[null,358,null,{"$f":"'Belirsizlik Bütçesi'!K367","v":0},{"$f":"'Veri Girişi'!#REF!","v":{"$error":"#REF!"}},{"$error":"#N/A"},{"$error":"#N/A"},{"$error":"#N/A"},{"$error":"#N/A"},{"$error":"#N/A"},{"$error":"#N/A"},{"$error":"#N/A"},{"$error":"#N/A"},{"$error":"#N/A"},{"$error":"#N/A"},{"$error":"#N/A"},{"$error":"#N/A"},{"$error":"#N/A"},{"$error":"#N/A"},{"$error":"#N/A"},{"$error":"#N/A"},{"$error":"#N/A"},{"$error":"#N/A"},{"$error":"#N/A"},{"$error":"#N/A"},{"$error":"#N/A"},{"$error":"#N/A"},{"$error":"#N/A"},{"$error":"#N/A"},{"$error":"#N/A"},{"$error":"#N/A"}]
[null,359,null,{"$f":"'Belirsizlik Bütçesi'!K368","v":1},{"$f":"'Veri Girişi'!#REF!","v":{"$error":"#REF!"}},{"$error":"#N/A"},{"$error":"#N/A"},{"$error":"#N/A"},{"$error":"#N/A"},{"$error":"#N/A"},{"$error":"#N/A"},{"$error":"#N/A"},{"$error":"#N/A"},{"$error":"#N/A"},{"$error":"#N/A"},{"$error":"#N/A"},{"$error":"#N/A"},{"$error":"#N/A"},{"$error":"#N/A"},{"$error":"#N/A"},{"$error":"#N/A"},{"$error":"#N/A"},{"$error":"#N/A"},{"$error":"#N/A"},{"$error":"#N/A"},{"$nulls":5},{"$error":"#N/A"}]
[null,360,null,{"$f":"'Belirsizlik Bütçesi'!K369","v":1},{"$f":"'Veri Girişi'!#REF!","v":{"$error":"#REF!"}},{"$error":"#N/A"},{"$error":"#N/A"},{"$error":"#N/A"},{"$error":"#N/A"},{"$error":"#N/A"},{"$error":"#N/A"},{"$error":"#N/A"},{"$error":"#N/A"},{"$error":"#N/A"},{"$error":"#N/A"},{"$error":"#N/A"},{"$error":"#N/A"},{"$error":"#N/A"},{"$error":"#N/A"},{"$error":"#N/A"},{"$error":"#N/A"},{"$error":"#N/A"},{"$error":"#N/A"},{"$error":"#N/A"},{"$error":"#N/A"},{"$nulls":5},{"$error":"#N/A"}]
[null,361,null,{"$f":"'Belirsizlik Bütçesi'!K370","v":1},{"$f":"'Veri Girişi'!#REF!","v":{"$error":"#REF!"}},{"$error":"#N/A"},{"$error":"#N/A"},{"$error":"#N/A"},{"$error":"#N/A"},{"$error":"#N/A"},{"$error":"#N/A"},{"$error":"#N/A"},{"$error":"#N/A"},{"$error":"#N/A"},{"$error":"#N/A"},{"$error":"#N/A"},{"$error":"#N/A"},{"$error":"#N/A"},{"$error":"#N/A"},{"$error":"#N/A"},{"$error":"#N/A"},{"$error":"#N/A"},{"$error":"#N/A"},{"$error":"#N/A"},{"$error":"#N/A"},{"$nulls":5},{"$error":"#N/A"}]
[null,362,null,{"$f":"'Belirsizlik Bütçesi'!K371","v":1},{"$f":"'Veri Girişi'!#REF!","v":{"$error":"#REF!"}},{"$error":"#N/A"},{"$error":"#N/A"},{"$error":"#N/A"},{"$error":"#N/A"},{"$error":"#N/A"},{"$error":"#N/A"},{"$error":"#N/A"},{"$error":"#N/A"},{"$error":"#N/A"},{"$error":"#N/A"},{"$error":"#N/A"},{"$error":"#N/A"},{"$error":"#N/A"},{"$error":"#N/A"},{"$error":"#N/A"},{"$error":"#N/A"},{"$error":"#N/A"},{"$error":"#N/A"},{"$error":"#N/A"},{"$error":"#N/A"},{"$nulls":5},{"$error":"#N/A"}]
[null,363,null,{"$f":"'Belirsizlik Bütçesi'!K372","v":1},{"$f":"'Veri Girişi'!#REF!","v":{"$error":"#REF!"}},{"$error":"#N/A"},{"$error":"#N/A"},{"$error":"#N/A"},{"$error":"#N/A"},{"$error":"#N/A"},{"$error":"#N/A"},{"$error":"#N/A"},{"$error":"#N/A"},{"$error":"#N/A"},{"$error":"#N/A"},{"$error":"#N/A"},{"$error":"#N/A"},{"$error":"#N/A"},{"$error":"#N/A"},{"$error":"#N/A"},{"$error":"#N/A"},{"$error":"#N/A"},{"$error":"#N/A"},{"$error":"#N/A"},{"$error":"#N/A"},{"$nulls":5},{"$error":"#N/A"}]
[null,364,null,{"$f":"'Belirsizlik Bütçesi'!K373","v":1},{"$f":"'Veri Girişi'!#REF!","v":{"$error":"#REF!"}},{"$error":"#N/A"},{"$error":"#N/A"},{"$error":"#N/A"},{"$error":"#N/A"},{"$error":"#N/A"},{"$error":"#N/A"},{"$error":"#N/A"},{"$error":"#N/A"},{"$error":"#N/A"},{"$error":"#N/A"},{"$error":"#N/A"},{"$error":"#N/A"},{"$error":"#N/A"},{"$error":"#N/A"},{"$error":"#N/A"},{"$error":"#N/A"},{"$error":"#N/A"},{"$error":"#N/A"},{"$error":"#N/A"},{"$error":"#N/A"},{"$error":"#N/A"},{"$error":"#N/A"},{"$error":"#N/A"},{"$error":"#N/A"},{"$error":"#N/A"},{"$error":"#N/A"}]
[null,365,null,{"$f":"'Belirsizlik Bütçesi'!K374","v":1},{"$f":"'Veri Girişi'!#REF!","v":{"$error":"#REF!"}},{"$error":"#N/A"},{"$error":"#N/A"},{"$error":"#N/A"},{"$error":"#N/A"},{"$error":"#N/A"},{"$error":"#N/A"},{"$error":"#N/A"},{"$error":"#N/A"},{"$error":"#N/A"},{"$error":"#N/A"},{"$error":"#N/A"},{"$error":"#N/A"},{"$error":"#N/A"},{"$error":"#N/A"},{"$error":"#N/A"},{"$error":"#N/A"},{"$error":"#N/A"},{"$error":"#N/A"},{"$error":"#N/A"},{"$error":"#N/A"},{"$error":"#N/A"},{"$error":"#N/A"},{"$error":"#N/A"},{"$error":"#N/A"},{"$error":"#N/A"},{"$error":"#N/A"}]
[null,366,null,{"$f":"'Belirsizlik Bütçesi'!K375","v":0},{"$f":"'Veri Girişi'!#REF!","v":{"$error":"#REF!"}},{"$error":"#N/A"},{"$error":"#N/A"},{"$error":"#N/A"},{"$error":"#N/A"},{"$error":"#N/A"},{"$error":"#N/A"},{"$error":"#N/A"},{"$error":"#N/A"},{"$error":"#N/A"},{"$error":"#N/A"},{"$error":"#N/A"},{"$error":"#N/A"},{"$error":"#N/A"},{"$error":"#N/A"},{"$error":"#N/A"},{"$error":"#N/A"},{"$error":"#N/A"},{"$error":"#N/A"},{"$error":"#N/A"},{"$error":"#N/A"},{"$error":"#N/A"},{"$error":"#N/A"},{"$error":"#N/A"},{"$error":"#N/A"},{"$error":"#N/A"},{"$error":"#N/A"}]
[null,367,null,{"$f":"'Belirsizlik Bütçesi'!K376","v":0},{"$f":"'Veri Girişi'!#REF!","v":{"$error":"#REF!"}},{"$error":"#N/A"},{"$error":"#N/A"},{"$error":"#N/A"},{"$error":"#N/A"},{"$error":"#N/A"},{"$error":"#N/A"},{"$error":"#N/A"},{"$error":"#N/A"},{"$error":"#N/A"},{"$error":"#N/A"},{"$error":"#N/A"},{"$error":"#N/A"},{"$error":"#N/A"},{"$error":"#N/A"},{"$error":"#N/A"},{"$error":"#N/A"},{"$error":"#N/A"},{"$error":"#N/A"},{"$error":"#N/A"},{"$error":"#N/A"},{"$error":"#N/A"},{"$error":"#N/A"},{"$error":"#N/A"},{"$error":"#N/A"},{"$error":"#N/A"},{"$error":"#N/A"}]
[null,368,null,{"$f":"'Belirsizlik Bütçesi'!K377","v":0},{"$f":"'Veri Girişi'!#REF!","v":{"$error":"#REF!"}},{"$error":"#N/A"},{"$error":"#N/A"},{"$error":"#N/A"},{"$error":"#N/A"},{"$error":"#N/A"},{"$error":"#N/A"},{"$error":"#N/A"},{"$error":"#N/A"},{"$error":"#N/A"},{"$error":"#N/A"},{"$error":"#N/A"},{"$error":"#N/A"},{"$error":"#N/A"},{"$error":"#N/A"},{"$error":"#N/A"},{"$error":"#N/A"},{"$error":"#N/A"},{"$error":"#N/A"},{"$error":"#N/A"},{"$error":"#N/A"},{"$error":"#N/A"},{"$error":"#N/A"},{"$error":"#N/A"},{"$error":"#N/A"},{"$error":"#N/A"},{"$error":"#N/A"}]
[null,369,null,{"$f":"'Belirsizlik Bütçesi'!K378","v":1},{"$f":"'Veri Girişi'!#REF!","v":{"$error":"#REF!"}},{"$error":"#N/A"},{"$error":"#N/A"},{"$error":"#N/A"},{"$error":"#N/A"},{"$error":"#N/A"},{"$error":"#N/A"},{"$error":"#N/A"},{"$error":"#N/A"},{"$error":"#N/A"},{"$error":"#N/A"},{"$error":"#N/A"},{"$error":"#N/A"},{"$error":"#N/A"},{"$error":"#N/A"},{"$error":"#N/A"},{"$error":"#N/A"},{"$error":"#N/A"},{"$error":"#N/A"},{"$error":"#N/A"},{"$error":"#N/A"},{"$error":"#N/A"},{"$error":"#N/A"},{"$error":"#N/A"},{"$error":"#N/A"},{"$error":"#N/A"},{"$error":"#N/A"}]
[null,370,null,{"$f":"'Belirsizlik Bütçesi'!K379","v":1},{"$f":"'Veri Girişi'!#REF!","v":{"$error":"#REF!"}},{"$error":"#N/A"},{"$error":"#N/A"},{"$error":"#N/A"},{"$error":"#N/A"},{"$error":"#N/A"},{"$error":"#N/A"},{"$error":"#N/A"},{"$error":"#N/A"},{"$error":"#N/A"},{"$error":"#N/A"},{"$error":"#N/A"},{"$error":"#N/A"},{"$error":"#N/A"},{"$error":"#N/A"},{"$error":"#N/A"},{"$error":"#N/A"},{"$error":"#N/A"},{"$error":"#N/A"},{"$error":"#N/A"},{"$error":"#N/A"},{"$error":"#N/A"},{"$error":"#N/A"},{"$error":"#N/A"},{"$error":"#N/A"},{"$error":"#N/A"},{"$error":"#N/A"}]
[null,371,null,{"$f":"'Belirsizlik Bütçesi'!K380","v":1},{"$f":"'Veri Girişi'!#REF!","v":{"$error":"#REF!"}},{"$error":"#N/A"},{"$error":"#N/A"},{"$error":"#N/A"},{"$error":"#N/A"},{"$error":"#N/A"},{"$error":"#N/A"},{"$error":"#N/A"},{"$error":"#N/A"},{"$error":"#N/A"},{"$error":"#N/A"},{"$error":"#N/A"},{"$error":"#N/A"},{"$error":"#N/A"},{"$error":"#N/A"},{"$error":"#N/A"},{"$error":"#N/A"},{"$error":"#N/A"},{"$error":"#N/A"},{"$error":"#N/A"},{"$error":"#N/A"},{"$error":"#N/A"},{"$error":"#N/A"},{"$error":"#N/A"},{"$error":"#N/A"},{"$error":"#N/A"},{"$error":"#N/A"}]
[null,372,null,{"$f":"'Belirsizlik Bütçesi'!K381","v":1},{"$f":"'Veri Girişi'!#REF!","v":{"$error":"#REF!"}},{"$f":"VLOOKUP($C377,GERCEKLİK_KONTROL_1_KONS,2,FALSE)","v":{"$error":"#N/A"}},{"$f":"VLOOKUP($C377,GERCEKLİK_KONTROL_1_KONS,5,FALSE)","v":{"$error":"#N/A"}},{"$f":"VLOOKUP($C377,GERCEKLİK_KONTROL_1_KONS,6,FALSE)","v":{"$error":"#N/A"}},{"$f":"VLOOKUP($C377,GERCEKLİK_KONTROL_1_KONS,11,FALSE)","v":{"$error":"#N/A"}},{"$f":"VLOOKUP($C377,GERCEKLİK_KONTROL_1_KONS,12,FALSE)","v":{"$error":"#N/A"}},{"$f":"VLOOKUP($C377,GERCEKLİK_KONTROL_1_KONS,17,FALSE)","v":{"$error":"#N/A"}},{"$f":"VLOOKUP($C377,GERCEKLİK_KONTROL_1_KONS,18,FALSE)","v":{"$error":"#N/A"}},{"$f":"VLOOKUP($C377,GERCEKLİK_KONTROL_1_KONS,23,FALSE)","v":{"$error":"#N/A"}},{"$f":"VLOOKUP($C377,GERCEKLİK_KONTROL_1_KONS,24,FALSE)","v":{"$error":"#N/A"}},{"$f":"VLOOKUP($C377,GERCEKLİK_KONTROL_1_KONS,29,FALSE)","v":{"$error":"#N/A"}},{"$f":"VLOOKUP($C377,GERCEKLİK_KONTROL_1_KONS,30,FALSE)","v":{"$error":"#N/A"}},{"$f":"VLOOKUP($C377,GERCEKLİK_KONTROL_1_KONS,35,FALSE)","v":{"$error":"#N/A"}},{"$f":"VLOOKUP($C377,GERCEKLİK_KONTROL_1_KONS,36,FALSE)","v":{"$error":"#N/A"}},{"$f":"VLOOKUP($C377,GERCEKLIK_KONTROLU_TE_2_KONs,2,FALSE)","v":{"$error":"#N/A"}},{"$f":"VLOOKUP($C377,GERCEKLIK_KONTROLU_TE_2_KONs,5,FALSE)","v":{"$error":"#N/A"}},{"$f":"VLOOKUP($C377,GERCEKLIK_KONTROLU_TE_2_KONs,6,FALSE)","v":{"$error":"#N/A"}},{"$f":"VLOOKUP($C377,GERCEKLIK_KONTROLU_TE_2_KONs,11,FALSE)","v":{"$error":"#N/A"}},{"$f":"VLOOKUP($C377,GERCEKLIK_KONTROLU_TE_2_KONs,12,FALSE)","v":{"$error":"#N/A"}},{"$f":"VLOOKUP($C377,GERCEKLIK_KONTROLU_TE_2_KONs,17,FALSE)","v":{"$error":"#N/A"}},{"$f":"VLOOKUP($C377,GERCEKLIK_KONTROLU_TE_2_KONs,18,FALSE)","v":{"$error":"#N/A"}},{"$f":"VLOOKUP($C377,GERCEKLIK_KONTROLU_TE_2_KONs,23,FALSE)","v":{"$error":"#N/A"}},{"$f":"VLOOKUP($C377,GERCEKLIK_KONTROLU_TE_2_KONs,24,FALSE)","v":{"$error":"#N/A"}},{"$f":"VLOOKUP($C377,GERCEKLIK_KONTROLU_TE_2_KONs,29,FALSE)","v":{"$error":"#N/A"}},{"$f":"VLOOKUP($C377,GERCEKLIK_KONTROLU_TE_2_KONs,30,FALSE)","v":{"$error":"#N/A"}},{"$f":"VLOOKUP($C377,GERCEKLIK_KONTROLU_TE_2_KONs,35,FALSE)","v":{"$error":"#N/A"}},{"$f":"VLOOKUP($C377,GERCEKLIK_KONTROLU_TE_2_KONs,36,FALSE)","v":{"$error":"#N/A"}}]
[null,373,null,{"$f":"'Belirsizlik Bütçesi'!K382","v":0},{"$f":"'Veri Girişi'!#REF!","v":{"$error":"#REF!"}},{"$error":"#N/A"},{"$error":"#N/A"},{"$error":"#N/A"},{"$error":"#N/A"},{"$error":"#N/A"},{"$error":"#N/A"},{"$error":"#N/A"},{"$error":"#N/A"},{"$error":"#N/A"},{"$error":"#N/A"},{"$error":"#N/A"},{"$error":"#N/A"},{"$error":"#N/A"},{"$error":"#N/A"},{"$error":"#N/A"},{"$error":"#N/A"},{"$error":"#N/A"},{"$error":"#N/A"},{"$error":"#N/A"},{"$error":"#N/A"},{"$error":"#N/A"},{"$error":"#N/A"},{"$error":"#N/A"},{"$error":"#N/A"},{"$error":"#N/A"},{"$error":"#N/A"}]
[null,374,null,{"$f":"'Belirsizlik Bütçesi'!K383","v":1},{"$f":"'Veri Girişi'!#REF!","v":{"$error":"#REF!"}},{"$error":"#N/A"},{"$error":"#N/A"},{"$error":"#N/A"},{"$error":"#N/A"},{"$error":"#N/A"},{"$error":"#N/A"},{"$error":"#N/A"},{"$error":"#N/A"},{"$error":"#N/A"},{"$error":"#N/A"},{"$error":"#N/A"},{"$error":"#N/A"},{"$error":"#N/A"},{"$error":"#N/A"},{"$error":"#N/A"},{"$error":"#N/A"},{"$error":"#N/A"},{"$error":"#N/A"},{"$error":"#N/A"},{"$error":"#N/A"},{"$error":"#N/A"},{"$error":"#N/A"},{"$error":"#N/A"},{"$error":"#N/A"},{"$error":"#N/A"},{"$error":"#N/A"}]
[null,375,null,{"$f":"'Belirsizlik Bütçesi'!K384","v":1},{"$f":"'Veri Girişi'!#REF!","v":{"$error":"#REF!"}},{"$error":"#N/A"},{"$error":"#N/A"},{"$error":"#N/A"},{"$error":"#N/A"},{"$error":"#N/A"},{"$error":"#N/A"},{"$error":"#N/A"},{"$error":"#N/A"},{"$error":"#N/A"},{"$error":"#N/A"},{"$error":"#N/A"},{"$error":"#N/A"},{"$error":"#N/A"},{"$error":"#N/A"},{"$error":"#N/A"},{"$error":"#N/A"},{"$error":"#N/A"},{"$error":"#N/A"},{"$error":"#N/A"},{"$error":"#N/A"},{"$error":"#N/A"},{"$error":"#N/A"},{"$error":"#N/A"},{"$error":"#N/A"},{"$error":"#N/A"},{"$error":"#N/A"}]
[null,376,null,{"$f":"'Belirsizlik Bütçesi'!K385","v":1},{"$f":"'Veri Girişi'!#REF!","v":{"$error":"#REF!"}},{"$error":"#N/A"},{"$error":"#N/A"},{"$error":"#N/A"},{"$error":"#N/A"},{"$error":"#N/A"},{"$error":"#N/A"},{"$error":"#N/A"},{"$error":"#N/A"},{"$error":"#N/A"},{"$error":"#N/A"},{"$error":"#N/A"},{"$error":"#N/A"},{"$error":"#N/A"},{"$error":"#N/A"},{"$error":"#N/A"},{"$error":"#N/A"},{"$error":"#N/A"},{"$error":"#N/A"},{"$error":"#N/A"},{"$error":"#N/A"},{"$error":"#N/A"},{"$error":"#N/A"},{"$error":"#N/A"},{"$error":"#N/A"},{"$error":"#N/A"},{"$error":"#N/A"}]
[null,377,null,{"$f":"'Belirsizlik Bütçesi'!K386","v":0},{"$f":"'Veri Girişi'!#REF!","v":{"$error":"#REF!"}},{"$error":"#N/A"},{"$error":"#N/A"},{"$error":"#N/A"},{"$error":"#N/A"},{"$error":"#N/A"},{"$error":"#N/A"},{"$error":"#N/A"},{"$error":"#N/A"},{"$error":"#N/A"},{"$error":"#N/A"},{"$error":"#N/A"},{"$error":"#N/A"},{"$error":"#N/A"},{"$error":"#N/A"},{"$error":"#N/A"},{"$error":"#N/A"},{"$error":"#N/A"},{"$error":"#N/A"},{"$error":"#N/A"},{"$error":"#N/A"},{"$error":"#N/A"},{"$error":"#N/A"},{"$error":"#N/A"},{"$error":"#N/A"},{"$error":"#N/A"},{"$error":"#N/A"}]
[null,378,null,{"$f":"'Belirsizlik Bütçesi'!K387","v":1},{"$f":"'Veri Girişi'!#REF!","v":{"$error":"#REF!"}},{"$error":"#N/A"},{"$error":"#N/A"},{"$error":"#N/A"},{"$error":"#N/A"},{"$error":"#N/A"},{"$error":"#N/A"},{"$error":"#N/A"},{"$error":"#N/A"},{"$error":"#N/A"},{"$error":"#N/A"},{"$error":"#N/A"},{"$error":"#N/A"},{"$error":"#N/A"},{"$error":"#N/A"},{"$error":"#N/A"},{"$error":"#N/A"},{"$error":"#N/A"},{"$error":"#N/A"},{"$error":"#N/A"},{"$error":"#N/A"},{"$error":"#N/A"},{"$error":"#N/A"},{"$error":"#N/A"},{"$error":"#N/A"},{"$error":"#N/A"},{"$error":"#N/A"}]
[null,379,null,{"$f":"'Belirsizlik Bütçesi'!K388","v":1},{"$f":"'Veri Girişi'!#REF!","v":{"$error":"#REF!"}},{"$error":"#N/A"},{"$error":"#N/A"},{"$error":"#N/A"},{"$error":"#N/A"},{"$error":"#N/A"},{"$error":"#N/A"},{"$error":"#N/A"},{"$error":"#N/A"},{"$error":"#N/A"},{"$error":"#N/A"},{"$error":"#N/A"},{"$error":"#N/A"},{"$error":"#N/A"},{"$error":"#N/A"},{"$error":"#N/A"},{"$error":"#N/A"},{"$error":"#N/A"},{"$error":"#N/A"},{"$error":"#N/A"},{"$error":"#N/A"},{"$error":"#N/A"},{"$error":"#N/A"},{"$error":"#N/A"},{"$error":"#N/A"},{"$error":"#N/A"},{"$error":"#N/A"}]
[null,380,null,{"$f":"'Belirsizlik Bütçesi'!K389","v":1},{"$f":"'Veri Girişi'!#REF!","v":{"$error":"#REF!"}},{"$error":"#N/A"},{"$error":"#N/A"},{"$error":"#N/A"},{"$error":"#N/A"},{"$error":"#N/A"},{"$error":"#N/A"},{"$error":"#N/A"},{"$error":"#N/A"},{"$error":"#N/A"},{"$error":"#N/A"},{"$error":"#N/A"},{"$error":"#N/A"},{"$error":"#N/A"},{"$error":"#N/A"},{"$error":"#N/A"},{"$error":"#N/A"},{"$error":"#N/A"},{"$error":"#N/A"},{"$error":"#N/A"},{"$error":"#N/A"},{"$error":"#N/A"},{"$error":"#N/A"},{"$error":"#N/A"},{"$error":"#N/A"},{"$error":"#N/A"},{"$error":"#N/A"}]
[null,381,null,{"$f":"'Belirsizlik Bütçesi'!K390","v":1},{"$f":"'Veri Girişi'!#REF!","v":{"$error":"#REF!"}},{"$error":"#N/A"},{"$error":"#N/A"},{"$error":"#N/A"},{"$error":"#N/A"},{"$error":"#N/A"},{"$error":"#N/A"},{"$error":"#N/A"},{"$error":"#N/A"},{"$error":"#N/A"},{"$error":"#N/A"},{"$error":"#N/A"},{"$error":"#N/A"},{"$error":"#N/A"},{"$error":"#N/A"},{"$error":"#N/A"},{"$error":"#N/A"},{"$error":"#N/A"},{"$error":"#N/A"},{"$error":"#N/A"},{"$error":"#N/A"},{"$error":"#N/A"},{"$error":"#N/A"},{"$error":"#N/A"},{"$error":"#N/A"},{"$error":"#N/A"},{"$error":"#N/A"}]
[null,382,null,{"$f":"'Belirsizlik Bütçesi'!K391","v":1},{"$f":"'Veri Girişi'!#REF!","v":{"$error":"#REF!"}},{"$error":"#N/A"},{"$error":"#N/A"},{"$error":"#N/A"},{"$error":"#N/A"},{"$error":"#N/A"},{"$error":"#N/A"},{"$error":"#N/A"},{"$error":"#N/A"},{"$error":"#N/A"},{"$error":"#N/A"},{"$error":"#N/A"},{"$error":"#N/A"},{"$error":"#N/A"},{"$error":"#N/A"},{"$error":"#N/A"},{"$error":"#N/A"},{"$error":"#N/A"},{"$error":"#N/A"},{"$error":"#N/A"},{"$error":"#N/A"},{"$error":"#N/A"},{"$error":"#N/A"},{"$error":"#N/A"},{"$error":"#N/A"},{"$error":"#N/A"},{"$error":"#N/A"}]
[null,383,null,{"$f":"'Belirsizlik Bütçesi'!K392","v":1},{"$f":"'Veri Girişi'!#REF!","v":{"$error":"#REF!"}},{"$error":"#N/A"},{"$error":"#N/A"},{"$error":"#N/A"},{"$error":"#N/A"},{"$error":"#N/A"},{"$error":"#N/A"},{"$error":"#N/A"},{"$error":"#N/A"},{"$error":"#N/A"},{"$error":"#N/A"},{"$error":"#N/A"},{"$error":"#N/A"},{"$error":"#N/A"},{"$error":"#N/A"},{"$error":"#N/A"},{"$error":"#N/A"},{"$error":"#N/A"},{"$error":"#N/A"},{"$error":"#N/A"},{"$error":"#N/A"},{"$error":"#N/A"},{"$error":"#N/A"},{"$error":"#N/A"},{"$error":"#N/A"},{"$error":"#N/A"},{"$error":"#N/A"}]
[null,384,null,{"$f":"'Belirsizlik Bütçesi'!K393","v":0},{"$f":"'Veri Girişi'!#REF!","v":{"$error":"#REF!"}},{"$error":"#N/A"},{"$error":"#N/A"},{"$error":"#N/A"},{"$error":"#N/A"},{"$error":"#N/A"},{"$error":"#N/A"},{"$error":"#N/A"},{"$error":"#N/A"},{"$error":"#N/A"},{"$error":"#N/A"},{"$error":"#N/A"},{"$error":"#N/A"},{"$error":"#N/A"},{"$error":"#N/A"},{"$error":"#N/A"},{"$error":"#N/A"},{"$error":"#N/A"},{"$error":"#N/A"},{"$error":"#N/A"},{"$error":"#N/A"},{"$error":"#N/A"},{"$error":"#N/A"},{"$error":"#N/A"},{"$error":"#N/A"},{"$error":"#N/A"},{"$error":"#N/A"}]
[null,385,null,{"$f":"'Belirsizlik Bütçesi'!K394","v":1},{"$f":"'Veri Girişi'!#REF!","v":{"$error":"#REF!"}},{"$error":"#N/A"},{"$error":"#N/A"},{"$error":"#N/A"},{"$error":"#N/A"},{"$error":"#N/A"},{"$error":"#N/A"},{"$error":"#N/A"},{"$error":"#N/A"},{"$error":"#N/A"},{"$error":"#N/A"},{"$error":"#N/A"},{"$error":"#N/A"},{"$error":"#N/A"},{"$error":"#N/A"},{"$error":"#N/A"},{"$error":"#N/A"},{"$error":"#N/A"},{"$error":"#N/A"},{"$error":"#N/A"},{"$error":"#N/A"},{"$error":"#N/A"},{"$error":"#N/A"},{"$error":"#N/A"},{"$error":"#N/A"},{"$error":"#N/A"},{"$error":"#N/A"}]
[null,386,null,{"$f":"'Belirsizlik Bütçesi'!K395","v":1},{"$f":"'Veri Girişi'!#REF!","v":{"$error":"#REF!"}},{"$error":"#N/A"},{"$error":"#N/A"},{"$error":"#N/A"},{"$error":"#N/A"},{"$error":"#N/A"},{"$error":"#N/A"},{"$error":"#N/A"},{"$error":"#N/A"},{"$error":"#N/A"},{"$error":"#N/A"},{"$error":"#N/A"},{"$error":"#N/A"},{"$error":"#N/A"},{"$error":"#N/A"},{"$error":"#N/A"},{"$error":"#N/A"},{"$error":"#N/A"},{"$error":"#N/A"},{"$error":"#N/A"},{"$error":"#N/A"},{"$error":"#N/A"},{"$error":"#N/A"},{"$error":"#N/A"},{"$error":"#N/A"},{"$error":"#N/A"},{"$error":"#N/A"}]
[null,387,null,{"$f":"'Belirsizlik Bütçesi'!K396","v":0},{"$f":"'Veri Girişi'!#REF!","v":{"$error":"#REF!"}},{"$error":"#N/A"},{"$error":"#N/A"},{"$error":"#N/A"},{"$error":"#N/A"},{"$error":"#N/A"},{"$error":"#N/A"},{"$error":"#N/A"},{"$error":"#N/A"},{"$error":"#N/A"},{"$error":"#N/A"},{"$error":"#N/A"},{"$error":"#N/A"},{"$error":"#N/A"},{"$error":"#N/A"},{"$error":"#N/A"},{"$error":"#N/A"},{"$error":"#N/A"},{"$error":"#N/A"},{"$error":"#N/A"},{"$error":"#N/A"},{"$error":"#N/A"},{"$error":"#N/A"},{"$error":"#N/A"},{"$error":"#N/A"},{"$error":"#N/A"},{"$error":"#N/A"}]
[null,388,null,{"$f":"'Belirsizlik Bütçesi'!K397","v":0},{"$f":"'Veri Girişi'!#REF!","v":{"$error":"#REF!"}},{"$error":"#N/A"},{"$error":"#N/A"},{"$error":"#N/A"},{"$error":"#N/A"},{"$error":"#N/A"},{"$error":"#N/A"},{"$error":"#N/A"},{"$error":"#N/A"},{"$error":"#N/A"},{"$error":"#N/A"},{"$error":"#N/A"},{"$error":"#N/A"},{"$error":"#N/A"},{"$error":"#N/A"},{"$error":"#N/A"},{"$error":"#N/A"},{"$error":"#N/A"},{"$error":"#N/A"},{"$error":"#N/A"},{"$error":"#N/A"},{"$error":"#N/A"},{"$error":"#N/A"},{"$error":"#N/A"},{"$error":"#N/A"},{"$error":"#N/A"},{"$error":"#N/A"}]
[null,389,null,{"$f":"'Belirsizlik Bütçesi'!K398","v":1},{"$f":"'Veri Girişi'!#REF!","v":{"$error":"#REF!"}},{"$error":"#N/A"},{"$error":"#N/A"},{"$error":"#N/A"},{"$error":"#N/A"},{"$error":"#N/A"},{"$error":"#N/A"},{"$error":"#N/A"},{"$error":"#N/A"},{"$error":"#N/A"},{"$error":"#N/A"},{"$error":"#N/A"},{"$error":"#N/A"},{"$error":"#N/A"},{"$error":"#N/A"},{"$error":"#N/A"},{"$error":"#N/A"},{"$error":"#N/A"},{"$error":"#N/A"},{"$error":"#N/A"},{"$error":"#N/A"},{"$error":"#N/A"},{"$error":"#N/A"},{"$error":"#N/A"},{"$error":"#N/A"},{"$error":"#N/A"},{"$error":"#N/A"}]
[null,390,null,{"$f":"'Belirsizlik Bütçesi'!K399","v":0},{"$f":"'Veri Girişi'!#REF!","v":{"$error":"#REF!"}},{"$error":"#N/A"},{"$error":"#N/A"},{"$error":"#N/A"},{"$error":"#N/A"},{"$error":"#N/A"},{"$error":"#N/A"},{"$error":"#N/A"},{"$error":"#N/A"},{"$error":"#N/A"},{"$error":"#N/A"},{"$error":"#N/A"},{"$error":"#N/A"},{"$error":"#N/A"},{"$error":"#N/A"},{"$error":"#N/A"},{"$error":"#N/A"},{"$error":"#N/A"},{"$error":"#N/A"},{"$error":"#N/A"},{"$error":"#N/A"},{"$error":"#N/A"},{"$error":"#N/A"},{"$error":"#N/A"},{"$error":"#N/A"},{"$error":"#N/A"},{"$error":"#N/A"}]
[null,391,null,{"$f":"'Belirsizlik Bütçesi'!K400","v":1},{"$f":"'Veri Girişi'!#REF!","v":{"$error":"#REF!"}},{"$error":"#N/A"},{"$error":"#N/A"},{"$error":"#N/A"},{"$error":"#N/A"},{"$error":"#N/A"},{"$error":"#N/A"},{"$error":"#N/A"},{"$error":"#N/A"},{"$error":"#N/A"},{"$error":"#N/A"},{"$error":"#N/A"},{"$error":"#N/A"},{"$error":"#N/A"},{"$error":"#N/A"},{"$error":"#N/A"},{"$error":"#N/A"},{"$error":"#N/A"},{"$error":"#N/A"},{"$error":"#N/A"},{"$error":"#N/A"},{"$error":"#N/A"},{"$error":"#N/A"},{"$error":"#N/A"},{"$error":"#N/A"},{"$error":"#N/A"},{"$error":"#N/A"}]
[null,392,null,{"$f":"'Belirsizlik Bütçesi'!K401","v":1},{"$f":"'Veri Girişi'!#REF!","v":{"$error":"#REF!"}},{"$error":"#N/A"},{"$error":"#N/A"},{"$error":"#N/A"},{"$error":"#N/A"},{"$error":"#N/A"},{"$error":"#N/A"},{"$error":"#N/A"},{"$error":"#N/A"},{"$error":"#N/A"},{"$error":"#N/A"},{"$error":"#N/A"},{"$error":"#N/A"},{"$error":"#N/A"},{"$error":"#N/A"},{"$error":"#N/A"},{"$error":"#N/A"},{"$error":"#N/A"},{"$error":"#N/A"},{"$error":"#N/A"},{"$error":"#N/A"},{"$error":"#N/A"},{"$error":"#N/A"},{"$error":"#N/A"},{"$error":"#N/A"},{"$error":"#N/A"},{"$error":"#N/A"}]
[null,393,null,{"$f":"'Belirsizlik Bütçesi'!K402","v":1},{"$f":"'Veri Girişi'!#REF!","v":{"$error":"#REF!"}},{"$error":"#N/A"},{"$error":"#N/A"},{"$error":"#N/A"},{"$error":"#N/A"},{"$error":"#N/A"},{"$error":"#N/A"},{"$error":"#N/A"},{"$error":"#N/A"},{"$error":"#N/A"},{"$error":"#N/A"},{"$error":"#N/A"},{"$error":"#N/A"},{"$error":"#N/A"},{"$error":"#N/A"},{"$error":"#N/A"},{"$error":"#N/A"},{"$error":"#N/A"},{"$error":"#N/A"},{"$error":"#N/A"},{"$error":"#N/A"},{"$error":"#N/A"},{"$error":"#N/A"},{"$error":"#N/A"},{"$error":"#N/A"},{"$error":"#N/A"},{"$error":"#N/A"}]
[null,394,null,{"$f":"'Belirsizlik Bütçesi'!K403","v":1},{"$f":"'Veri Girişi'!#REF!","v":{"$error":"#REF!"}},{"$error":"#N/A"},{"$error":"#N/A"},{"$error":"#N/A"},{"$error":"#N/A"},{"$error":"#N/A"},{"$error":"#N/A"},{"$error":"#N/A"},{"$error":"#N/A"},{"$error":"#N/A"},{"$error":"#N/A"},{"$error":"#N/A"},{"$error":"#N/A"},{"$error":"#N/A"},{"$error":"#N/A"},{"$error":"#N/A"},{"$error":"#N/A"},{"$error":"#N/A"},{"$error":"#N/A"},{"$error":"#N/A"},{"$error":"#N/A"},{"$error":"#N/A"},{"$error":"#N/A"},{"$error":"#N/A"},{"$error":"#N/A"},{"$error":"#N/A"},{"$error":"#N/A"}]
[null,395,null,{"$f":"'Belirsizlik Bütçesi'!K404","v":0},{"$f":"'Veri Girişi'!#REF!","v":{"$error":"#REF!"}},{"$error":"#N/A"},{"$error":"#N/A"},{"$error":"#N/A"},{"$error":"#N/A"},{"$error":"#N/A"},{"$error":"#N/A"},{"$error":"#N/A"},{"$error":"#N/A"},{"$error":"#N/A"},{"$error":"#N/A"},{"$error":"#N/A"},{"$error":"#N/A"},{"$error":"#N/A"},{"$error":"#N/A"},{"$error":"#N/A"},{"$error":"#N/A"},{"$error":"#N/A"},{"$error":"#N/A"},{"$error":"#N/A"},{"$error":"#N/A"},{"$error":"#N/A"},{"$error":"#N/A"},{"$error":"#N/A"},{"$error":"#N/A"},{"$error":"#N/A"},{"$error":"#N/A"}]
[null,396,null,{"$f":"'Belirsizlik Bütçesi'!K405","v":1},{"$f":"'Veri Girişi'!#REF!","v":{"$error":"#REF!"}},{"$error":"#N/A"},{"$error":"#N/A"},{"$error":"#N/A"},{"$error":"#N/A"},{"$error":"#N/A"},{"$error":"#N/A"},{"$error":"#N/A"},{"$error":"#N/A"},{"$error":"#N/A"},{"$error":"#N/A"},{"$error":"#N/A"},{"$error":"#N/A"},{"$error":"#N/A"},{"$error":"#N/A"},{"$error":"#N/A"},{"$error":"#N/A"},{"$error":"#N/A"},{"$error":"#N/A"},{"$error":"#N/A"},{"$error":"#N/A"},{"$error":"#N/A"},{"$error":"#N/A"},{"$error":"#N/A"},{"$error":"#N/A"},{"$error":"#N/A"},{"$error":"#N/A"}]
[null,397,null,{"$f":"'Belirsizlik Bütçesi'!K406","v":1},{"$f":"'Veri Girişi'!#REF!","v":{"$error":"#REF!"}},{"$error":"#N/A"},{"$error":"#N/A"},{"$error":"#N/A"},{"$error":"#N/A"},{"$error":"#N/A"},{"$error":"#N/A"},{"$error":"#N/A"},{"$error":"#N/A"},{"$error":"#N/A"},{"$error":"#N/A"},{"$error":"#N/A"},{"$error":"#N/A"},{"$error":"#N/A"},{"$error":"#N/A"},{"$error":"#N/A"},{"$error":"#N/A"},{"$error":"#N/A"},{"$error":"#N/A"},{"$error":"#N/A"},{"$error":"#N/A"},{"$error":"#N/A"},{"$error":"#N/A"},{"$error":"#N/A"},{"$error":"#N/A"},{"$error":"#N/A"},{"$error":"#N/A"}]
[null,398,null,{"$f":"'Belirsizlik Bütçesi'!K407","v":1},{"$f":"'Veri Girişi'!#REF!","v":{"$error":"#REF!"}},{"$error":"#N/A"},{"$error":"#N/A"},{"$error":"#N/A"},{"$error":"#N/A"},{"$error":"#N/A"},{"$error":"#N/A"},{"$error":"#N/A"},{"$error":"#N/A"},{"$error":"#N/A"},{"$error":"#N/A"},{"$error":"#N/A"},{"$error":"#N/A"},{"$error":"#N/A"},{"$error":"#N/A"},{"$error":"#N/A"},{"$error":"#N/A"},{"$error":"#N/A"},{"$error":"#N/A"},{"$error":"#N/A"},{"$error":"#N/A"},{"$error":"#N/A"},{"$error":"#N/A"},{"$error":"#N/A"},{"$error":"#N/A"},{"$error":"#N/A"},{"$error":"#N/A"}]
[null,399,null,{"$f":"'Belirsizlik Bütçesi'!K408","v":1},{"$f":"'Veri Girişi'!#REF!","v":{"$error":"#REF!"}},{"$error":"#N/A"},{"$error":"#N/A"},{"$error":"#N/A"},{"$error":"#N/A"},{"$error":"#N/A"},{"$error":"#N/A"},{"$error":"#N/A"},{"$error":"#N/A"},{"$error":"#N/A"},{"$error":"#N/A"},{"$error":"#N/A"},{"$error":"#N/A"},{"$error":"#N/A"},{"$error":"#N/A"},{"$error":"#N/A"},{"$error":"#N/A"},{"$error":"#N/A"},{"$error":"#N/A"},{"$error":"#N/A"},{"$error":"#N/A"},{"$error":"#N/A"},{"$error":"#N/A"},{"$error":"#N/A"},{"$error":"#N/A"},{"$error":"#N/A"},{"$error":"#N/A"}]
[null,400,null,{"$f":"'Belirsizlik Bütçesi'!K409","v":0},{"$f":"'Veri Girişi'!#REF!","v":{"$error":"#REF!"}},{"$error":"#N/A"},{"$error":"#N/A"},{"$error":"#N/A"},{"$error":"#N/A"},{"$error":"#N/A"},{"$error":"#N/A"},{"$error":"#N/A"},{"$error":"#N/A"},{"$error":"#N/A"},{"$error":"#N/A"},{"$error":"#N/A"},{"$error":"#N/A"},{"$error":"#N/A"},{"$error":"#N/A"},{"$error":"#N/A"},{"$error":"#N/A"},{"$error":"#N/A"},{"$error":"#N/A"},{"$error":"#N/A"},{"$error":"#N/A"},{"$error":"#N/A"},{"$error":"#N/A"},{"$error":"#N/A"},{"$error":"#N/A"},{"$error":"#N/A"},{"$error":"#N/A"}]
[null,414,{"$f":"'Veri Girişi'!#REF!","v":{"$error":"#REF!"}},{"$f":"'Belirsizlik Bütçesi'!K410","v":1},{"$f":"'Veri Girişi'!#REF!","v":{"$error":"#REF!"}},{"$error":"#REF!"},{"$error":"#REF!"},{"$error":"#REF!"},{"$error":"#REF!"},{"$error":"#REF!"},{"$error":"#REF!"},{"$error":"#REF!"},{"$error":"#REF!"},{"$error":"#REF!"},{"$error":"#REF!"},{"$error":"#REF!"},{"$error":"#REF!"},{"$error":"#REF!"},{"$error":"#REF!"},{"$error":"#REF!"},{"$error":"#REF!"},{"$error":"#REF!"},{"$error":"#REF!"},{"$error":"#REF!"},{"$error":"#REF!"},{"$error":"#REF!"},{"$error":"#REF!"},{"$error":"#REF!"},{"$error":"#REF!"},{"$error":"#REF!"},{"$error":"#REF!"}]
[null,415,{"$f":"'Veri Girişi'!#REF!","v":{"$error":"#REF!"}},{"$f":"'Belirsizlik Bütçesi'!K411","v":1},{"$f":"'Veri Girişi'!#REF!","v":{"$error":"#REF!"}},{"$error":"#REF!"},{"$error":"#REF!"},{"$error":"#REF!"},{"$error":"#REF!"},{"$error":"#REF!"},{"$error":"#REF!"},{"$error":"#REF!"},{"$error":"#REF!"},{"$error":"#REF!"},{"$error":"#REF!"},{"$error":"#REF!"},{"$error":"#REF!"},{"$error":"#REF!"},{"$error":"#REF!"},{"$error":"#REF!"},{"$error":"#REF!"},{"$error":"#REF!"},{"$error":"#REF!"},{"$error":"#REF!"},{"$error":"#REF!"},{"$error":"#REF!"},{"$error":"#REF!"},{"$error":"#REF!"},{"$error":"#REF!"},{"$error":"#REF!"},{"$error":"#REF!"}]
[null,416,{"$f":"'Veri Girişi'!#REF!","v":{"$error":"#REF!"}},{"$f":"'Belirsizlik Bütçesi'!K412","v":1},{"$f":"'Veri Girişi'!#REF!","v":{"$error":"#REF!"}},{"$error":"#REF!"},{"$error":"#REF!"},{"$error":"#REF!"},{"$error":"#REF!"},{"$error":"#REF!"},{"$error":"#REF!"},{"$error":"#REF!"},{"$error":"#REF!"},{"$error":"#REF!"},{"$error":"#REF!"},{"$error":"#REF!"},{"$error":"#REF!"},{"$error":"#REF!"},{"$error":"#REF!"},{"$error":"#REF!"},{"$error":"#REF!"},{"$error":"#REF!"},{"$error":"#REF!"},{"$error":"#REF!"},{"$error":"#REF!"},{"$error":"#REF!"},{"$error":"#REF!"},{"$error":"#REF!"},{"$error":"#REF!"},{"$error":"#REF!"},{"$error":"#REF!"}]
[null,417,{"$f":"'Veri Girişi'!#REF!","v":{"$error":"#REF!"}},{"$f":"'Belirsizlik Bütçesi'!K413","v":1},{"$f":"'Veri Girişi'!#REF!","v":{"$error":"#REF!"}},{"$error":"#REF!"},{"$error":"#REF!"},{"$error":"#REF!"},{"$error":"#REF!"},{"$error":"#REF!"},{"$error":"#REF!"},{"$error":"#REF!"},{"$error":"#REF!"},{"$error":"#REF!"},{"$error":"#REF!"},{"$error":"#REF!"},{"$error":"#REF!"},{"$error":"#REF!"},{"$error":"#REF!"},{"$error":"#REF!"},{"$error":"#REF!"},{"$error":"#REF!"},{"$error":"#REF!"},{"$error":"#REF!"},{"$error":"#REF!"},{"$error":"#REF!"},{"$error":"#REF!"},{"$error":"#REF!"},{"$error":"#REF!"},{"$error":"#REF!"},{"$error":"#REF!"}]
[null,418,{"$f":"'Veri Girişi'!#REF!","v":{"$error":"#REF!"}},{"$f":"'Belirsizlik Bütçesi'!K414","v":0},{"$f":"'Veri Girişi'!#REF!","v":{"$error":"#REF!"}},{"$error":"#REF!"},{"$error":"#REF!"},{"$error":"#REF!"},{"$error":"#REF!"},{"$error":"#REF!"},{"$error":"#REF!"},{"$error":"#REF!"},{"$error":"#REF!"},{"$error":"#REF!"},{"$error":"#REF!"},{"$error":"#REF!"},{"$error":"#REF!"},{"$error":"#REF!"},{"$error":"#REF!"},{"$error":"#REF!"},{"$error":"#REF!"},{"$error":"#REF!"},{"$error":"#REF!"},{"$error":"#REF!"},{"$error":"#REF!"},{"$error":"#REF!"},{"$error":"#REF!"},{"$error":"#REF!"},{"$error":"#REF!"},{"$error":"#REF!"},{"$error":"#REF!"}]
[null,419,{"$f":"'Veri Girişi'!#REF!","v":{"$error":"#REF!"}},{"$f":"'Belirsizlik Bütçesi'!K415","v":1},{"$f":"'Veri Girişi'!#REF!","v":{"$error":"#REF!"}},{"$error":"#REF!"},{"$error":"#REF!"},{"$error":"#REF!"},{"$error":"#REF!"},{"$error":"#REF!"},{"$error":"#REF!"},{"$error":"#REF!"},{"$error":"#REF!"},{"$error":"#REF!"},{"$error":"#REF!"},{"$error":"#REF!"},{"$error":"#REF!"},{"$error":"#REF!"},{"$error":"#REF!"},{"$error":"#REF!"},{"$error":"#REF!"},{"$error":"#REF!"},{"$error":"#REF!"},{"$error":"#REF!"},{"$error":"#REF!"},{"$error":"#REF!"},{"$error":"#REF!"},{"$error":"#REF!"},{"$error":"#REF!"},{"$error":"#REF!"},{"$error":"#REF!"}]
[null,420,{"$f":"'Veri Girişi'!#REF!","v":{"$error":"#REF!"}},{"$f":"'Belirsizlik Bütçesi'!K416","v":0},{"$f":"'Veri Girişi'!#REF!","v":{"$error":"#REF!"}},{"$error":"#REF!"},{"$error":"#REF!"},{"$error":"#REF!"},{"$error":"#REF!"},{"$error":"#REF!"},{"$error":"#REF!"},{"$error":"#REF!"},{"$error":"#REF!"},{"$error":"#REF!"},{"$error":"#REF!"},{"$error":"#REF!"},{"$error":"#REF!"},{"$error":"#REF!"},{"$error":"#REF!"},{"$error":"#REF!"},{"$error":"#REF!"},{"$error":"#REF!"},{"$error":"#REF!"},{"$error":"#REF!"},{"$error":"#REF!"},{"$error":"#REF!"},{"$error":"#REF!"},{"$error":"#REF!"},{"$error":"#REF!"},{"$error":"#REF!"},{"$error":"#REF!"}]
[null,421,{"$f":"'Veri Girişi'!#REF!","v":{"$error":"#REF!"}},{"$f":"'Belirsizlik Bütçesi'!K417","v":0},{"$f":"'Veri Girişi'!#REF!","v":{"$error":"#REF!"}},{"$error":"#REF!"},{"$error":"#REF!"},{"$error":"#REF!"},{"$error":"#REF!"},{"$error":"#REF!"},{"$error":"#REF!"},{"$error":"#REF!"},{"$error":"#REF!"},{"$error":"#REF!"},{"$error":"#REF!"},{"$error":"#REF!"},{"$error":"#REF!"},{"$error":"#REF!"},{"$error":"#REF!"},{"$error":"#REF!"},{"$error":"#REF!"},{"$error":"#REF!"},{"$error":"#REF!"},{"$error":"#REF!"},{"$error":"#REF!"},{"$error":"#REF!"},{"$error":"#REF!"},{"$error":"#REF!"},{"$error":"#REF!"},{"$error":"#REF!"},{"$error":"#REF!"}]
[null,422,{"$f":"'Veri Girişi'!#REF!","v":{"$error":"#REF!"}},{"$f":"'Belirsizlik Bütçesi'!K418","v":1},{"$f":"'Veri Girişi'!#REF!","v":{"$error":"#REF!"}},{"$error":"#REF!"},{"$error":"#REF!"},{"$error":"#REF!"},{"$error":"#REF!"},{"$error":"#REF!"},{"$error":"#REF!"},{"$error":"#REF!"},{"$error":"#REF!"},{"$error":"#REF!"},{"$error":"#REF!"},{"$error":"#REF!"},{"$error":"#REF!"},{"$error":"#REF!"},{"$error":"#REF!"},{"$error":"#REF!"},{"$error":"#REF!"},{"$error":"#REF!"},{"$error":"#REF!"},{"$error":"#REF!"},{"$error":"#REF!"},{"$error":"#REF!"},{"$error":"#REF!"},{"$error":"#REF!"},{"$error":"#REF!"},{"$error":"#REF!"},{"$error":"#REF!"}]
[null,423,{"$f":"'Veri Girişi'!#REF!","v":{"$error":"#REF!"}},{"$f":"'Belirsizlik Bütçesi'!K419","v":1},{"$f":"'Veri Girişi'!#REF!","v":{"$error":"#REF!"}},{"$error":"#REF!"},{"$error":"#REF!"},{"$error":"#REF!"},{"$error":"#REF!"},{"$error":"#REF!"},{"$error":"#REF!"},{"$error":"#REF!"},{"$error":"#REF!"},{"$error":"#REF!"},{"$error":"#REF!"},{"$error":"#REF!"},{"$error":"#REF!"},{"$error":"#REF!"},{"$error":"#REF!"},{"$error":"#REF!"},{"$error":"#REF!"},{"$error":"#REF!"},{"$error":"#REF!"},{"$error":"#REF!"},{"$error":"#REF!"},{"$error":"#REF!"},{"$error":"#REF!"},{"$error":"#REF!"},{"$error":"#REF!"},{"$error":"#REF!"},{"$error":"#REF!"}]
[null,424,{"$f":"'Veri Girişi'!#REF!","v":{"$error":"#REF!"}},{"$f":"'Belirsizlik Bütçesi'!K420","v":1},{"$f":"'Veri Girişi'!#REF!","v":{"$error":"#REF!"}},{"$error":"#REF!"},{"$error":"#REF!"},{"$error":"#REF!"},{"$error":"#REF!"},{"$error":"#REF!"},{"$error":"#REF!"},{"$error":"#REF!"},{"$error":"#REF!"},{"$error":"#REF!"},{"$error":"#REF!"},{"$error":"#REF!"},{"$error":"#REF!"},{"$error":"#REF!"},{"$error":"#REF!"},{"$error":"#REF!"},{"$error":"#REF!"},{"$error":"#REF!"},{"$error":"#REF!"},{"$error":"#REF!"},{"$error":"#REF!"},{"$error":"#REF!"},{"$error":"#REF!"},{"$error":"#REF!"},{"$error":"#REF!"},{"$error":"#REF!"},{"$error":"#REF!"}]
[null,425,{"$f":"'Veri Girişi'!#REF!","v":{"$error":"#REF!"}},{"$f":"'Belirsizlik Bütçesi'!K421","v":1},{"$f":"'Veri Girişi'!#REF!","v":{"$error":"#REF!"}},{"$error":"#REF!"},{"$error":"#REF!"},{"$error":"#REF!"},{"$error":"#REF!"},{"$error":"#REF!"},{"$error":"#REF!"},{"$error":"#REF!"},{"$error":"#REF!"},{"$error":"#REF!"},{"$error":"#REF!"},{"$error":"#REF!"},{"$error":"#REF!"},{"$error":"#REF!"},{"$error":"#REF!"},{"$error":"#REF!"},{"$error":"#REF!"},{"$error":"#REF!"},{"$error":"#REF!"},{"$error":"#REF!"},{"$error":"#REF!"},{"$error":"#REF!"},{"$error":"#REF!"},{"$error":"#REF!"},{"$error":"#REF!"},{"$error":"#REF!"},{"$error":"#REF!"}]
[null,426,{"$f":"'Veri Girişi'!#REF!","v":{"$error":"#REF!"}},{"$f":"'Belirsizlik Bütçesi'!K422","v":1},{"$f":"'Veri Girişi'!#REF!","v":{"$error":"#REF!"}},{"$error":"#REF!"},{"$error":"#REF!"},{"$error":"#REF!"},{"$error":"#REF!"},{"$error":"#REF!"},{"$error":"#REF!"},{"$error":"#REF!"},{"$error":"#REF!"},{"$error":"#REF!"},{"$error":"#REF!"},{"$error":"#REF!"},{"$error":"#REF!"},{"$error":"#REF!"},{"$error":"#REF!"},{"$error":"#REF!"},{"$error":"#REF!"},{"$error":"#REF!"},{"$error":"#REF!"},{"$error":"#REF!"},{"$error":"#REF!"},{"$error":"#REF!"},{"$error":"#REF!"},{"$error":"#REF!"},{"$error":"#REF!"},{"$error":"#REF!"},{"$error":"#REF!"}]
[null,427,{"$f":"'Veri Girişi'!#REF!","v":{"$error":"#REF!"}},{"$f":"'Belirsizlik Bütçesi'!K423","v":0},{"$f":"'Veri Girişi'!#REF!","v":{"$error":"#REF!"}},{"$error":"#REF!"},{"$error":"#REF!"},{"$error":"#REF!"},{"$error":"#REF!"},{"$error":"#REF!"},{"$error":"#REF!"},{"$error":"#REF!"},{"$error":"#REF!"},{"$error":"#REF!"},{"$error":"#REF!"},{"$error":"#REF!"},{"$error":"#REF!"},{"$error":"#REF!"},{"$error":"#REF!"},{"$error":"#REF!"},{"$error":"#REF!"},{"$error":"#REF!"},{"$error":"#REF!"},{"$error":"#REF!"},{"$error":"#REF!"},{"$error":"#REF!"},{"$error":"#REF!"},{"$error":"#REF!"},{"$error":"#REF!"},{"$error":"#REF!"},{"$error":"#REF!"}]
[null,428,{"$f":"'Veri Girişi'!#REF!","v":{"$error":"#REF!"}},{"$f":"'Belirsizlik Bütçesi'!K424","v":0},{"$f":"'Veri Girişi'!#REF!","v":{"$error":"#REF!"}},{"$error":"#REF!"},{"$error":"#REF!"},{"$error":"#REF!"},{"$error":"#REF!"},{"$error":"#REF!"},{"$error":"#REF!"},{"$error":"#REF!"},{"$error":"#REF!"},{"$error":"#REF!"},{"$error":"#REF!"},{"$error":"#REF!"},{"$error":"#REF!"},{"$error":"#REF!"},{"$error":"#REF!"},{"$error":"#REF!"},{"$error":"#REF!"},{"$error":"#REF!"},{"$error":"#REF!"},{"$error":"#REF!"},{"$error":"#REF!"},{"$error":"#REF!"},{"$error":"#REF!"},{"$error":"#REF!"},{"$error":"#REF!"},{"$error":"#REF!"},{"$error":"#REF!"}]
[null,429,{"$f":"'Veri Girişi'!#REF!","v":{"$error":"#REF!"}},{"$f":"'Belirsizlik Bütçesi'!K425","v":0},{"$f":"'Veri Girişi'!#REF!","v":{"$error":"#REF!"}},{"$error":"#REF!"},{"$error":"#REF!"},{"$error":"#REF!"},{"$error":"#REF!"},{"$error":"#REF!"},{"$error":"#REF!"},{"$error":"#REF!"},{"$error":"#REF!"},{"$error":"#REF!"},{"$error":"#REF!"},{"$error":"#REF!"},{"$error":"#REF!"},{"$error":"#REF!"},{"$error":"#REF!"},{"$error":"#REF!"},{"$error":"#REF!"},{"$error":"#REF!"},{"$error":"#REF!"},{"$error":"#REF!"},{"$error":"#REF!"},{"$error":"#REF!"},{"$error":"#REF!"},{"$error":"#REF!"},{"$error":"#REF!"},{"$error":"#REF!"},{"$error":"#REF!"}]
[null,430,{"$f":"'Veri Girişi'!#REF!","v":{"$error":"#REF!"}},{"$f":"'Belirsizlik Bütçesi'!K426","v":0},{"$f":"'Veri Girişi'!#REF!","v":{"$error":"#REF!"}},{"$error":"#REF!"},{"$error":"#REF!"},{"$error":"#REF!"},{"$error":"#REF!"},{"$error":"#REF!"},{"$error":"#REF!"},{"$error":"#REF!"},{"$error":"#REF!"},{"$error":"#REF!"},{"$error":"#REF!"},{"$error":"#REF!"},{"$error":"#REF!"},{"$error":"#REF!"},{"$error":"#REF!"},{"$error":"#REF!"},{"$error":"#REF!"},{"$error":"#REF!"},{"$error":"#REF!"},{"$error":"#REF!"},{"$error":"#REF!"},{"$error":"#REF!"},{"$error":"#REF!"},{"$error":"#REF!"},{"$error":"#REF!"},{"$error":"#REF!"},{"$error":"#REF!"}]
[null,431,{"$f":"'Veri Girişi'!#REF!","v":{"$error":"#REF!"}},{"$f":"'Belirsizlik Bütçesi'!K427","v":1},{"$f":"'Veri Girişi'!#REF!","v":{"$error":"#REF!"}},{"$error":"#REF!"},{"$error":"#REF!"},{"$error":"#REF!"},{"$error":"#REF!"},{"$error":"#REF!"},{"$error":"#REF!"},{"$error":"#REF!"},{"$error":"#REF!"},{"$error":"#REF!"},{"$error":"#REF!"},{"$error":"#REF!"},{"$error":"#REF!"},{"$error":"#REF!"},{"$error":"#REF!"},{"$error":"#REF!"},{"$error":"#REF!"},{"$error":"#REF!"},{"$error":"#REF!"},{"$error":"#REF!"},{"$error":"#REF!"},{"$error":"#REF!"},{"$error":"#REF!"},{"$error":"#REF!"},{"$error":"#REF!"},{"$error":"#REF!"},{"$error":"#REF!"}]
[null,432,{"$f":"'Veri Girişi'!#REF!","v":{"$error":"#REF!"}},{"$f":"'Belirsizlik Bütçesi'!K428","v":0},{"$f":"'Veri Girişi'!#REF!","v":{"$error":"#REF!"}},{"$error":"#REF!"},{"$error":"#REF!"},{"$error":"#REF!"},{"$error":"#REF!"},{"$error":"#REF!"},{"$error":"#REF!"},{"$error":"#REF!"},{"$error":"#REF!"},{"$error":"#REF!"},{"$error":"#REF!"},{"$error":"#REF!"},{"$error":"#REF!"},{"$error":"#REF!"},{"$error":"#REF!"},{"$error":"#REF!"},{"$error":"#REF!"},{"$error":"#REF!"},{"$error":"#REF!"},{"$error":"#REF!"},{"$error":"#REF!"},{"$error":"#REF!"},{"$error":"#REF!"},{"$error":"#REF!"},{"$error":"#REF!"},{"$error":"#REF!"},{"$error":"#REF!"}]
[null,433,{"$f":"'Veri Girişi'!#REF!","v":{"$error":"#REF!"}},{"$f":"'Belirsizlik Bütçesi'!K429","v":1},{"$f":"'Veri Girişi'!#REF!","v":{"$error":"#REF!"}},{"$error":"#REF!"},{"$error":"#REF!"},{"$error":"#REF!"},{"$error":"#REF!"},{"$error":"#REF!"},{"$error":"#REF!"},{"$error":"#REF!"},{"$error":"#REF!"},{"$error":"#REF!"},{"$error":"#REF!"},{"$error":"#REF!"},{"$error":"#REF!"},{"$error":"#REF!"},{"$error":"#REF!"},{"$error":"#REF!"},{"$error":"#REF!"},{"$error":"#REF!"},{"$error":"#REF!"},{"$error":"#REF!"},{"$error":"#REF!"},{"$error":"#REF!"},{"$error":"#REF!"},{"$error":"#REF!"},{"$error":"#REF!"},{"$error":"#REF!"},{"$error":"#REF!"}]
[null,434,{"$f":"'Veri Girişi'!#REF!","v":{"$error":"#REF!"}},{"$f":"'Belirsizlik Bütçesi'!K430","v":0},{"$f":"'Veri Girişi'!#REF!","v":{"$error":"#REF!"}},{"$error":"#REF!"},{"$error":"#REF!"},{"$error":"#REF!"},{"$error":"#REF!"},{"$error":"#REF!"},{"$error":"#REF!"},{"$error":"#REF!"},{"$error":"#REF!"},{"$error":"#REF!"},{"$error":"#REF!"},{"$error":"#REF!"},{"$error":"#REF!"},{"$error":"#REF!"},{"$error":"#REF!"},{"$error":"#REF!"},{"$error":"#REF!"},{"$error":"#REF!"},{"$error":"#REF!"},{"$error":"#REF!"},{"$error":"#REF!"},{"$error":"#REF!"},{"$error":"#REF!"},{"$error":"#REF!"},{"$error":"#REF!"},{"$error":"#REF!"},{"$error":"#REF!"}]
[null,435,{"$f":"'Veri Girişi'!#REF!","v":{"$error":"#REF!"}},{"$f":"'Belirsizlik Bütçesi'!K431","v":0},{"$f":"'Veri Girişi'!#REF!","v":{"$error":"#REF!"}},{"$error":"#REF!"},{"$error":"#REF!"},{"$error":"#REF!"},{"$error":"#REF!"},{"$error":"#REF!"},{"$error":"#REF!"},{"$error":"#REF!"},{"$error":"#REF!"},{"$error":"#REF!"},{"$error":"#REF!"},{"$error":"#REF!"},{"$error":"#REF!"},{"$error":"#REF!"},{"$error":"#REF!"},{"$error":"#REF!"},{"$error":"#REF!"},{"$error":"#REF!"},{"$error":"#REF!"},{"$error":"#REF!"},{"$error":"#REF!"},{"$error":"#REF!"},{"$error":"#REF!"},{"$error":"#REF!"},{"$error":"#REF!"},{"$error":"#REF!"},{"$error":"#REF!"}]
[null,436,{"$f":"'Veri Girişi'!#REF!","v":{"$error":"#REF!"}},{"$f":"'Belirsizlik Bütçesi'!K432","v":0},{"$f":"'Veri Girişi'!#REF!","v":{"$error":"#REF!"}},{"$error":"#REF!"},{"$error":"#REF!"},{"$error":"#REF!"},{"$error":"#REF!"},{"$error":"#REF!"},{"$error":"#REF!"},{"$error":"#REF!"},{"$error":"#REF!"},{"$error":"#REF!"},{"$error":"#REF!"},{"$error":"#REF!"},{"$error":"#REF!"},{"$error":"#REF!"},{"$error":"#REF!"},{"$error":"#REF!"},{"$error":"#REF!"},{"$error":"#REF!"},{"$error":"#REF!"},{"$error":"#REF!"},{"$error":"#REF!"},{"$error":"#REF!"},{"$error":"#REF!"},{"$error":"#REF!"},{"$error":"#REF!"},{"$error":"#REF!"},{"$error":"#REF!"}]
[null,437,{"$f":"'Veri Girişi'!#REF!","v":{"$error":"#REF!"}},{"$f":"'Belirsizlik Bütçesi'!K433","v":1},{"$f":"'Veri Girişi'!#REF!","v":{"$error":"#REF!"}},{"$error":"#REF!"},{"$error":"#REF!"},{"$error":"#REF!"},{"$error":"#REF!"},{"$error":"#REF!"},{"$error":"#REF!"},{"$error":"#REF!"},{"$error":"#REF!"},{"$error":"#REF!"},{"$error":"#REF!"},{"$error":"#REF!"},{"$error":"#REF!"},{"$error":"#REF!"},{"$error":"#REF!"},{"$error":"#REF!"},{"$error":"#REF!"},{"$error":"#REF!"},{"$error":"#REF!"},{"$error":"#REF!"},{"$error":"#REF!"},{"$error":"#REF!"},{"$error":"#REF!"},{"$error":"#REF!"},{"$error":"#REF!"},{"$error":"#REF!"},{"$error":"#REF!"}]
[null,438,{"$f":"'Veri Girişi'!#REF!","v":{"$error":"#REF!"}},{"$f":"'Belirsizlik Bütçesi'!K434","v":1},{"$f":"'Veri Girişi'!#REF!","v":{"$error":"#REF!"}},{"$error":"#REF!"},{"$error":"#REF!"},{"$error":"#REF!"},{"$error":"#REF!"},{"$error":"#REF!"},{"$error":"#REF!"},{"$error":"#REF!"},{"$error":"#REF!"},{"$error":"#REF!"},{"$error":"#REF!"},{"$error":"#REF!"},{"$error":"#REF!"},{"$error":"#REF!"},{"$error":"#REF!"},{"$error":"#REF!"},{"$error":"#REF!"},{"$error":"#REF!"},{"$error":"#REF!"},{"$error":"#REF!"},{"$error":"#REF!"},{"$error":"#REF!"},{"$error":"#REF!"},{"$error":"#REF!"},{"$error":"#REF!"},{"$error":"#REF!"},{"$error":"#REF!"}]
[null,439,{"$f":"'Veri Girişi'!#REF!","v":{"$error":"#REF!"}},{"$f":"'Belirsizlik Bütçesi'!K435","v":1},{"$f":"'Veri Girişi'!#REF!","v":{"$error":"#REF!"}},{"$error":"#REF!"},{"$error":"#REF!"},{"$error":"#REF!"},{"$error":"#REF!"},{"$error":"#REF!"},{"$error":"#REF!"},{"$error":"#REF!"},{"$error":"#REF!"},{"$error":"#REF!"},{"$error":"#REF!"},{"$error":"#REF!"},{"$error":"#REF!"},{"$error":"#REF!"},{"$error":"#REF!"},{"$error":"#REF!"},{"$error":"#REF!"},{"$error":"#REF!"},{"$error":"#REF!"},{"$error":"#REF!"},{"$error":"#REF!"},{"$error":"#REF!"},{"$error":"#REF!"},{"$error":"#REF!"},{"$error":"#REF!"},{"$error":"#REF!"},{"$error":"#REF!"}]
[null,440,{"$f":"'Veri Girişi'!#REF!","v":{"$error":"#REF!"}},{"$f":"'Belirsizlik Bütçesi'!K436","v":1},{"$f":"'Veri Girişi'!#REF!","v":{"$error":"#REF!"}},{"$error":"#REF!"},{"$error":"#REF!"},{"$error":"#REF!"},{"$error":"#REF!"},{"$error":"#REF!"},{"$error":"#REF!"},{"$error":"#REF!"},{"$error":"#REF!"},{"$error":"#REF!"},{"$error":"#REF!"},{"$error":"#REF!"},{"$error":"#REF!"},{"$error":"#REF!"},{"$error":"#REF!"},{"$error":"#REF!"},{"$error":"#REF!"},{"$error":"#REF!"},{"$error":"#REF!"},{"$error":"#REF!"},{"$error":"#REF!"},{"$error":"#REF!"},{"$error":"#REF!"},{"$error":"#REF!"},{"$error":"#REF!"},{"$error":"#REF!"},{"$error":"#REF!"}]
[null,441,{"$f":"'Veri Girişi'!#REF!","v":{"$error":"#REF!"}},{"$f":"'Belirsizlik Bütçesi'!K437","v":1},{"$f":"'Veri Girişi'!#REF!","v":{"$error":"#REF!"}},{"$error":"#REF!"},{"$error":"#REF!"},{"$error":"#REF!"},{"$error":"#REF!"},{"$error":"#REF!"},{"$error":"#REF!"},{"$error":"#REF!"},{"$error":"#REF!"},{"$error":"#REF!"},{"$error":"#REF!"},{"$error":"#REF!"},{"$error":"#REF!"},{"$error":"#REF!"},{"$error":"#REF!"},{"$error":"#REF!"},{"$error":"#REF!"},{"$error":"#REF!"},{"$error":"#REF!"},{"$error":"#REF!"},{"$error":"#REF!"},{"$error":"#REF!"},{"$error":"#REF!"},{"$error":"#REF!"},{"$error":"#REF!"},{"$error":"#REF!"},{"$error":"#REF!"}]
[null,442,{"$f":"'Veri Girişi'!#REF!","v":{"$error":"#REF!"}},{"$f":"'Belirsizlik Bütçesi'!K438","v":1},{"$f":"'Veri Girişi'!#REF!","v":{"$error":"#REF!"}},{"$error":"#REF!"},{"$error":"#REF!"},{"$error":"#REF!"},{"$error":"#REF!"},{"$error":"#REF!"},{"$error":"#REF!"},{"$error":"#REF!"},{"$error":"#REF!"},{"$error":"#REF!"},{"$error":"#REF!"},{"$error":"#REF!"},{"$error":"#REF!"},{"$error":"#REF!"},{"$error":"#REF!"},{"$error":"#REF!"},{"$error":"#REF!"},{"$error":"#REF!"},{"$error":"#REF!"},{"$error":"#REF!"},{"$error":"#REF!"},{"$error":"#REF!"},{"$error":"#REF!"},{"$error":"#REF!"},{"$error":"#REF!"},{"$error":"#REF!"},{"$error":"#REF!"}]
[null,443,{"$f":"'Veri Girişi'!#REF!","v":{"$error":"#REF!"}},{"$f":"'Belirsizlik Bütçesi'!K439","v":1},{"$f":"'Veri Girişi'!#REF!","v":{"$error":"#REF!"}},{"$error":"#REF!"},{"$error":"#REF!"},{"$error":"#REF!"},{"$error":"#REF!"},{"$error":"#REF!"},{"$error":"#REF!"},{"$error":"#REF!"},{"$error":"#REF!"},{"$error":"#REF!"},{"$error":"#REF!"},{"$error":"#REF!"},{"$error":"#REF!"},{"$error":"#REF!"},{"$error":"#REF!"},{"$error":"#REF!"},{"$error":"#REF!"},{"$error":"#REF!"},{"$error":"#REF!"},{"$error":"#REF!"},{"$error":"#REF!"},{"$error":"#REF!"},{"$error":"#REF!"},{"$error":"#REF!"},{"$error":"#REF!"},{"$error":"#REF!"},{"$error":"#REF!"}]
[null,444,{"$f":"'Veri Girişi'!#REF!","v":{"$error":"#REF!"}},{"$f":"'Belirsizlik Bütçesi'!K440","v":0},{"$f":"'Veri Girişi'!#REF!","v":{"$error":"#REF!"}},{"$error":"#REF!"},{"$error":"#REF!"},{"$error":"#REF!"},{"$error":"#REF!"},{"$error":"#REF!"},{"$error":"#REF!"},{"$error":"#REF!"},{"$error":"#REF!"},{"$error":"#REF!"},{"$error":"#REF!"},{"$error":"#REF!"},{"$error":"#REF!"},{"$error":"#REF!"},{"$error":"#REF!"},{"$error":"#REF!"},{"$error":"#REF!"},{"$error":"#REF!"},{"$error":"#REF!"},{"$error":"#REF!"},{"$error":"#REF!"},{"$error":"#REF!"},{"$error":"#REF!"},{"$error":"#REF!"},{"$error":"#REF!"},{"$error":"#REF!"},{"$error":"#REF!"}]
[null,445,{"$f":"'Veri Girişi'!#REF!","v":{"$error":"#REF!"}},{"$f":"'Belirsizlik Bütçesi'!K441","v":1},{"$f":"'Veri Girişi'!#REF!","v":{"$error":"#REF!"}},{"$error":"#REF!"},{"$error":"#REF!"},{"$error":"#REF!"},{"$error":"#REF!"},{"$error":"#REF!"},{"$error":"#REF!"},{"$error":"#REF!"},{"$error":"#REF!"},{"$error":"#REF!"},{"$error":"#REF!"},{"$error":"#REF!"},{"$error":"#REF!"},{"$error":"#REF!"},{"$error":"#REF!"},{"$error":"#REF!"},{"$error":"#REF!"},{"$error":"#REF!"},{"$error":"#REF!"},{"$error":"#REF!"},{"$error":"#REF!"},{"$error":"#REF!"},{"$error":"#REF!"},{"$error":"#REF!"},{"$error":"#REF!"},{"$error":"#REF!"},{"$error":"#REF!"}]
[null,446,{"$f":"'Veri Girişi'!#REF!","v":{"$error":"#REF!"}},{"$f":"'Belirsizlik Bütçesi'!K442","v":1},{"$f":"'Veri Girişi'!#REF!","v":{"$error":"#REF!"}},{"$error":"#REF!"},{"$error":"#REF!"},{"$error":"#REF!"},{"$error":"#REF!"},{"$error":"#REF!"},{"$error":"#REF!"},{"$error":"#REF!"},{"$error":"#REF!"},{"$error":"#REF!"},{"$error":"#REF!"},{"$error":"#REF!"},{"$error":"#REF!"},{"$error":"#REF!"},{"$error":"#REF!"},{"$error":"#REF!"},{"$error":"#REF!"},{"$error":"#REF!"},{"$error":"#REF!"},{"$error":"#REF!"},{"$error":"#REF!"},{"$error":"#REF!"},{"$error":"#REF!"},{"$error":"#REF!"},{"$error":"#REF!"},{"$error":"#REF!"},{"$error":"#REF!"}]
[null,447,{"$f":"'Veri Girişi'!#REF!","v":{"$error":"#REF!"}},{"$f":"'Belirsizlik Bütçesi'!K443","v":1},{"$f":"'Veri Girişi'!#REF!","v":{"$error":"#REF!"}},{"$error":"#REF!"},{"$error":"#REF!"},{"$error":"#REF!"},{"$error":"#REF!"},{"$error":"#REF!"},{"$error":"#REF!"},{"$error":"#REF!"},{"$error":"#REF!"},{"$error":"#REF!"},{"$error":"#REF!"},{"$error":"#REF!"},{"$error":"#REF!"},{"$error":"#REF!"},{"$error":"#REF!"},{"$error":"#REF!"},{"$error":"#REF!"},{"$error":"#REF!"},{"$error":"#REF!"},{"$error":"#REF!"},{"$error":"#REF!"},{"$error":"#REF!"},{"$error":"#REF!"},{"$error":"#REF!"},{"$error":"#REF!"},{"$error":"#REF!"},{"$error":"#REF!"}]
[null,448,{"$f":"'Veri Girişi'!#REF!","v":{"$error":"#REF!"}},{"$f":"'Belirsizlik Bütçesi'!K444","v":1},{"$f":"'Veri Girişi'!#REF!","v":{"$error":"#REF!"}},{"$error":"#REF!"},{"$error":"#REF!"},{"$error":"#REF!"},{"$error":"#REF!"},{"$error":"#REF!"},{"$error":"#REF!"},{"$error":"#REF!"},{"$error":"#REF!"},{"$error":"#REF!"},{"$error":"#REF!"},{"$error":"#REF!"},{"$error":"#REF!"},{"$error":"#REF!"},{"$error":"#REF!"},{"$error":"#REF!"},{"$error":"#REF!"},{"$error":"#REF!"},{"$error":"#REF!"},{"$error":"#REF!"},{"$error":"#REF!"},{"$error":"#REF!"},{"$error":"#REF!"},{"$error":"#REF!"},{"$error":"#REF!"},{"$error":"#REF!"},{"$error":"#REF!"}]
[null,449,{"$f":"'Veri Girişi'!#REF!","v":{"$error":"#REF!"}},{"$f":"'Belirsizlik Bütçesi'!K445","v":1},{"$f":"'Veri Girişi'!#REF!","v":{"$error":"#REF!"}},{"$f":"VLOOKUP($C441,GERCEKLİK_KONTROL_1_KONS,2,FALSE)","v":{"$error":"#REF!"}},{"$f":"VLOOKUP($C441,GERCEKLİK_KONTROL_1_KONS,5,FALSE)","v":{"$error":"#REF!"}},{"$f":"VLOOKUP($C441,GERCEKLİK_KONTROL_1_KONS,6,FALSE)","v":{"$error":"#REF!"}},{"$f":"VLOOKUP($C441,GERCEKLİK_KONTROL_1_KONS,11,FALSE)","v":{"$error":"#REF!"}},{"$f":"VLOOKUP($C441,GERCEKLİK_KONTROL_1_KONS,12,FALSE)","v":{"$error":"#REF!"}},{"$f":"VLOOKUP($C441,GERCEKLİK_KONTROL_1_KONS,17,FALSE)","v":{"$error":"#REF!"}},{"$f":"VLOOKUP($C441,GERCEKLİK_KONTROL_1_KONS,18,FALSE)","v":{"$error":"#REF!"}},{"$f":"VLOOKUP($C441,GERCEKLİK_KONTROL_1_KONS,23,FALSE)","v":{"$error":"#REF!"}},{"$f":"VLOOKUP($C441,GERCEKLİK_KONTROL_1_KONS,24,FALSE)","v":{"$error":"#REF!"}},{"$f":"VLOOKUP($C441,GERCEKLİK_KONTROL_1_KONS,29,FALSE)","v":{"$error":"#REF!"}},{"$f":"VLOOKUP($C441,GERCEKLİK_KONTROL_1_KONS,30,FALSE)","v":{"$error":"#REF!"}},{"$f":"VLOOKUP($C441,GERCEKLİK_KONTROL_1_KONS,35,FALSE)","v":{"$error":"#REF!"}},{"$f":"VLOOKUP($C441,GERCEKLİK_KONTROL_1_KONS,36,FALSE)","v":{"$error":"#REF!"}},{"$f":"VLOOKUP($C441,GERCEKLIK_KONTROLU_TE_2_KONs,2,FALSE)","v":{"$error":"#REF!"}},{"$f":"VLOOKUP($C441,GERCEKLIK_KONTROLU_TE_2_KONs,5,FALSE)","v":{"$error":"#REF!"}},{"$f":"VLOOKUP($C441,GERCEKLIK_KONTROLU_TE_2_KONs,6,FALSE)","v":{"$error":"#REF!"}},{"$f":"VLOOKUP($C441,GERCEKLIK_KONTROLU_TE_2_KONs,11,FALSE)","v":{"$error":"#REF!"}},{"$f":"VLOOKUP($C441,GERCEKLIK_KONTROLU_TE_2_KONs,12,FALSE)","v":{"$error":"#REF!"}},{"$f":"VLOOKUP($C441,GERCEKLIK_KONTROLU_TE_2_KONs,17,FALSE)","v":{"$error":"#REF!"}},{"$f":"VLOOKUP($C441,GERCEKLIK_KONTROLU_TE_2_KONs,18,FALSE)","v":{"$error":"#REF!"}},{"$f":"VLOOKUP($C441,GERCEKLIK_KONTROLU_TE_2_KONs,23,FALSE)","v":{"$error":"#REF!"}},{"$f":"VLOOKUP($C441,GERCEKLIK_KONTROLU_TE_2_KONs,24,FALSE)","v":{"$error":"#REF!"}},{"$f":"VLOOKUP($C441,GERCEKLIK_KONTROLU_TE_2_KONs,29,FALSE)","v":{"$error":"#REF!"}},{"$f":"VLOOKUP($C441,GERCEKLIK_KONTROLU_TE_2_KONs,30,FALSE)","v":{"$error":"#REF!"}},{"$f":"VLOOKUP($C441,GERCEKLIK_KONTROLU_TE_2_KONs,35,FALSE)","v":{"$error":"#REF!"}},{"$f":"VLOOKUP($C441,GERCEKLIK_KONTROLU_TE_2_KONs,36,FALSE)","v":{"$error":"#REF!"}}]
[null,450,{"$f":"'Veri Girişi'!#REF!","v":{"$error":"#REF!"}},{"$f":"'Belirsizlik Bütçesi'!K446","v":1},{"$f":"'Veri Girişi'!#REF!","v":{"$error":"#REF!"}},{"$error":"#REF!"},{"$error":"#REF!"},{"$error":"#REF!"},{"$error":"#REF!"},{"$error":"#REF!"},{"$error":"#REF!"},{"$error":"#REF!"},{"$error":"#REF!"},{"$error":"#REF!"},{"$error":"#REF!"},{"$error":"#REF!"},{"$error":"#REF!"},{"$error":"#REF!"},{"$error":"#REF!"},{"$error":"#REF!"},{"$error":"#REF!"},{"$error":"#REF!"},{"$error":"#REF!"},{"$error":"#REF!"},{"$error":"#REF!"},{"$error":"#REF!"},{"$error":"#REF!"},{"$error":"#REF!"},{"$error":"#REF!"},{"$error":"#REF!"},{"$error":"#REF!"}]
[null,451,{"$f":"'Veri Girişi'!#REF!","v":{"$error":"#REF!"}},{"$f":"'Belirsizlik Bütçesi'!K447","v":0},{"$f":"'Veri Girişi'!#REF!","v":{"$error":"#REF!"}},{"$error":"#REF!"},{"$error":"#REF!"},{"$error":"#REF!"},{"$error":"#REF!"},{"$error":"#REF!"},{"$error":"#REF!"},{"$error":"#REF!"},{"$error":"#REF!"},{"$error":"#REF!"},{"$error":"#REF!"},{"$error":"#REF!"},{"$error":"#REF!"},{"$error":"#REF!"},{"$error":"#REF!"},{"$error":"#REF!"},{"$error":"#REF!"},{"$error":"#REF!"},{"$error":"#REF!"},{"$error":"#REF!"},{"$error":"#REF!"},{"$error":"#REF!"},{"$error":"#REF!"},{"$error":"#REF!"},{"$error":"#REF!"},{"$error":"#REF!"},{"$error":"#REF!"}]
[null,452,{"$f":"'Veri Girişi'!#REF!","v":{"$error":"#REF!"}},{"$f":"'Belirsizlik Bütçesi'!K448","v":1},{"$f":"'Veri Girişi'!#REF!","v":{"$error":"#REF!"}},{"$error":"#REF!"},{"$error":"#REF!"},{"$error":"#REF!"},{"$error":"#REF!"},{"$error":"#REF!"},{"$error":"#REF!"},{"$error":"#REF!"},{"$error":"#REF!"},{"$error":"#REF!"},{"$error":"#REF!"},{"$error":"#REF!"},{"$error":"#REF!"},{"$error":"#REF!"},{"$error":"#REF!"},{"$error":"#REF!"},{"$error":"#REF!"},{"$error":"#REF!"},{"$error":"#REF!"},{"$error":"#REF!"},{"$error":"#REF!"},{"$error":"#REF!"},{"$error":"#REF!"},{"$error":"#REF!"},{"$error":"#REF!"},{"$error":"#REF!"},{"$error":"#REF!"}]
[null,453,{"$f":"'Veri Girişi'!#REF!","v":{"$error":"#REF!"}},{"$f":"'Belirsizlik Bütçesi'!K449","v":0},{"$f":"'Veri Girişi'!#REF!","v":{"$error":"#REF!"}},{"$error":"#REF!"},{"$error":"#REF!"},{"$error":"#REF!"},{"$error":"#REF!"},{"$error":"#REF!"},{"$error":"#REF!"},{"$error":"#REF!"},{"$error":"#REF!"},{"$error":"#REF!"},{"$error":"#REF!"},{"$error":"#REF!"},{"$error":"#REF!"},{"$error":"#REF!"},{"$error":"#REF!"},{"$error":"#REF!"},{"$error":"#REF!"},{"$error":"#REF!"},{"$error":"#REF!"},{"$error":"#REF!"},{"$error":"#REF!"},{"$error":"#REF!"},{"$error":"#REF!"},{"$error":"#REF!"},{"$error":"#REF!"},{"$error":"#REF!"},{"$error":"#REF!"}]
[null,454,{"$f":"'Veri Girişi'!#REF!","v":{"$error":"#REF!"}},{"$f":"'Belirsizlik Bütçesi'!K450","v":1},{"$f":"'Veri Girişi'!#REF!","v":{"$error":"#REF!"}},{"$error":"#REF!"},{"$error":"#REF!"},{"$error":"#REF!"},{"$error":"#REF!"},{"$error":"#REF!"},{"$error":"#REF!"},{"$error":"#REF!"},{"$error":"#REF!"},{"$error":"#REF!"},{"$error":"#REF!"},{"$error":"#REF!"},{"$error":"#REF!"},{"$error":"#REF!"},{"$error":"#REF!"},{"$error":"#REF!"},{"$error":"#REF!"},{"$error":"#REF!"},{"$error":"#REF!"},{"$error":"#REF!"},{"$error":"#REF!"},{"$error":"#REF!"},{"$error":"#REF!"},{"$error":"#REF!"},{"$error":"#REF!"},{"$error":"#REF!"},{"$error":"#REF!"}]
[null,455,{"$f":"'Veri Girişi'!#REF!","v":{"$error":"#REF!"}},{"$f":"'Belirsizlik Bütçesi'!K451","v":1},{"$f":"'Veri Girişi'!#REF!","v":{"$error":"#REF!"}},{"$error":"#REF!"},{"$error":"#REF!"},{"$error":"#REF!"},{"$error":"#REF!"},{"$error":"#REF!"},{"$error":"#REF!"},{"$error":"#REF!"},{"$error":"#REF!"},{"$error":"#REF!"},{"$error":"#REF!"},{"$error":"#REF!"},{"$error":"#REF!"},{"$error":"#REF!"},{"$error":"#REF!"},{"$error":"#REF!"},{"$error":"#REF!"},{"$error":"#REF!"},{"$error":"#REF!"},{"$error":"#REF!"},{"$error":"#REF!"},{"$error":"#REF!"},{"$error":"#REF!"},{"$error":"#REF!"},{"$error":"#REF!"},{"$error":"#REF!"},{"$error":"#REF!"}]
[null,456,{"$f":"'Veri Girişi'!#REF!","v":{"$error":"#REF!"}},{"$f":"'Belirsizlik Bütçesi'!K452","v":1},{"$f":"'Veri Girişi'!#REF!","v":{"$error":"#REF!"}},{"$error":"#REF!"},{"$error":"#REF!"},{"$error":"#REF!"},{"$error":"#REF!"},{"$error":"#REF!"},{"$error":"#REF!"},{"$error":"#REF!"},{"$error":"#REF!"},{"$error":"#REF!"},{"$error":"#REF!"},{"$error":"#REF!"},{"$error":"#REF!"},{"$error":"#REF!"},{"$error":"#REF!"},{"$error":"#REF!"},{"$error":"#REF!"},{"$error":"#REF!"},{"$error":"#REF!"},{"$error":"#REF!"},{"$error":"#REF!"},{"$error":"#REF!"},{"$error":"#REF!"},{"$error":"#REF!"},{"$error":"#REF!"},{"$error":"#REF!"},{"$error":"#REF!"}]
[null,457,{"$f":"'Veri Girişi'!#REF!","v":{"$error":"#REF!"}},{"$f":"'Belirsizlik Bütçesi'!K453","v":1},{"$f":"'Veri Girişi'!#REF!","v":{"$error":"#REF!"}},{"$error":"#REF!"},{"$error":"#REF!"},{"$error":"#REF!"},{"$error":"#REF!"},{"$error":"#REF!"},{"$error":"#REF!"},{"$error":"#REF!"},{"$error":"#REF!"},{"$error":"#REF!"},{"$error":"#REF!"},{"$error":"#REF!"},{"$error":"#REF!"},{"$error":"#REF!"},{"$error":"#REF!"},{"$error":"#REF!"},{"$error":"#REF!"},{"$error":"#REF!"},{"$error":"#REF!"},{"$error":"#REF!"},{"$error":"#REF!"},{"$error":"#REF!"},{"$error":"#REF!"},{"$error":"#REF!"},{"$error":"#REF!"},{"$error":"#REF!"},{"$error":"#REF!"}]
[null,458,{"$f":"'Veri Girişi'!#REF!","v":{"$error":"#REF!"}},{"$f":"'Belirsizlik Bütçesi'!K454","v":1},{"$f":"'Veri Girişi'!#REF!","v":{"$error":"#REF!"}},{"$error":"#REF!"},{"$error":"#REF!"},{"$error":"#REF!"},{"$error":"#REF!"},{"$error":"#REF!"},{"$error":"#REF!"},{"$error":"#REF!"},{"$error":"#REF!"},{"$error":"#REF!"},{"$error":"#REF!"},{"$error":"#REF!"},{"$error":"#REF!"},{"$error":"#REF!"},{"$error":"#REF!"},{"$error":"#REF!"},{"$error":"#REF!"},{"$error":"#REF!"},{"$error":"#REF!"},{"$error":"#REF!"},{"$error":"#REF!"},{"$error":"#REF!"},{"$error":"#REF!"},{"$error":"#REF!"},{"$error":"#REF!"},{"$error":"#REF!"},{"$error":"#REF!"}]
[null,459,{"$f":"'Veri Girişi'!#REF!","v":{"$error":"#REF!"}},{"$f":"'Belirsizlik Bütçesi'!K455","v":1},{"$f":"'Veri Girişi'!#REF!","v":{"$error":"#REF!"}},{"$error":"#REF!"},{"$error":"#REF!"},{"$error":"#REF!"},{"$error":"#REF!"},{"$error":"#REF!"},{"$error":"#REF!"},{"$error":"#REF!"},{"$error":"#REF!"},{"$error":"#REF!"},{"$error":"#REF!"},{"$error":"#REF!"},{"$error":"#REF!"},{"$error":"#REF!"},{"$error":"#REF!"},{"$error":"#REF!"},{"$error":"#REF!"},{"$error":"#REF!"},{"$error":"#REF!"},{"$error":"#REF!"},{"$error":"#REF!"},{"$error":"#REF!"},{"$error":"#REF!"},{"$error":"#REF!"},{"$error":"#REF!"},{"$error":"#REF!"},{"$error":"#REF!"}]
[null,460,{"$f":"'Veri Girişi'!#REF!","v":{"$error":"#REF!"}},{"$f":"'Belirsizlik Bütçesi'!K456","v":1},{"$f":"'Veri Girişi'!#REF!","v":{"$error":"#REF!"}},{"$error":"#REF!"},{"$error":"#REF!"},{"$error":"#REF!"},{"$error":"#REF!"},{"$error":"#REF!"},{"$error":"#REF!"},{"$error":"#REF!"},{"$error":"#REF!"},{"$error":"#REF!"},{"$error":"#REF!"},{"$error":"#REF!"},{"$error":"#REF!"},{"$error":"#REF!"},{"$error":"#REF!"},{"$error":"#REF!"},{"$error":"#REF!"},{"$error":"#REF!"},{"$error":"#REF!"},{"$error":"#REF!"},{"$error":"#REF!"},{"$error":"#REF!"},{"$error":"#REF!"},{"$error":"#REF!"},{"$error":"#REF!"},{"$error":"#REF!"},{"$error":"#REF!"}]
[null,461,{"$f":"'Veri Girişi'!#REF!","v":{"$error":"#REF!"}},{"$f":"'Belirsizlik Bütçesi'!K457","v":0},{"$f":"'Veri Girişi'!#REF!","v":{"$error":"#REF!"}},{"$error":"#REF!"},{"$error":"#REF!"},{"$error":"#REF!"},{"$error":"#REF!"},{"$error":"#REF!"},{"$error":"#REF!"},{"$error":"#REF!"},{"$error":"#REF!"},{"$error":"#REF!"},{"$error":"#REF!"},{"$error":"#REF!"},{"$error":"#REF!"},{"$error":"#REF!"},{"$error":"#REF!"},{"$error":"#REF!"},{"$error":"#REF!"},{"$error":"#REF!"},{"$error":"#REF!"},{"$error":"#REF!"},{"$error":"#REF!"},{"$error":"#REF!"},{"$error":"#REF!"},{"$error":"#REF!"},{"$error":"#REF!"},{"$error":"#REF!"},{"$error":"#REF!"}]
[null,462,{"$f":"'Veri Girişi'!#REF!","v":{"$error":"#REF!"}},{"$f":"'Belirsizlik Bütçesi'!K458","v":0},{"$f":"'Veri Girişi'!#REF!","v":{"$error":"#REF!"}},{"$error":"#REF!"},{"$error":"#REF!"},{"$error":"#REF!"},{"$error":"#REF!"},{"$error":"#REF!"},{"$error":"#REF!"},{"$error":"#REF!"},{"$error":"#REF!"},{"$error":"#REF!"},{"$error":"#REF!"},{"$error":"#REF!"},{"$error":"#REF!"},{"$error":"#REF!"},{"$error":"#REF!"},{"$error":"#REF!"},{"$error":"#REF!"},{"$error":"#REF!"},{"$error":"#REF!"},{"$error":"#REF!"},{"$error":"#REF!"},{"$error":"#REF!"},{"$error":"#REF!"},{"$error":"#REF!"},{"$error":"#REF!"},{"$error":"#REF!"},{"$error":"#REF!"}]
[null,463,{"$f":"'Veri Girişi'!#REF!","v":{"$error":"#REF!"}},{"$f":"'Belirsizlik Bütçesi'!K459","v":0},{"$f":"'Veri Girişi'!#REF!","v":{"$error":"#REF!"}},{"$error":"#REF!"},{"$error":"#REF!"},{"$error":"#REF!"},{"$error":"#REF!"},{"$error":"#REF!"},{"$error":"#REF!"},{"$error":"#REF!"},{"$error":"#REF!"},{"$error":"#REF!"},{"$error":"#REF!"},{"$error":"#REF!"},{"$error":"#REF!"},{"$error":"#REF!"},{"$error":"#REF!"},{"$error":"#REF!"},{"$error":"#REF!"},{"$error":"#REF!"},{"$error":"#REF!"},{"$error":"#REF!"},{"$error":"#REF!"},{"$error":"#REF!"},{"$error":"#REF!"},{"$error":"#REF!"},{"$error":"#REF!"},{"$error":"#REF!"},{"$error":"#REF!"}]
[null,464,{"$f":"'Veri Girişi'!#REF!","v":{"$error":"#REF!"}},{"$f":"'Belirsizlik Bütçesi'!K460","v":1},{"$f":"'Veri Girişi'!#REF!","v":{"$error":"#REF!"}},{"$error":"#REF!"},{"$error":"#REF!"},{"$error":"#REF!"},{"$error":"#REF!"},{"$error":"#REF!"},{"$error":"#REF!"},{"$error":"#REF!"},{"$error":"#REF!"},{"$error":"#REF!"},{"$error":"#REF!"},{"$error":"#REF!"},{"$error":"#REF!"},{"$error":"#REF!"},{"$error":"#REF!"},{"$error":"#REF!"},{"$error":"#REF!"},{"$error":"#REF!"},{"$error":"#REF!"},{"$error":"#REF!"},{"$error":"#REF!"},{"$error":"#REF!"},{"$error":"#REF!"},{"$error":"#REF!"},{"$error":"#REF!"},{"$error":"#REF!"},{"$error":"#REF!"}]
[null,465,{"$f":"'Veri Girişi'!#REF!","v":{"$error":"#REF!"}},{"$f":"'Belirsizlik Bütçesi'!K461","v":1},{"$f":"'Veri Girişi'!#REF!","v":{"$error":"#REF!"}},{"$error":"#REF!"},{"$error":"#REF!"},{"$error":"#REF!"},{"$error":"#REF!"},{"$error":"#REF!"},{"$error":"#REF!"},{"$error":"#REF!"},{"$error":"#REF!"},{"$error":"#REF!"},{"$error":"#REF!"},{"$error":"#REF!"},{"$error":"#REF!"},{"$error":"#REF!"},{"$error":"#REF!"},{"$error":"#REF!"},{"$error":"#REF!"},{"$error":"#REF!"},{"$error":"#REF!"},{"$error":"#REF!"},{"$error":"#REF!"},{"$error":"#REF!"},{"$error":"#REF!"},{"$error":"#REF!"},{"$error":"#REF!"},{"$error":"#REF!"},{"$error":"#REF!"}]
[null,466,{"$f":"'Veri Girişi'!#REF!","v":{"$error":"#REF!"}},{"$f":"'Belirsizlik Bütçesi'!K462","v":1},{"$f":"'Veri Girişi'!#REF!","v":{"$error":"#REF!"}},{"$error":"#REF!"},{"$error":"#REF!"},{"$error":"#REF!"},{"$error":"#REF!"},{"$error":"#REF!"},{"$error":"#REF!"},{"$error":"#REF!"},{"$error":"#REF!"},{"$error":"#REF!"},{"$error":"#REF!"},{"$error":"#REF!"},{"$error":"#REF!"},{"$error":"#REF!"},{"$error":"#REF!"},{"$error":"#REF!"},{"$error":"#REF!"},{"$error":"#REF!"},{"$error":"#REF!"},{"$error":"#REF!"},{"$error":"#REF!"},{"$error":"#REF!"},{"$error":"#REF!"},{"$error":"#REF!"},{"$error":"#REF!"},{"$error":"#REF!"},{"$error":"#REF!"}]
[null,467,{"$f":"'Veri Girişi'!#REF!","v":{"$error":"#REF!"}},{"$f":"'Belirsizlik Bütçesi'!K463","v":1},{"$f":"'Veri Girişi'!#REF!","v":{"$error":"#REF!"}},{"$error":"#REF!"},{"$error":"#REF!"},{"$error":"#REF!"},{"$error":"#REF!"},{"$error":"#REF!"},{"$error":"#REF!"},{"$error":"#REF!"},{"$error":"#REF!"},{"$error":"#REF!"},{"$error":"#REF!"},{"$error":"#REF!"},{"$error":"#REF!"},{"$error":"#REF!"},{"$error":"#REF!"},{"$error":"#REF!"},{"$error":"#REF!"},{"$error":"#REF!"},{"$error":"#REF!"},{"$error":"#REF!"},{"$error":"#REF!"},{"$error":"#REF!"},{"$error":"#REF!"},{"$error":"#REF!"},{"$error":"#REF!"},{"$error":"#REF!"},{"$error":"#REF!"}]
[null,468,{"$f":"'Veri Girişi'!#REF!","v":{"$error":"#REF!"}},{"$f":"'Belirsizlik Bütçesi'!K464","v":1},{"$f":"'Veri Girişi'!#REF!","v":{"$error":"#REF!"}},{"$error":"#REF!"},{"$error":"#REF!"},{"$error":"#REF!"},{"$error":"#REF!"},{"$error":"#REF!"},{"$error":"#REF!"},{"$error":"#REF!"},{"$error":"#REF!"},{"$error":"#REF!"},{"$error":"#REF!"},{"$error":"#REF!"},{"$error":"#REF!"},{"$error":"#REF!"},{"$error":"#REF!"},{"$error":"#REF!"},{"$error":"#REF!"},{"$error":"#REF!"},{"$error":"#REF!"},{"$error":"#REF!"},{"$error":"#REF!"},{"$error":"#REF!"},{"$error":"#REF!"},{"$error":"#REF!"},{"$error":"#REF!"},{"$error":"#REF!"},{"$error":"#REF!"}]
[null,469,{"$f":"'Veri Girişi'!#REF!","v":{"$error":"#REF!"}},{"$f":"'Belirsizlik Bütçesi'!K465","v":1},{"$f":"'Veri Girişi'!#REF!","v":{"$error":"#REF!"}},{"$error":"#REF!"},{"$error":"#REF!"},{"$error":"#REF!"},{"$error":"#REF!"},{"$error":"#REF!"},{"$error":"#REF!"},{"$error":"#REF!"},{"$error":"#REF!"},{"$error":"#REF!"},{"$error":"#REF!"},{"$error":"#REF!"},{"$error":"#REF!"},{"$error":"#REF!"},{"$error":"#REF!"},{"$error":"#REF!"},{"$error":"#REF!"},{"$error":"#REF!"},{"$error":"#REF!"},{"$error":"#REF!"},{"$error":"#REF!"},{"$error":"#REF!"},{"$error":"#REF!"},{"$error":"#REF!"},{"$error":"#REF!"},{"$error":"#REF!"},{"$error":"#REF!"}]
[null,470,{"$f":"'Veri Girişi'!#REF!","v":{"$error":"#REF!"}},{"$f":"'Belirsizlik Bütçesi'!K466","v":1},{"$f":"'Veri Girişi'!#REF!","v":{"$error":"#REF!"}},{"$error":"#REF!"},{"$error":"#REF!"},{"$error":"#REF!"},{"$error":"#REF!"},{"$error":"#REF!"},{"$error":"#REF!"},{"$error":"#REF!"},{"$error":"#REF!"},{"$error":"#REF!"},{"$error":"#REF!"},{"$error":"#REF!"},{"$error":"#REF!"},{"$error":"#REF!"},{"$error":"#REF!"},{"$error":"#REF!"},{"$error":"#REF!"},{"$error":"#REF!"},{"$error":"#REF!"},{"$error":"#REF!"},{"$error":"#REF!"},{"$error":"#REF!"},{"$error":"#REF!"},{"$error":"#REF!"},{"$error":"#REF!"},{"$error":"#REF!"},{"$error":"#REF!"}]
[null,471,{"$f":"'Veri Girişi'!#REF!","v":{"$error":"#REF!"}},{"$f":"'Belirsizlik Bütçesi'!K467","v":1},{"$f":"'Veri Girişi'!#REF!","v":{"$error":"#REF!"}},{"$error":"#REF!"},{"$error":"#REF!"},{"$error":"#REF!"},{"$error":"#REF!"},{"$error":"#REF!"},{"$error":"#REF!"},{"$error":"#REF!"},{"$error":"#REF!"},{"$error":"#REF!"},{"$error":"#REF!"},{"$error":"#REF!"},{"$error":"#REF!"},{"$error":"#REF!"},{"$error":"#REF!"},{"$error":"#REF!"},{"$error":"#REF!"},{"$error":"#REF!"},{"$error":"#REF!"},{"$error":"#REF!"},{"$error":"#REF!"},{"$error":"#REF!"},{"$error":"#REF!"},{"$error":"#REF!"},{"$error":"#REF!"},{"$error":"#REF!"},{"$error":"#REF!"}]
[null,472,{"$f":"'Veri Girişi'!#REF!","v":{"$error":"#REF!"}},{"$f":"'Belirsizlik Bütçesi'!K468","v":1},{"$f":"'Veri Girişi'!#REF!","v":{"$error":"#REF!"}},{"$error":"#REF!"},{"$error":"#REF!"},{"$error":"#REF!"},{"$error":"#REF!"},{"$error":"#REF!"},{"$error":"#REF!"},{"$error":"#REF!"},{"$error":"#REF!"},{"$error":"#REF!"},{"$error":"#REF!"},{"$error":"#REF!"},{"$error":"#REF!"},{"$error":"#REF!"},{"$error":"#REF!"},{"$error":"#REF!"},{"$error":"#REF!"},{"$error":"#REF!"},{"$error":"#REF!"},{"$error":"#REF!"},{"$error":"#REF!"},{"$error":"#REF!"},{"$error":"#REF!"},{"$error":"#REF!"},{"$error":"#REF!"},{"$error":"#REF!"},{"$error":"#REF!"}]
[null,473,{"$f":"'Veri Girişi'!#REF!","v":{"$error":"#REF!"}},{"$f":"'Belirsizlik Bütçesi'!K469","v":1},{"$f":"'Veri Girişi'!#REF!","v":{"$error":"#REF!"}},{"$error":"#REF!"},{"$error":"#REF!"},{"$error":"#REF!"},{"$error":"#REF!"},{"$error":"#REF!"},{"$error":"#REF!"},{"$error":"#REF!"},{"$error":"#REF!"},{"$error":"#REF!"},{"$error":"#REF!"},{"$error":"#REF!"},{"$error":"#REF!"},{"$error":"#REF!"},{"$error":"#REF!"},{"$error":"#REF!"},{"$error":"#REF!"},{"$error":"#REF!"},{"$error":"#REF!"},{"$error":"#REF!"},{"$error":"#REF!"},{"$error":"#REF!"},{"$error":"#REF!"},{"$error":"#REF!"},{"$error":"#REF!"},{"$error":"#REF!"},{"$error":"#REF!"}]
[null,474,{"$f":"'Veri Girişi'!#REF!","v":{"$error":"#REF!"}},{"$f":"'Belirsizlik Bütçesi'!K470","v":1},{"$f":"'Veri Girişi'!#REF!","v":{"$error":"#REF!"}},{"$error":"#REF!"},{"$error":"#REF!"},{"$error":"#REF!"},{"$error":"#REF!"},{"$error":"#REF!"},{"$error":"#REF!"},{"$error":"#REF!"},{"$error":"#REF!"},{"$error":"#REF!"},{"$error":"#REF!"},{"$error":"#REF!"},{"$error":"#REF!"},{"$error":"#REF!"},{"$error":"#REF!"},{"$error":"#REF!"},{"$error":"#REF!"},{"$error":"#REF!"},{"$error":"#REF!"},{"$error":"#REF!"},{"$error":"#REF!"},{"$error":"#REF!"},{"$error":"#REF!"},{"$error":"#REF!"},{"$error":"#REF!"},{"$error":"#REF!"},{"$error":"#REF!"}]
[null,475,{"$f":"'Veri Girişi'!#REF!","v":{"$error":"#REF!"}},{"$f":"'Belirsizlik Bütçesi'!K471","v":0},{"$f":"'Veri Girişi'!#REF!","v":{"$error":"#REF!"}},{"$error":"#REF!"},{"$error":"#REF!"},{"$error":"#REF!"},{"$error":"#REF!"},{"$error":"#REF!"},{"$error":"#REF!"},{"$error":"#REF!"},{"$error":"#REF!"},{"$error":"#REF!"},{"$error":"#REF!"},{"$error":"#REF!"},{"$error":"#REF!"},{"$error":"#REF!"},{"$error":"#REF!"},{"$error":"#REF!"},{"$error":"#REF!"},{"$error":"#REF!"},{"$error":"#REF!"},{"$error":"#REF!"},{"$error":"#REF!"},{"$error":"#REF!"},{"$error":"#REF!"},{"$error":"#REF!"},{"$error":"#REF!"},{"$error":"#REF!"},{"$error":"#REF!"}]
[null,476,{"$f":"'Veri Girişi'!#REF!","v":{"$error":"#REF!"}},{"$f":"'Belirsizlik Bütçesi'!K472","v":0},{"$f":"'Veri Girişi'!#REF!","v":{"$error":"#REF!"}},{"$error":"#REF!"},{"$error":"#REF!"},{"$error":"#REF!"},{"$error":"#REF!"},{"$error":"#REF!"},{"$error":"#REF!"},{"$error":"#REF!"},{"$error":"#REF!"},{"$error":"#REF!"},{"$error":"#REF!"},{"$error":"#REF!"},{"$error":"#REF!"},{"$error":"#REF!"},{"$error":"#REF!"},{"$error":"#REF!"},{"$error":"#REF!"},{"$error":"#REF!"},{"$error":"#REF!"},{"$error":"#REF!"},{"$error":"#REF!"},{"$error":"#REF!"},{"$error":"#REF!"},{"$error":"#REF!"},{"$error":"#REF!"},{"$error":"#REF!"},{"$error":"#REF!"}]
[null,477,{"$f":"'Veri Girişi'!#REF!","v":{"$error":"#REF!"}},{"$f":"'Belirsizlik Bütçesi'!K473","v":0},{"$f":"'Veri Girişi'!#REF!","v":{"$error":"#REF!"}},{"$error":"#REF!"},{"$error":"#REF!"},{"$error":"#REF!"},{"$error":"#REF!"},{"$error":"#REF!"},{"$error":"#REF!"},{"$error":"#REF!"},{"$error":"#REF!"},{"$error":"#REF!"},{"$error":"#REF!"},{"$error":"#REF!"},{"$error":"#REF!"},{"$error":"#REF!"},{"$error":"#REF!"},{"$error":"#REF!"},{"$error":"#REF!"},{"$error":"#REF!"},{"$error":"#REF!"},{"$error":"#REF!"},{"$error":"#REF!"},{"$error":"#REF!"},{"$error":"#REF!"},{"$error":"#REF!"},{"$error":"#REF!"},{"$error":"#REF!"},{"$error":"#REF!"}]
[null,478,{"$f":"'Veri Girişi'!#REF!","v":{"$error":"#REF!"}},{"$f":"'Belirsizlik Bütçesi'!K474","v":1},{"$f":"'Veri Girişi'!#REF!","v":{"$error":"#REF!"}},{"$error":"#REF!"},{"$error":"#REF!"},{"$error":"#REF!"},{"$error":"#REF!"},{"$error":"#REF!"},{"$error":"#REF!"},{"$error":"#REF!"},{"$error":"#REF!"},{"$error":"#REF!"},{"$error":"#REF!"},{"$error":"#REF!"},{"$error":"#REF!"},{"$error":"#REF!"},{"$error":"#REF!"},{"$error":"#REF!"},{"$error":"#REF!"},{"$error":"#REF!"},{"$error":"#REF!"},{"$error":"#REF!"},{"$error":"#REF!"},{"$error":"#REF!"},{"$error":"#REF!"},{"$error":"#REF!"},{"$error":"#REF!"},{"$error":"#REF!"},{"$error":"#REF!"}]
[null,479,{"$f":"'Veri Girişi'!#REF!","v":{"$error":"#REF!"}},{"$f":"'Belirsizlik Bütçesi'!K475","v":1},{"$f":"'Veri Girişi'!#REF!","v":{"$error":"#REF!"}},{"$error":"#REF!"},{"$error":"#REF!"},{"$error":"#REF!"},{"$error":"#REF!"},{"$error":"#REF!"},{"$error":"#REF!"},{"$error":"#REF!"},{"$error":"#REF!"},{"$error":"#REF!"},{"$error":"#REF!"},{"$error":"#REF!"},{"$error":"#REF!"},{"$error":"#REF!"},{"$error":"#REF!"},{"$error":"#REF!"},{"$error":"#REF!"},{"$error":"#REF!"},{"$error":"#REF!"},{"$error":"#REF!"},{"$error":"#REF!"},{"$error":"#REF!"},{"$error":"#REF!"},{"$error":"#REF!"},{"$error":"#REF!"},{"$error":"#REF!"},{"$error":"#REF!"}]
[null,480,{"$f":"'Veri Girişi'!#REF!","v":{"$error":"#REF!"}},{"$f":"'Belirsizlik Bütçesi'!K476","v":0},{"$f":"'Veri Girişi'!#REF!","v":{"$error":"#REF!"}},{"$error":"#REF!"},{"$error":"#REF!"},{"$error":"#REF!"},{"$error":"#REF!"},{"$error":"#REF!"},{"$error":"#REF!"},{"$error":"#REF!"},{"$error":"#REF!"},{"$error":"#REF!"},{"$error":"#REF!"},{"$error":"#REF!"},{"$error":"#REF!"},{"$error":"#REF!"},{"$error":"#REF!"},{"$error":"#REF!"},{"$error":"#REF!"},{"$error":"#REF!"},{"$error":"#REF!"},{"$error":"#REF!"},{"$error":"#REF!"},{"$error":"#REF!"},{"$error":"#REF!"},{"$error":"#REF!"},{"$error":"#REF!"},{"$error":"#REF!"},{"$error":"#REF!"}]
[null,481,{"$f":"'Veri Girişi'!#REF!","v":{"$error":"#REF!"}},{"$f":"'Belirsizlik Bütçesi'!K477","v":0},{"$f":"'Veri Girişi'!#REF!","v":{"$error":"#REF!"}},{"$error":"#REF!"},{"$error":"#REF!"},{"$error":"#REF!"},{"$error":"#REF!"},{"$error":"#REF!"},{"$error":"#REF!"},{"$error":"#REF!"},{"$error":"#REF!"},{"$error":"#REF!"},{"$error":"#REF!"},{"$error":"#REF!"},{"$error":"#REF!"},{"$error":"#REF!"},{"$error":"#REF!"},{"$error":"#REF!"},{"$error":"#REF!"},{"$error":"#REF!"},{"$error":"#REF!"},{"$error":"#REF!"},{"$error":"#REF!"},{"$error":"#REF!"},{"$error":"#REF!"},{"$error":"#REF!"},{"$error":"#REF!"},{"$error":"#REF!"},{"$error":"#REF!"}]
[null,482,{"$f":"'Veri Girişi'!#REF!","v":{"$error":"#REF!"}},{"$f":"'Belirsizlik Bütçesi'!K478","v":1},{"$f":"'Veri Girişi'!#REF!","v":{"$error":"#REF!"}},{"$error":"#REF!"},{"$error":"#REF!"},{"$error":"#REF!"},{"$error":"#REF!"},{"$error":"#REF!"},{"$error":"#REF!"},{"$error":"#REF!"},{"$error":"#REF!"},{"$error":"#REF!"},{"$error":"#REF!"},{"$error":"#REF!"},{"$error":"#REF!"},{"$error":"#REF!"},{"$error":"#REF!"},{"$error":"#REF!"},{"$error":"#REF!"},{"$error":"#REF!"},{"$error":"#REF!"},{"$error":"#REF!"},{"$error":"#REF!"},{"$error":"#REF!"},{"$error":"#REF!"},{"$error":"#REF!"},{"$error":"#REF!"},{"$error":"#REF!"},{"$error":"#REF!"}]
[null,483,{"$f":"'Veri Girişi'!#REF!","v":{"$error":"#REF!"}},{"$f":"'Belirsizlik Bütçesi'!K479","v":1},{"$f":"'Veri Girişi'!#REF!","v":{"$error":"#REF!"}},{"$error":"#REF!"},{"$error":"#REF!"},{"$error":"#REF!"},{"$error":"#REF!"},{"$error":"#REF!"},{"$error":"#REF!"},{"$error":"#REF!"},{"$error":"#REF!"},{"$error":"#REF!"},{"$error":"#REF!"},{"$error":"#REF!"},{"$error":"#REF!"},{"$error":"#REF!"},{"$error":"#REF!"},{"$error":"#REF!"},{"$error":"#REF!"},{"$error":"#REF!"},{"$error":"#REF!"},{"$error":"#REF!"},{"$error":"#REF!"},{"$error":"#REF!"},{"$error":"#REF!"},{"$error":"#REF!"},{"$error":"#REF!"},{"$error":"#REF!"},{"$error":"#REF!"}]
[null,484,{"$f":"'Veri Girişi'!#REF!","v":{"$error":"#REF!"}},{"$f":"'Belirsizlik Bütçesi'!K480","v":0},{"$f":"'Veri Girişi'!#REF!","v":{"$error":"#REF!"}},{"$error":"#REF!"},{"$error":"#REF!"},{"$error":"#REF!"},{"$error":"#REF!"},{"$error":"#REF!"},{"$error":"#REF!"},{"$error":"#REF!"},{"$error":"#REF!"},{"$error":"#REF!"},{"$error":"#REF!"},{"$error":"#REF!"},{"$error":"#REF!"},{"$error":"#REF!"},{"$error":"#REF!"},{"$error":"#REF!"},{"$error":"#REF!"},{"$error":"#REF!"},{"$error":"#REF!"},{"$error":"#REF!"},{"$error":"#REF!"},{"$error":"#REF!"},{"$error":"#REF!"},{"$error":"#REF!"},{"$error":"#REF!"},{"$error":"#REF!"},{"$error":"#REF!"}]
[null,485,{"$f":"'Veri Girişi'!#REF!","v":{"$error":"#REF!"}},{"$f":"'Belirsizlik Bütçesi'!K481","v":1},{"$f":"'Veri Girişi'!#REF!","v":{"$error":"#REF!"}},{"$error":"#REF!"},{"$error":"#REF!"},{"$error":"#REF!"},{"$error":"#REF!"},{"$error":"#REF!"},{"$error":"#REF!"},{"$error":"#REF!"},{"$error":"#REF!"},{"$error":"#REF!"},{"$error":"#REF!"},{"$error":"#REF!"},{"$error":"#REF!"},{"$error":"#REF!"},{"$error":"#REF!"},{"$error":"#REF!"},{"$error":"#REF!"},{"$error":"#REF!"},{"$error":"#REF!"},{"$error":"#REF!"},{"$error":"#REF!"},{"$error":"#REF!"},{"$error":"#REF!"},{"$error":"#REF!"},{"$error":"#REF!"},{"$error":"#REF!"},{"$error":"#REF!"}]
[null,486,{"$f":"'Veri Girişi'!#REF!","v":{"$error":"#REF!"}},{"$f":"'Belirsizlik Bütçesi'!K482","v":1},{"$f":"'Veri Girişi'!#REF!","v":{"$error":"#REF!"}},{"$error":"#REF!"},{"$error":"#REF!"},{"$error":"#REF!"},{"$error":"#REF!"},{"$error":"#REF!"},{"$error":"#REF!"},{"$error":"#REF!"},{"$error":"#REF!"},{"$error":"#REF!"},{"$error":"#REF!"},{"$error":"#REF!"},{"$error":"#REF!"},{"$error":"#REF!"},{"$error":"#REF!"},{"$error":"#REF!"},{"$error":"#REF!"},{"$error":"#REF!"},{"$error":"#REF!"},{"$error":"#REF!"},{"$error":"#REF!"},{"$error":"#REF!"},{"$error":"#REF!"},{"$error":"#REF!"},{"$error":"#REF!"},{"$error":"#REF!"},{"$error":"#REF!"}]
[null,487,{"$f":"'Veri Girişi'!#REF!","v":{"$error":"#REF!"}},{"$f":"'Belirsizlik Bütçesi'!K483","v":1},{"$f":"'Veri Girişi'!#REF!","v":{"$error":"#REF!"}},{"$error":"#REF!"},{"$error":"#REF!"},{"$error":"#REF!"},{"$error":"#REF!"},{"$error":"#REF!"},{"$error":"#REF!"},{"$error":"#REF!"},{"$error":"#REF!"},{"$error":"#REF!"},{"$error":"#REF!"},{"$error":"#REF!"},{"$error":"#REF!"},{"$error":"#REF!"},{"$error":"#REF!"},{"$error":"#REF!"},{"$error":"#REF!"},{"$error":"#REF!"},{"$error":"#REF!"},{"$error":"#REF!"},{"$error":"#REF!"},{"$error":"#REF!"},{"$error":"#REF!"},{"$error":"#REF!"},{"$error":"#REF!"},{"$error":"#REF!"},{"$error":"#REF!"}]
[null,488,{"$f":"'Veri Girişi'!#REF!","v":{"$error":"#REF!"}},{"$f":"'Belirsizlik Bütçesi'!K484","v":1},{"$f":"'Veri Girişi'!#REF!","v":{"$error":"#REF!"}},{"$error":"#REF!"},{"$error":"#REF!"},{"$error":"#REF!"},{"$error":"#REF!"},{"$error":"#REF!"},{"$error":"#REF!"},{"$error":"#REF!"},{"$error":"#REF!"},{"$error":"#REF!"},{"$error":"#REF!"},{"$error":"#REF!"},{"$error":"#REF!"},{"$error":"#REF!"},{"$error":"#REF!"},{"$error":"#REF!"},{"$error":"#REF!"},{"$error":"#REF!"},{"$error":"#REF!"},{"$error":"#REF!"},{"$error":"#REF!"},{"$error":"#REF!"},{"$error":"#REF!"},{"$error":"#REF!"},{"$error":"#REF!"},{"$error":"#REF!"},{"$error":"#REF!"}]
[null,489,{"$f":"'Veri Girişi'!#REF!","v":{"$error":"#REF!"}},{"$f":"'Belirsizlik Bütçesi'!K485","v":0},{"$f":"'Veri Girişi'!#REF!","v":{"$error":"#REF!"}},{"$error":"#REF!"},{"$error":"#REF!"},{"$error":"#REF!"},{"$error":"#REF!"},{"$error":"#REF!"},{"$error":"#REF!"},{"$error":"#REF!"},{"$error":"#REF!"},{"$error":"#REF!"},{"$error":"#REF!"},{"$error":"#REF!"},{"$error":"#REF!"},{"$error":"#REF!"},{"$error":"#REF!"},{"$error":"#REF!"},{"$error":"#REF!"},{"$error":"#REF!"},{"$error":"#REF!"},{"$error":"#REF!"},{"$error":"#REF!"},{"$error":"#REF!"},{"$error":"#REF!"},{"$error":"#REF!"},{"$error":"#REF!"},{"$error":"#REF!"},{"$error":"#REF!"}]
[null,490,{"$f":"'Veri Girişi'!#REF!","v":{"$error":"#REF!"}},{"$f":"'Belirsizlik Bütçesi'!K486","v":1},{"$f":"'Veri Girişi'!#REF!","v":{"$error":"#REF!"}},{"$error":"#REF!"},{"$error":"#REF!"},{"$error":"#REF!"},{"$error":"#REF!"},{"$error":"#REF!"},{"$error":"#REF!"},{"$error":"#REF!"},{"$error":"#REF!"},{"$error":"#REF!"},{"$error":"#REF!"},{"$error":"#REF!"},{"$error":"#REF!"},{"$error":"#REF!"},{"$error":"#REF!"},{"$error":"#REF!"},{"$error":"#REF!"},{"$error":"#REF!"},{"$error":"#REF!"},{"$error":"#REF!"},{"$error":"#REF!"},{"$error":"#REF!"},{"$error":"#REF!"},{"$error":"#REF!"},{"$error":"#REF!"},{"$error":"#REF!"},{"$error":"#REF!"}]
[null,491,{"$f":"'Veri Girişi'!#REF!","v":{"$error":"#REF!"}},{"$f":"'Belirsizlik Bütçesi'!K487","v":1},{"$f":"'Veri Girişi'!#REF!","v":{"$error":"#REF!"}},{"$error":"#REF!"},{"$error":"#REF!"},{"$error":"#REF!"},{"$error":"#REF!"},{"$error":"#REF!"},{"$error":"#REF!"},{"$error":"#REF!"},{"$error":"#REF!"},{"$error":"#REF!"},{"$error":"#REF!"},{"$error":"#REF!"},{"$error":"#REF!"},{"$error":"#REF!"},{"$error":"#REF!"},{"$error":"#REF!"},{"$error":"#REF!"},{"$error":"#REF!"},{"$error":"#REF!"},{"$error":"#REF!"},{"$error":"#REF!"},{"$error":"#REF!"},{"$error":"#REF!"},{"$error":"#REF!"},{"$error":"#REF!"},{"$error":"#REF!"},{"$error":"#REF!"}]
[null,492,{"$f":"'Veri Girişi'!#REF!","v":{"$error":"#REF!"}},{"$f":"'Belirsizlik Bütçesi'!K488","v":1},{"$f":"'Veri Girişi'!#REF!","v":{"$error":"#REF!"}},{"$error":"#REF!"},{"$error":"#REF!"},{"$error":"#REF!"},{"$error":"#REF!"},{"$error":"#REF!"},{"$error":"#REF!"},{"$error":"#REF!"},{"$error":"#REF!"},{"$error":"#REF!"},{"$error":"#REF!"},{"$error":"#REF!"},{"$error":"#REF!"},{"$error":"#REF!"},{"$error":"#REF!"},{"$error":"#REF!"},{"$error":"#REF!"},{"$error":"#REF!"},{"$error":"#REF!"},{"$error":"#REF!"},{"$error":"#REF!"},{"$error":"#REF!"},{"$error":"#REF!"},{"$error":"#REF!"},{"$error":"#REF!"},{"$error":"#REF!"},{"$error":"#REF!"}]
[null,493,{"$f":"'Veri Girişi'!#REF!","v":{"$error":"#REF!"}},{"$f":"'Belirsizlik Bütçesi'!K489","v":1},{"$f":"'Veri Girişi'!#REF!","v":{"$error":"#REF!"}},{"$error":"#REF!"},{"$error":"#REF!"},{"$error":"#REF!"},{"$error":"#REF!"},{"$error":"#REF!"},{"$error":"#REF!"},{"$error":"#REF!"},{"$error":"#REF!"},{"$error":"#REF!"},{"$error":"#REF!"},{"$error":"#REF!"},{"$error":"#REF!"},{"$error":"#REF!"},{"$error":"#REF!"},{"$error":"#REF!"},{"$error":"#REF!"},{"$error":"#REF!"},{"$error":"#REF!"},{"$error":"#REF!"},{"$error":"#REF!"},{"$error":"#REF!"},{"$error":"#REF!"},{"$error":"#REF!"},{"$error":"#REF!"},{"$error":"#REF!"},{"$error":"#REF!"}]
[null,494,{"$f":"'Veri Girişi'!#REF!","v":{"$error":"#REF!"}},{"$f":"'Belirsizlik Bütçesi'!K490","v":0},{"$f":"'Veri Girişi'!#REF!","v":{"$error":"#REF!"}},{"$error":"#REF!"},{"$error":"#REF!"},{"$error":"#REF!"},{"$error":"#REF!"},{"$error":"#REF!"},{"$error":"#REF!"},{"$error":"#REF!"},{"$error":"#REF!"},{"$error":"#REF!"},{"$error":"#REF!"},{"$error":"#REF!"},{"$error":"#REF!"},{"$error":"#REF!"},{"$error":"#REF!"},{"$error":"#REF!"},{"$error":"#REF!"},{"$error":"#REF!"},{"$error":"#REF!"},{"$error":"#REF!"},{"$error":"#REF!"},{"$error":"#REF!"},{"$error":"#REF!"},{"$error":"#REF!"},{"$error":"#REF!"},{"$error":"#REF!"},{"$error":"#REF!"}]
[null,495,{"$f":"'Veri Girişi'!#REF!","v":{"$error":"#REF!"}},{"$f":"'Belirsizlik Bütçesi'!K491","v":0},{"$f":"'Veri Girişi'!#REF!","v":{"$error":"#REF!"}},{"$error":"#REF!"},{"$error":"#REF!"},{"$error":"#REF!"},{"$error":"#REF!"},{"$error":"#REF!"},{"$error":"#REF!"},{"$error":"#REF!"},{"$error":"#REF!"},{"$error":"#REF!"},{"$error":"#REF!"},{"$error":"#REF!"},{"$error":"#REF!"},{"$error":"#REF!"},{"$error":"#REF!"},{"$error":"#REF!"},{"$error":"#REF!"},{"$error":"#REF!"},{"$error":"#REF!"},{"$error":"#REF!"},{"$error":"#REF!"},{"$error":"#REF!"},{"$error":"#REF!"},{"$error":"#REF!"},{"$error":"#REF!"},{"$error":"#REF!"},{"$error":"#REF!"}]
[null,496,{"$f":"'Veri Girişi'!#REF!","v":{"$error":"#REF!"}},{"$f":"'Belirsizlik Bütçesi'!K492","v":0},{"$f":"'Veri Girişi'!#REF!","v":{"$error":"#REF!"}},{"$error":"#REF!"},{"$error":"#REF!"},{"$error":"#REF!"},{"$error":"#REF!"},{"$error":"#REF!"},{"$error":"#REF!"},{"$error":"#REF!"},{"$error":"#REF!"},{"$error":"#REF!"},{"$error":"#REF!"},{"$error":"#REF!"},{"$error":"#REF!"},{"$error":"#REF!"},{"$error":"#REF!"},{"$error":"#REF!"},{"$error":"#REF!"},{"$error":"#REF!"},{"$error":"#REF!"},{"$error":"#REF!"},{"$error":"#REF!"},{"$error":"#REF!"},{"$error":"#REF!"},{"$error":"#REF!"},{"$error":"#REF!"},{"$error":"#REF!"},{"$error":"#REF!"}]
[null,497,{"$f":"'Veri Girişi'!#REF!","v":{"$error":"#REF!"}},{"$f":"'Belirsizlik Bütçesi'!K493","v":0},{"$f":"'Veri Girişi'!#REF!","v":{"$error":"#REF!"}},{"$error":"#REF!"},{"$error":"#REF!"},{"$error":"#REF!"},{"$error":"#REF!"},{"$error":"#REF!"},{"$error":"#REF!"},{"$error":"#REF!"},{"$error":"#REF!"},{"$error":"#REF!"},{"$error":"#REF!"},{"$error":"#REF!"},{"$error":"#REF!"},{"$error":"#REF!"},{"$error":"#REF!"},{"$error":"#REF!"},{"$error":"#REF!"},{"$error":"#REF!"},{"$error":"#REF!"},{"$error":"#REF!"},{"$error":"#REF!"},{"$error":"#REF!"},{"$error":"#REF!"},{"$error":"#REF!"},{"$error":"#REF!"},{"$error":"#REF!"},{"$error":"#REF!"}]
[null,498,{"$f":"'Veri Girişi'!#REF!","v":{"$error":"#REF!"}},{"$f":"'Belirsizlik Bütçesi'!K494","v":0},{"$f":"'Veri Girişi'!#REF!","v":{"$error":"#REF!"}},{"$error":"#REF!"},{"$error":"#REF!"},{"$error":"#REF!"},{"$error":"#REF!"},{"$error":"#REF!"},{"$error":"#REF!"},{"$error":"#REF!"},{"$error":"#REF!"},{"$error":"#REF!"},{"$error":"#REF!"},{"$error":"#REF!"},{"$error":"#REF!"},{"$error":"#REF!"},{"$error":"#REF!"},{"$error":"#REF!"},{"$error":"#REF!"},{"$error":"#REF!"},{"$error":"#REF!"},{"$error":"#REF!"},{"$error":"#REF!"},{"$error":"#REF!"},{"$error":"#REF!"},{"$error":"#REF!"},{"$error":"#REF!"},{"$error":"#REF!"},{"$error":"#REF!"}]
[null,499,{"$f":"'Veri Girişi'!#REF!","v":{"$error":"#REF!"}},{"$f":"'Belirsizlik Bütçesi'!K495","v":0},{"$f":"'Veri Girişi'!#REF!","v":{"$error":"#REF!"}},{"$error":"#REF!"},{"$error":"#REF!"},{"$error":"#REF!"},{"$error":"#REF!"},{"$error":"#REF!"},{"$error":"#REF!"},{"$error":"#REF!"},{"$error":"#REF!"},{"$error":"#REF!"},{"$error":"#REF!"},{"$error":"#REF!"},{"$error":"#REF!"},{"$error":"#REF!"},{"$error":"#REF!"},{"$error":"#REF!"},{"$error":"#REF!"},{"$error":"#REF!"},{"$error":"#REF!"},{"$error":"#REF!"},{"$error":"#REF!"},{"$error":"#REF!"},{"$error":"#REF!"},{"$error":"#REF!"},{"$error":"#REF!"},{"$error":"#REF!"},{"$error":"#REF!"}]
[null,500,{"$f":"'Veri Girişi'!#REF!","v":{"$error":"#REF!"}},{"$f":"'Belirsizlik Bütçesi'!K496","v":0},{"$f":"'Veri Girişi'!#REF!","v":{"$error":"#REF!"}},{"$error":"#REF!"},{"$error":"#REF!"},{"$error":"#REF!"},{"$error":"#REF!"},{"$error":"#REF!"},{"$error":"#REF!"},{"$error":"#REF!"},{"$error":"#REF!"},{"$error":"#REF!"},{"$error":"#REF!"},{"$error":"#REF!"},{"$error":"#REF!"},{"$error":"#REF!"},{"$error":"#REF!"},{"$error":"#REF!"},{"$error":"#REF!"},{"$error":"#REF!"},{"$error":"#REF!"},{"$error":"#REF!"},{"$error":"#REF!"},{"$error":"#REF!"},{"$error":"#REF!"},{"$error":"#REF!"},{"$error":"#REF!"},{"$error":"#REF!"},{"$error":"#REF!"}]

{"sheet":"Gerçeklik Kontrolü TÜ","index":3,"n_rows":505,"n_cols":11,"rows_kept":505,"cut":false,"hidden":false,"merged":[]}
[]
[]
[]
[]
[null,"SIRA NO","ANALİT","CHEK","CİHAZ","1.KONSATRASYON","%R (ort) 70-120","% RSD <20","2.KONSATRASYON","%R (ort) 70-120","% RSD <20"]
[null,1,"(E)-Metominostrobin",{"$f":"'Belirsizlik Bütçesi'!K5","v":1},{"$f":"'Veri Girişi'!C11","v":"GC-MS/MS"},{"$f":"VLOOKUP($C6,TU_BELIRSIZLIK_1.KONS,2,FALSE)","v":{"$error":"#N/A"}},{"$f":"IFERROR(VLOOKUP($C6,TU_BELIRSIZLIK_1.KONS,41,FALSE),\"--------\")","v":"--------"},{"$f":"IFERROR(VLOOKUP($C6,TU_BELIRSIZLIK_1.KONS,50,FALSE),\"--------\")","v":"--------"},{"$f":"VLOOKUP($C6,T.U.BELIRSIZLIGI,2,FALSE)","v":{"$error":"#N/A"}},{"$f":"IFERROR(VLOOKUP($C6,T.U.BELIRSIZLIGI,41,FALSE),\"--------\")","v":"--------"},{"$f":"IFERROR(VLOOKUP($C6,T.U.BELIRSIZLIGI,50,FALSE),\"--------\")","v":"--------"}]
[null,2,"(Z)-Metominostrobin",{"$f":"'Belirsizlik Bütçesi'!K6","v":1},{"$f":"'Veri Girişi'!#REF!","v":{"$error":"#REF!"}},{"$error":"#N/A"},"--------","--------",{"$error":"#N/A"},"--------","--------"]
[null,3,"2,4,5-T-Methyl",{"$f":"'Belirsizlik Bütçesi'!K7","v":0},{"$f":"'Veri Girişi'!#REF!","v":{"$error":"#REF!"}},{"$error":"#N/A"},"--------","--------",{"$error":"#N/A"},"--------","--------"]
[null,4,"2,4-DB-Methyl",{"$f":"'Belirsizlik Bütçesi'!K8","v":1},{"$f":"'Veri Girişi'!C12","v":"GC-MS/MS"},{"$error":"#N/A"},"--------","--------",{"$error":"#N/A"},"--------","--------"]
[null,5,"2,4-D-BUTYL",{"$f":"'Belirsizlik Bütçesi'!K9","v":1},{"$f":"'Veri Girişi'!C13","v":"GC-MS/MS"},{"$error":"#N/A"},"--------","--------",{"$error":"#N/A"},"--------","--------"]
[null,6,"2,4'-DDD",{"$f":"'Belirsizlik Bütçesi'!K10","v":1},{"$f":"'Veri Girişi'!C14","v":"GC-MS/MS"},10,97.980666666666679,15.242000000000001,50,94.836133333333322,8.4096852071157642]
[null,7,"2,4'-DDE",{"$f":"'Belirsizlik Bütçesi'!K11","v":0},{"$f":"'Veri Girişi'!#REF!","v":{"$error":"#REF!"}},10,95.795333333333346,13.422000000000001,50,93.498000000000005,11.050295626983246]
[null,8,"2,4'-DDT",{"$f":"'Belirsizlik Bütçesi'!K12","v":0},{"$f":"'Veri Girişi'!#REF!","v":{"$error":"#REF!"}},10,80.556000000000012,10.114047371475214,50,87.53413333333333,16.625094184381535]
[null,9,"2,4-D-ETHYL",{"$f":"'Belirsizlik Bütçesi'!K13","v":1},{"$f":"'Veri Girişi'!C15","v":"GC-MS/MS"},{"$error":"#N/A"},"--------","--------",{"$error":"#N/A"},"--------","--------"]
[null,10,"2,4-D-ISOBUTYL",{"$f":"'Belirsizlik Bütçesi'!K14","v":1},{"$f":"'Veri Girişi'!C16","v":"GC-MS/MS"},{"$error":"#N/A"},"--------","--------",{"$error":"#N/A"},"--------","--------"]
[null,11,"2,4-D-Methyl",{"$f":"'Belirsizlik Bütçesi'!K15","v":1},{"$f":"'Veri Girişi'!#REF!","v":{"$error":"#REF!"}},{"$error":"#N/A"},"--------","--------",{"$error":"#N/A"},"--------","--------"]
[null,12,"2,6-Dichlorobenzamine",{"$f":"'Belirsizlik Bütçesi'!K16","v":1},{"$f":"'Veri Girişi'!#REF!","v":{"$error":"#REF!"}},10,92.681333333333328,10.243,50,90.484666666666655,11.394750416597651]
[null,13,"2,6-Dimethylaniline",{"$f":"'Belirsizlik Bütçesi'!K17","v":1},{"$f":"'Veri Girişi'!C17","v":"GC-MS/MS"},10,109.98999999999998,2.5242,50,94.734933333333345,16.415774308933639]
[null,14,"2-AMINO-4METHOXY-6 METHYL",{"$f":"'Belirsizlik Bütçesi'!K18","v":0},{"$f":"'Veri Girişi'!C18","v":"GC-MS/MS"},{"$error":"#N/A"},"--------","--------",{"$error":"#N/A"},"--------","--------"]
[null,15,"3,5-Dicloroaniline",{"$f":"'Belirsizlik Bütçesi'!K19","v":0},{"$f":"'Veri Girişi'!C19","v":"GC-MS/MS"},{"$error":"#N/A"},"--------","--------",{"$error":"#N/A"},"--------","--------"]
[null,16,"4,4'-DDD",{"$f":"'Belirsizlik Bütçesi'!K20","v":1},{"$f":"'Veri Girişi'!C20","v":"GC-MS/MS"},10,101.14666666666668,10,50,88.655333333333317,12.42]
[null,17,"4,4'-DDE",{"$f":"'Belirsizlik Bütçesi'!K21","v":1},{"$f":"'Veri Girişi'!#REF!","v":{"$error":"#REF!"}},10,100.36466666666666,12.298794105896953,50,94.334400000000002,8.3057933812436548]
[null,18,"4,4'-DDT",{"$f":"'Belirsizlik Bütçesi'!K22","v":1},{"$f":"'Veri Girişi'!C21","v":"GC-MS/MS"},10,91.423333333333318,9.1533539590261217,50,90.158133333333325,16.853336200539644]
[null,19,"4,4'-Dichlorobenzophenone",{"$f":"'Belirsizlik Bütçesi'!K23","v":0},{"$f":"'Veri Girişi'!C22","v":"GC-MS/MS"},{"$error":"#N/A"},"--------","--------",{"$error":"#N/A"},"--------","--------"]
[null,20,"4-FLUORO-N-ISOPROPYLANILINE",{"$f":"'Belirsizlik Bütçesi'!K24","v":1},{"$f":"'Veri Girişi'!C23","v":"GC-MS/MS"},{"$error":"#N/A"},"--------","--------",{"$error":"#N/A"},"--------","--------"]
[null,21,"Acetochlor",{"$f":"'Belirsizlik Bütçesi'!K25","v":1},{"$f":"'Veri Girişi'!#REF!","v":{"$error":"#REF!"}},10,95.663333333333327,16.662059791301616,50,92.509466666666668,10.400368598656929]
[null,22,"Aclonifen",{"$f":"'Belirsizlik Bütçesi'!K26","v":0},{"$f":"'Veri Girişi'!#REF!","v":{"$error":"#REF!"}},10,100.81399999999998,17.37524309808904,50,86.526933333333346,13.24]
[null,23,"acrinathrin",{"$f":"'Belirsizlik Bütçesi'!K27","v":1},{"$f":"'Veri Girişi'!#REF!","v":{"$error":"#REF!"}},{"$error":"#N/A"},"--------","--------",{"$error":"#N/A"},"--------","--------"]
[null,24,"Alachlor",{"$f":"'Belirsizlik Bütçesi'!K28","v":1},{"$f":"'Veri Girişi'!#REF!","v":{"$error":"#REF!"}},10,103.38800000000002,13.324115262120658,50,88.166399999999996,12.438569054737872]
[null,25,"Allidochlor",{"$f":"'Belirsizlik Bütçesi'!K29","v":1},{"$f":"'Veri Girişi'!#REF!","v":{"$error":"#REF!"}},{"$error":"#N/A"},"--------","--------",{"$error":"#N/A"},"--------","--------"]
[null,26,"Ametryne",{"$f":"'Belirsizlik Bütçesi'!K30","v":1},{"$f":"'Veri Girişi'!C25","v":"GC-MS/MS"},{"$error":"#N/A"},"--------","--------",{"$error":"#N/A"},"--------","--------"]
[null,27,"amitraz",{"$f":"'Belirsizlik Bütçesi'!#REF!","v":{"$error":"#REF!"}},{"$f":"'Veri Girişi'!#REF!","v":{"$error":"#REF!"}},10,110.32333333333332,10.217450754926775,50,85.06013333333334,16.375977359732865]
[null,28,"Anthracene",{"$f":"'Belirsizlik Bütçesi'!K31","v":0},{"$f":"'Veri Girişi'!#REF!","v":{"$error":"#REF!"}},{"$error":"#N/A"},"--------","--------",{"$error":"#N/A"},"--------","--------"]
[null,29,"Anthraquinone",{"$f":"'Belirsizlik Bütçesi'!#REF!","v":{"$error":"#REF!"}},{"$f":"'Veri Girişi'!#REF!","v":{"$error":"#REF!"}},{"$error":"#N/A"},"--------","--------",{"$error":"#N/A"},"--------","--------"]
[null,30,"Aspon",{"$f":"'Belirsizlik Bütçesi'!K32","v":1},{"$f":"'Veri Girişi'!C26","v":"GC-MS/MS"},{"$error":"#N/A"},"--------","--------",{"$error":"#N/A"},"--------","--------"]
[null,31,"Atraton",{"$f":"'Belirsizlik Bütçesi'!K33","v":1},{"$f":"'Veri Girişi'!#REF!","v":{"$error":"#REF!"}},{"$error":"#N/A"},"--------","--------",{"$error":"#N/A"},"--------","--------"]
[null,32,"Atrazine",{"$f":"'Belirsizlik Bütçesi'!K34","v":1},{"$f":"'Veri Girişi'!C27","v":"GC-MS/MS"},10,104.01866666666666,11.361908052053959,50,92.763733333333334,14]
[null,33,"Atrazine-Desethyl",{"$f":"'Belirsizlik Bütçesi'!K35","v":1},{"$f":"'Veri Girişi'!C28","v":"GC-MS/MS"},{"$error":"#N/A"},"--------","--------",{"$error":"#N/A"},"--------","--------"]
[null,34,"Azobenzene",{"$f":"'Belirsizlik Bütçesi'!K36","v":1},{"$f":"'Veri Girişi'!C29","v":"GC-MS/MS"},{"$error":"#N/A"},"--------","--------",{"$error":"#N/A"},"--------","--------"]
[null,35,"Beflubutamid",{"$f":"'Belirsizlik Bütçesi'!K37","v":1},{"$f":"'Veri Girişi'!#REF!","v":{"$error":"#REF!"}},{"$error":"#N/A"},"--------","--------",{"$error":"#N/A"},"--------","--------"]
[null,36,"BENALAXY",{"$f":"'Belirsizlik Bütçesi'!K38","v":0},{"$f":"'Veri Girişi'!#REF!","v":{"$error":"#REF!"}},{"$error":"#N/A"},"--------","--------",{"$error":"#N/A"},"--------","--------"]
[null,37,"Benfluralin",{"$f":"'Belirsizlik Bütçesi'!K39","v":0},{"$f":"'Veri Girişi'!C30","v":"GC-MS/MS"},10,109.97200000000001,6.3575785982236317,50,85.316666666666663,11.24]
[null,38,"Benfuresate",{"$f":"'Belirsizlik Bütçesi'!K40","v":1},{"$f":"'Veri Girişi'!#REF!","v":{"$error":"#REF!"}},10,99.837333333333333,11.365881446298099,50,92.212400000000002,11]
[null,39,"Bentazone-Methyl",{"$f":"'Belirsizlik Bütçesi'!K41","v":1},{"$f":"'Veri Girişi'!C31","v":"GC-MS/MS"},10,105.84933333333333,8.9559781614035128,50,89.913333333333327,10.66628684222159]
[null,40,"Benzoylprop-Ethyl",{"$f":"'Belirsizlik Bütçesi'!K42","v":0},{"$f":"'Veri Girişi'!#REF!","v":{"$error":"#REF!"}},{"$error":"#N/A"},"--------","--------",{"$error":"#N/A"},"--------","--------"]
[null,41,"Bifenazate",{"$f":"'Belirsizlik Bütçesi'!K43","v":1},{"$f":"'Veri Girişi'!C32","v":"GC-MS/MS"},10,99.865333333333311,11.633681390342486,50,96.741866666666652,12.42]
[null,42,"Bifenox",{"$f":"'Belirsizlik Bütçesi'!K44","v":1},{"$f":"'Veri Girişi'!#REF!","v":{"$error":"#REF!"}},{"$error":"#N/A"},"--------","--------",{"$error":"#N/A"},"--------","--------"]
[null,43,"Bifenthrin",{"$f":"'Belirsizlik Bütçesi'!K45","v":1},{"$f":"'Veri Girişi'!C33","v":"GC-MS/MS"},10,102.06533333333331,12.50082487900665,50,95.037999999999997,12.42]
[null,44,"Biphenyl",{"$f":"'Belirsizlik Bütçesi'!K46","v":1},{"$f":"'Veri Girişi'!C34","v":"GC-MS/MS"},10,104.756,10.616273140002408,50,98.528266666666667,15.840792844332233]
[null,45,"bitrex",{"$f":"'Belirsizlik Bütçesi'!K47","v":1},{"$f":"'Veri Girişi'!C35","v":"GC-MS/MS"},{"$error":"#N/A"},"--------","--------",{"$error":"#N/A"},"--------","--------"]
[null,46,"Bromocyclen",{"$f":"'Belirsizlik Bütçesi'!K48","v":0},{"$f":"'Veri Girişi'!C36","v":"GC-MS/MS"},10,109.08466666666665,5.9404101819723349,50,88.257733333333334,14.492084455883344]
[null,47,"Bromophos Methyl",{"$f":"'Belirsizlik Bütçesi'!K49","v":1},{"$f":"'Veri Girişi'!#REF!","v":{"$error":"#REF!"}},10,102.36866666666668,12.24,50,90.462133333333327,16.345230353160677]
[null,48,"Bromophos-Ethyl",{"$f":"'Belirsizlik Bütçesi'!K50","v":0},{"$f":"'Veri Girişi'!C37","v":"GC-MS/MS"},10,102.84266666666669,13.083870645405742,50,92.558666666666667,8.1686777524175866]
[null,49,"Bromopropylate",{"$f":"'Belirsizlik Bütçesi'!K51","v":0},{"$f":"'Veri Girişi'!C38","v":"GC-MS/MS"},10,95.169333333333327,16.925202024469161,50,101.53106666666667,7.884915313914842]
[null,50,"BROMOXYNILMETYHL",{"$f":"'Belirsizlik Bütçesi'!K52","v":1},{"$f":"'Veri Girişi'!#REF!","v":{"$error":"#REF!"}},{"$error":"#N/A"},"--------","--------",{"$error":"#N/A"},"--------","--------"]
[null,51,"Butachlor",{"$f":"'Belirsizlik Bütçesi'!K53","v":0},{"$f":"'Veri Girişi'!C39","v":"GC-MS/MS"},10,97.586000000000013,12.421555628693284,50,94.252800000000008,11.182720218120929]
[null,52,"Butafenacil",{"$f":"'Belirsizlik Bütçesi'!K54","v":1},{"$f":"'Veri Girişi'!C40","v":"GC-MS/MS"},10,98.554666666666662,16.266477184865959,50,100.62253333333334,12.161505843745205]
[null,53,"Butamifos",{"$f":"'Belirsizlik Bütçesi'!K55","v":1},{"$f":"'Veri Girişi'!C41","v":"GC-MS/MS"},10,95.783999999999978,16.294943431063359,50,92.01,14.585766320722215]
[null,54,"Butralin",{"$f":"'Belirsizlik Bütçesi'!K56","v":1},{"$f":"'Veri Girişi'!C42","v":"GC-MS/MS"},10,99.696666666666658,15,50,85.905200000000008,14.423999999999999]
[null,55,"Butylate",{"$f":"'Belirsizlik Bütçesi'!K57","v":1},{"$f":"'Veri Girişi'!#REF!","v":{"$error":"#REF!"}},10,105.96666666666663,13.184933111610322,50,95.762266666666676,10.24]
[null,56,"Cadusafos",{"$f":"'Belirsizlik Bütçesi'!K58","v":1},{"$f":"'Veri Girişi'!C44","v":"GC-MS/MS"},10,104.12866666666667,9.1746186940589229,50,86.575866666666656,13.680893603503257]
[null,57,"Cafenstrole",{"$f":"'Belirsizlik Bütçesi'!K59","v":1},{"$f":"'Veri Girişi'!#REF!","v":{"$error":"#REF!"}},{"$error":"#N/A"},"--------","--------",{"$error":"#N/A"},"--------","--------"]
[null,58,"CAPTAFOL",{"$f":"'Belirsizlik Bütçesi'!K60","v":1},{"$f":"'Veri Girişi'!#REF!","v":{"$error":"#REF!"}},{"$error":"#N/A"},"--------","--------",{"$error":"#N/A"},"--------","--------"]
[null,59,"CAPTAN",{"$f":"'Belirsizlik Bütçesi'!K61","v":0},{"$f":"'Veri Girişi'!#REF!","v":{"$error":"#REF!"}},10,101.66133333333333,14,50,98.115600000000001,13.075258956440106]
[null,60,"Carbophenothion",{"$f":"'Belirsizlik Bütçesi'!K62","v":0},{"$f":"'Veri Girişi'!#REF!","v":{"$error":"#REF!"}},{"$error":"#N/A"},"--------","--------",{"$error":"#N/A"},"--------","--------"]
[null,61,"Carbophenothion Methyl",{"$f":"'Belirsizlik Bütçesi'!K63","v":1},{"$f":"'Veri Girişi'!C45","v":"GC-MS/MS"},{"$error":"#N/A"},"--------","--------",{"$error":"#N/A"},"--------","--------"]
[null,62,"Carbosulfan",{"$f":"'Belirsizlik Bütçesi'!K64","v":0},{"$f":"'Veri Girişi'!C46","v":"GC-MS/MS"},{"$error":"#N/A"},"--------","--------",{"$error":"#N/A"},"--------","--------"]
[null,63,"Chinomethionat",{"$f":"'Belirsizlik Bütçesi'!K65","v":1},{"$f":"'Veri Girişi'!#REF!","v":{"$error":"#REF!"}},10,100.39000000000003,14.42,50,90.864133333333342,12.932266020636282]
[null,64,"Chlorbenside",{"$f":"'Belirsizlik Bütçesi'!K66","v":1},{"$f":"'Veri Girişi'!C47","v":"GC-MS/MS"},10,104.19333333333331,10.202382054768323,50,89.259600000000006,8.9790155902658757]
[null,65,"Chlordane-cis(alpha)",{"$f":"'Belirsizlik Bütçesi'!K67","v":1},{"$f":"'Veri Girişi'!C48","v":"GC-MS/MS"},{"$f":"VLOOKUP($C70,TU_BELIRSIZLIK_1.KONS,2,FALSE)","v":{"$error":"#N/A"}},{"$f":"IFERROR(VLOOKUP($C70,TU_BELIRSIZLIK_1.KONS,41,FALSE),\"--------\")","v":"--------"},{"$f":"IFERROR(VLOOKUP($C70,TU_BELIRSIZLIK_1.KONS,50,FALSE),\"--------\")","v":"--------"},{"$f":"VLOOKUP($C70,T.U.BELIRSIZLIGI,2,FALSE)","v":{"$error":"#N/A"}},{"$f":"IFERROR(VLOOKUP($C70,T.U.BELIRSIZLIGI,41,FALSE),\"--------\")","v":"--------"},{"$f":"IFERROR(VLOOKUP($C70,T.U.BELIRSIZLIGI,50,FALSE),\"--------\")","v":"--------"}]
[null,66,"Chlordane-trans (gamma)",{"$f":"'Belirsizlik Bütçesi'!K68","v":1},{"$f":"'Veri Girişi'!C49","v":"GC-MS/MS"},{"$error":"#N/A"},"--------","--------",{"$error":"#N/A"},"--------","--------"]
[null,67,"Chlordecone",{"$f":"'Belirsizlik Bütçesi'!K69","v":0},{"$f":"'Veri Girişi'!#REF!","v":{"$error":"#REF!"}},10,99.892666666666656,19.164985966065554,50,82.689600000000013,9.9237236786001528]
[null,68,"Chlorethoxyfos",{"$f":"'Belirsizlik Bütçesi'!K70","v":1},{"$f":"'Veri Girişi'!C50","v":"GC-MS/MS"},{"$error":"#N/A"},"--------","--------",{"$error":"#N/A"},"--------","--------"]
[null,69,"Chlorfenapyr",{"$f":"'Belirsizlik Bütçesi'!K71","v":1},{"$f":"'Veri Girişi'!C51","v":"GC-MS/MS"},10,101.41200000000001,13.368850112980191,50,99.157333333333327,9.8396965138626769]
[null,70,"Chlorfenprop Methyl",{"$f":"'Belirsizlik Bütçesi'!K72","v":0},{"$f":"'Veri Girişi'!C52","v":"GC-MS/MS"},10,100.93866666666666,13.210024799385167,50,91.022533333333342,14.420709461429567]
[null,71,"Chlorfenson",{"$f":"'Belirsizlik Bütçesi'!K73","v":1},{"$f":"'Veri Girişi'!C53","v":"GC-MS/MS"},10,102.16866666666664,14.24,50,87.747199999999992,17.545755797056376]
[null,72,"Chlorfenvinphos",{"$f":"'Belirsizlik Bütçesi'!K74","v":1},{"$f":"'Veri Girişi'!C54","v":"GC-MS/MS"},10,94.162666666666667,18.103702406313797,50,87.224799999999988,17.023076939818164]
[null,73,"Chlormephos",{"$f":"'Belirsizlik Bütçesi'!K75","v":1},{"$f":"'Veri Girişi'!C55","v":"GC-MS/MS"},10,106.2906666666667,9.7185542490036809,50,95.040533333333343,11.038292451804679]
[null,74,"Chlorobenzilate",{"$f":"'Belirsizlik Bütçesi'!K76","v":1},{"$f":"'Veri Girişi'!C56","v":"GC-MS/MS"},{"$error":"#N/A"},"--------","--------",{"$error":"#N/A"},"--------","--------"]
[null,75,"Chloroneb",{"$f":"'Belirsizlik Bütçesi'!K77","v":1},{"$f":"'Veri Girişi'!#REF!","v":{"$error":"#REF!"}},10,103.31466666666667,14.840960675026299,50,94.67506666666668,12.336176002723882]
[null,76,"Chloropropylate",{"$f":"'Belirsizlik Bütçesi'!K78","v":1},{"$f":"'Veri Girişi'!#REF!","v":{"$error":"#REF!"}},{"$error":"#N/A"},"--------","--------",{"$error":"#N/A"},"--------","--------"]
[null,77,"Chlorothalonil",{"$f":"'Belirsizlik Bütçesi'!K79","v":0},{"$f":"'Veri Girişi'!C57","v":"GC-MS/MS"},10,81.537999999999997,12.060863607885308,50,81.966666666666669,12.767072262267401]
[null,78,"Chlorpropham",{"$f":"'Belirsizlik Bütçesi'!K80","v":0},{"$f":"'Veri Girişi'!C58","v":"GC-MS/MS"},10,106.04933333333332,9.479174773976407,50,94.173199999999994,12.245987956485326]
[null,79,"Chlorpyrifos Methyl",{"$f":"'Belirsizlik Bütçesi'!K81","v":1},{"$f":"'Veri Girişi'!C59","v":"GC-MS/MS"},{"$error":"#N/A"},"--------","--------",{"$error":"#N/A"},"--------","--------"]
[null,80,"Chlorpyrifos-Ethyl",{"$f":"'Belirsizlik Bütçesi'!K82","v":1},{"$f":"'Veri Girişi'!C60","v":"GC-MS/MS"},{"$error":"#N/A"},"--------","--------",{"$error":"#N/A"},"--------","--------"]
[null,81,"Chlorthal-Dimethyl",{"$f":"'Belirsizlik Bütçesi'!K83","v":1},{"$f":"'Veri Girişi'!#REF!","v":{"$error":"#REF!"}},10,93.527999999999992,14.700767170474016,50,98.859866666666662,5.24]
[null,82,"chlorthiamid",{"$f":"'Belirsizlik Bütçesi'!K84","v":1},{"$f":"'Veri Girişi'!#REF!","v":{"$error":"#REF!"}},{"$error":"#N/A"},"--------","--------",{"$error":"#N/A"},"--------","--------"]
[null,83,"Chlorthion",{"$f":"'Belirsizlik Bütçesi'!#REF!","v":{"$error":"#REF!"}},{"$f":"'Veri Girişi'!#REF!","v":{"$error":"#REF!"}},{"$error":"#N/A"},"--------","--------",{"$error":"#N/A"},"--------","--------"]
[null,84,"Chlorthiopos",{"$f":"'Belirsizlik Bütçesi'!K85","v":0},{"$f":"'Veri Girişi'!#REF!","v":{"$error":"#REF!"}},10,99.657333333333341,15.608150467021551,50,91.352533333333341,6.0266490681389309]
[null,85,"Chlozolinate",{"$f":"'Belirsizlik Bütçesi'!K86","v":1},{"$f":"'Veri Girişi'!C62","v":"GC-MS/MS"},{"$error":"#N/A"},"--------","--------",{"$error":"#N/A"},"--------","--------"]
[null,86,"Cinidon-Ethyl",{"$f":"'Belirsizlik Bütçesi'!K87","v":0},{"$f":"'Veri Girişi'!C63","v":"GC-MS/MS"},{"$error":"#N/A"},"--------","--------",{"$error":"#N/A"},"--------","--------"]
[null,87,"Clomazone",{"$f":"'Belirsizlik Bütçesi'!K88","v":1},{"$f":"'Veri Girişi'!C64","v":"GC-MS/MS"},10,99.681333333333342,12.733339412934253,50,84.807333333333332,15.098124389837295]
[null,88,"CLOXYFONAC",{"$f":"'Belirsizlik Bütçesi'!K89","v":1},{"$f":"'Veri Girişi'!#REF!","v":{"$error":"#REF!"}},{"$error":"#N/A"},"--------","--------",{"$error":"#N/A"},"--------","--------"]
[null,89,"Coumaphos",{"$f":"'Belirsizlik Bütçesi'!K90","v":1},{"$f":"'Veri Girişi'!C65","v":"GC-MS/MS"},10,104.27199999999999,13.548753838474845,50,98.722533333333331,19.887963761074264]
[null,90,"Crimidine",{"$f":"'Belirsizlik Bütçesi'!K91","v":1},{"$f":"'Veri Girişi'!C66","v":"GC-MS/MS"},10,103.69266666666665,10.174816324094355,50,92.666933333333333,12.606311471944887]
[null,91,"Crotoxyphos",{"$f":"'Belirsizlik Bütçesi'!K92","v":1},{"$f":"'Veri Girişi'!C67","v":"GC-MS/MS"},{"$error":"#N/A"},"--------","--------",{"$error":"#N/A"},"--------","--------"]
[null,92,"Cyanazine",{"$f":"'Belirsizlik Bütçesi'!K93","v":1},{"$f":"'Veri Girişi'!#REF!","v":{"$error":"#REF!"}},{"$error":"#N/A"},"--------","--------",{"$error":"#N/A"},"--------","--------"]
[null,93,"Cyanofenphos",{"$f":"'Belirsizlik Bütçesi'!K94","v":1},{"$f":"'Veri Girişi'!#REF!","v":{"$error":"#REF!"}},10,94.576000000000022,13.113546853477033,50,86.243066666666664,18.732159317664308]
[null,94,"Cyanophos",{"$f":"'Belirsizlik Bütçesi'!K95","v":1},{"$f":"'Veri Girişi'!C68","v":"GC-MS/MS"},10,102.38600000000002,13.886227152143535,50,86.531999999999996,15.171573761070162]
[null,95,"Cycloate",{"$f":"'Belirsizlik Bütçesi'!K96","v":1},{"$f":"'Veri Girişi'!C69","v":"GC-MS/MS"},10,96.103999999999999,17.268578047047388,50,97.211333333333329,8.7334011179571824]
[null,96,"Cycluron",{"$f":"'Belirsizlik Bütçesi'!K97","v":0},{"$f":"'Veri Girişi'!C70","v":"GC-MS/MS"},10,105.09466666666667,11.160557924219159,50,79.739999999999995,7.1670846381539297]
[null,97,"Cyflufenamid",{"$f":"'Belirsizlik Bütçesi'!K98","v":1},{"$f":"'Veri Girişi'!C71","v":"GC-MS/MS"},10,103.90066666666667,12.30943154389843,50,90.159733333333349,7.8214730611064738]
[null,98,"Cyfluthrin",{"$f":"'Belirsizlik Bütçesi'!K99","v":1},{"$f":"'Veri Girişi'!C72","v":"GC-MS/MS"},10,92.960666666666668,11.329333264413169,50,92.997600000000006,14.589046796529562]
[null,99,"Cyfluthrin-Beta",{"$f":"'Belirsizlik Bütçesi'!K100","v":0},{"$f":"'Veri Girişi'!C73","v":"GC-MS/MS"},10,98.007333333333307,16.240647871306837,50,87.370400000000004,19.420000000000002]
[null,100,"Cyhalofop Buthyl",{"$f":"'Belirsizlik Bütçesi'!K101","v":0},{"$f":"'Veri Girişi'!C74","v":"GC-MS/MS"},{"$error":"#N/A"},"--------","--------",{"$error":"#N/A"},"--------","--------"]
[null,101,"Cyhalothrin-Gamma",{"$f":"'Belirsizlik Bütçesi'!K102","v":1},{"$f":"'Veri Girişi'!C75","v":"GC-MS/MS"},{"$error":"#N/A"},"--------","--------",{"$error":"#N/A"},"--------","--------"]
[null,102,"Cyhalothrin-Lambda",{"$f":"'Belirsizlik Bütçesi'!K103","v":1},{"$f":"'Veri Girişi'!C76","v":"GC-MS/MS"},{"$error":"#N/A"},"--------","--------",{"$error":"#N/A"},"--------","--------"]
[null,103,"Cymiazole",{"$f":"'Belirsizlik Bütçesi'!K104","v":1},{"$f":"'Veri Girişi'!C77","v":"GC-MS/MS"},10,102.996,14.057314016045638,50,91.685599999999994,8.6390756474272088]
[null,104,"Cypermethrin-Zeta",{"$f":"'Belirsizlik Bütçesi'!K105","v":1},{"$f":"'Veri Girişi'!C78","v":"GC-MS/MS"},{"$error":"#N/A"},"--------","--------",{"$error":"#N/A"},"--------","--------"]
[null,105,"Cyprazine",{"$f":"'Belirsizlik Bütçesi'!K106","v":1},{"$f":"'Veri Girişi'!C79","v":"GC-MS/MS"},{"$error":"#N/A"},"--------","--------",{"$error":"#N/A"},"--------","--------"]
[null,106,"Cyprofuram",{"$f":"'Belirsizlik Bütçesi'!K107","v":0},{"$f":"'Veri Girişi'!#REF!","v":{"$error":"#REF!"}},{"$error":"#N/A"},"--------","--------",{"$error":"#N/A"},"--------","--------"]
[null,107,"Deltamethrin",{"$f":"'Belirsizlik Bütçesi'!K108","v":0},{"$f":"'Veri Girişi'!#REF!","v":{"$error":"#REF!"}},10,96.273333333333326,13.382332426160589,50,84.264133333333334,18.371763295915716]
[null,108,"Demeton-S",{"$f":"'Belirsizlik Bütçesi'!K109","v":1},{"$f":"'Veri Girişi'!C80","v":"GC-MS/MS"},10,100.63866666666665,13.473876292588665,50,90.992133333333328,13.713542253682379]
[null,109,"Demeton-S-Methyl",{"$f":"'Belirsizlik Bütçesi'!K110","v":0},{"$f":"'Veri Girişi'!#REF!","v":{"$error":"#REF!"}},10,100.78533333333336,12.492125251040108,50,90.345733333333328,12.749617962025583]
[null,110,"Dialifos",{"$f":"'Belirsizlik Bütçesi'!K111","v":0},{"$f":"'Veri Girişi'!#REF!","v":{"$error":"#REF!"}},{"$error":"#N/A"},"--------","--------",{"$error":"#N/A"},"--------","--------"]
[null,111,"Diazinon",{"$f":"'Belirsizlik Bütçesi'!K112","v":0},{"$f":"'Veri Girişi'!C81","v":"GC-MS/MS"},10,103.18866666666666,11.545335264833007,50,89.851599999999991,14.42031980449684]
[null,112,"Dichlobenil",{"$f":"'Belirsizlik Bütçesi'!K113","v":1},{"$f":"'Veri Girişi'!C82","v":"GC-MS/MS"},10,98.463333333333338,18.85167180524903,50,91.714933333333335,12.412423891186936]
[null,113,"Dichlobutrazol",{"$f":"'Belirsizlik Bütçesi'!K114","v":0},{"$f":"'Veri Girişi'!#REF!","v":{"$error":"#REF!"}},10,102.294,13.80912559146766,50,93.38773333333333,8.5034567958309193]
[null,114,"Dichlofenthion",{"$f":"'Belirsizlik Bütçesi'!K115","v":0},{"$f":"'Veri Girişi'!#REF!","v":{"$error":"#REF!"}},10,99.010666666666651,5,50,90.330666666666673,12.463850767211513]
[null,115,"Dichlofluanid",{"$f":"'Belirsizlik Bütçesi'!K116","v":0},{"$f":"'Veri Girişi'!C83","v":"GC-MS/MS"},{"$error":"#N/A"},"--------","--------",{"$error":"#N/A"},"--------","--------"]
[null,116,"Dichlormid",{"$f":"'Belirsizlik Bütçesi'!K117","v":1},{"$f":"'Veri Girişi'!C84","v":"GC-MS/MS"},10,101.71733333333334,8.7992784218311204,50,81.717200000000005,12.858003876316179]
[null,117,"Dichlorvos",{"$f":"'Belirsizlik Bütçesi'!K118","v":0},{"$f":"'Veri Girişi'!C85","v":"GC-MS/MS"},10,103.29933333333334,10.161418143168593,50,94.121466666666677,13.793713911261415]
[null,118,"Diclofop-Methyl",{"$f":"'Belirsizlik Bütçesi'!K119","v":0},{"$f":"'Veri Girişi'!C86","v":"GC-MS/MS"},10,103.77000000000001,11.822472756207679,50,87.31613333333334,14.494027917244967]
[null,119,"Dicofol (sum)",{"$f":"'Belirsizlik Bütçesi'!K120","v":1},{"$f":"'Veri Girişi'!#REF!","v":{"$error":"#REF!"}},{"$error":"#N/A"},"--------","--------",{"$error":"#N/A"},"--------","--------"]
[null,120,"Dicofol, o,p`",{"$f":"'Belirsizlik Bütçesi'!K121","v":1},{"$f":"'Veri Girişi'!C87","v":"GC-MS/MS"},{"$error":"#N/A"},"--------","--------",{"$error":"#N/A"},"--------","--------"]
[null,121,"Dicofol-p,p",{"$f":"'Belirsizlik Bütçesi'!K122","v":1},{"$f":"'Veri Girişi'!C88","v":"GC-MS/MS"},10,100.66200000000001,12.886297426295357,50,97.264533333333333,15.423999999999999]
[null,122,"Dieldrin",{"$f":"'Belirsizlik Bütçesi'!K123","v":0},{"$f":"'Veri Girişi'!C89","v":"GC-MS/MS"},10,100.142,14.096800645380311,50,96.666133333333335,12.987318566213229]
[null,123,"Diethofencarb",{"$f":"'Belirsizlik Bütçesi'!K124","v":1},{"$f":"'Veri Girişi'!C90","v":"GC-MS/MS"},10,106.04599999999999,10.786101205023133,50,92.862799999999993,16.863623852313999]
[null,124,"Diflufenican",{"$f":"'Belirsizlik Bütçesi'!K125","v":0},{"$f":"'Veri Girişi'!C91","v":"GC-MS/MS"},10,95.687333333333356,15,50,96.59293333333332,14.24]
[null,125,"Dimefox",{"$f":"'Belirsizlik Bütçesi'!K126","v":1},{"$f":"'Veri Girişi'!#REF!","v":{"$error":"#REF!"}},{"$error":"#N/A"},"--------","--------",{"$error":"#N/A"},{"$f":"IFERROR(VLOOKUP($C130,TU_BELIRSIZLIK_1.KONS,41,FALSE),\"--------\")","v":"--------"},{"$f":"IFERROR(VLOOKUP($C130,TU_BELIRSIZLIK_1.KONS,50,FALSE),\"--------\")","v":"--------"}]
[null,126,"Dimepiperate",{"$f":"'Belirsizlik Bütçesi'!K127","v":1},{"$f":"'Veri Girişi'!C92","v":"GC-MS/MS"},10,104.04933333333335,12.669499097467178,50,95.032399999999996,9.9151894266996425]
[null,127,"Dimethachlor",{"$f":"'Belirsizlik Bütçesi'!K128","v":1},{"$f":"'Veri Girişi'!#REF!","v":{"$error":"#REF!"}},10,104.13066666666668,9.1178308336589389,50,90.425333333333342,15.087446185529233]
[null,128,"Dimethenamid",{"$f":"'Belirsizlik Bütçesi'!#REF!","v":{"$error":"#REF!"}},{"$f":"'Veri Girişi'!#REF!","v":{"$error":"#REF!"}},{"$error":"#N/A"},"--------","--------",{"$error":"#N/A"},"--------","--------"]
[null,129,"Dimethipin",{"$f":"'Belirsizlik Bütçesi'!K129","v":0},{"$f":"'Veri Girişi'!C93","v":"GC-MS/MS"},{"$f":"VLOOKUP($C134,TU_BELIRSIZLIK_1.KONS,2,FALSE)","v":10},{"$f":"IFERROR(VLOOKUP($C134,TU_BELIRSIZLIK_1.KONS,41,FALSE),\"--------\")","v":95.861333333333334},{"$f":"IFERROR(VLOOKUP($C134,TU_BELIRSIZLIK_1.KONS,50,FALSE),\"--------\")","v":13.811055786894974},{"$f":"VLOOKUP($C134,T.U.BELIRSIZLIGI,2,FALSE)","v":50},{"$f":"IFERROR(VLOOKUP($C134,T.U.BELIRSIZLIGI,41,FALSE),\"--------\")","v":87.230800000000002},{"$f":"IFERROR(VLOOKUP($C134,T.U.BELIRSIZLIGI,50,FALSE),\"--------\")","v":14.842432586801364}]
[null,130,"DIMETHYLNAPHTHALENE-1-4",{"$f":"'Belirsizlik Bütçesi'!K130","v":0},{"$f":"'Veri Girişi'!C94","v":"GC-MS/MS"},{"$error":"#N/A"},"--------","--------",{"$error":"#N/A"},"--------","--------"]
[null,131,"Diniconazole",{"$f":"'Belirsizlik Bütçesi'!K131","v":0},{"$f":"'Veri Girişi'!#REF!","v":{"$error":"#REF!"}},10,103.678,12.726366747968637,50,101.79706666666665,11.528548270459444]
[null,132,"Dinitramine",{"$f":"'Belirsizlik Bütçesi'!K132","v":1},{"$f":"'Veri Girişi'!C95","v":"GC-MS/MS"},10,103.64200000000001,8.8930781632403075,50,91.078800000000001,10.939283833596711]
[null,133,"Dinobuton",{"$f":"'Belirsizlik Bütçesi'!K133","v":0},{"$f":"'Veri Girişi'!C96","v":"GC-MS/MS"},10,96.525333333333336,14.540125476684151,50,90.054133333333326,16.917185223642576]
[null,134,"Diofenolan",{"$f":"'Belirsizlik Bütçesi'!K134","v":1},{"$f":"'Veri Girişi'!C97","v":"GC-MS/MS"},10,99.637333333333331,5,50,94.83720000000001,8.7224347387077277]
[null,135,"Dioxabenzafos",{"$f":"'Belirsizlik Bütçesi'!K135","v":1},{"$f":"'Veri Girişi'!C98","v":"GC-MS/MS"},10,101.22200000000001,13.250739384048238,50,91.903733333333335,14.945689268754325]
[null,136,"Dioxathion",{"$f":"'Belirsizlik Bütçesi'!K136","v":1},{"$f":"'Veri Girişi'!C99","v":"GC-MS/MS"},10,104.48399999999999,8.4945308598415803,50,87.633466666666664,15.24]
[null,137,"Diphenamide",{"$f":"'Belirsizlik Bütçesi'!K137","v":1},{"$f":"'Veri Girişi'!C100","v":"GC-MS/MS"},10,91.455333333333328,14.717111578014213,50,89.877066666666664,8.3154398336408342]
[null,138,"Diphenylamine",{"$f":"'Belirsizlik Bütçesi'!K138","v":1},{"$f":"'Veri Girişi'!C101","v":"GC-MS/MS"},10,99.243333333333325,11.519524026587787,50,101.5877333333333,11.340445421107116]
[null,139,"Disulfoton",{"$f":"'Belirsizlik Bütçesi'!K139","v":1},{"$f":"'Veri Girişi'!C102","v":"GC-MS/MS"},10,105.08133333333333,7.2340966298641538,50,90.306533333333334,13.24]
[null,140,"Disulfoton-sulfone",{"$f":"'Belirsizlik Bütçesi'!K140","v":1},{"$f":"'Veri Girişi'!C103","v":"GC-MS/MS"},10,99.766000000000005,14.744070232013382,50,84.726933333333335,16.375027601009737]
[null,141,"Ditalimfos",{"$f":"'Belirsizlik Bütçesi'!K141","v":0},{"$f":"'Veri Girişi'!C104","v":"GC-MS/MS"},10,95.833333333333329,13.949611422114144,50,89.971599999999995,16.541646042308773]
[null,142,"Dithiopyr",{"$f":"'Belirsizlik Bütçesi'!K142","v":0},{"$f":"'Veri Girişi'!C105","v":"GC-MS/MS"},10,105.97266666666667,10.138824525593527,50,97.267599999999987,13.062980154398154]
[null,143,"Dodemorph",{"$f":"'Belirsizlik Bütçesi'!K143","v":0},{"$f":"'Veri Girişi'!C106","v":"GC-MS/MS"},10,99.049333333333323,17.675384444426694,50,93.105599999999995,11.583350296747206]
[null,144,"Edifenphos",{"$f":"'Belirsizlik Bütçesi'!K144","v":0},{"$f":"'Veri Girişi'!#REF!","v":{"$error":"#REF!"}},10,95.275333333333322,14.138044778573203,50,84.754800000000003,15.868681248962535]
[null,145,"Endrin",{"$f":"'Belirsizlik Bütçesi'!K145","v":0},{"$f":"'Veri Girişi'!C107","v":"GC-MS/MS"},10,97.219333333333353,14.745599197521129,50,91.89373333333333,13.24]
[null,146,"EPN",{"$f":"'Belirsizlik Bütçesi'!K146","v":0},{"$f":"'Veri Girişi'!C108","v":"GC-MS/MS"},10,107.884,6.7446522811505583,50,89.19,16.103417031114638]
[null,147,"Esfenvalerate/Fenvalerate",{"$f":"'Belirsizlik Bütçesi'!K147","v":0},{"$f":"'Veri Girişi'!C109","v":"GC-MS/MS"},10,102.56399999999999,8.4251943033366992,50,89.565333333333328,1.24]
[null,148,"Ethalfluarin",{"$f":"'Belirsizlik Bütçesi'!K148","v":1},{"$f":"'Veri Girişi'!C110","v":"GC-MS/MS"},10,106.96533333333333,6.5675733169071204,50,80.82480000000001,12.5930334428705]
[null,149,"Ethiolate",{"$f":"'Belirsizlik Bütçesi'!K149","v":0},{"$f":"'Veri Girişi'!C111","v":"GC-MS/MS"},10,107.51066666666669,8.1407662864727328,50,95.533066666666656,14.230303365168536]
[null,150,"Ethion",{"$f":"'Belirsizlik Bütçesi'!K150","v":1},{"$f":"'Veri Girişi'!#REF!","v":{"$error":"#REF!"}},10,96.058666666666667,11.414738855578085,50,95.171866666666673,7.4827291506565503]
[null,151,"Ethofumasate",{"$f":"'Belirsizlik Bütçesi'!K151","v":1},{"$f":"'Veri Girişi'!#REF!","v":{"$error":"#REF!"}},{"$error":"#N/A"},"--------","--------",{"$error":"#N/A"},"--------","--------"]
[null,152,"Ethofumesate-2-keto",{"$f":"'Belirsizlik Bütçesi'!K152","v":1},{"$f":"'Veri Girişi'!#REF!","v":{"$error":"#REF!"}},10,105.93266666666668,8.3659635372164889,50,91.19253333333333,11.869504283437928]
[null,153,"Ethoprophos",{"$f":"'Belirsizlik Bütçesi'!K153","v":1},{"$f":"'Veri Girişi'!#REF!","v":{"$error":"#REF!"}},10,98.027333333333317,19.205244380328111,50,84.319733333333332,12.42]
[null,154,"etobenzanid",{"$f":"'Belirsizlik Bütçesi'!K154","v":1},{"$f":"'Veri Girişi'!#REF!","v":{"$error":"#REF!"}},10,99.289333333333332,11.817004269542201,50,95.225066666666663,17.546900000000001]
[null,155,"Etoconazole",{"$f":"'Belirsizlik Bütçesi'!K155","v":1},{"$f":"'Veri Girişi'!#REF!","v":{"$error":"#REF!"}},{"$error":"#N/A"},"--------","--------",{"$error":"#N/A"},"--------","--------"]
[null,156,"Etofenprox",1,{"$f":"'Veri Girişi'!C112","v":"GC-MS/MS"},10,94.650666666666666,15.993764885845327,50,95.429866666666683,17.013413826885579]
[null,157,"Etoxazole",1,{"$f":"'Veri Girişi'!C116","v":"GC-MS/MS"},{"$error":"#N/A"},"--------","--------",{"$error":"#N/A"},"--------","--------"]
[null,158,"Etridiazole",1,{"$f":"'Veri Girişi'!C117","v":"GC-MS/MS"},10,100.21666666666664,14.318238686840751,50,94.773066666666665,16.81212869752498]
[null,159,"Fenamidone",1,{"$f":"'Veri Girişi'!C118","v":"GC-MS/MS"},10,99.112666666666655,14.732911147198239,50,88.186533333333344,12.659756954322221]
[null,160,"Fenarimol",{"$f":"'Belirsizlik Bütçesi'!K156","v":0},{"$f":"'Veri Girişi'!C112","v":"GC-MS/MS"},10,98.685333333333361,12.526200932452666,50,94.735066666666668,15.4]
[null,161,"fenchlorazole ethyl",{"$f":"'Belirsizlik Bütçesi'!K157","v":1},{"$f":"'Veri Girişi'!C116","v":"GC-MS/MS"},{"$error":"#N/A"},"--------","--------",{"$error":"#N/A"},"--------","--------"]
[null,162,"Fenchlorphos",{"$f":"'Belirsizlik Bütçesi'!K158","v":1},{"$f":"'Veri Girişi'!C117","v":"GC-MS/MS"},10,105.12066666666668,8.9091062490499944,50,82.150666666666666,10.334648988204332]
[null,163,"Fenitrothion",{"$f":"'Belirsizlik Bütçesi'!K159","v":1},{"$f":"'Veri Girişi'!C118","v":"GC-MS/MS"},10,96.050666666666672,14.449592903268652,50,82.551999999999992,13.880168013668538]
[null,164,"Fenothiocarb",{"$f":"'Belirsizlik Bütçesi'!K160","v":0},{"$f":"'Veri Girişi'!C119","v":"GC-MS/MS"},10,95.167999999999992,18.569700000000001,50,85.598799999999997,11.568800895943065]
[null,165,"Fenoxanil",{"$f":"'Belirsizlik Bütçesi'!K161","v":0},{"$f":"'Veri Girişi'!C120","v":"GC-MS/MS"},10,88.65066666666668,16.607052731445542,50,79.480133333333328,13.398772167827538]
[null,166,"Fenpropathrin",{"$f":"'Belirsizlik Bütçesi'!K162","v":1},{"$f":"'Veri Girişi'!C121","v":"GC-MS/MS"},10,94.313999999999993,12.737229328260035,50,85.191866666666684,19.639584987682547]
[null,167,"Fenson",{"$f":"'Belirsizlik Bütçesi'!K163","v":1},{"$f":"'Veri Girişi'!C122","v":"GC-MS/MS"},10,102.68466666666667,11.548990502555007,50,89.83253333333333,14.24]
[null,168,"Fensulfothion",{"$f":"'Belirsizlik Bütçesi'!K164","v":1},{"$f":"'Veri Girişi'!C123","v":"GC-MS/MS"},10,98.448666666666668,15.336507707373562,50,96.503066666666669,15.698490373299901]
[null,169,"Fenthion",{"$f":"'Belirsizlik Bütçesi'!K165","v":1},{"$f":"'Veri Girişi'!C124","v":"GC-MS/MS"},10,99.504666666666679,14.743820401874419,50,88.105333333333334,13.56251520110151]
[null,170,"Fipronil-Sulfide",{"$f":"'Belirsizlik Bütçesi'!K166","v":1},{"$f":"'Veri Girişi'!#REF!","v":{"$error":"#REF!"}},10,98.452000000000012,18.554940979655314,50,92.311466666666675,8.7262642439006903]
[null,171,"Fipronil-Sulfone",{"$f":"'Belirsizlik Bütçesi'!K167","v":1},{"$f":"'Veri Girişi'!C125","v":"GC-MS/MS"},10,98.310666666666677,16.473816812068492,50,101.77746666666667,8.1943540828307242]
[null,172,"Fluchloraline",{"$f":"'Belirsizlik Bütçesi'!K168","v":1},{"$f":"'Veri Girişi'!C126","v":"GC-MS/MS"},10,109.74400000000001,7.2384663164849155,50,88.505733333333339,17.189094541847318]
[null,173,"Flucythrinate",{"$f":"'Belirsizlik Bütçesi'!K169","v":1},{"$f":"'Veri Girişi'!C127","v":"GC-MS/MS"},10,104.74866666666665,14.6248,50,84.991600000000005,14.229469999999999]
[null,174,"Fludioxanil",{"$f":"'Belirsizlik Bütçesi'!K170","v":1},{"$f":"'Veri Girişi'!C128","v":"GC-MS/MS"},{"$error":"#N/A"},"--------","--------",{"$error":"#N/A"},"--------","--------"]
[null,175,"fluensulfone",{"$f":"'Belirsizlik Bütçesi'!K171","v":0},{"$f":"'Veri Girişi'!#REF!","v":{"$error":"#REF!"}},10,105.75199999999998,8.7588918877135864,50,93.305999999999997,13.504377080245078]
[null,176,"Flufenacat",{"$f":"'Belirsizlik Bütçesi'!K172","v":1},{"$f":"'Veri Girişi'!C129","v":"GC-MS/MS"},{"$error":"#N/A"},"--------","--------",{"$error":"#N/A"},"--------","--------"]
[null,177,"Flumetralin",{"$f":"'Belirsizlik Bütçesi'!K173","v":1},{"$f":"'Veri Girişi'!C130","v":"GC-MS/MS"},10,98.687999999999988,12.998953550258873,50,77.433599999999984,7.0313399243333654]
[null,178,"Flumioxazin",{"$f":"'Belirsizlik Bütçesi'!K174","v":1},{"$f":"'Veri Girişi'!C131","v":"GC-MS/MS"},10,102.35000000000001,16.531731071646014,50,95.616,18.24270735009549]
[null,179,"Fluotrimazole",{"$f":"'Belirsizlik Bütçesi'!K175","v":1},{"$f":"'Veri Girişi'!C132","v":"GC-MS/MS"},10,92.414666666666676,11.815236968216448,50,99.805866666666674,15.24]
[null,180,"Fluquinconazole",{"$f":"'Belirsizlik Bütçesi'!K176","v":0},{"$f":"'Veri Girişi'!C133","v":"GC-MS/MS"},10,105.18466666666666,13.445875540386981,50,106.37173333333332,11.567148018017031]
[null,181,"FLURTAMONE",{"$f":"'Belirsizlik Bütçesi'!K177","v":1},{"$f":"'Veri Girişi'!C134","v":"GC-MS/MS"},10,99.775333333333336,13.429958002101516,50,89.206666666666678,12.128559436520149]
[null,182,"Flusilazole",{"$f":"'Belirsizlik Bütçesi'!K178","v":1},{"$f":"'Veri Girişi'!C135","v":"GC-MS/MS"},10,92.714666666666659,13.690113187837078,50,97.724266666666651,10.589598029597514]
[null,183,"Flutriafol",{"$f":"'Belirsizlik Bütçesi'!K179","v":1},{"$f":"'Veri Girişi'!C136","v":"GC-MS/MS"},10,106.61800000000001,11.767436291534624,50,84.046533333333329,11.036003554590987]
[null,184,"Folpet",{"$f":"'Belirsizlik Bütçesi'!K180","v":1},{"$f":"'Veri Girişi'!#REF!","v":{"$error":"#REF!"}},10,98.653999999999996,12.575200017867926,50,88.286133333333325,14.953271687579536]
[null,185,"Fonofos",{"$f":"'Belirsizlik Bütçesi'!K181","v":1},{"$f":"'Veri Girişi'!#REF!","v":{"$error":"#REF!"}},10,105.24600000000002,8.3444463493117773,50,90.270400000000009,11.902998779567355]
[null,186,"Formothion",{"$f":"'Belirsizlik Bütçesi'!K182","v":0},{"$f":"'Veri Girişi'!#REF!","v":{"$error":"#REF!"}},10,103.51199999999999,10.830609092691427,50,81.809466666666665,8.2234903457238957]
[null,187,"Furalaxyl",{"$f":"'Belirsizlik Bütçesi'!K183","v":0},{"$f":"'Veri Girişi'!C138","v":"GC-MS/MS"},10,98.976666666666659,14.406986891982998,50,98.821066666666667,8.080240008321713]
[null,188,"Halfenprox",{"$f":"'Belirsizlik Bütçesi'!K184","v":1},{"$f":"'Veri Girişi'!#REF!","v":{"$error":"#REF!"}},10,98.990666666666655,16.717128451043234,50,91.614266666666651,16.439952925356369]
[null,189,"HCH alpha",{"$f":"'Belirsizlik Bütçesi'!K185","v":1},{"$f":"'Veri Girişi'!C139","v":"GC-MS/MS"},{"$error":"#N/A"},"--------","--------",{"$error":"#N/A"},"--------","--------"]
[null,190,"HCH beta",{"$f":"'Belirsizlik Bütçesi'!K186","v":1},{"$f":"'Veri Girişi'!C140","v":"GC-MS/MS"},{"$error":"#N/A"},"--------","--------",{"$error":"#N/A"},"--------","--------"]
[null,191,"HCH gamma",{"$f":"'Belirsizlik Bütçesi'!K187","v":1},{"$f":"'Veri Girişi'!C141","v":"GC-MS/MS"},{"$error":"#N/A"},"--------","--------",{"$error":"#N/A"},"--------","--------"]
[null,192,"HCH-Delta",{"$f":"'Belirsizlik Bütçesi'!K188","v":1},{"$f":"'Veri Girişi'!C142","v":"GC-MS/MS"},10,98.594666666666669,13.556752635708552,50,83.2136,13.179588192467248]
[null,193,"Heptachlor",{"$f":"'Belirsizlik Bütçesi'!K189","v":1},{"$f":"'Veri Girişi'!C143","v":"GC-MS/MS"},{"$f":"VLOOKUP($C198,TU_BELIRSIZLIK_1.KONS,2,FALSE)","v":10},{"$f":"IFERROR(VLOOKUP($C198,TU_BELIRSIZLIK_1.KONS,41,FALSE),\"--------\")","v":97.914000000000016},{"$f":"IFERROR(VLOOKUP($C198,TU_BELIRSIZLIK_1.KONS,50,FALSE),\"--------\")","v":10.334764646217653},{"$f":"VLOOKUP($C198,T.U.BELIRSIZLIGI,2,FALSE)","v":50},{"$f":"IFERROR(VLOOKUP($C198,T.U.BELIRSIZLIGI,41,FALSE),\"--------\")","v":88.578933333333339},{"$f":"IFERROR(VLOOKUP($C198,T.U.BELIRSIZLIGI,50,FALSE),\"--------\")","v":15.142970905667633}]
[null,194,"Heptachlor-endo-epoxide",{"$f":"'Belirsizlik Bütçesi'!K190","v":1},{"$f":"'Veri Girişi'!C144","v":"GC-MS/MS"},10,91.369333333333344,14.229383968003145,50,95.785733333333354,12.22381025567395]
[null,195,"Heptachlor-exo-epoxide",{"$f":"'Belirsizlik Bütçesi'!K191","v":1},{"$f":"'Veri Girişi'!C145","v":"GC-MS/MS"},10,100.41199999999999,14.05445147554088,50,90.926533333333339,9.5286458540148651]
[null,196,"Heptenaphos",{"$f":"'Belirsizlik Bütçesi'!K192","v":1},{"$f":"'Veri Girişi'!C146","v":"GC-MS/MS"},10,99.632666666666665,10.009447046998716,50,88.224400000000031,15.525888797748463]
[null,197,"Hexachloro-1,3-Butadiene",{"$f":"'Belirsizlik Bütçesi'!K193","v":1},{"$f":"'Veri Girişi'!C147","v":"GC-MS/MS"},{"$error":"#N/A"},"--------","--------",{"$error":"#N/A"},"--------","--------"]
[null,198,"Hexachlorobenzene",{"$f":"'Belirsizlik Bütçesi'!K194","v":1},{"$f":"'Veri Girişi'!C148","v":"GC-MS/MS"},10,102.71466666666666,8.1653876756882315,50,85.344799999999992,12.439836523021857]
[null,199,"Hexaconazole",{"$f":"'Belirsizlik Bütçesi'!K195","v":0},{"$f":"'Veri Girişi'!C149","v":"GC-MS/MS"},10,95.954000000000022,13.524387208780672,50,87.821066666666667,13.923891245209502]
[null,200,"Iodofenphos",{"$f":"'Belirsizlik Bütçesi'!K196","v":1},{"$f":"'Veri Girişi'!C151","v":"GC-MS/MS"},10,94.836666666666673,16.924074411194574,50,82.701600000000013,14.244637344668003]
[null,201,"IOXYNIL-OCTAONATE",{"$f":"'Belirsizlik Bütçesi'!K197","v":0},{"$f":"'Veri Girişi'!C152","v":"GC-MS/MS"},{"$error":"#N/A"},"--------","--------",{"$error":"#N/A"},"--------","--------"]
[null,202,"Iprobenfos",{"$f":"'Belirsizlik Bütçesi'!K198","v":0},{"$f":"'Veri Girişi'!C153","v":"GC-MS/MS"},10,105.81999999999998,13.659293974559491,50,91.079066666666662,12.814766251553355]
[null,203,"Iprodione",{"$f":"'Belirsizlik Bütçesi'!K199","v":0},{"$f":"'Veri Girişi'!C154","v":"GC-MS/MS"},10,88.103999999999999,15.188740023283348,50,85.310933333333338,17.147169541566669]
[null,204,"Isazofos",{"$f":"'Belirsizlik Bütçesi'!K200","v":0},{"$f":"'Veri Girişi'!C155","v":"GC-MS/MS"},10,98.303333333333313,14.570050815940311,50,91.742266666666666,13.257197756265304]
[null,205,"Isobenzan",{"$f":"'Belirsizlik Bütçesi'!K201","v":0},{"$f":"'Veri Girişi'!C156","v":"GC-MS/MS"},{"$error":"#N/A"},"--------","--------",{"$error":"#N/A"},"--------","--------"]
[null,206,"Isocarbamid",{"$f":"'Belirsizlik Bütçesi'!K202","v":1},{"$f":"'Veri Girişi'!C157","v":"GC-MS/MS"},10,101.76133333333335,13.132431360699028,50,91.021733333333344,17.896298662663913]
[null,207,"Isocarbophos",{"$f":"'Belirsizlik Bütçesi'!K203","v":1},{"$f":"'Veri Girişi'!C158","v":"GC-MS/MS"},10,98.517333333333326,12.303662754513212,50,88.870133333333328,14.947566763794526]
[null,208,"Isodrin",{"$f":"'Belirsizlik Bütçesi'!K204","v":1},{"$f":"'Veri Girişi'!C159","v":"GC-MS/MS"},10,103.346,12.757911763599324,50,90.563333333333333,11.89859449390992]
[null,209,"Isofenphos",{"$f":"'Belirsizlik Bütçesi'!K205","v":0},{"$f":"'Veri Girişi'!C160","v":"GC-MS/MS"},10,98.87866666666666,13.835882453216097,50,100.06733333333332,8.9218759808807064]
[null,210,"Isofenphos-Methyl",{"$f":"'Belirsizlik Bütçesi'!K206","v":0},{"$f":"'Veri Girişi'!C161","v":"GC-MS/MS"},10,100.93933333333331,11.97982167029201,50,98.734400000000008,9.7785154954567766]
[null,211,"isoprocarb",{"$f":"'Belirsizlik Bütçesi'!K207","v":1},{"$f":"'Veri Girişi'!C162","v":"GC-MS/MS"},10,104.59866666666666,7.7647605444262027,50,86.299066666666661,10.029054208163162]
[null,212,"Isopropalin",{"$f":"'Belirsizlik Bütçesi'!K208","v":1},{"$f":"'Veri Girişi'!C163","v":"GC-MS/MS"},10,101.07666666666665,15.654079107165245,50,89.906000000000006,9.2401163617817019]
[null,213,"Kresoxim-Methyl",{"$f":"'Belirsizlik Bütçesi'!K209","v":0},{"$f":"'Veri Girişi'!#REF!","v":{"$error":"#REF!"}},10,96.565333333333328,15.458816904932323,50,87.988133333333323,7.6991890557168876]
[null,214,"Lactofen",{"$f":"'Belirsizlik Bütçesi'!K210","v":1},{"$f":"'Veri Girişi'!C164","v":"GC-MS/MS"},{"$error":"#N/A"},"--------","--------",{"$error":"#N/A"},"--------","--------"]
[null,215,"Leptophos",{"$f":"'Belirsizlik Bütçesi'!K211","v":0},{"$f":"'Veri Girişi'!C165","v":"GC-MS/MS"},10,96.423333333333346,14.073954705587338,50,84.578399999999988,10.968613705004755]
[null,216,"MCPA-Methyl",{"$f":"'Belirsizlik Bütçesi'!K212","v":0},{"$f":"'Veri Girişi'!C166","v":"GC-MS/MS"},{"$error":"#N/A"},"--------","--------",{"$error":"#N/A"},"--------","--------"]
[null,217,"MCPB-Methyl-Ester",{"$f":"'Belirsizlik Bütçesi'!K213","v":1},{"$f":"'Veri Girişi'!#REF!","v":{"$error":"#REF!"}},{"$error":"#N/A"},"--------","--------",{"$error":"#N/A"},"--------","--------"]
[null,218,"Mefenpyr-diethyl",{"$f":"'Belirsizlik Bütçesi'!K214","v":1},{"$f":"'Veri Girişi'!C167","v":"GC-MS/MS"},10,94.289333333333332,16.50224124558509,50,88.005866666666662,7.0197556555267475]
[null,219,"Mephosfolan",{"$f":"'Belirsizlik Bütçesi'!K215","v":0},{"$f":"'Veri Girişi'!C168","v":"GC-MS/MS"},10,96.594666666666669,17.232923513942509,50,94.249599999999987,13.2669]
[null,220,"Metazachlor",{"$f":"'Belirsizlik Bütçesi'!K216","v":1},{"$f":"'Veri Girişi'!C169","v":"GC-MS/MS"},10,97.549333333333337,12.849187981509386,50,93.208666666666659,10.24]
[null,221,"Methacrifos",{"$f":"'Belirsizlik Bütçesi'!K217","v":1},{"$f":"'Veri Girişi'!C170","v":"GC-MS/MS"},10,105.45933333333335,10.856432800142102,50,92.062266666666673,13.394016563544994]
[null,222,"Methidathion",{"$f":"'Belirsizlik Bütçesi'!K218","v":0},{"$f":"'Veri Girişi'!#REF!","v":{"$error":"#REF!"}},10,90.379333333333335,15.514027339528067,50,88.695599999999985,18.2731793592651]
[null,223,"Methoxychlor",{"$f":"'Belirsizlik Bütçesi'!K219","v":0},{"$f":"'Veri Girişi'!C171","v":"GC-MS/MS"},10,103.758,13.989974448311138,50,85.683999999999997,13.148904569556866]
[null,224,"Metolachlor",{"$f":"'Belirsizlik Bütçesi'!K220","v":1},{"$f":"'Veri Girişi'!C172","v":"GC-MS/MS"},{"$error":"#N/A"},"--------","--------",{"$error":"#N/A"},"--------","--------"]
[null,225,"Metribuzin",{"$f":"'Belirsizlik Bütçesi'!K221","v":1},{"$f":"'Veri Girişi'!C173","v":"GC-MS/MS"},10,99.287333333333322,16.390357912694441,50,90.210133333333332,13.101397858972907]
[null,226,"MGK-264",{"$f":"'Belirsizlik Bütçesi'!K222","v":1},{"$f":"'Veri Girişi'!C174","v":"GC-MS/MS"},{"$error":"#N/A"},"--------","--------",{"$error":"#N/A"},"--------","--------"]
[null,227,"Mirex",{"$f":"'Belirsizlik Bütçesi'!K223","v":1},{"$f":"'Veri Girişi'!C175","v":"GC-MS/MS"},10,91.339333333333329,15.277271612301732,50,88.327333333333328,14.505827478951582]
[null,228,"Naled",{"$f":"'Belirsizlik Bütçesi'!K224","v":0},{"$f":"'Veri Girişi'!C176","v":"GC-MS/MS"},{"$error":"#N/A"},"--------","--------",{"$error":"#N/A"},"--------","--------"]
[null,229,"Napropamide",{"$f":"'Belirsizlik Bütçesi'!K225","v":1},{"$f":"'Veri Girişi'!C177","v":"GC-MS/MS"},10,91.678666666666686,15.781785670257678,50,94.450400000000002,11.4]
[null,230,"naptalam",{"$f":"'Belirsizlik Bütçesi'!K226","v":0},{"$f":"'Veri Girişi'!#REF!","v":{"$error":"#REF!"}},{"$error":"#N/A"},"--------","--------",{"$error":"#N/A"},"--------","--------"]
[null,231,"Nitralin",{"$f":"'Belirsizlik Bütçesi'!K227","v":1},{"$f":"'Veri Girişi'!C178","v":"GC-MS/MS"},10,96.23266666666666,17.531219793951106,50,84.419733333333326,10.503933000410926]
[null,232,"nitrapyrin",{"$f":"'Belirsizlik Bütçesi'!K228","v":1},{"$f":"'Veri Girişi'!C179","v":"GC-MS/MS"},10,89.869999999999976,17.699050119167207,50,87.206266666666664,14.24]
[null,233,"Nitrofen",{"$f":"'Belirsizlik Bütçesi'!K229","v":1},{"$f":"'Veri Girişi'!#REF!","v":{"$error":"#REF!"}},10,93.23266666666666,12.478826942422243,50,84.608400000000003,14.775900539465036]
[null,234,"Nitrothal-Isopropyl",{"$f":"'Belirsizlik Bütçesi'!K230","v":1},{"$f":"'Veri Girişi'!#REF!","v":{"$error":"#REF!"}},10,100.81199999999998,14.292431153236896,50,77.229599999999991,8.9856361562036131]
[null,235,"Norflurazon",{"$f":"'Belirsizlik Bütçesi'!K231","v":1},{"$f":"'Veri Girişi'!C180","v":"GC-MS/MS"},10,96.275333333333336,17.964890336175017,50,95.156533333333329,16.366439551537095]
[null,236,"Nuarimol",{"$f":"'Belirsizlik Bütçesi'!K232","v":1},{"$f":"'Veri Girişi'!C181","v":"GC-MS/MS"},10,99.895333333333326,15.440587447629039,50,89.763333333333321,13.491731656968817]
[null,237,"Orbencarb",{"$f":"'Belirsizlik Bütçesi'!K233","v":0},{"$f":"'Veri Girişi'!C182","v":"GC-MS/MS"},{"$error":"#N/A"},"--------","--------",{"$error":"#N/A"},"--------","--------"]
[null,238,"Ortho-phenylphenol",{"$f":"'Belirsizlik Bütçesi'!K234","v":1},{"$f":"'Veri Girişi'!C183","v":"GC-MS/MS"},{"$error":"#N/A"},"--------","--------",{"$error":"#N/A"},"--------","--------"]
[null,239,"oryzalin",{"$f":"'Belirsizlik Bütçesi'!K235","v":1},{"$f":"'Veri Girişi'!C184","v":"GC-MS/MS"},{"$error":"#N/A"},"--------","--------",{"$error":"#N/A"},"--------","--------"]
[null,240,"Oxadiazon",{"$f":"'Belirsizlik Bütçesi'!K236","v":0},{"$f":"'Veri Girişi'!C185","v":"GC-MS/MS"},10,93.608000000000018,15.674615567312863,50,101.00066666666665,6.6442253562116038]
[null,241,"Oxadixyl",{"$f":"'Belirsizlik Bütçesi'!K237","v":1},{"$f":"'Veri Girişi'!C186","v":"GC-MS/MS"},10,97.716666666666669,15.157358322214916,50,92.860399999999998,13.080918923768504]
[null,242,"PCB138",{"$f":"'Belirsizlik Bütçesi'!K238","v":1},{"$f":"'Veri Girişi'!C187","v":"GC-MS/MS"},{"$error":"#N/A"},"--------","--------",{"$error":"#N/A"},"--------","--------"]
[null,243,"PCB18",{"$f":"'Belirsizlik Bütçesi'!K239","v":1},{"$f":"'Veri Girişi'!C188","v":"GC-MS/MS"},{"$error":"#N/A"},"--------","--------",{"$error":"#N/A"},"--------","--------"]
[null,244,"Pebulate",{"$f":"'Belirsizlik Bütçesi'!K240","v":1},{"$f":"'Veri Girişi'!#REF!","v":{"$error":"#REF!"}},{"$error":"#N/A"},"--------","--------",{"$error":"#N/A"},"--------","--------"]
[null,245,"Pendimethaline",{"$f":"'Belirsizlik Bütçesi'!K241","v":1},{"$f":"'Veri Girişi'!C189","v":"GC-MS/MS"},10,98.535999999999973,17.981175629809869,50,84.34066666666665,10.303900935017996]
[null,246,"Pentachloroaniline",{"$f":"'Belirsizlik Bütçesi'!K242","v":1},{"$f":"'Veri Girişi'!#REF!","v":{"$error":"#REF!"}},10,102.20466666666668,15.906902809466514,50,93.895733333333325,9.4625213848864629]
[null,247,"Pentachloroanisole",{"$f":"'Belirsizlik Bütçesi'!K243","v":1},{"$f":"'Veri Girişi'!C190","v":"GC-MS/MS"},10,95.278000000000006,9.6670563790145412,50,83.217200000000005,12.91789706370877]
[null,248,"Pentachlorobenzene",{"$f":"'Belirsizlik Bütçesi'!K244","v":0},{"$f":"'Veri Girişi'!C191","v":"GC-MS/MS"},10,96.848000000000013,19.13133475961752,50,88.206666666666678,16.493789326657648]
[null,249,"Pentonochlor",{"$f":"'Belirsizlik Bütçesi'!K245","v":1},{"$f":"'Veri Girişi'!C192","v":"GC-MS/MS"},10,92.739333333333335,16.793675365086127,50,88.293733333333336,7.3303727600485562]
[null,250,"Permethrin1",{"$f":"'Belirsizlik Bütçesi'!K246","v":0},{"$f":"'Veri Girişi'!C193","v":"GC-MS/MS"},{"$error":"#N/A"},"--------","--------",{"$error":"#N/A"},"--------","--------"]
[null,251,"Perthane",{"$f":"'Belirsizlik Bütçesi'!K247","v":1},{"$f":"'Veri Girişi'!C194","v":"GC-MS/MS"},10,97.517333333333326,13.62084412247245,50,92.113466666666667,9.9146856759390296]
[null,252,"Pethoxamid",{"$f":"'Belirsizlik Bütçesi'!K248","v":1},{"$f":"'Veri Girişi'!C195","v":"GC-MS/MS"},10,97.430666666666681,13.972963932124999,50,93.411200000000008,15.301692021703008]
[null,253,"phenkapton",{"$f":"'Belirsizlik Bütçesi'!K249","v":1},{"$f":"'Veri Girişi'!#REF!","v":{"$error":"#REF!"}},{"$error":"#N/A"},"--------","--------",{"$error":"#N/A"},"--------","--------"]
[null,254,"Phenothrin",{"$f":"'Belirsizlik Bütçesi'!K250","v":0},{"$f":"'Veri Girişi'!C196","v":"GC-MS/MS"},{"$error":"#N/A"},"--------","--------",{"$error":"#N/A"},"--------","--------"]
[null,255,"Phenthoate",{"$f":"'Belirsizlik Bütçesi'!K251","v":0},{"$f":"'Veri Girişi'!C197","v":"GC-MS/MS"},10,108.05600000000001,11.497763413950146,50,91.746400000000008,7.6855808425649572]
[null,256,"Phosalone",{"$f":"'Belirsizlik Bütçesi'!K252","v":1},{"$f":"'Veri Girişi'!C198","v":"GC-MS/MS"},10,93.300000000000011,16.735123611476144,50,87.472000000000008,15.332117516595458]
[null,257,"Phosfolan",{"$f":"'Belirsizlik Bütçesi'!K253","v":1},{"$f":"'Veri Girişi'!#REF!","v":{"$error":"#REF!"}},{"$f":"VLOOKUP($C262,TU_BELIRSIZLIK_1.KONS,2,FALSE)","v":{"$error":"#N/A"}},{"$f":"IFERROR(VLOOKUP($C262,TU_BELIRSIZLIK_1.KONS,41,FALSE),\"--------\")","v":"--------"},{"$f":"IFERROR(VLOOKUP($C262,TU_BELIRSIZLIK_1.KONS,50,FALSE),\"--------\")","v":"--------"},{"$f":"VLOOKUP($C262,T.U.BELIRSIZLIGI,2,FALSE)","v":{"$error":"#N/A"}},{"$f":"IFERROR(VLOOKUP($C262,T.U.BELIRSIZLIGI,41,FALSE),\"--------\")","v":"--------"},{"$f":"IFERROR(VLOOKUP($C262,T.U.BELIRSIZLIGI,50,FALSE),\"--------\")","v":"--------"}]
[null,258,"Phosmet",{"$f":"'Belirsizlik Bütçesi'!K254","v":0},{"$f":"'Veri Girişi'!#REF!","v":{"$error":"#REF!"}},{"$error":"#N/A"},"--------","--------",{"$error":"#N/A"},"--------","--------"]
[null,259,"Phosphamidon",{"$f":"'Belirsizlik Bütçesi'!K255","v":0},{"$f":"'Veri Girişi'!#REF!","v":{"$error":"#REF!"}},10,101.58466666666666,12.526675802670104,50,82.161999999999992,12.76581899720782]
[null,260,"Phthalimide",{"$f":"'Belirsizlik Bütçesi'!K256","v":1},{"$f":"'Veri Girişi'!#REF!","v":{"$error":"#REF!"}},10,97.478000000000023,10.77588478493735,50,96.054266666666678,13.62564315763878]
[null,261,"Pirimiphos-Ethyl",{"$f":"'Belirsizlik Bütçesi'!K257","v":1},{"$f":"'Veri Girişi'!#REF!","v":{"$error":"#REF!"}},10,107.68466666666667,8.9762341233791076,50,99.045199999999994,10.799670600738109]
[null,262,"Pretilachlor",{"$f":"'Belirsizlik Bütçesi'!K258","v":1},{"$f":"'Veri Girişi'!#REF!","v":{"$error":"#REF!"}},10,95.543999999999997,15.916999208214822,50,94.551999999999992,10.409558184843368]
[null,263,"Procymidone",{"$f":"'Belirsizlik Bütçesi'!K259","v":1},{"$f":"'Veri Girişi'!#REF!","v":{"$error":"#REF!"}},10,97.664666666666676,5,50,95.575066666666672,9.8442459358812968]
[null,264,"Prodiamine",{"$f":"'Belirsizlik Bütçesi'!K260","v":0},{"$f":"'Veri Girişi'!#REF!","v":{"$error":"#REF!"}},{"$error":"#N/A"},"--------","--------",{"$error":"#N/A"},"--------","--------"]
[null,265,"Profenofos",{"$f":"'Belirsizlik Bütçesi'!K261","v":1},{"$f":"'Veri Girişi'!C200","v":"GC-MS/MS"},10,97.582666666666668,15.578942148736608,50,80.7256,13.023894603856521]
[null,266,"Profluralin",{"$f":"'Belirsizlik Bütçesi'!K262","v":1},{"$f":"'Veri Girişi'!C201","v":"GC-MS/MS"},10,109.89066666666668,8.878279282854713,50,87.926000000000002,14.24]
[null,267,"Prometon",{"$f":"'Belirsizlik Bütçesi'!K263","v":1},{"$f":"'Veri Girişi'!C202","v":"GC-MS/MS"},10,104.46466666666667,11.590308475918,50,92.245733333333334,11.602896309988934]
[null,268,"Prometryn",{"$f":"'Belirsizlik Bütçesi'!K264","v":0},{"$f":"'Veri Girişi'!C203","v":"GC-MS/MS"},10,105.28200000000001,9.7065712238627366,50,99.035600000000002,16.22338691108374]
[null,269,"Propachlor",{"$f":"'Belirsizlik Bütçesi'!K265","v":1},{"$f":"'Veri Girişi'!C204","v":"GC-MS/MS"},10,95.777999999999992,11.755268767114135,50,82.515466666666683,10.010120194543253]
[null,270,"Propanil",{"$f":"'Belirsizlik Bütçesi'!K266","v":1},{"$f":"'Veri Girişi'!C205","v":"GC-MS/MS"},10,101.18999999999998,13.058333042494707,50,86.177066666666661,12.42]
[null,271,"Propazine",{"$f":"'Belirsizlik Bütçesi'!K267","v":1},{"$f":"'Veri Girişi'!C206","v":"GC-MS/MS"},10,105.21400000000001,15,50,83.765733333333316,14.423999999999999]
[null,272,"Propetamphos",{"$f":"'Belirsizlik Bütçesi'!K268","v":1},{"$f":"'Veri Girişi'!C207","v":"GC-MS/MS"},10,109.29733333333334,7.4810898802369268,50,93.953333333333347,10.423999999999999]
[null,273,"Propiconazole-1",{"$f":"'Belirsizlik Bütçesi'!K269","v":1},{"$f":"'Veri Girişi'!C208","v":"GC-MS/MS"},{"$error":"#N/A"},"--------","--------",{"$error":"#N/A"},"--------","--------"]
[null,274,"propisochlor",{"$f":"'Belirsizlik Bütçesi'!K270","v":1},{"$f":"'Veri Girişi'!C209","v":"GC-MS/MS"},10,104.06733333333334,9.8715345036862558,50,95.378,12.627625444965988]
[null,275,"Prothiofos",{"$f":"'Belirsizlik Bütçesi'!K271","v":1},{"$f":"'Veri Girişi'!#REF!","v":{"$error":"#REF!"}},10,100.94533333333335,15.631488235186708,50,96.158666666666662,11.372035290016118]
[null,276,"Pyraclofos",{"$f":"'Belirsizlik Bütçesi'!K272","v":1},{"$f":"'Veri Girişi'!#REF!","v":{"$error":"#REF!"}},10,93.73533333333333,17.704880730094548,50,82.048933333333338,8.3090591920448773]
[null,277,"Pyraflufen Ethyl",{"$f":"'Belirsizlik Bütçesi'!K273","v":1},{"$f":"'Veri Girişi'!C211","v":"GC-MS/MS"},{"$error":"#N/A"},"--------","--------",{"$error":"#N/A"},"--------","--------"]
[null,278,"Pyrasulfotole",{"$f":"'Belirsizlik Bütçesi'!K274","v":1},{"$f":"'Veri Girişi'!C212","v":"GC-MS/MS"},{"$error":"#N/A"},"--------","--------",{"$error":"#N/A"},"--------","--------"]
[null,279,"Pyrazophos",{"$f":"'Belirsizlik Bütçesi'!K275","v":1},{"$f":"'Veri Girişi'!C214","v":"GC-MS/MS"},10,101.84599999999999,13.818169473028554,50,84.692133333333331,13.109019843722441]
[null,280,"Pyributicarb",{"$f":"'Belirsizlik Bütçesi'!K276","v":1},{"$f":"'Veri Girişi'!#REF!","v":{"$error":"#REF!"}},10,94.830666666666659,17.053683433652083,50,97.531999999999996,12.626778967614511]
[null,281,"Pyridophenthion",{"$f":"'Belirsizlik Bütçesi'!K277","v":1},{"$f":"'Veri Girişi'!#REF!","v":{"$error":"#REF!"}},10,103.72066666666666,13.061190105996239,50,88.42786666666666,15.96942590632584]
[null,282,"Pyrimethaline",{"$f":"'Belirsizlik Bütçesi'!K278","v":0},{"$f":"'Veri Girişi'!#REF!","v":{"$error":"#REF!"}},{"$error":"#N/A"},"--------","--------",{"$error":"#N/A"},"--------","--------"]
[null,283,"Pyroquilon",{"$f":"'Belirsizlik Bütçesi'!K279","v":1},{"$f":"'Veri Girişi'!C215","v":"GC-MS/MS"},10,95.59,14.915031008846569,50,85.901200000000003,12.2515]
[null,284,"Quinalphos",{"$f":"'Belirsizlik Bütçesi'!K280","v":1},{"$f":"'Veri Girişi'!#REF!","v":{"$error":"#REF!"}},10,92.221999999999994,16.02538665057164,50,87.690933333333334,12.609425470152274]
[null,285,"Quinoclamine",{"$f":"'Belirsizlik Bütçesi'!K281","v":1},{"$f":"'Veri Girişi'!C216","v":"GC-MS/MS"},10,88.97999999999999,14.387178989317558,50,87.099199999999996,19.198144764812636]
[null,286,"Quintozene",{"$f":"'Belirsizlik Bütçesi'!K282","v":1},{"$f":"'Veri Girişi'!C217","v":"GC-MS/MS"},10,97.744,16.648263145592015,50,92.768266666666662,15.313231412655803]
[null,287,"Resmethrin-2",{"$f":"'Belirsizlik Bütçesi'!K283","v":0},{"$f":"'Veri Girişi'!C218","v":"GC-MS/MS"},{"$error":"#N/A"},"--------","--------",{"$error":"#N/A"},"--------","--------"]
[null,288,"S421",{"$f":"'Belirsizlik Bütçesi'!K284","v":1},{"$f":"'Veri Girişi'!C219","v":"GC-MS/MS"},{"$error":"#N/A"},"--------","--------",{"$error":"#N/A"},"--------","--------"]
[null,289,"Simazine",{"$f":"'Belirsizlik Bütçesi'!K285","v":1},{"$f":"'Veri Girişi'!C220","v":"GC-MS/MS"},10,105.33933333333334,10.691110730927656,50,90.821200000000005,10.591137563915682]
[null,290,"Simeconazole",{"$f":"'Belirsizlik Bütçesi'!K286","v":1},{"$f":"'Veri Girişi'!C221","v":"GC-MS/MS"},{"$error":"#N/A"},"--------","--------",{"$error":"#N/A"},"--------","--------"]
[null,291,"Simetryn",{"$f":"'Belirsizlik Bütçesi'!K287","v":1},{"$f":"'Veri Girişi'!C222","v":"GC-MS/MS"},10,97.756666666666675,15.181993020436282,50,88.736933333333326,10.060679696913624]
[null,292,"Spiromesifen",{"$f":"'Belirsizlik Bütçesi'!K288","v":1},{"$f":"'Veri Girişi'!C223","v":"GC-MS/MS"},10,101.22066666666665,12.137676531950225,50,91.394933333333327,10.782268348675444]
[null,293,"Sulfotep",{"$f":"'Belirsizlik Bütçesi'!K289","v":0},{"$f":"'Veri Girişi'!C224","v":"GC-MS/MS"},10,107.83733333333333,8.138313615945842,50,85.876533333333342,17.181695161422532]
[null,294,"Sulprofos",{"$f":"'Belirsizlik Bütçesi'!K290","v":1},{"$f":"'Veri Girişi'!C225","v":"GC-MS/MS"},10,93.612666666666655,15.972455977139699,50,95.409733333333321,13.224040727622194]
[null,295,"Swep",{"$f":"'Belirsizlik Bütçesi'!K291","v":0},{"$f":"'Veri Girişi'!C226","v":"GC-MS/MS"},{"$error":"#N/A"},"--------","--------",{"$error":"#N/A"},"--------","--------"]
[null,296,"Tau-Fluvalinate1",{"$f":"'Belirsizlik Bütçesi'!K292","v":1},{"$f":"'Veri Girişi'!C227","v":"GC-MS/MS"},{"$error":"#N/A"},"--------","--------",{"$error":"#N/A"},"--------","--------"]
[null,297,"Tebupirimfos",{"$f":"'Belirsizlik Bütçesi'!K293","v":1},{"$f":"'Veri Girişi'!C228","v":"GC-MS/MS"},{"$error":"#N/A"},"--------","--------",{"$error":"#N/A"},"--------","--------"]
[null,298,"Tecnazene",{"$f":"'Belirsizlik Bütçesi'!K294","v":1},{"$f":"'Veri Girişi'!C229","v":"GC-MS/MS"},10,97.402666666666676,11.58897883742876,50,92.130266666666657,11.522447109002028]
[null,299,"Tefluthrine",{"$f":"'Belirsizlik Bütçesi'!K295","v":1},{"$f":"'Veri Girişi'!C230","v":"GC-MS/MS"},10,106.63133333333334,9.2399230164249477,50,94.466533333333331,13.305262544303211]
[null,300,"Terbacil",{"$f":"'Belirsizlik Bütçesi'!K296","v":1},{"$f":"'Veri Girişi'!C231","v":"GC-MS/MS"},{"$error":"#N/A"},"--------","--------",{"$error":"#N/A"},"--------","--------"]
[null,301,"Terbufos",{"$f":"'Belirsizlik Bütçesi'!K297","v":1},{"$f":"'Veri Girişi'!C232","v":"GC-MS/MS"},10,102.86199999999998,15.967934053989113,50,91.367333333333335,6]
[null,302,"Terbumeton",{"$f":"'Belirsizlik Bütçesi'!K298","v":0},{"$f":"'Veri Girişi'!C233","v":"GC-MS/MS"},10,106.85800000000003,10.509300378299258,50,85.065200000000004,11.733747017867158]
[null,303,"Terbuthylazine",{"$f":"'Belirsizlik Bütçesi'!K299","v":1},{"$f":"'Veri Girişi'!C234","v":"GC-MS/MS"},10,102.76799999999997,13.526326514434183,50,90.695466666666675,14.183691736242702]
[null,304,"Terbutyrn",{"$f":"'Belirsizlik Bütçesi'!K300","v":1},{"$f":"'Veri Girişi'!C235","v":"GC-MS/MS"},10,103.18533333333333,12.642812999196536,50,94.474266666666665,11.327443826459065]
[null,305,"Tetrachlorvinphos",{"$f":"'Belirsizlik Bütçesi'!K301","v":1},{"$f":"'Veri Girişi'!C236","v":"GC-MS/MS"},10,100.66333333333336,15.327598891169133,50,85.962533333333326,19.712881361907357]
[null,306,"Tetraconazole",{"$f":"'Belirsizlik Bütçesi'!K302","v":1},{"$f":"'Veri Girişi'!#REF!","v":{"$error":"#REF!"}},10,94.815999999999988,17.476975820847908,50,100.65479999999999,10.197609767117322]
[null,307,"Tetradifon",{"$f":"'Belirsizlik Bütçesi'!K303","v":1},{"$f":"'Veri Girişi'!#REF!","v":{"$error":"#REF!"}},10,104.43866666666668,12.117062888254285,50,103.18799999999999,8.2618277819538601]
[null,308,"Tetramethrin",{"$f":"'Belirsizlik Bütçesi'!K304","v":1},{"$f":"'Veri Girişi'!C237","v":"GC-MS/MS"},10,98.174666666666667,12.4,50,84.402933333333323,10.42]
[null,309,"Tetrasul",{"$f":"'Belirsizlik Bütçesi'!K305","v":1},{"$f":"'Veri Girişi'!C238","v":"GC-MS/MS"},10,96.74,18.164866727584876,50,86.67519999999999,9.3825182658397317]
[null,310,"Thiazopyr",{"$f":"'Belirsizlik Bütçesi'!K306","v":1},{"$f":"'Veri Girişi'!#REF!","v":{"$error":"#REF!"}},10,104.85133333333334,8.8188449551384274,50,97.683599999999998,10.761902002433891]
[null,311,"Thiobencarb",{"$f":"'Belirsizlik Bütçesi'!K307","v":1},{"$f":"'Veri Girişi'!C239","v":"GC-MS/MS"},10,104.65,12.445695797900131,50,92.514133333333334,11.567473681597331]
[null,312,"Thiometon",{"$f":"'Belirsizlik Bütçesi'!K308","v":0},{"$f":"'Veri Girişi'!C240","v":"GC-MS/MS"},10,105.52866666666669,11.170069522039341,50,91.228933333333316,15.491528080286368]
[null,313,"Thionazin",{"$f":"'Belirsizlik Bütçesi'!K309","v":1},{"$f":"'Veri Girişi'!C241","v":"GC-MS/MS"},10,109.80599999999998,14.24,50,89.092533333333321,10.244]
[null,314,"THPI",{"$f":"'Belirsizlik Bütçesi'!K310","v":1},{"$f":"'Veri Girişi'!C242","v":"GC-MS/MS"},{"$error":"#N/A"},"--------","--------",{"$error":"#N/A"},"--------","--------"]
[null,315,"Tolclofos Methyl",{"$f":"'Belirsizlik Bütçesi'!K311","v":1},{"$f":"'Veri Girişi'!#REF!","v":{"$error":"#REF!"}},{"$error":"#N/A"},"--------","--------",{"$error":"#N/A"},"--------","--------"]
[null,316,"Tolyfluanid",{"$f":"'Belirsizlik Bütçesi'!K312","v":1},{"$f":"'Veri Girişi'!#REF!","v":{"$error":"#REF!"}},{"$error":"#N/A"},"--------","--------",{"$error":"#N/A"},"--------","--------"]
[null,317,"Transfluthrin",{"$f":"'Belirsizlik Bütçesi'!K313","v":0},{"$f":"'Veri Girişi'!C243","v":"GC-MS/MS"},10,103.65199999999999,12.14283565603953,50,87.135599999999997,12.309754629900665]
[null,318,"Tri-Allate",{"$f":"'Belirsizlik Bütçesi'!K314","v":1},{"$f":"'Veri Girişi'!C244","v":"GC-MS/MS"},10,100.85933333333332,16.620064236589531,50,96.023866666666663,14.770141098949294]
[null,319,"Tributylphosphate",{"$f":"'Belirsizlik Bütçesi'!K315","v":1},{"$f":"'Veri Girişi'!C245","v":"GC-MS/MS"},{"$error":"#N/A"},"--------","--------",{"$error":"#N/A"},"--------","--------"]
[null,320,"Trichloronate",{"$f":"'Belirsizlik Bütçesi'!K316","v":1},{"$f":"'Veri Girişi'!#REF!","v":{"$error":"#REF!"}},10,101.24466666666667,14.273841974872321,50,94.963600000000014,12.331151803096997]
[null,321,"Trichlorophenol-2,4,6",{"$f":"'Belirsizlik Bütçesi'!K317","v":0},{"$f":"'Veri Girişi'!C246","v":"GC-MS/MS"},{"$f":"VLOOKUP($C326,TU_BELIRSIZLIK_1.KONS,2,FALSE)","v":{"$error":"#N/A"}},{"$f":"IFERROR(VLOOKUP($C326,TU_BELIRSIZLIK_1.KONS,41,FALSE),\"--------\")","v":"--------"},{"$f":"IFERROR(VLOOKUP($C326,TU_BELIRSIZLIK_1.KONS,50,FALSE),\"--------\")","v":"--------"},{"$f":"VLOOKUP($C326,T.U.BELIRSIZLIGI,2,FALSE)","v":{"$error":"#N/A"}},{"$f":"IFERROR(VLOOKUP($C326,T.U.BELIRSIZLIGI,41,FALSE),\"--------\")","v":"--------"},{"$f":"IFERROR(VLOOKUP($C326,T.U.BELIRSIZLIGI,50,FALSE),\"--------\")","v":"--------"}]
[null,322,"Trifluralin",{"$f":"'Belirsizlik Bütçesi'!K318","v":1},{"$f":"'Veri Girişi'!C247","v":"GC-MS/MS"},10,104.85666666666667,12.36329244122976,50,85.854933333333335,1.24]
[null,323,"Vinclozoline",{"$f":"'Belirsizlik Bütçesi'!K319","v":1},{"$f":"'Veri Girişi'!C248","v":"GC-MS/MS"},10,101.09733333333331,14.362655953430083,50,91.222133333333332,11.308858693166551]
[null,324,null,{"$f":"'Belirsizlik Bütçesi'!K320","v":1},{"$f":"'Veri Girişi'!C249","v":"GC-MS/MS"},{"$error":"#N/A"},"--------","--------",{"$error":"#N/A"},"--------","--------"]
[null,325,null,{"$f":"'Belirsizlik Bütçesi'!K321","v":1},{"$f":"'Veri Girişi'!C250","v":"GC-MS/MS"},{"$error":"#N/A"},"--------","--------",{"$error":"#N/A"},"--------","--------"]
[null,326,null,{"$f":"'Belirsizlik Bütçesi'!K322","v":1},{"$f":"'Veri Girişi'!C251","v":"GC-MS/MS"},{"$error":"#N/A"},"--------","--------",{"$error":"#N/A"},"--------","--------"]
[null,327,null,{"$f":"'Belirsizlik Bütçesi'!K323","v":1},{"$f":"'Veri Girişi'!C252","v":"GC-MS/MS"},{"$error":"#N/A"},"--------","--------",{"$error":"#N/A"},"--------","--------"]
[null,328,null,{"$f":"'Belirsizlik Bütçesi'!K324","v":1},{"$f":"'Veri Girişi'!C253","v":"GC-MS/MS"},{"$error":"#N/A"},"--------","--------",{"$error":"#N/A"},"--------","--------"]
[null,329,null,{"$f":"'Belirsizlik Bütçesi'!K325","v":1},{"$f":"'Veri Girişi'!C254","v":"GC-MS/MS"},{"$error":"#N/A"},"--------","--------",{"$error":"#N/A"},"--------","--------"]
[null,330,null,{"$f":"'Belirsizlik Bütçesi'!K326","v":1},{"$f":"'Veri Girişi'!C255","v":"GC-MS/MS"},{"$error":"#N/A"},"--------","--------",{"$error":"#N/A"},"--------","--------"]
[null,331,null,{"$f":"'Belirsizlik Bütçesi'!K327","v":0},{"$f":"'Veri Girişi'!C256","v":"GC-MS/MS"},{"$error":"#N/A"},"--------","--------",{"$error":"#N/A"},"--------","--------"]
[null,332,null,{"$f":"'Belirsizlik Bütçesi'!K328","v":1},{"$f":"'Veri Girişi'!C257","v":"GC-MS/MS"},{"$error":"#N/A"},"--------","--------",{"$error":"#N/A"},"--------","--------"]
[null,333,null,{"$f":"'Belirsizlik Bütçesi'!K329","v":1},{"$f":"'Veri Girişi'!C258","v":"GC-MS/MS"},{"$error":"#N/A"},"--------","--------",{"$error":"#N/A"},"--------","--------"]
[null,334,null,{"$f":"'Belirsizlik Bütçesi'!K330","v":1},{"$f":"'Veri Girişi'!C259","v":"GC-MS/MS"},{"$error":"#N/A"},"--------","--------",{"$error":"#N/A"},"--------","--------"]
[null,335,null,{"$f":"'Belirsizlik Bütçesi'!K331","v":1},{"$f":"'Veri Girişi'!C260","v":"GC-MS/MS"},{"$error":"#N/A"},"--------","--------",{"$error":"#N/A"},"--------","--------"]
[null,336,null,{"$f":"'Belirsizlik Bütçesi'!K332","v":1},{"$f":"'Veri Girişi'!C261","v":"GC-MS/MS"},{"$error":"#N/A"},"--------","--------",{"$error":"#N/A"},"--------","--------"]
[null,337,null,{"$f":"'Belirsizlik Bütçesi'!K333","v":1},{"$f":"'Veri Girişi'!C262","v":"GC-MS/MS"},{"$error":"#N/A"},"--------","--------",{"$error":"#N/A"},"--------","--------"]
[null,338,null,{"$f":"'Belirsizlik Bütçesi'!K334","v":0},{"$f":"'Veri Girişi'!C263","v":"GC-MS/MS"},{"$error":"#N/A"},"--------","--------",{"$error":"#N/A"},"--------","--------"]
[null,339,null,{"$f":"'Belirsizlik Bütçesi'!K335","v":0},{"$f":"'Veri Girişi'!#REF!","v":{"$error":"#REF!"}},{"$error":"#N/A"},"--------","--------",{"$error":"#N/A"},"--------","--------"]
[null,340,null,{"$f":"'Belirsizlik Bütçesi'!K336","v":1},{"$f":"'Veri Girişi'!#REF!","v":{"$error":"#REF!"}},{"$error":"#N/A"},"--------","--------",{"$error":"#N/A"},"--------","--------"]
[null,341,null,{"$f":"'Belirsizlik Bütçesi'!K337","v":0},{"$f":"'Veri Girişi'!C264","v":"GC-MS/MS"},{"$error":"#N/A"},"--------","--------",{"$error":"#N/A"},"--------","--------"]
[null,342,null,{"$f":"'Belirsizlik Bütçesi'!K338","v":1},{"$f":"'Veri Girişi'!#REF!","v":{"$error":"#REF!"}},{"$error":"#N/A"},"--------","--------",{"$error":"#N/A"},"--------","--------"]
[null,343,null,{"$f":"'Belirsizlik Bütçesi'!K339","v":1},{"$f":"'Veri Girişi'!C265","v":"GC-MS/MS"},{"$error":"#N/A"},"--------","--------",{"$error":"#N/A"},"--------","--------"]
[null,344,null,{"$f":"'Belirsizlik Bütçesi'!K340","v":1},{"$f":"'Veri Girişi'!#REF!","v":{"$error":"#REF!"}},{"$error":"#N/A"},"--------","--------",{"$error":"#N/A"},"--------","--------"]
[null,345,null,{"$f":"'Belirsizlik Bütçesi'!K341","v":1},{"$f":"'Veri Girişi'!#REF!","v":{"$error":"#REF!"}},{"$error":"#N/A"},"--------","--------",{"$error":"#N/A"},"--------","--------"]
[null,346,null,{"$f":"'Belirsizlik Bütçesi'!K342","v":1},{"$f":"'Veri Girişi'!#REF!","v":{"$error":"#REF!"}},{"$error":"#N/A"},"--------","--------",{"$error":"#N/A"},"--------","--------"]
[null,347,null,{"$f":"'Belirsizlik Bütçesi'!K343","v":0},{"$f":"'Veri Girişi'!#REF!","v":{"$error":"#REF!"}},{"$error":"#N/A"},"--------","--------",{"$error":"#N/A"},"--------","--------"]
[null,348,null,{"$f":"'Belirsizlik Bütçesi'!K344","v":1},{"$f":"'Veri Girişi'!#REF!","v":{"$error":"#REF!"}},{"$error":"#N/A"},"--------","--------",{"$error":"#N/A"},"--------","--------"]
[null,349,null,{"$f":"'Belirsizlik Bütçesi'!K345","v":1},{"$f":"'Veri Girişi'!#REF!","v":{"$error":"#REF!"}},{"$error":"#N/A"},"--------","--------",{"$error":"#N/A"},"--------","--------"]
[null,350,null,{"$f":"'Belirsizlik Bütçesi'!K346","v":1},{"$f":"'Veri Girişi'!C266","v":"GC-MS/MS"},{"$error":"#N/A"},"--------","--------",{"$error":"#N/A"},"--------","--------"]
[null,351,null,{"$f":"'Belirsizlik Bütçesi'!K347","v":1},{"$f":"'Veri Girişi'!#REF!","v":{"$error":"#REF!"}},{"$error":"#N/A"},"--------","--------",{"$error":"#N/A"},"--------","--------"]
[null,352,null,{"$f":"'Belirsizlik Bütçesi'!K348","v":1},{"$f":"'Veri Girişi'!#REF!","v":{"$error":"#REF!"}},{"$error":"#N/A"},"--------","--------",{"$error":"#N/A"},"--------","--------"]
[null,353,null,{"$f":"'Belirsizlik Bütçesi'!K349","v":1},{"$f":"'Veri Girişi'!#REF!","v":{"$error":"#REF!"}},{"$error":"#N/A"},"--------","--------",{"$error":"#N/A"},"--------","--------"]
[null,354,null,{"$f":"'Belirsizlik Bütçesi'!K350","v":1},{"$f":"'Veri Girişi'!#REF!","v":{"$error":"#REF!"}},{"$error":"#N/A"},"--------","--------",{"$error":"#N/A"},"--------","--------"]
[null,355,null,{"$f":"'Belirsizlik Bütçesi'!K351","v":1},{"$f":"'Veri Girişi'!#REF!","v":{"$error":"#REF!"}},{"$error":"#N/A"},"--------","--------",{"$error":"#N/A"},"--------","--------"]
[null,356,null,{"$f":"'Belirsizlik Bütçesi'!K352","v":0},{"$f":"'Veri Girişi'!#REF!","v":{"$error":"#REF!"}},{"$error":"#N/A"},"--------","--------",{"$error":"#N/A"},"--------","--------"]
[null,357,null,{"$f":"'Belirsizlik Bütçesi'!K353","v":1},{"$f":"'Veri Girişi'!#REF!","v":{"$error":"#REF!"}},{"$error":"#N/A"},"--------","--------",{"$error":"#N/A"},"--------","--------"]
[null,358,null,{"$f":"'Belirsizlik Bütçesi'!K354","v":1},{"$f":"'Veri Girişi'!#REF!","v":{"$error":"#REF!"}},{"$error":"#N/A"},"--------","--------",{"$error":"#N/A"},"--------","--------"]
[null,359,null,{"$f":"'Belirsizlik Bütçesi'!K355","v":1},{"$f":"'Veri Girişi'!#REF!","v":{"$error":"#REF!"}},{"$error":"#N/A"},"--------","--------",{"$error":"#N/A"},"--------","--------"]
[null,360,null,{"$f":"'Belirsizlik Bütçesi'!K356","v":1},{"$f":"'Veri Girişi'!#REF!","v":{"$error":"#REF!"}},{"$error":"#N/A"},"--------","--------",{"$error":"#N/A"},"--------","--------"]
[null,361,null,{"$f":"'Belirsizlik Bütçesi'!K357","v":1},{"$f":"'Veri Girişi'!#REF!","v":{"$error":"#REF!"}},{"$error":"#N/A"},"--------","--------",{"$error":"#N/A"},"--------","--------"]
[null,362,null,{"$f":"'Belirsizlik Bütçesi'!K358","v":0},{"$f":"'Veri Girişi'!#REF!","v":{"$error":"#REF!"}},{"$error":"#N/A"},"--------","--------",{"$error":"#N/A"},"--------","--------"]
[null,363,null,{"$f":"'Belirsizlik Bütçesi'!K359","v":1},{"$f":"'Veri Girişi'!#REF!","v":{"$error":"#REF!"}},{"$error":"#N/A"},"--------","--------",{"$error":"#N/A"},"--------","--------"]
[null,364,null,{"$f":"'Belirsizlik Bütçesi'!K360","v":1},{"$f":"'Veri Girişi'!#REF!","v":{"$error":"#REF!"}},{"$error":"#N/A"},"--------","--------",{"$error":"#N/A"},"--------","--------"]
[null,365,null,{"$f":"'Belirsizlik Bütçesi'!K361","v":0},{"$f":"'Veri Girişi'!#REF!","v":{"$error":"#REF!"}},{"$error":"#N/A"},"--------","--------",{"$error":"#N/A"},"--------","--------"]
[null,366,null,{"$f":"'Belirsizlik Bütçesi'!K362","v":0},{"$f":"'Veri Girişi'!#REF!","v":{"$error":"#REF!"}},{"$error":"#N/A"},"--------","--------",{"$error":"#N/A"},"--------","--------"]
[null,367,null,{"$f":"'Belirsizlik Bütçesi'!K363","v":1},{"$f":"'Veri Girişi'!#REF!","v":{"$error":"#REF!"}},{"$error":"#N/A"},"--------","--------",{"$error":"#N/A"},"--------","--------"]
[null,368,null,{"$f":"'Belirsizlik Bütçesi'!K364","v":1},{"$f":"'Veri Girişi'!#REF!","v":{"$error":"#REF!"}},{"$error":"#N/A"},"--------","--------",{"$error":"#N/A"},"--------","--------"]
[null,369,null,{"$f":"'Belirsizlik Bütçesi'!K365","v":1},{"$f":"'Veri Girişi'!#REF!","v":{"$error":"#REF!"}},{"$error":"#N/A"},"--------","--------",{"$error":"#N/A"},"--------","--------"]
[null,370,null,{"$f":"'Belirsizlik Bütçesi'!K366","v":1},{"$f":"'Veri Girişi'!#REF!","v":{"$error":"#REF!"}},{"$error":"#N/A"},"--------","--------",{"$error":"#N/A"},"--------","--------"]
[null,371,null,{"$f":"'Belirsizlik Bütçesi'!K367","v":0},{"$f":"'Veri Girişi'!#REF!","v":{"$error":"#REF!"}},{"$error":"#N/A"},"--------","--------",{"$error":"#N/A"},"--------","--------"]
[null,372,null,{"$f":"'Belirsizlik Bütçesi'!K368","v":1},{"$f":"'Veri Girişi'!#REF!","v":{"$error":"#REF!"}},{"$error":"#N/A"},"--------","--------",{"$error":"#N/A"},"--------","--------"]
[null,373,null,{"$f":"'Belirsizlik Bütçesi'!K369","v":1},{"$f":"'Veri Girişi'!#REF!","v":{"$error":"#REF!"}},{"$error":"#N/A"},"--------","--------",{"$error":"#N/A"},"--------","--------"]
[null,374,null,{"$f":"'Belirsizlik Bütçesi'!K370","v":1},{"$f":"'Veri Girişi'!#REF!","v":{"$error":"#REF!"}},{"$error":"#N/A"},"--------","--------",{"$error":"#N/A"},"--------","--------"]
[null,375,null,{"$f":"'Belirsizlik Bütçesi'!K371","v":1},{"$f":"'Veri Girişi'!#REF!","v":{"$error":"#REF!"}},{"$error":"#N/A"},"--------","--------",{"$error":"#N/A"},"--------","--------"]
[null,376,null,{"$f":"'Belirsizlik Bütçesi'!K372","v":1},{"$f":"'Veri Girişi'!#REF!","v":{"$error":"#REF!"}},{"$error":"#N/A"},"--------","--------",{"$error":"#N/A"},"--------","--------"]
[null,377,null,{"$f":"'Belirsizlik Bütçesi'!K373","v":1},{"$f":"'Veri Girişi'!#REF!","v":{"$error":"#REF!"}},{"$error":"#N/A"},"--------","--------",{"$error":"#N/A"},"--------","--------"]
[null,378,null,{"$f":"'Belirsizlik Bütçesi'!K374","v":1},{"$f":"'Veri Girişi'!#REF!","v":{"$error":"#REF!"}},{"$error":"#N/A"},"--------","--------",{"$error":"#N/A"},"--------","--------"]
[null,379,null,{"$f":"'Belirsizlik Bütçesi'!K375","v":0},{"$f":"'Veri Girişi'!#REF!","v":{"$error":"#REF!"}},{"$error":"#N/A"},"--------","--------",{"$error":"#N/A"},"--------","--------"]
[null,380,null,{"$f":"'Belirsizlik Bütçesi'!K376","v":0},{"$f":"'Veri Girişi'!#REF!","v":{"$error":"#REF!"}},{"$error":"#N/A"},"--------","--------",{"$error":"#N/A"},"--------","--------"]
[null,381,null,{"$f":"'Belirsizlik Bütçesi'!K377","v":0},{"$f":"'Veri Girişi'!#REF!","v":{"$error":"#REF!"}},{"$error":"#N/A"},"--------","--------",{"$error":"#N/A"},"--------","--------"]
[null,382,null,{"$f":"'Belirsizlik Bütçesi'!K378","v":1},{"$f":"'Veri Girişi'!#REF!","v":{"$error":"#REF!"}},{"$error":"#N/A"},"--------","--------",{"$error":"#N/A"},"--------","--------"]
[null,383,null,{"$f":"'Belirsizlik Bütçesi'!K379","v":1},{"$f":"'Veri Girişi'!#REF!","v":{"$error":"#REF!"}},{"$error":"#N/A"},"--------","--------",{"$error":"#N/A"},"--------","--------"]
[null,384,null,{"$f":"'Belirsizlik Bütçesi'!K380","v":1},{"$f":"'Veri Girişi'!#REF!","v":{"$error":"#REF!"}},{"$error":"#N/A"},"--------","--------",{"$error":"#N/A"},"--------","--------"]
[null,385,null,{"$f":"'Belirsizlik Bütçesi'!K381","v":1},{"$f":"'Veri Girişi'!#REF!","v":{"$error":"#REF!"}},{"$f":"VLOOKUP($C390,TU_BELIRSIZLIK_1.KONS,2,FALSE)","v":{"$error":"#N/A"}},{"$f":"IFERROR(VLOOKUP($C390,TU_BELIRSIZLIK_1.KONS,41,FALSE),\"--------\")","v":"--------"},{"$f":"IFERROR(VLOOKUP($C390,TU_BELIRSIZLIK_1.KONS,50,FALSE),\"--------\")","v":"--------"},{"$f":"VLOOKUP($C390,T.U.BELIRSIZLIGI,2,FALSE)","v":{"$error":"#N/A"}},{"$f":"IFERROR(VLOOKUP($C390,T.U.BELIRSIZLIGI,41,FALSE),\"--------\")","v":"--------"},{"$f":"IFERROR(VLOOKUP($C390,T.U.BELIRSIZLIGI,50,FALSE),\"--------\")","v":"--------"}]
[null,386,null,{"$f":"'Belirsizlik Bütçesi'!K382","v":0},{"$f":"'Veri Girişi'!#REF!","v":{"$error":"#REF!"}},{"$error":"#N/A"},"--------","--------",{"$error":"#N/A"},"--------","--------"]
[null,387,null,{"$f":"'Belirsizlik Bütçesi'!K383","v":1},{"$f":"'Veri Girişi'!#REF!","v":{"$error":"#REF!"}},{"$error":"#N/A"},"--------","--------",{"$error":"#N/A"},"--------","--------"]
[null,388,null,{"$f":"'Belirsizlik Bütçesi'!K384","v":1},{"$f":"'Veri Girişi'!#REF!","v":{"$error":"#REF!"}},{"$error":"#N/A"},"--------","--------",{"$error":"#N/A"},"--------","--------"]
[null,389,null,{"$f":"'Belirsizlik Bütçesi'!K385","v":1},{"$f":"'Veri Girişi'!#REF!","v":{"$error":"#REF!"}},{"$error":"#N/A"},"--------","--------",{"$error":"#N/A"},"--------","--------"]
[null,390,null,{"$f":"'Belirsizlik Bütçesi'!K386","v":0},{"$f":"'Veri Girişi'!#REF!","v":{"$error":"#REF!"}},{"$error":"#N/A"},"--------","--------",{"$error":"#N/A"},"--------","--------"]
[null,391,null,{"$f":"'Belirsizlik Bütçesi'!K387","v":1},{"$f":"'Veri Girişi'!#REF!","v":{"$error":"#REF!"}},{"$error":"#N/A"},"--------","--------",{"$error":"#N/A"},"--------","--------"]
[null,392,null,{"$f":"'Belirsizlik Bütçesi'!K388","v":1},{"$f":"'Veri Girişi'!#REF!","v":{"$error":"#REF!"}},{"$error":"#N/A"},"--------","--------",{"$error":"#N/A"},"--------","--------"]
[null,393,null,{"$f":"'Belirsizlik Bütçesi'!K389","v":1},{"$f":"'Veri Girişi'!#REF!","v":{"$error":"#REF!"}},{"$error":"#N/A"},"--------","--------",{"$error":"#N/A"},"--------","--------"]
[null,394,null,{"$f":"'Belirsizlik Bütçesi'!K390","v":1},{"$f":"'Veri Girişi'!#REF!","v":{"$error":"#REF!"}},{"$error":"#N/A"},"--------","--------",{"$error":"#N/A"},"--------","--------"]
[null,395,null,{"$f":"'Belirsizlik Bütçesi'!K391","v":1},{"$f":"'Veri Girişi'!#REF!","v":{"$error":"#REF!"}},{"$error":"#N/A"},"--------","--------",{"$error":"#N/A"},"--------","--------"]
[null,396,null,{"$f":"'Belirsizlik Bütçesi'!K392","v":1},{"$f":"'Veri Girişi'!#REF!","v":{"$error":"#REF!"}},{"$error":"#N/A"},"--------","--------",{"$error":"#N/A"},"--------","--------"]
[null,397,null,{"$f":"'Belirsizlik Bütçesi'!K393","v":0},{"$f":"'Veri Girişi'!#REF!","v":{"$error":"#REF!"}},{"$error":"#N/A"},"--------","--------",{"$error":"#N/A"},"--------","--------"]
[null,398,null,{"$f":"'Belirsizlik Bütçesi'!K394","v":1},{"$f":"'Veri Girişi'!#REF!","v":{"$error":"#REF!"}},{"$error":"#N/A"},"--------","--------",{"$error":"#N/A"},"--------","--------"]
[null,399,null,{"$f":"'Belirsizlik Bütçesi'!K395","v":1},{"$f":"'Veri Girişi'!#REF!","v":{"$error":"#REF!"}},{"$error":"#N/A"},"--------","--------",{"$error":"#N/A"},"--------","--------"]
[null,400,null,{"$f":"'Belirsizlik Bütçesi'!K396","v":0},{"$f":"'Veri Girişi'!#REF!","v":{"$error":"#REF!"}},{"$error":"#N/A"},"--------","--------",{"$error":"#N/A"},"--------","--------"]
[null,401,{"$f":"'Veri Girişi'!#REF!","v":{"$error":"#REF!"}},{"$f":"'Belirsizlik Bütçesi'!K397","v":0},{"$f":"'Veri Girişi'!#REF!","v":{"$error":"#REF!"}},{"$error":"#REF!"},"--------","--------",{"$error":"#REF!"},"--------","--------"]
[null,402,{"$f":"'Veri Girişi'!#REF!","v":{"$error":"#REF!"}},{"$f":"'Belirsizlik Bütçesi'!K398","v":1},{"$f":"'Veri Girişi'!#REF!","v":{"$error":"#REF!"}},{"$error":"#REF!"},"--------","--------",{"$error":"#REF!"},"--------","--------"]
[null,403,{"$f":"'Veri Girişi'!#REF!","v":{"$error":"#REF!"}},{"$f":"'Belirsizlik Bütçesi'!K399","v":0},{"$f":"'Veri Girişi'!#REF!","v":{"$error":"#REF!"}},{"$error":"#REF!"},"--------","--------",{"$error":"#REF!"},"--------","--------"]
[null,404,{"$f":"'Veri Girişi'!#REF!","v":{"$error":"#REF!"}},{"$f":"'Belirsizlik Bütçesi'!K400","v":1},{"$f":"'Veri Girişi'!#REF!","v":{"$error":"#REF!"}},{"$error":"#REF!"},"--------","--------",{"$error":"#REF!"},"--------","--------"]
[null,405,{"$f":"'Veri Girişi'!#REF!","v":{"$error":"#REF!"}},{"$f":"'Belirsizlik Bütçesi'!K401","v":1},{"$f":"'Veri Girişi'!#REF!","v":{"$error":"#REF!"}},{"$error":"#REF!"},"--------","--------",{"$error":"#REF!"},"--------","--------"]
[null,406,{"$f":"'Veri Girişi'!#REF!","v":{"$error":"#REF!"}},{"$f":"'Belirsizlik Bütçesi'!K402","v":1},{"$f":"'Veri Girişi'!#REF!","v":{"$error":"#REF!"}},{"$error":"#REF!"},"--------","--------",{"$error":"#REF!"},"--------","--------"]
[null,407,{"$f":"'Veri Girişi'!#REF!","v":{"$error":"#REF!"}},{"$f":"'Belirsizlik Bütçesi'!K403","v":1},{"$f":"'Veri Girişi'!#REF!","v":{"$error":"#REF!"}},{"$error":"#REF!"},"--------","--------",{"$error":"#REF!"},"--------","--------"]
[null,408,{"$f":"'Veri Girişi'!#REF!","v":{"$error":"#REF!"}},{"$f":"'Belirsizlik Bütçesi'!K404","v":0},{"$f":"'Veri Girişi'!#REF!","v":{"$error":"#REF!"}},{"$error":"#REF!"},"--------","--------",{"$error":"#REF!"},"--------","--------"]
[null,409,{"$f":"'Veri Girişi'!#REF!","v":{"$error":"#REF!"}},{"$f":"'Belirsizlik Bütçesi'!K405","v":1},{"$f":"'Veri Girişi'!#REF!","v":{"$error":"#REF!"}},{"$error":"#REF!"},"--------","--------",{"$error":"#REF!"},"--------","--------"]
[null,410,{"$f":"'Veri Girişi'!#REF!","v":{"$error":"#REF!"}},{"$f":"'Belirsizlik Bütçesi'!K406","v":1},{"$f":"'Veri Girişi'!#REF!","v":{"$error":"#REF!"}},{"$error":"#REF!"},"--------","--------",{"$error":"#REF!"},"--------","--------"]
[null,411,{"$f":"'Veri Girişi'!#REF!","v":{"$error":"#REF!"}},{"$f":"'Belirsizlik Bütçesi'!K407","v":1},{"$f":"'Veri Girişi'!#REF!","v":{"$error":"#REF!"}},{"$error":"#REF!"},"--------","--------",{"$error":"#REF!"},"--------","--------"]
[null,412,{"$f":"'Veri Girişi'!#REF!","v":{"$error":"#REF!"}},{"$f":"'Belirsizlik Bütçesi'!K408","v":1},{"$f":"'Veri Girişi'!#REF!","v":{"$error":"#REF!"}},{"$error":"#REF!"},"--------","--------",{"$error":"#REF!"},"--------","--------"]
[null,413,{"$f":"'Veri Girişi'!#REF!","v":{"$error":"#REF!"}},{"$f":"'Belirsizlik Bütçesi'!K409","v":0},{"$f":"'Veri Girişi'!#REF!","v":{"$error":"#REF!"}},{"$error":"#REF!"},"--------","--------",{"$error":"#REF!"},"--------","--------"]
[null,414,{"$f":"'Veri Girişi'!#REF!","v":{"$error":"#REF!"}},{"$f":"'Belirsizlik Bütçesi'!K410","v":1},{"$f":"'Veri Girişi'!#REF!","v":{"$error":"#REF!"}},{"$error":"#REF!"},"--------","--------",{"$error":"#REF!"},"--------","--------"]
[null,415,{"$f":"'Veri Girişi'!#REF!","v":{"$error":"#REF!"}},{"$f":"'Belirsizlik Bütçesi'!K411","v":1},{"$f":"'Veri Girişi'!#REF!","v":{"$error":"#REF!"}},{"$error":"#REF!"},"--------","--------",{"$error":"#REF!"},"--------","--------"]
[null,416,{"$f":"'Veri Girişi'!#REF!","v":{"$error":"#REF!"}},{"$f":"'Belirsizlik Bütçesi'!K412","v":1},{"$f":"'Veri Girişi'!#REF!","v":{"$error":"#REF!"}},{"$error":"#REF!"},"--------","--------",{"$error":"#REF!"},"--------","--------"]
[null,417,{"$f":"'Veri Girişi'!#REF!","v":{"$error":"#REF!"}},{"$f":"'Belirsizlik Bütçesi'!K413","v":1},{"$f":"'Veri Girişi'!#REF!","v":{"$error":"#REF!"}},{"$error":"#REF!"},"--------","--------",{"$error":"#REF!"},"--------","--------"]
[null,418,{"$f":"'Veri Girişi'!#REF!","v":{"$error":"#REF!"}},{"$f":"'Belirsizlik Bütçesi'!K414","v":0},{"$f":"'Veri Girişi'!#REF!","v":{"$error":"#REF!"}},{"$error":"#REF!"},"--------","--------",{"$error":"#REF!"},"--------","--------"]
[null,419,{"$f":"'Veri Girişi'!#REF!","v":{"$error":"#REF!"}},{"$f":"'Belirsizlik Bütçesi'!K415","v":1},{"$f":"'Veri Girişi'!#REF!","v":{"$error":"#REF!"}},{"$error":"#REF!"},"--------","--------",{"$error":"#REF!"},"--------","--------"]
[null,420,{"$f":"'Veri Girişi'!#REF!","v":{"$error":"#REF!"}},{"$f":"'Belirsizlik Bütçesi'!K416","v":0},{"$f":"'Veri Girişi'!#REF!","v":{"$error":"#REF!"}},{"$error":"#REF!"},"--------","--------",{"$error":"#REF!"},"--------","--------"]
[null,421,{"$f":"'Veri Girişi'!#REF!","v":{"$error":"#REF!"}},{"$f":"'Belirsizlik Bütçesi'!K417","v":0},{"$f":"'Veri Girişi'!#REF!","v":{"$error":"#REF!"}},{"$error":"#REF!"},"--------","--------",{"$error":"#REF!"},"--------","--------"]
[null,422,{"$f":"'Veri Girişi'!#REF!","v":{"$error":"#REF!"}},{"$f":"'Belirsizlik Bütçesi'!K418","v":1},{"$f":"'Veri Girişi'!#REF!","v":{"$error":"#REF!"}},{"$error":"#REF!"},"--------","--------",{"$error":"#REF!"},"--------","--------"]
[null,423,{"$f":"'Veri Girişi'!#REF!","v":{"$error":"#REF!"}},{"$f":"'Belirsizlik Bütçesi'!K419","v":1},{"$f":"'Veri Girişi'!#REF!","v":{"$error":"#REF!"}},{"$error":"#REF!"},"--------","--------",{"$error":"#REF!"},"--------","--------"]
[null,424,{"$f":"'Veri Girişi'!#REF!","v":{"$error":"#REF!"}},{"$f":"'Belirsizlik Bütçesi'!K420","v":1},{"$f":"'Veri Girişi'!#REF!","v":{"$error":"#REF!"}},{"$error":"#REF!"},"--------","--------",{"$error":"#REF!"},"--------","--------"]
[null,425,{"$f":"'Veri Girişi'!#REF!","v":{"$error":"#REF!"}},{"$f":"'Belirsizlik Bütçesi'!K421","v":1},{"$f":"'Veri Girişi'!#REF!","v":{"$error":"#REF!"}},{"$error":"#REF!"},"--------","--------",{"$error":"#REF!"},"--------","--------"]
[null,426,{"$f":"'Veri Girişi'!#REF!","v":{"$error":"#REF!"}},{"$f":"'Belirsizlik Bütçesi'!K422","v":1},{"$f":"'Veri Girişi'!#REF!","v":{"$error":"#REF!"}},{"$error":"#REF!"},"--------","--------",{"$error":"#REF!"},"--------","--------"]
[null,427,{"$f":"'Veri Girişi'!#REF!","v":{"$error":"#REF!"}},{"$f":"'Belirsizlik Bütçesi'!K423","v":0},{"$f":"'Veri Girişi'!#REF!","v":{"$error":"#REF!"}},{"$error":"#REF!"},"--------","--------",{"$error":"#REF!"},"--------","--------"]
[null,428,{"$f":"'Veri Girişi'!#REF!","v":{"$error":"#REF!"}},{"$f":"'Belirsizlik Bütçesi'!K424","v":0},{"$f":"'Veri Girişi'!#REF!","v":{"$error":"#REF!"}},{"$error":"#REF!"},"--------","--------",{"$error":"#REF!"},"--------","--------"]
[null,429,{"$f":"'Veri Girişi'!#REF!","v":{"$error":"#REF!"}},{"$f":"'Belirsizlik Bütçesi'!K425","v":0},{"$f":"'Veri Girişi'!#REF!","v":{"$error":"#REF!"}},{"$error":"#REF!"},"--------","--------",{"$error":"#REF!"},"--------","--------"]
[null,430,{"$f":"'Veri Girişi'!#REF!","v":{"$error":"#REF!"}},{"$f":"'Belirsizlik Bütçesi'!K426","v":0},{"$f":"'Veri Girişi'!#REF!","v":{"$error":"#REF!"}},{"$error":"#REF!"},"--------","--------",{"$error":"#REF!"},"--------","--------"]
[null,431,{"$f":"'Veri Girişi'!#REF!","v":{"$error":"#REF!"}},{"$f":"'Belirsizlik Bütçesi'!K427","v":1},{"$f":"'Veri Girişi'!#REF!","v":{"$error":"#REF!"}},{"$error":"#REF!"},"--------","--------",{"$error":"#REF!"},"--------","--------"]
[null,432,{"$f":"'Veri Girişi'!#REF!","v":{"$error":"#REF!"}},{"$f":"'Belirsizlik Bütçesi'!K428","v":0},{"$f":"'Veri Girişi'!#REF!","v":{"$error":"#REF!"}},{"$error":"#REF!"},"--------","--------",{"$error":"#REF!"},"--------","--------"]
[null,433,{"$f":"'Veri Girişi'!#REF!","v":{"$error":"#REF!"}},{"$f":"'Belirsizlik Bütçesi'!K429","v":1},{"$f":"'Veri Girişi'!#REF!","v":{"$error":"#REF!"}},{"$error":"#REF!"},"--------","--------",{"$error":"#REF!"},"--------","--------"]
[null,434,{"$f":"'Veri Girişi'!#REF!","v":{"$error":"#REF!"}},{"$f":"'Belirsizlik Bütçesi'!K430","v":0},{"$f":"'Veri Girişi'!#REF!","v":{"$error":"#REF!"}},{"$error":"#REF!"},"--------","--------",{"$error":"#REF!"},"--------","--------"]
[null,435,{"$f":"'Veri Girişi'!#REF!","v":{"$error":"#REF!"}},{"$f":"'Belirsizlik Bütçesi'!K431","v":0},{"$f":"'Veri Girişi'!#REF!","v":{"$error":"#REF!"}},{"$error":"#REF!"},"--------","--------",{"$error":"#REF!"},"--------","--------"]
[null,436,{"$f":"'Veri Girişi'!#REF!","v":{"$error":"#REF!"}},{"$f":"'Belirsizlik Bütçesi'!K432","v":0},{"$f":"'Veri Girişi'!#REF!","v":{"$error":"#REF!"}},{"$error":"#REF!"},"--------","--------",{"$error":"#REF!"},"--------","--------"]
[null,437,{"$f":"'Veri Girişi'!#REF!","v":{"$error":"#REF!"}},{"$f":"'Belirsizlik Bütçesi'!K433","v":1},{"$f":"'Veri Girişi'!#REF!","v":{"$error":"#REF!"}},{"$error":"#REF!"},"--------","--------",{"$error":"#REF!"},"--------","--------"]
[null,438,{"$f":"'Veri Girişi'!#REF!","v":{"$error":"#REF!"}},{"$f":"'Belirsizlik Bütçesi'!K434","v":1},{"$f":"'Veri Girişi'!#REF!","v":{"$error":"#REF!"}},{"$error":"#REF!"},"--------","--------",{"$error":"#REF!"},"--------","--------"]
[null,439,{"$f":"'Veri Girişi'!#REF!","v":{"$error":"#REF!"}},{"$f":"'Belirsizlik Bütçesi'!K435","v":1},{"$f":"'Veri Girişi'!#REF!","v":{"$error":"#REF!"}},{"$error":"#REF!"},"--------","--------",{"$error":"#REF!"},"--------","--------"]
[null,440,{"$f":"'Veri Girişi'!#REF!","v":{"$error":"#REF!"}},{"$f":"'Belirsizlik Bütçesi'!K436","v":1},{"$f":"'Veri Girişi'!#REF!","v":{"$error":"#REF!"}},{"$error":"#REF!"},"--------","--------",{"$error":"#REF!"},"--------","--------"]
[null,441,{"$f":"'Veri Girişi'!#REF!","v":{"$error":"#REF!"}},{"$f":"'Belirsizlik Bütçesi'!K437","v":1},{"$f":"'Veri Girişi'!#REF!","v":{"$error":"#REF!"}},{"$error":"#REF!"},"--------","--------",{"$error":"#REF!"},"--------","--------"]
[null,442,{"$f":"'Veri Girişi'!#REF!","v":{"$error":"#REF!"}},{"$f":"'Belirsizlik Bütçesi'!K438","v":1},{"$f":"'Veri Girişi'!#REF!","v":{"$error":"#REF!"}},{"$error":"#REF!"},"--------","--------",{"$error":"#REF!"},"--------","--------"]
[null,443,{"$f":"'Veri Girişi'!#REF!","v":{"$error":"#REF!"}},{"$f":"'Belirsizlik Bütçesi'!K439","v":1},{"$f":"'Veri Girişi'!#REF!","v":{"$error":"#REF!"}},{"$error":"#REF!"},"--------","--------",{"$error":"#REF!"},"--------","--------"]
[null,444,{"$f":"'Veri Girişi'!#REF!","v":{"$error":"#REF!"}},{"$f":"'Belirsizlik Bütçesi'!K440","v":0},{"$f":"'Veri Girişi'!#REF!","v":{"$error":"#REF!"}},{"$error":"#REF!"},"--------","--------",{"$error":"#REF!"},"--------","--------"]
[null,445,{"$f":"'Veri Girişi'!#REF!","v":{"$error":"#REF!"}},{"$f":"'Belirsizlik Bütçesi'!K441","v":1},{"$f":"'Veri Girişi'!#REF!","v":{"$error":"#REF!"}},{"$error":"#REF!"},"--------","--------",{"$error":"#REF!"},"--------","--------"]
[null,446,{"$f":"'Veri Girişi'!#REF!","v":{"$error":"#REF!"}},{"$f":"'Belirsizlik Bütçesi'!K442","v":1},{"$f":"'Veri Girişi'!#REF!","v":{"$error":"#REF!"}},{"$error":"#REF!"},"--------","--------",{"$error":"#REF!"},"--------","--------"]
[null,447,{"$f":"'Veri Girişi'!#REF!","v":{"$error":"#REF!"}},{"$f":"'Belirsizlik Bütçesi'!K443","v":1},{"$f":"'Veri Girişi'!#REF!","v":{"$error":"#REF!"}},{"$error":"#REF!"},"--------","--------",{"$error":"#REF!"},"--------","--------"]
[null,448,{"$f":"'Veri Girişi'!#REF!","v":{"$error":"#REF!"}},{"$f":"'Belirsizlik Bütçesi'!K444","v":1},{"$f":"'Veri Girişi'!#REF!","v":{"$error":"#REF!"}},{"$error":"#REF!"},"--------","--------",{"$error":"#REF!"},"--------","--------"]
[null,449,{"$f":"'Veri Girişi'!#REF!","v":{"$error":"#REF!"}},{"$f":"'Belirsizlik Bütçesi'!K445","v":1},{"$f":"'Veri Girişi'!#REF!","v":{"$error":"#REF!"}},{"$f":"VLOOKUP($C454,TU_BELIRSIZLIK_1.KONS,2,FALSE)","v":{"$error":"#REF!"}},{"$f":"IFERROR(VLOOKUP($C454,TU_BELIRSIZLIK_1.KONS,41,FALSE),\"--------\")","v":"--------"},{"$f":"IFERROR(VLOOKUP($C454,TU_BELIRSIZLIK_1.KONS,50,FALSE),\"--------\")","v":"--------"},{"$f":"VLOOKUP($C454,T.U.BELIRSIZLIGI,2,FALSE)","v":{"$error":"#REF!"}},{"$f":"IFERROR(VLOOKUP($C454,T.U.BELIRSIZLIGI,41,FALSE),\"--------\")","v":"--------"},{"$f":"IFERROR(VLOOKUP($C454,T.U.BELIRSIZLIGI,50,FALSE),\"--------\")","v":"--------"}]
[null,450,{"$f":"'Veri Girişi'!#REF!","v":{"$error":"#REF!"}},{"$f":"'Belirsizlik Bütçesi'!K446","v":1},{"$f":"'Veri Girişi'!#REF!","v":{"$error":"#REF!"}},{"$error":"#REF!"},"--------","--------",{"$error":"#REF!"},"--------","--------"]
[null,451,{"$f":"'Veri Girişi'!#REF!","v":{"$error":"#REF!"}},{"$f":"'Belirsizlik Bütçesi'!K447","v":0},{"$f":"'Veri Girişi'!#REF!","v":{"$error":"#REF!"}},{"$error":"#REF!"},"--------","--------",{"$error":"#REF!"},"--------","--------"]
[null,452,{"$f":"'Veri Girişi'!#REF!","v":{"$error":"#REF!"}},{"$f":"'Belirsizlik Bütçesi'!K448","v":1},{"$f":"'Veri Girişi'!#REF!","v":{"$error":"#REF!"}},{"$error":"#REF!"},"--------","--------",{"$error":"#REF!"},"--------","--------"]
[null,453,{"$f":"'Veri Girişi'!#REF!","v":{"$error":"#REF!"}},{"$f":"'Belirsizlik Bütçesi'!K449","v":0},{"$f":"'Veri Girişi'!#REF!","v":{"$error":"#REF!"}},{"$error":"#REF!"},"--------","--------",{"$error":"#REF!"},"--------","--------"]
[null,454,{"$f":"'Veri Girişi'!#REF!","v":{"$error":"#REF!"}},{"$f":"'Belirsizlik Bütçesi'!K450","v":1},{"$f":"'Veri Girişi'!#REF!","v":{"$error":"#REF!"}},{"$error":"#REF!"},"--------","--------",{"$error":"#REF!"},"--------","--------"]
[null,455,{"$f":"'Veri Girişi'!#REF!","v":{"$error":"#REF!"}},{"$f":"'Belirsizlik Bütçesi'!K451","v":1},{"$f":"'Veri Girişi'!#REF!","v":{"$error":"#REF!"}},{"$error":"#REF!"},"--------","--------",{"$error":"#REF!"},"--------","--------"]
[null,456,{"$f":"'Veri Girişi'!#REF!","v":{"$error":"#REF!"}},{"$f":"'Belirsizlik Bütçesi'!K452","v":1},{"$f":"'Veri Girişi'!#REF!","v":{"$error":"#REF!"}},{"$error":"#REF!"},"--------","--------",{"$error":"#REF!"},"--------","--------"]
[null,457,{"$f":"'Veri Girişi'!#REF!","v":{"$error":"#REF!"}},{"$f":"'Belirsizlik Bütçesi'!K453","v":1},{"$f":"'Veri Girişi'!#REF!","v":{"$error":"#REF!"}},{"$error":"#REF!"},"--------","--------",{"$error":"#REF!"},"--------","--------"]
[null,458,{"$f":"'Veri Girişi'!#REF!","v":{"$error":"#REF!"}},{"$f":"'Belirsizlik Bütçesi'!K454","v":1},{"$f":"'Veri Girişi'!#REF!","v":{"$error":"#REF!"}},{"$error":"#REF!"},"--------","--------",{"$error":"#REF!"},"--------","--------"]
[null,459,{"$f":"'Veri Girişi'!#REF!","v":{"$error":"#REF!"}},{"$f":"'Belirsizlik Bütçesi'!K455","v":1},{"$f":"'Veri Girişi'!#REF!","v":{"$error":"#REF!"}},{"$error":"#REF!"},"--------","--------",{"$error":"#REF!"},"--------","--------"]
[null,460,{"$f":"'Veri Girişi'!#REF!","v":{"$error":"#REF!"}},{"$f":"'Belirsizlik Bütçesi'!K456","v":1},{"$f":"'Veri Girişi'!#REF!","v":{"$error":"#REF!"}},{"$error":"#REF!"},"--------","--------",{"$error":"#REF!"},"--------","--------"]
[null,461,{"$f":"'Veri Girişi'!#REF!","v":{"$error":"#REF!"}},{"$f":"'Belirsizlik Bütçesi'!K457","v":0},{"$f":"'Veri Girişi'!#REF!","v":{"$error":"#REF!"}},{"$error":"#REF!"},"--------","--------",{"$error":"#REF!"},"--------","--------"]
[null,462,{"$f":"'Veri Girişi'!#REF!","v":{"$error":"#REF!"}},{"$f":"'Belirsizlik Bütçesi'!K458","v":0},{"$f":"'Veri Girişi'!#REF!","v":{"$error":"#REF!"}},{"$error":"#REF!"},"--------","--------",{"$error":"#REF!"},"--------","--------"]
[null,463,{"$f":"'Veri Girişi'!#REF!","v":{"$error":"#REF!"}},{"$f":"'Belirsizlik Bütçesi'!K459","v":0},{"$f":"'Veri Girişi'!#REF!","v":{"$error":"#REF!"}},{"$error":"#REF!"},"--------","--------",{"$error":"#REF!"},"--------","--------"]
[null,464,{"$f":"'Veri Girişi'!#REF!","v":{"$error":"#REF!"}},{"$f":"'Belirsizlik Bütçesi'!K460","v":1},{"$f":"'Veri Girişi'!#REF!","v":{"$error":"#REF!"}},{"$error":"#REF!"},"--------","--------",{"$error":"#REF!"},"--------","--------"]
[null,465,{"$f":"'Veri Girişi'!#REF!","v":{"$error":"#REF!"}},{"$f":"'Belirsizlik Bütçesi'!K461","v":1},{"$f":"'Veri Girişi'!#REF!","v":{"$error":"#REF!"}},{"$error":"#REF!"},"--------","--------",{"$error":"#REF!"},"--------","--------"]
[null,466,{"$f":"'Veri Girişi'!#REF!","v":{"$error":"#REF!"}},{"$f":"'Belirsizlik Bütçesi'!K462","v":1},{"$f":"'Veri Girişi'!#REF!","v":{"$error":"#REF!"}},{"$error":"#REF!"},"--------","--------",{"$error":"#REF!"},"--------","--------"]
[null,467,{"$f":"'Veri Girişi'!#REF!","v":{"$error":"#REF!"}},{"$f":"'Belirsizlik Bütçesi'!K463","v":1},{"$f":"'Veri Girişi'!#REF!","v":{"$error":"#REF!"}},{"$error":"#REF!"},"--------","--------",{"$error":"#REF!"},"--------","--------"]
[null,468,{"$f":"'Veri Girişi'!#REF!","v":{"$error":"#REF!"}},{"$f":"'Belirsizlik Bütçesi'!K464","v":1},{"$f":"'Veri Girişi'!#REF!","v":{"$error":"#REF!"}},{"$error":"#REF!"},"--------","--------",{"$error":"#REF!"},"--------","--------"]
[null,469,{"$f":"'Veri Girişi'!#REF!","v":{"$error":"#REF!"}},{"$f":"'Belirsizlik Bütçesi'!K465","v":1},{"$f":"'Veri Girişi'!#REF!","v":{"$error":"#REF!"}},{"$error":"#REF!"},"--------","--------",{"$error":"#REF!"},"--------","--------"]
[null,470,{"$f":"'Veri Girişi'!#REF!","v":{"$error":"#REF!"}},{"$f":"'Belirsizlik Bütçesi'!K466","v":1},{"$f":"'Veri Girişi'!#REF!","v":{"$error":"#REF!"}},{"$error":"#REF!"},"--------","--------",{"$error":"#REF!"},"--------","--------"]
[null,471,{"$f":"'Veri Girişi'!#REF!","v":{"$error":"#REF!"}},{"$f":"'Belirsizlik Bütçesi'!K467","v":1},{"$f":"'Veri Girişi'!#REF!","v":{"$error":"#REF!"}},{"$error":"#REF!"},"--------","--------",{"$error":"#REF!"},"--------","--------"]
[null,472,{"$f":"'Veri Girişi'!#REF!","v":{"$error":"#REF!"}},{"$f":"'Belirsizlik Bütçesi'!K468","v":1},{"$f":"'Veri Girişi'!#REF!","v":{"$error":"#REF!"}},{"$error":"#REF!"},"--------","--------",{"$error":"#REF!"},"--------","--------"]
[null,473,{"$f":"'Veri Girişi'!#REF!","v":{"$error":"#REF!"}},{"$f":"'Belirsizlik Bütçesi'!K469","v":1},{"$f":"'Veri Girişi'!#REF!","v":{"$error":"#REF!"}},{"$error":"#REF!"},"--------","--------",{"$error":"#REF!"},"--------","--------"]
[null,474,{"$f":"'Veri Girişi'!#REF!","v":{"$error":"#REF!"}},{"$f":"'Belirsizlik Bütçesi'!K470","v":1},{"$f":"'Veri Girişi'!#REF!","v":{"$error":"#REF!"}},{"$error":"#REF!"},"--------","--------",{"$error":"#REF!"},"--------","--------"]
[null,475,{"$f":"'Veri Girişi'!#REF!","v":{"$error":"#REF!"}},{"$f":"'Belirsizlik Bütçesi'!K471","v":0},{"$f":"'Veri Girişi'!#REF!","v":{"$error":"#REF!"}},{"$error":"#REF!"},"--------","--------",{"$error":"#REF!"},"--------","--------"]
[null,476,{"$f":"'Veri Girişi'!#REF!","v":{"$error":"#REF!"}},{"$f":"'Belirsizlik Bütçesi'!K472","v":0},{"$f":"'Veri Girişi'!#REF!","v":{"$error":"#REF!"}},{"$error":"#REF!"},"--------","--------",{"$error":"#REF!"},"--------","--------"]
[null,477,{"$f":"'Veri Girişi'!#REF!","v":{"$error":"#REF!"}},{"$f":"'Belirsizlik Bütçesi'!K473","v":0},{"$f":"'Veri Girişi'!#REF!","v":{"$error":"#REF!"}},{"$error":"#REF!"},"--------","--------",{"$error":"#REF!"},"--------","--------"]
[null,478,{"$f":"'Veri Girişi'!#REF!","v":{"$error":"#REF!"}},{"$f":"'Belirsizlik Bütçesi'!K474","v":1},{"$f":"'Veri Girişi'!#REF!","v":{"$error":"#REF!"}},{"$error":"#REF!"},"--------","--------",{"$error":"#REF!"},"--------","--------"]
[null,479,{"$f":"'Veri Girişi'!#REF!","v":{"$error":"#REF!"}},{"$f":"'Belirsizlik Bütçesi'!K475","v":1},{"$f":"'Veri Girişi'!#REF!","v":{"$error":"#REF!"}},{"$error":"#REF!"},"--------","--------",{"$error":"#REF!"},"--------","--------"]
[null,480,{"$f":"'Veri Girişi'!#REF!","v":{"$error":"#REF!"}},{"$f":"'Belirsizlik Bütçesi'!K476","v":0},{"$f":"'Veri Girişi'!#REF!","v":{"$error":"#REF!"}},{"$error":"#REF!"},"--------","--------",{"$error":"#REF!"},"--------","--------"]
[null,481,{"$f":"'Veri Girişi'!#REF!","v":{"$error":"#REF!"}},{"$f":"'Belirsizlik Bütçesi'!K477","v":0},{"$f":"'Veri Girişi'!#REF!","v":{"$error":"#REF!"}},{"$error":"#REF!"},"--------","--------",{"$error":"#REF!"},"--------","--------"]
[null,482,{"$f":"'Veri Girişi'!#REF!","v":{"$error":"#REF!"}},{"$f":"'Belirsizlik Bütçesi'!K478","v":1},{"$f":"'Veri Girişi'!#REF!","v":{"$error":"#REF!"}},{"$error":"#REF!"},"--------","--------",{"$error":"#REF!"},"--------","--------"]
[null,483,{"$f":"'Veri Girişi'!#REF!","v":{"$error":"#REF!"}},{"$f":"'Belirsizlik Bütçesi'!K479","v":1},{"$f":"'Veri Girişi'!#REF!","v":{"$error":"#REF!"}},{"$error":"#REF!"},"--------","--------",{"$error":"#REF!"},"--------","--------"]
[null,484,{"$f":"'Veri Girişi'!#REF!","v":{"$error":"#REF!"}},{"$f":"'Belirsizlik Bütçesi'!K480","v":0},{"$f":"'Veri Girişi'!#REF!","v":{"$error":"#REF!"}},{"$error":"#REF!"},"--------","--------",{"$error":"#REF!"},"--------","--------"]
[null,485,{"$f":"'Veri Girişi'!#REF!","v":{"$error":"#REF!"}},{"$f":"'Belirsizlik Bütçesi'!K481","v":1},{"$f":"'Veri Girişi'!#REF!","v":{"$error":"#REF!"}},{"$error":"#REF!"},"--------","--------",{"$error":"#REF!"},"--------","--------"]
[null,486,{"$f":"'Veri Girişi'!#REF!","v":{"$error":"#REF!"}},{"$f":"'Belirsizlik Bütçesi'!K482","v":1},{"$f":"'Veri Girişi'!#REF!","v":{"$error":"#REF!"}},{"$error":"#REF!"},"--------","--------",{"$error":"#REF!"},"--------","--------"]
[null,487,{"$f":"'Veri Girişi'!#REF!","v":{"$error":"#REF!"}},{"$f":"'Belirsizlik Bütçesi'!K483","v":1},{"$f":"'Veri Girişi'!#REF!","v":{"$error":"#REF!"}},{"$error":"#REF!"},"--------","--------",{"$error":"#REF!"},"--------","--------"]
[null,488,{"$f":"'Veri Girişi'!#REF!","v":{"$error":"#REF!"}},{"$f":"'Belirsizlik Bütçesi'!K484","v":1},{"$f":"'Veri Girişi'!#REF!","v":{"$error":"#REF!"}},{"$error":"#REF!"},"--------","--------",{"$error":"#REF!"},"--------","--------"]
[null,489,{"$f":"'Veri Girişi'!#REF!","v":{"$error":"#REF!"}},{"$f":"'Belirsizlik Bütçesi'!K485","v":0},{"$f":"'Veri Girişi'!#REF!","v":{"$error":"#REF!"}},{"$error":"#REF!"},"--------","--------",{"$error":"#REF!"},"--------","--------"]
[null,490,{"$f":"'Veri Girişi'!#REF!","v":{"$error":"#REF!"}},{"$f":"'Belirsizlik Bütçesi'!K486","v":1},{"$f":"'Veri Girişi'!#REF!","v":{"$error":"#REF!"}},{"$error":"#REF!"},"--------","--------",{"$error":"#REF!"},"--------","--------"]
[null,491,{"$f":"'Veri Girişi'!#REF!","v":{"$error":"#REF!"}},{"$f":"'Belirsizlik Bütçesi'!K487","v":1},{"$f":"'Veri Girişi'!#REF!","v":{"$error":"#REF!"}},{"$error":"#REF!"},"--------","--------",{"$error":"#REF!"},"--------","--------"]
[null,492,{"$f":"'Veri Girişi'!#REF!","v":{"$error":"#REF!"}},{"$f":"'Belirsizlik Bütçesi'!K488","v":1},{"$f":"'Veri Girişi'!#REF!","v":{"$error":"#REF!"}},{"$error":"#REF!"},"--------","--------",{"$error":"#REF!"},"--------","--------"]
[null,493,{"$f":"'Veri Girişi'!#REF!","v":{"$error":"#REF!"}},{"$f":"'Belirsizlik Bütçesi'!K489","v":1},{"$f":"'Veri Girişi'!#REF!","v":{"$error":"#REF!"}},{"$error":"#REF!"},"--------","--------",{"$error":"#REF!"},"--------","--------"]
[null,494,{"$f":"'Veri Girişi'!#REF!","v":{"$error":"#REF!"}},{"$f":"'Belirsizlik Bütçesi'!K490","v":0},{"$f":"'Veri Girişi'!#REF!","v":{"$error":"#REF!"}},{"$error":"#REF!"},"--------","--------",{"$error":"#REF!"},"--------","--------"]
[null,495,{"$f":"'Veri Girişi'!#REF!","v":{"$error":"#REF!"}},{"$f":"'Belirsizlik Bütçesi'!K491","v":0},{"$f":"'Veri Girişi'!#REF!","v":{"$error":"#REF!"}},{"$error":"#REF!"},"--------","--------",{"$error":"#REF!"},"--------","--------"]
[null,496,{"$f":"'Veri Girişi'!#REF!","v":{"$error":"#REF!"}},{"$f":"'Belirsizlik Bütçesi'!K492","v":0},{"$f":"'Veri Girişi'!#REF!","v":{"$error":"#REF!"}},{"$error":"#REF!"},"--------","--------",{"$error":"#REF!"},"--------","--------"]
[null,497,{"$f":"'Veri Girişi'!#REF!","v":{"$error":"#REF!"}},{"$f":"'Belirsizlik Bütçesi'!K493","v":0},{"$f":"'Veri Girişi'!#REF!","v":{"$error":"#REF!"}},{"$error":"#REF!"},"--------","--------",{"$error":"#REF!"},"--------","--------"]
[null,498,{"$f":"'Veri Girişi'!#REF!","v":{"$error":"#REF!"}},{"$f":"'Belirsizlik Bütçesi'!K494","v":0},{"$f":"'Veri Girişi'!#REF!","v":{"$error":"#REF!"}},{"$error":"#REF!"},"--------","--------",{"$error":"#REF!"},"--------","--------"]
[null,499,{"$f":"'Veri Girişi'!#REF!","v":{"$error":"#REF!"}},{"$f":"'Belirsizlik Bütçesi'!K495","v":0},{"$f":"'Veri Girişi'!#REF!","v":{"$error":"#REF!"}},{"$error":"#REF!"},"--------","--------",{"$error":"#REF!"},"--------","--------"]
[null,500,{"$f":"'Veri Girişi'!#REF!","v":{"$error":"#REF!"}},{"$f":"'Belirsizlik Bütçesi'!K496","v":0},{"$f":"'Veri Girişi'!#REF!","v":{"$error":"#REF!"}},{"$error":"#REF!"},"--------","--------",{"$error":"#REF!"},"--------","--------"]

{"sheet":"Belirsizlik Bütçesi","index":4,"n_rows":496,"n_cols":11,"rows_kept":496,"cut":false,"hidden":false,"merged":[[1,1,1,10],[2,1,2,10]]}
[]
[null,"Belirsizlik Bütçesi"]
[]
[null,"Sıra","Analit","Enstrüman","Gerçeklik                      ubias= RMSbias","Tekrar Üretilebilirlik                 RSDWR(pool) "," Birleşik Standart Belirsizlik uc"," Genişletilmiş Belirsizlik (Uc)","Kullanılan","Raporlama Limiti","Chek"]
[null,1,"(E)-Metominostrobin",{"$f":"'Veri Girişi'!C11","v":"GC-MS/MS"},{"$f":"IFERROR(VLOOKUP(C5,GERÇEKLİK_BELİRSİZLİĞİ_ubias2_RMSbias2,125,FALSE),\"\")","v":""},{"$f":"IFERROR(VLOOKUP(C5,T.U.BELIRSIZLIGI,55,FALSE),\"\")","v":""},{"$f":"IF(SQRT(SUMSQ(Table1[[#This Row],[Gerçeklik                      ubias= RMSbias]:[Tekrar Üretilebilirlik                 RSDWR(pool) ]]))=0,\"\",(SQRT(SUMSQ(Table1[[#This Row],[Gerçeklik                      ubias= RMSbias]:[Tekrar Üretilebilirlik                 RSDWR(pool) ]]))))","v":""},{"$f":"IFERROR(Table1[[#This Row],[ Birleşik Standart Belirsizlik uc]]*2,\"\")","v":""},{"$f":"IF(H5<0.5,0.5,H5)","v":""},{"$f":"IF(Table1[[#This Row],[Kullanılan]]=0.5,0.01,\"--------\")","v":"--------"},1]
[null,2,"(Z)-Metominostrobin",{"$f":"'Veri Girişi'!#REF!","v":{"$error":"#REF!"}},"","",{"$f":"IF(SQRT(SUMSQ(Table1[[#This Row],[Gerçeklik                      ubias= RMSbias]:[Tekrar Üretilebilirlik                 RSDWR(pool) ]]))=0,\"\",(SQRT(SUMSQ(Table1[[#This Row],[Gerçeklik                      ubias= RMSbias]:[Tekrar Üretilebilirlik                 RSDWR(pool) ]]))))","v":""},{"$f":"IFERROR(Table1[[#This Row],[ Birleşik Standart Belirsizlik uc]]*2,\"\")","v":""},"",{"$f":"IF(Table1[[#This Row],[Kullanılan]]=0.5,0.01,\"--------\")","v":"--------"},1]
[null,3,"2,4,5-T-Methyl",{"$f":"'Veri Girişi'!#REF!","v":{"$error":"#REF!"}},"","",{"$f":"IF(SQRT(SUMSQ(Table1[[#This Row],[Gerçeklik                      ubias= RMSbias]:[Tekrar Üretilebilirlik                 RSDWR(pool) ]]))=0,\"\",(SQRT(SUMSQ(Table1[[#This Row],[Gerçeklik                      ubias= RMSbias]:[Tekrar Üretilebilirlik                 RSDWR(pool) ]]))))","v":""},{"$f":"IFERROR(Table1[[#This Row],[ Birleşik Standart Belirsizlik uc]]*2,\"\")","v":""},"",{"$f":"IF(Table1[[#This Row],[Kullanılan]]=0.5,0.01,\"--------\")","v":"--------"},0]
[null,4,"2,4-DB-Methyl",{"$f":"'Veri Girişi'!C12","v":"GC-MS/MS"},"","",{"$f":"IF(SQRT(SUMSQ(Table1[[#This Row],[Gerçeklik                      ubias= RMSbias]:[Tekrar Üretilebilirlik                 RSDWR(pool) ]]))=0,\"\",(SQRT(SUMSQ(Table1[[#This Row],[Gerçeklik                      ubias= RMSbias]:[Tekrar Üretilebilirlik                 RSDWR(pool) ]]))))","v":""},{"$f":"IFERROR(Table1[[#This Row],[ Birleşik Standart Belirsizlik uc]]*2,\"\")","v":""},"",{"$f":"IF(Table1[[#This Row],[Kullanılan]]=0.5,0.01,\"--------\")","v":"--------"},1]
[null,5,"2,4-D-BUTYL",{"$f":"'Veri Girişi'!C13","v":"GC-MS/MS"},"","",{"$f":"IF(SQRT(SUMSQ(Table1[[#This Row],[Gerçeklik                      ubias= RMSbias]:[Tekrar Üretilebilirlik                 RSDWR(pool) ]]))=0,\"\",(SQRT(SUMSQ(Table1[[#This Row],[Gerçeklik                      ubias= RMSbias]:[Tekrar Üretilebilirlik                 RSDWR(pool) ]]))))","v":""},{"$f":"IFERROR(Table1[[#This Row],[ Birleşik Standart Belirsizlik uc]]*2,\"\")","v":""},"",{"$f":"IF(Table1[[#This Row],[Kullanılan]]=0.5,0.01,\"--------\")","v":"--------"},1]
[null,6,"2,4'-DDD",{"$f":"'Veri Girişi'!C14","v":"GC-MS/MS"},0.11780034428359425,0.13972277342753242,{"$f":"IF(SQRT(SUMSQ(Table1[[#This Row],[Gerçeklik                      ubias= RMSbias]:[Tekrar Üretilebilirlik                 RSDWR(pool) ]]))=0,\"\",(SQRT(SUMSQ(Table1[[#This Row],[Gerçeklik                      ubias= RMSbias]:[Tekrar Üretilebilirlik                 RSDWR(pool) ]]))))","v":0.18275495760064867},{"$f":"IFERROR(Table1[[#This Row],[ Birleşik Standart Belirsizlik uc]]*2,\"\")","v":0.36550991520129733},0.5,{"$f":"IF(Table1[[#This Row],[Kullanılan]]=0.5,0.01,\"--------\")","v":0.01},1]
[null,7,"2,4'-DDE",{"$f":"'Veri Girişi'!#REF!","v":{"$error":"#REF!"}},0.12552649141383132,0.14553516877833944,{"$f":"IF(SQRT(SUMSQ(Table1[[#This Row],[Gerçeklik                      ubias= RMSbias]:[Tekrar Üretilebilirlik                 RSDWR(pool) ]]))=0,\"\",(SQRT(SUMSQ(Table1[[#This Row],[Gerçeklik                      ubias= RMSbias]:[Tekrar Üretilebilirlik                 RSDWR(pool) ]]))))","v":0.19219101279197842},{"$f":"IFERROR(Table1[[#This Row],[ Birleşik Standart Belirsizlik uc]]*2,\"\")","v":0.38438202558395684},0.5,{"$f":"IF(Table1[[#This Row],[Kullanılan]]=0.5,0.01,\"--------\")","v":0.01},0]
[null,8,"2,4'-DDT",{"$f":"'Veri Girişi'!#REF!","v":{"$error":"#REF!"}},0.16800086779537779,0.1376022730320981,{"$f":"IF(SQRT(SUMSQ(Table1[[#This Row],[Gerçeklik                      ubias= RMSbias]:[Tekrar Üretilebilirlik                 RSDWR(pool) ]]))=0,\"\",(SQRT(SUMSQ(Table1[[#This Row],[Gerçeklik                      ubias= RMSbias]:[Tekrar Üretilebilirlik                 RSDWR(pool) ]]))))","v":0.21716048702192597},{"$f":"IFERROR(Table1[[#This Row],[ Birleşik Standart Belirsizlik uc]]*2,\"\")","v":0.43432097404385195},0.5,{"$f":"IF(Table1[[#This Row],[Kullanılan]]=0.5,0.01,\"--------\")","v":0.01},0]
[null,9,"2,4-D-ETHYL",{"$f":"'Veri Girişi'!C15","v":"GC-MS/MS"},"","",{"$f":"IF(SQRT(SUMSQ(Table1[[#This Row],[Gerçeklik                      ubias= RMSbias]:[Tekrar Üretilebilirlik                 RSDWR(pool) ]]))=0,\"\",(SQRT(SUMSQ(Table1[[#This Row],[Gerçeklik                      ubias= RMSbias]:[Tekrar Üretilebilirlik                 RSDWR(pool) ]]))))","v":""},{"$f":"IFERROR(Table1[[#This Row],[ Birleşik Standart Belirsizlik uc]]*2,\"\")","v":""},"",{"$f":"IF(Table1[[#This Row],[Kullanılan]]=0.5,0.01,\"--------\")","v":"--------"},1]
[null,10,"2,4-D-ISOBUTYL",{"$f":"'Veri Girişi'!C16","v":"GC-MS/MS"},"","",{"$f":"IF(SQRT(SUMSQ(Table1[[#This Row],[Gerçeklik                      ubias= RMSbias]:[Tekrar Üretilebilirlik                 RSDWR(pool) ]]))=0,\"\",(SQRT(SUMSQ(Table1[[#This Row],[Gerçeklik                      ubias= RMSbias]:[Tekrar Üretilebilirlik                 RSDWR(pool) ]]))))","v":""},{"$f":"IFERROR(Table1[[#This Row],[ Birleşik Standart Belirsizlik uc]]*2,\"\")","v":""},"",{"$f":"IF(Table1[[#This Row],[Kullanılan]]=0.5,0.01,\"--------\")","v":"--------"},1]
[null,11,"2,4-D-Methyl",{"$f":"'Veri Girişi'!#REF!","v":{"$error":"#REF!"}},"","",{"$f":"IF(SQRT(SUMSQ(Table1[[#This Row],[Gerçeklik                      ubias= RMSbias]:[Tekrar Üretilebilirlik                 RSDWR(pool) ]]))=0,\"\",(SQRT(SUMSQ(Table1[[#This Row],[Gerçeklik                      ubias= RMSbias]:[Tekrar Üretilebilirlik                 RSDWR(pool) ]]))))","v":""},{"$f":"IFERROR(Table1[[#This Row],[ Birleşik Standart Belirsizlik uc]]*2,\"\")","v":""},"",{"$f":"IF(Table1[[#This Row],[Kullanılan]]=0.5,0.01,\"--------\")","v":"--------"},1]
[null,12,"2,6-Dichlorobenzamine",{"$f":"'Veri Girişi'!#REF!","v":{"$error":"#REF!"}},0.14815374631330339,0.15184999077216849,{"$f":"IF(SQRT(SUMSQ(Table1[[#This Row],[Gerçeklik                      ubias= RMSbias]:[Tekrar Üretilebilirlik                 RSDWR(pool) ]]))=0,\"\",(SQRT(SUMSQ(Table1[[#This Row],[Gerçeklik                      ubias= RMSbias]:[Tekrar Üretilebilirlik                 RSDWR(pool) ]]))))","v":0.21215077714723157},{"$f":"IFERROR(Table1[[#This Row],[ Birleşik Standart Belirsizlik uc]]*2,\"\")","v":0.42430155429446315},0.5,{"$f":"IF(Table1[[#This Row],[Kullanılan]]=0.5,0.01,\"--------\")","v":0.01},1]
[null,13,"2,6-Dimethylaniline",{"$f":"'Veri Girişi'!C17","v":"GC-MS/MS"},0.13557068623661483,0.13389528462049186,{"$f":"IF(SQRT(SUMSQ(Table1[[#This Row],[Gerçeklik                      ubias= RMSbias]:[Tekrar Üretilebilirlik                 RSDWR(pool) ]]))=0,\"\",(SQRT(SUMSQ(Table1[[#This Row],[Gerçeklik                      ubias= RMSbias]:[Tekrar Üretilebilirlik                 RSDWR(pool) ]]))))","v":0.19054489814809838},{"$f":"IFERROR(Table1[[#This Row],[ Birleşik Standart Belirsizlik uc]]*2,\"\")","v":0.38108979629619677},0.5,{"$f":"IF(Table1[[#This Row],[Kullanılan]]=0.5,0.01,\"--------\")","v":0.01},1]
[null,14,"2-AMINO-4METHOXY-6 METHYL",{"$f":"'Veri Girişi'!C18","v":"GC-MS/MS"},"","",{"$f":"IF(SQRT(SUMSQ(Table1[[#This Row],[Gerçeklik                      ubias= RMSbias]:[Tekrar Üretilebilirlik                 RSDWR(pool) ]]))=0,\"\",(SQRT(SUMSQ(Table1[[#This Row],[Gerçeklik                      ubias= RMSbias]:[Tekrar Üretilebilirlik                 RSDWR(pool) ]]))))","v":""},{"$f":"IFERROR(Table1[[#This Row],[ Birleşik Standart Belirsizlik uc]]*2,\"\")","v":""},"",{"$f":"IF(Table1[[#This Row],[Kullanılan]]=0.5,0.01,\"--------\")","v":"--------"},0]
[null,15,"3,5-Dicloroaniline",{"$f":"'Veri Girişi'!C19","v":"GC-MS/MS"},"","",{"$f":"IF(SQRT(SUMSQ(Table1[[#This Row],[Gerçeklik                      ubias= RMSbias]:[Tekrar Üretilebilirlik                 RSDWR(pool) ]]))=0,\"\",(SQRT(SUMSQ(Table1[[#This Row],[Gerçeklik                      ubias= RMSbias]:[Tekrar Üretilebilirlik                 RSDWR(pool) ]]))))","v":""},{"$f":"IFERROR(Table1[[#This Row],[ Birleşik Standart Belirsizlik uc]]*2,\"\")","v":""},"",{"$f":"IF(Table1[[#This Row],[Kullanılan]]=0.5,0.01,\"--------\")","v":"--------"},0]
[null,16,"4,4'-DDD",{"$f":"'Veri Girişi'!C20","v":"GC-MS/MS"},0.13624833050964946,9.990531610225116E-2,{"$f":"IF(SQRT(SUMSQ(Table1[[#This Row],[Gerçeklik                      ubias= RMSbias]:[Tekrar Üretilebilirlik                 RSDWR(pool) ]]))=0,\"\",(SQRT(SUMSQ(Table1[[#This Row],[Gerçeklik                      ubias= RMSbias]:[Tekrar Üretilebilirlik                 RSDWR(pool) ]]))))","v":0.16895170834341214},{"$f":"IFERROR(Table1[[#This Row],[ Birleşik Standart Belirsizlik uc]]*2,\"\")","v":0.33790341668682428},0.5,{"$f":"IF(Table1[[#This Row],[Kullanılan]]=0.5,0.01,\"--------\")","v":0.01},1]
[null,17,"4,4'-DDE",{"$f":"'Veri Girişi'!#REF!","v":{"$error":"#REF!"}},0.11595244493613177,0.10493963506491638,{"$f":"IF(SQRT(SUMSQ(Table1[[#This Row],[Gerçeklik                      ubias= RMSbias]:[Tekrar Üretilebilirlik                 RSDWR(pool) ]]))=0,\"\",(SQRT(SUMSQ(Table1[[#This Row],[Gerçeklik                      ubias= RMSbias]:[Tekrar Üretilebilirlik                 RSDWR(pool) ]]))))","v":0.15638828758645737},{"$f":"IFERROR(Table1[[#This Row],[ Birleşik Standart Belirsizlik uc]]*2,\"\")","v":0.31277657517291474},0.5,{"$f":"IF(Table1[[#This Row],[Kullanılan]]=0.5,0.01,\"--------\")","v":0.01},1]
[null,18,"4,4'-DDT",{"$f":"'Veri Girişi'!C21","v":"GC-MS/MS"},0.16340246136457065,0.13561320543878447,{"$f":"IF(SQRT(SUMSQ(Table1[[#This Row],[Gerçeklik                      ubias= RMSbias]:[Tekrar Üretilebilirlik                 RSDWR(pool) ]]))=0,\"\",(SQRT(SUMSQ(Table1[[#This Row],[Gerçeklik                      ubias= RMSbias]:[Tekrar Üretilebilirlik                 RSDWR(pool) ]]))))","v":0.21234713529827043},{"$f":"IFERROR(Table1[[#This Row],[ Birleşik Standart Belirsizlik uc]]*2,\"\")","v":0.42469427059654086},0.5,{"$f":"IF(Table1[[#This Row],[Kullanılan]]=0.5,0.01,\"--------\")","v":0.01},1]
[null,19,"4,4'-Dichlorobenzophenone",{"$f":"'Veri Girişi'!C22","v":"GC-MS/MS"},"","",{"$f":"IF(SQRT(SUMSQ(Table1[[#This Row],[Gerçeklik                      ubias= RMSbias]:[Tekrar Üretilebilirlik                 RSDWR(pool) ]]))=0,\"\",(SQRT(SUMSQ(Table1[[#This Row],[Gerçeklik                      ubias= RMSbias]:[Tekrar Üretilebilirlik                 RSDWR(pool) ]]))))","v":""},{"$f":"IFERROR(Table1[[#This Row],[ Birleşik Standart Belirsizlik uc]]*2,\"\")","v":""},"",{"$f":"IF(Table1[[#This Row],[Kullanılan]]=0.5,0.01,\"--------\")","v":"--------"},0]
[null,20,"4-FLUORO-N-ISOPROPYLANILINE",{"$f":"'Veri Girişi'!C23","v":"GC-MS/MS"},"","",{"$f":"IF(SQRT(SUMSQ(Table1[[#This Row],[Gerçeklik                      ubias= RMSbias]:[Tekrar Üretilebilirlik                 RSDWR(pool) ]]))=0,\"\",(SQRT(SUMSQ(Table1[[#This Row],[Gerçeklik                      ubias= RMSbias]:[Tekrar Üretilebilirlik                 RSDWR(pool) ]]))))","v":""},{"$f":"IFERROR(Table1[[#This Row],[ Birleşik Standart Belirsizlik uc]]*2,\"\")","v":""},"",{"$f":"IF(Table1[[#This Row],[Kullanılan]]=0.5,0.01,\"--------\")","v":"--------"},1]
[null,21,"Acetochlor",{"$f":"'Veri Girişi'!#REF!","v":{"$error":"#REF!"}},0.12152462664003541,0.13888698705725441,{"$f":"IF(SQRT(SUMSQ(Table1[[#This Row],[Gerçeklik                      ubias= RMSbias]:[Tekrar Üretilebilirlik                 RSDWR(pool) ]]))=0,\"\",(SQRT(SUMSQ(Table1[[#This Row],[Gerçeklik                      ubias= RMSbias]:[Tekrar Üretilebilirlik                 RSDWR(pool) ]]))))","v":0.18454763627270321},{"$f":"IFERROR(Table1[[#This Row],[ Birleşik Standart Belirsizlik uc]]*2,\"\")","v":0.36909527254540642},0.5,{"$f":"IF(Table1[[#This Row],[Kullanılan]]=0.5,0.01,\"--------\")","v":0.01},1]
[null,22,"Aclonifen",{"$f":"'Veri Girişi'!#REF!","v":{"$error":"#REF!"}},0.16550900609936611,0.17762984315313024,{"$f":"IF(SQRT(SUMSQ(Table1[[#This Row],[Gerçeklik                      ubias= RMSbias]:[Tekrar Üretilebilirlik                 RSDWR(pool) ]]))=0,\"\",(SQRT(SUMSQ(Table1[[#This Row],[Gerçeklik                      ubias= RMSbias]:[Tekrar Üretilebilirlik                 RSDWR(pool) ]]))))","v":0.24278713367599539},{"$f":"IFERROR(Table1[[#This Row],[ Birleşik Standart Belirsizlik uc]]*2,\"\")","v":0.48557426735199077},0.5,{"$f":"IF(Table1[[#This Row],[Kullanılan]]=0.5,0.01,\"--------\")","v":0.01},0]
[null,23,"acrinathrin",{"$f":"'Veri Girişi'!#REF!","v":{"$error":"#REF!"}},"","",{"$f":"IF(SQRT(SUMSQ(Table1[[#This Row],[Gerçeklik                      ubias= RMSbias]:[Tekrar Üretilebilirlik                 RSDWR(pool) ]]))=0,\"\",(SQRT(SUMSQ(Table1[[#This Row],[Gerçeklik                      ubias= RMSbias]:[Tekrar Üretilebilirlik                 RSDWR(pool) ]]))))","v":""},{"$f":"IFERROR(Table1[[#This Row],[ Birleşik Standart Belirsizlik uc]]*2,\"\")","v":""},"",{"$f":"IF(Table1[[#This Row],[Kullanılan]]=0.5,0.01,\"--------\")","v":"--------"},1]
[null,24,"Alachlor",{"$f":"'Veri Girişi'!#REF!","v":{"$error":"#REF!"}},0.12830487413448746,0.12888949678848141,{"$f":"IF(SQRT(SUMSQ(Table1[[#This Row],[Gerçeklik                      ubias= RMSbias]:[Tekrar Üretilebilirlik                 RSDWR(pool) ]]))=0,\"\",(SQRT(SUMSQ(Table1[[#This Row],[Gerçeklik                      ubias= RMSbias]:[Tekrar Üretilebilirlik                 RSDWR(pool) ]]))))","v":0.18186435359645009},{"$f":"IFERROR(Table1[[#This Row],[ Birleşik Standart Belirsizlik uc]]*2,\"\")","v":0.36372870719290018},0.5,{"$f":"IF(Table1[[#This Row],[Kullanılan]]=0.5,0.01,\"--------\")","v":0.01},1]
[null,25,"Allidochlor",{"$f":"'Veri Girişi'!#REF!","v":{"$error":"#REF!"}},"","",{"$f":"IF(SQRT(SUMSQ(Table1[[#This Row],[Gerçeklik                      ubias= RMSbias]:[Tekrar Üretilebilirlik                 RSDWR(pool) ]]))=0,\"\",(SQRT(SUMSQ(Table1[[#This Row],[Gerçeklik                      ubias= RMSbias]:[Tekrar Üretilebilirlik                 RSDWR(pool) ]]))))","v":""},{"$f":"IFERROR(Table1[[#This Row],[ Birleşik Standart Belirsizlik uc]]*2,\"\")","v":""},"",{"$f":"IF(Table1[[#This Row],[Kullanılan]]=0.5,0.01,\"--------\")","v":"--------"},1]
[null,26,"Ametryne",{"$f":"'Veri Girişi'!C25","v":"GC-MS/MS"},"","",{"$f":"IF(SQRT(SUMSQ(Table1[[#This Row],[Gerçeklik                      ubias= RMSbias]:[Tekrar Üretilebilirlik                 RSDWR(pool) ]]))=0,\"\",(SQRT(SUMSQ(Table1[[#This Row],[Gerçeklik                      ubias= RMSbias]:[Tekrar Üretilebilirlik                 RSDWR(pool) ]]))))","v":""},{"$f":"IFERROR(Table1[[#This Row],[ Birleşik Standart Belirsizlik uc]]*2,\"\")","v":""},"",{"$f":"IF(Table1[[#This Row],[Kullanılan]]=0.5,0.01,\"--------\")","v":"--------"},1]
[null,27,"amitraz",{"$f":"'Veri Girişi'!#REF!","v":{"$error":"#REF!"}},0.15072877858369757,0.1364860678633239,{"$f":"IF(SQRT(SUMSQ(Table1[[#This Row],[Gerçeklik                      ubias= RMSbias]:[Tekrar Üretilebilirlik                 RSDWR(pool) ]]))=0,\"\",(SQRT(SUMSQ(Table1[[#This Row],[Gerçeklik                      ubias= RMSbias]:[Tekrar Üretilebilirlik                 RSDWR(pool) ]]))))","v":0.20334112081456909},{"$f":"IFERROR(Table1[[#This Row],[ Birleşik Standart Belirsizlik uc]]*2,\"\")","v":0.40668224162913819},0.5,{"$f":"IF(Table1[[#This Row],[Kullanılan]]=0.5,0.01,\"--------\")","v":0.01},0]
[null,28,"Anthracene",{"$f":"'Veri Girişi'!C26","v":"GC-MS/MS"},"","",{"$f":"IF(SQRT(SUMSQ(Table1[[#This Row],[Gerçeklik                      ubias= RMSbias]:[Tekrar Üretilebilirlik                 RSDWR(pool) ]]))=0,\"\",(SQRT(SUMSQ(Table1[[#This Row],[Gerçeklik                      ubias= RMSbias]:[Tekrar Üretilebilirlik                 RSDWR(pool) ]]))))","v":""},{"$f":"IFERROR(Table1[[#This Row],[ Birleşik Standart Belirsizlik uc]]*2,\"\")","v":""},"",{"$f":"IF(Table1[[#This Row],[Kullanılan]]=0.5,0.01,\"--------\")","v":"--------"},1]
[null,29,"Anthraquinone",{"$f":"'Veri Girişi'!#REF!","v":{"$error":"#REF!"}},"","",{"$f":"IF(SQRT(SUMSQ(Table1[[#This Row],[Gerçeklik                      ubias= RMSbias]:[Tekrar Üretilebilirlik                 RSDWR(pool) ]]))=0,\"\",(SQRT(SUMSQ(Table1[[#This Row],[Gerçeklik                      ubias= RMSbias]:[Tekrar Üretilebilirlik                 RSDWR(pool) ]]))))","v":""},{"$f":"IFERROR(Table1[[#This Row],[ Birleşik Standart Belirsizlik uc]]*2,\"\")","v":""},"",{"$f":"IF(Table1[[#This Row],[Kullanılan]]=0.5,0.01,\"--------\")","v":"--------"},1]
[null,30,"Aspon",{"$f":"'Veri Girişi'!C27","v":"GC-MS/MS"},"","",{"$f":"IF(SQRT(SUMSQ(Table1[[#This Row],[Gerçeklik                      ubias= RMSbias]:[Tekrar Üretilebilirlik                 RSDWR(pool) ]]))=0,\"\",(SQRT(SUMSQ(Table1[[#This Row],[Gerçeklik                      ubias= RMSbias]:[Tekrar Üretilebilirlik                 RSDWR(pool) ]]))))","v":""},{"$f":"IFERROR(Table1[[#This Row],[ Birleşik Standart Belirsizlik uc]]*2,\"\")","v":""},"",{"$f":"IF(Table1[[#This Row],[Kullanılan]]=0.5,0.01,\"--------\")","v":"--------"},1]
[null,31,"Atraton",{"$f":"'Veri Girişi'!C28","v":"GC-MS/MS"},"","",{"$f":"IF(SQRT(SUMSQ(Table1[[#This Row],[Gerçeklik                      ubias= RMSbias]:[Tekrar Üretilebilirlik                 RSDWR(pool) ]]))=0,\"\",(SQRT(SUMSQ(Table1[[#This Row],[Gerçeklik                      ubias= RMSbias]:[Tekrar Üretilebilirlik                 RSDWR(pool) ]]))))","v":""},{"$f":"IFERROR(Table1[[#This Row],[ Birleşik Standart Belirsizlik uc]]*2,\"\")","v":""},"",{"$f":"IF(Table1[[#This Row],[Kullanılan]]=0.5,0.01,\"--------\")","v":"--------"},1]
[null,32,"Atrazine",{"$f":"'Veri Girişi'!C29","v":"GC-MS/MS"},0.1293098864743141,0.1347314542552131,{"$f":"IF(SQRT(SUMSQ(Table1[[#This Row],[Gerçeklik                      ubias= RMSbias]:[Tekrar Üretilebilirlik                 RSDWR(pool) ]]))=0,\"\",(SQRT(SUMSQ(Table1[[#This Row],[Gerçeklik                      ubias= RMSbias]:[Tekrar Üretilebilirlik                 RSDWR(pool) ]]))))","v":0.18674477638136117},{"$f":"IFERROR(Table1[[#This Row],[ Birleşik Standart Belirsizlik uc]]*2,\"\")","v":0.37348955276272233},0.5,{"$f":"IF(Table1[[#This Row],[Kullanılan]]=0.5,0.01,\"--------\")","v":0.01},1]
[null,33,"Atrazine-Desethyl",{"$f":"'Veri Girişi'!#REF!","v":{"$error":"#REF!"}},"","",{"$f":"IF(SQRT(SUMSQ(Table1[[#This Row],[Gerçeklik                      ubias= RMSbias]:[Tekrar Üretilebilirlik                 RSDWR(pool) ]]))=0,\"\",(SQRT(SUMSQ(Table1[[#This Row],[Gerçeklik                      ubias= RMSbias]:[Tekrar Üretilebilirlik                 RSDWR(pool) ]]))))","v":""},{"$f":"IFERROR(Table1[[#This Row],[ Birleşik Standart Belirsizlik uc]]*2,\"\")","v":""},"",{"$f":"IF(Table1[[#This Row],[Kullanılan]]=0.5,0.01,\"--------\")","v":"--------"},1]
[null,34,"Azobenzene",{"$f":"'Veri Girişi'!#REF!","v":{"$error":"#REF!"}},"","",{"$f":"IF(SQRT(SUMSQ(Table1[[#This Row],[Gerçeklik                      ubias= RMSbias]:[Tekrar Üretilebilirlik                 RSDWR(pool) ]]))=0,\"\",(SQRT(SUMSQ(Table1[[#This Row],[Gerçeklik                      ubias= RMSbias]:[Tekrar Üretilebilirlik                 RSDWR(pool) ]]))))","v":""},{"$f":"IFERROR(Table1[[#This Row],[ Birleşik Standart Belirsizlik uc]]*2,\"\")","v":""},"",{"$f":"IF(Table1[[#This Row],[Kullanılan]]=0.5,0.01,\"--------\")","v":"--------"},0]
[null,35,"Beflubutamid",{"$f":"'Veri Girişi'!C30","v":"GC-MS/MS"},"","",{"$f":"IF(SQRT(SUMSQ(Table1[[#This Row],[Gerçeklik                      ubias= RMSbias]:[Tekrar Üretilebilirlik                 RSDWR(pool) ]]))=0,\"\",(SQRT(SUMSQ(Table1[[#This Row],[Gerçeklik                      ubias= RMSbias]:[Tekrar Üretilebilirlik                 RSDWR(pool) ]]))))","v":""},{"$f":"IFERROR(Table1[[#This Row],[ Birleşik Standart Belirsizlik uc]]*2,\"\")","v":""},"",{"$f":"IF(Table1[[#This Row],[Kullanılan]]=0.5,0.01,\"--------\")","v":"--------"},0]
[null,36,"BENALAXY",{"$f":"'Veri Girişi'!#REF!","v":{"$error":"#REF!"}},"","",{"$f":"IF(SQRT(SUMSQ(Table1[[#This Row],[Gerçeklik                      ubias= RMSbias]:[Tekrar Üretilebilirlik                 RSDWR(pool) ]]))=0,\"\",(SQRT(SUMSQ(Table1[[#This Row],[Gerçeklik                      ubias= RMSbias]:[Tekrar Üretilebilirlik                 RSDWR(pool) ]]))))","v":""},{"$f":"IFERROR(Table1[[#This Row],[ Birleşik Standart Belirsizlik uc]]*2,\"\")","v":""},"",{"$f":"IF(Table1[[#This Row],[Kullanılan]]=0.5,0.01,\"--------\")","v":"--------"},1]
[null,37,"Benfluralin",{"$f":"'Veri Girişi'!C31","v":"GC-MS/MS"},0.1506255001208848,9.6945739244563442E-2,{"$f":"IF(SQRT(SUMSQ(Table1[[#This Row],[Gerçeklik                      ubias= RMSbias]:[Tekrar Üretilebilirlik                 RSDWR(pool) ]]))=0,\"\",(SQRT(SUMSQ(Table1[[#This Row],[Gerçeklik                      ubias= RMSbias]:[Tekrar Üretilebilirlik                 RSDWR(pool) ]]))))","v":0.17912709913450156},{"$f":"IFERROR(Table1[[#This Row],[ Birleşik Standart Belirsizlik uc]]*2,\"\")","v":0.35825419826900312},0.5,{"$f":"IF(Table1[[#This Row],[Kullanılan]]=0.5,0.01,\"--------\")","v":0.01},1]
[null,38,"Benfuresate",{"$f":"'Veri Girişi'!#REF!","v":{"$error":"#REF!"}},0.11282214058715012,0.11024784558916725,{"$f":"IF(SQRT(SUMSQ(Table1[[#This Row],[Gerçeklik                      ubias= RMSbias]:[Tekrar Üretilebilirlik                 RSDWR(pool) ]]))=0,\"\",(SQRT(SUMSQ(Table1[[#This Row],[Gerçeklik                      ubias= RMSbias]:[Tekrar Üretilebilirlik                 RSDWR(pool) ]]))))","v":0.15774480296897117},{"$f":"IFERROR(Table1[[#This Row],[ Birleşik Standart Belirsizlik uc]]*2,\"\")","v":0.31548960593794234},0.5,{"$f":"IF(Table1[[#This Row],[Kullanılan]]=0.5,0.01,\"--------\")","v":0.01},0]
[null,39,"Bentazone-Methyl",{"$f":"'Veri Girişi'!C32","v":"GC-MS/MS"},0.1226724170028998,9.8483303109736839E-2,{"$f":"IF(SQRT(SUMSQ(Table1[[#This Row],[Gerçeklik                      ubias= RMSbias]:[Tekrar Üretilebilirlik                 RSDWR(pool) ]]))=0,\"\",(SQRT(SUMSQ(Table1[[#This Row],[Gerçeklik                      ubias= RMSbias]:[Tekrar Üretilebilirlik                 RSDWR(pool) ]]))))","v":0.15731332710465964},{"$f":"IFERROR(Table1[[#This Row],[ Birleşik Standart Belirsizlik uc]]*2,\"\")","v":0.31462665420931929},0.5,{"$f":"IF(Table1[[#This Row],[Kullanılan]]=0.5,0.01,\"--------\")","v":0.01},1]
[null,40,"Benzoylprop-Ethyl",{"$f":"'Veri Girişi'!#REF!","v":{"$error":"#REF!"}},"","",{"$f":"IF(SQRT(SUMSQ(Table1[[#This Row],[Gerçeklik                      ubias= RMSbias]:[Tekrar Üretilebilirlik                 RSDWR(pool) ]]))=0,\"\",(SQRT(SUMSQ(Table1[[#This Row],[Gerçeklik                      ubias= RMSbias]:[Tekrar Üretilebilirlik                 RSDWR(pool) ]]))))","v":""},{"$f":"IFERROR(Table1[[#This Row],[ Birleşik Standart Belirsizlik uc]]*2,\"\")","v":""},"",{"$f":"IF(Table1[[#This Row],[Kullanılan]]=0.5,0.01,\"--------\")","v":"--------"},1]
[null,41,"Bifenazate",{"$f":"'Veri Girişi'!C33","v":"GC-MS/MS"},0.12573640536190514,0.12201537172095223,{"$f":"IF(SQRT(SUMSQ(Table1[[#This Row],[Gerçeklik                      ubias= RMSbias]:[Tekrar Üretilebilirlik                 RSDWR(pool) ]]))=0,\"\",(SQRT(SUMSQ(Table1[[#This Row],[Gerçeklik                      ubias= RMSbias]:[Tekrar Üretilebilirlik                 RSDWR(pool) ]]))))","v":0.17520671953305753},{"$f":"IFERROR(Table1[[#This Row],[ Birleşik Standart Belirsizlik uc]]*2,\"\")","v":0.35041343906611505},0.5,{"$f":"IF(Table1[[#This Row],[Kullanılan]]=0.5,0.01,\"--------\")","v":0.01},1]
[null,42,"Bifenox",{"$f":"'Veri Girişi'!C34","v":"GC-MS/MS"},"","",{"$f":"IF(SQRT(SUMSQ(Table1[[#This Row],[Gerçeklik                      ubias= RMSbias]:[Tekrar Üretilebilirlik                 RSDWR(pool) ]]))=0,\"\",(SQRT(SUMSQ(Table1[[#This Row],[Gerçeklik                      ubias= RMSbias]:[Tekrar Üretilebilirlik                 RSDWR(pool) ]]))))","v":""},{"$f":"IFERROR(Table1[[#This Row],[ Birleşik Standart Belirsizlik uc]]*2,\"\")","v":""},"",{"$f":"IF(Table1[[#This Row],[Kullanılan]]=0.5,0.01,\"--------\")","v":"--------"},1]
[null,43,"Bifenthrin",{"$f":"'Veri Girişi'!C35","v":"GC-MS/MS"},0.13006293943062078,0.11703281080170781,{"$f":"IF(SQRT(SUMSQ(Table1[[#This Row],[Gerçeklik                      ubias= RMSbias]:[Tekrar Üretilebilirlik                 RSDWR(pool) ]]))=0,\"\",(SQRT(SUMSQ(Table1[[#This Row],[Gerçeklik                      ubias= RMSbias]:[Tekrar Üretilebilirlik                 RSDWR(pool) ]]))))","v":0.1749658452883924},{"$f":"IFERROR(Table1[[#This Row],[ Birleşik Standart Belirsizlik uc]]*2,\"\")","v":0.3499316905767848},0.5,{"$f":"IF(Table1[[#This Row],[Kullanılan]]=0.5,0.01,\"--------\")","v":0.01},1]
[null,44,"Biphenyl",{"$f":"'Veri Girişi'!C36","v":"GC-MS/MS"},0.12041331454619128,0.13483990012607244,{"$f":"IF(SQRT(SUMSQ(Table1[[#This Row],[Gerçeklik                      ubias= RMSbias]:[Tekrar Üretilebilirlik                 RSDWR(pool) ]]))=0,\"\",(SQRT(SUMSQ(Table1[[#This Row],[Gerçeklik                      ubias= RMSbias]:[Tekrar Üretilebilirlik                 RSDWR(pool) ]]))))","v":0.18077932676611336},{"$f":"IFERROR(Table1[[#This Row],[ Birleşik Standart Belirsizlik uc]]*2,\"\")","v":0.36155865353222671},0.5,{"$f":"IF(Table1[[#This Row],[Kullanılan]]=0.5,0.01,\"--------\")","v":0.01},0]
[null,45,"bitrex",{"$f":"'Veri Girişi'!#REF!","v":{"$error":"#REF!"}},"","",{"$f":"IF(SQRT(SUMSQ(Table1[[#This Row],[Gerçeklik                      ubias= RMSbias]:[Tekrar Üretilebilirlik                 RSDWR(pool) ]]))=0,\"\",(SQRT(SUMSQ(Table1[[#This Row],[Gerçeklik                      ubias= RMSbias]:[Tekrar Üretilebilirlik                 RSDWR(pool) ]]))))","v":""},{"$f":"IFERROR(Table1[[#This Row],[ Birleşik Standart Belirsizlik uc]]*2,\"\")","v":""},"",{"$f":"IF(Table1[[#This Row],[Kullanılan]]=0.5,0.01,\"--------\")","v":"--------"},1]
[null,46,"Bromocyclen",{"$f":"'Veri Girişi'!C37","v":"GC-MS/MS"},0.1421510715166556,0.11074948871361355,{"$f":"IF(SQRT(SUMSQ(Table1[[#This Row],[Gerçeklik                      ubias= RMSbias]:[Tekrar Üretilebilirlik                 RSDWR(pool) ]]))=0,\"\",(SQRT(SUMSQ(Table1[[#This Row],[Gerçeklik                      ubias= RMSbias]:[Tekrar Üretilebilirlik                 RSDWR(pool) ]]))))","v":0.18020093335956988},{"$f":"IFERROR(Table1[[#This Row],[ Birleşik Standart Belirsizlik uc]]*2,\"\")","v":0.36040186671913976},0.5,{"$f":"IF(Table1[[#This Row],[Kullanılan]]=0.5,0.01,\"--------\")","v":0.01},0]
[null,47,"Bromophos Methyl",{"$f":"'Veri Girişi'!C38","v":"GC-MS/MS"},0.13217648968960657,0.14064118827423325,{"$f":"IF(SQRT(SUMSQ(Table1[[#This Row],[Gerçeklik                      ubias= RMSbias]:[Tekrar Üretilebilirlik                 RSDWR(pool) ]]))=0,\"\",(SQRT(SUMSQ(Table1[[#This Row],[Gerçeklik                      ubias= RMSbias]:[Tekrar Üretilebilirlik                 RSDWR(pool) ]]))))","v":0.19300406282214633},{"$f":"IFERROR(Table1[[#This Row],[ Birleşik Standart Belirsizlik uc]]*2,\"\")","v":0.38600812564429265},0.5,{"$f":"IF(Table1[[#This Row],[Kullanılan]]=0.5,0.01,\"--------\")","v":0.01},0]
[null,48,"Bromophos-Ethyl",{"$f":"'Veri Girişi'!#REF!","v":{"$error":"#REF!"}},0.11796490127717368,0.10906763206573987,{"$f":"IF(SQRT(SUMSQ(Table1[[#This Row],[Gerçeklik                      ubias= RMSbias]:[Tekrar Üretilebilirlik                 RSDWR(pool) ]]))=0,\"\",(SQRT(SUMSQ(Table1[[#This Row],[Gerçeklik                      ubias= RMSbias]:[Tekrar Üretilebilirlik                 RSDWR(pool) ]]))))","v":0.16065947310308515},{"$f":"IFERROR(Table1[[#This Row],[ Birleşik Standart Belirsizlik uc]]*2,\"\")","v":0.3213189462061703},0.5,{"$f":"IF(Table1[[#This Row],[Kullanılan]]=0.5,0.01,\"--------\")","v":0.01},1]
[null,49,"Bromopropylate",{"$f":"'Veri Girişi'!C39","v":"GC-MS/MS"},0.13052728381453438,0.13202923030085112,{"$f":"IF(SQRT(SUMSQ(Table1[[#This Row],[Gerçeklik                      ubias= RMSbias]:[Tekrar Üretilebilirlik                 RSDWR(pool) ]]))=0,\"\",(SQRT(SUMSQ(Table1[[#This Row],[Gerçeklik                      ubias= RMSbias]:[Tekrar Üretilebilirlik                 RSDWR(pool) ]]))))","v":0.18565852922458259},{"$f":"IFERROR(Table1[[#This Row],[ Birleşik Standart Belirsizlik uc]]*2,\"\")","v":0.37131705844916518},0.5,{"$f":"IF(Table1[[#This Row],[Kullanılan]]=0.5,0.01,\"--------\")","v":0.01},0]
[null,50,"BROMOXYNILMETYHL",{"$f":"'Veri Girişi'!C40","v":"GC-MS/MS"},"","",{"$f":"IF(SQRT(SUMSQ(Table1[[#This Row],[Gerçeklik                      ubias= RMSbias]:[Tekrar Üretilebilirlik                 RSDWR(pool) ]]))=0,\"\",(SQRT(SUMSQ(Table1[[#This Row],[Gerçeklik                      ubias= RMSbias]:[Tekrar Üretilebilirlik                 RSDWR(pool) ]]))))","v":""},{"$f":"IFERROR(Table1[[#This Row],[ Birleşik Standart Belirsizlik uc]]*2,\"\")","v":""},"",{"$f":"IF(Table1[[#This Row],[Kullanılan]]=0.5,0.01,\"--------\")","v":"--------"},1]
[null,51,"Butachlor",{"$f":"'Veri Girişi'!C41","v":"GC-MS/MS"},0.10968545524969724,0.11818381355191844,{"$f":"IF(SQRT(SUMSQ(Table1[[#This Row],[Gerçeklik                      ubias= RMSbias]:[Tekrar Üretilebilirlik                 RSDWR(pool) ]]))=0,\"\",(SQRT(SUMSQ(Table1[[#This Row],[Gerçeklik                      ubias= RMSbias]:[Tekrar Üretilebilirlik                 RSDWR(pool) ]]))))","v":0.16123992334098883},{"$f":"IFERROR(Table1[[#This Row],[ Birleşik Standart Belirsizlik uc]]*2,\"\")","v":0.32247984668197766},0.5,{"$f":"IF(Table1[[#This Row],[Kullanılan]]=0.5,0.01,\"--------\")","v":0.01},1]
[null,52,"Butafenacil",{"$f":"'Veri Girişi'!C42","v":"GC-MS/MS"},0.14476452719272542,0.14361415396701219,{"$f":"IF(SQRT(SUMSQ(Table1[[#This Row],[Gerçeklik                      ubias= RMSbias]:[Tekrar Üretilebilirlik                 RSDWR(pool) ]]))=0,\"\",(SQRT(SUMSQ(Table1[[#This Row],[Gerçeklik                      ubias= RMSbias]:[Tekrar Üretilebilirlik                 RSDWR(pool) ]]))))","v":0.20391614343399597},{"$f":"IFERROR(Table1[[#This Row],[ Birleşik Standart Belirsizlik uc]]*2,\"\")","v":0.40783228686799194},0.5,{"$f":"IF(Table1[[#This Row],[Kullanılan]]=0.5,0.01,\"--------\")","v":0.01},1]
[null,53,"Butamifos",{"$f":"'Veri Girişi'!#REF!","v":{"$error":"#REF!"}},0.14061486659193143,0.15463986558844867,{"$f":"IF(SQRT(SUMSQ(Table1[[#This Row],[Gerçeklik                      ubias= RMSbias]:[Tekrar Üretilebilirlik                 RSDWR(pool) ]]))=0,\"\",(SQRT(SUMSQ(Table1[[#This Row],[Gerçeklik                      ubias= RMSbias]:[Tekrar Üretilebilirlik                 RSDWR(pool) ]]))))","v":0.20901203012238348},{"$f":"IFERROR(Table1[[#This Row],[ Birleşik Standart Belirsizlik uc]]*2,\"\")","v":0.41802406024476696},0.5,{"$f":"IF(Table1[[#This Row],[Kullanılan]]=0.5,0.01,\"--------\")","v":0.01},1]
[null,54,"Butralin",{"$f":"'Veri Girişi'!C44","v":"GC-MS/MS"},0.14519788088444452,0.15006820597391279,{"$f":"IF(SQRT(SUMSQ(Table1[[#This Row],[Gerçeklik                      ubias= RMSbias]:[Tekrar Üretilebilirlik                 RSDWR(pool) ]]))=0,\"\",(SQRT(SUMSQ(Table1[[#This Row],[Gerçeklik                      ubias= RMSbias]:[Tekrar Üretilebilirlik                 RSDWR(pool) ]]))))","v":0.20881305289076652},{"$f":"IFERROR(Table1[[#This Row],[ Birleşik Standart Belirsizlik uc]]*2,\"\")","v":0.41762610578153303},0.5,{"$f":"IF(Table1[[#This Row],[Kullanılan]]=0.5,0.01,\"--------\")","v":0.01},1]
[null,55,"Butylate",{"$f":"'Veri Girişi'!#REF!","v":{"$error":"#REF!"}},0.11794952324334904,0.11152906722034713,{"$f":"IF(SQRT(SUMSQ(Table1[[#This Row],[Gerçeklik                      ubias= RMSbias]:[Tekrar Üretilebilirlik                 RSDWR(pool) ]]))=0,\"\",(SQRT(SUMSQ(Table1[[#This Row],[Gerçeklik                      ubias= RMSbias]:[Tekrar Üretilebilirlik                 RSDWR(pool) ]]))))","v":0.16232936539139811},{"$f":"IFERROR(Table1[[#This Row],[ Birleşik Standart Belirsizlik uc]]*2,\"\")","v":0.32465873078279622},0.5,{"$f":"IF(Table1[[#This Row],[Kullanılan]]=0.5,0.01,\"--------\")","v":0.01},1]
[null,56,"Cadusafos",{"$f":"'Veri Girişi'!#REF!","v":{"$error":"#REF!"}},0.13468214261734923,0.11647756822061316,{"$f":"IF(SQRT(SUMSQ(Table1[[#This Row],[Gerçeklik                      ubias= RMSbias]:[Tekrar Üretilebilirlik                 RSDWR(pool) ]]))=0,\"\",(SQRT(SUMSQ(Table1[[#This Row],[Gerçeklik                      ubias= RMSbias]:[Tekrar Üretilebilirlik                 RSDWR(pool) ]]))))","v":0.17806263908688871},{"$f":"IFERROR(Table1[[#This Row],[ Birleşik Standart Belirsizlik uc]]*2,\"\")","v":0.35612527817377743},0.5,{"$f":"IF(Table1[[#This Row],[Kullanılan]]=0.5,0.01,\"--------\")","v":0.01},1]
[null,57,"Cafenstrole",{"$f":"'Veri Girişi'!#REF!","v":{"$error":"#REF!"}},"","",{"$f":"IF(SQRT(SUMSQ(Table1[[#This Row],[Gerçeklik                      ubias= RMSbias]:[Tekrar Üretilebilirlik                 RSDWR(pool) ]]))=0,\"\",(SQRT(SUMSQ(Table1[[#This Row],[Gerçeklik                      ubias= RMSbias]:[Tekrar Üretilebilirlik                 RSDWR(pool) ]]))))","v":""},{"$f":"IFERROR(Table1[[#This Row],[ Birleşik Standart Belirsizlik uc]]*2,\"\")","v":""},"",{"$f":"IF(Table1[[#This Row],[Kullanılan]]=0.5,0.01,\"--------\")","v":"--------"},0]
[null,58,"CAPTAFOL",{"$f":"'Veri Girişi'!#REF!","v":{"$error":"#REF!"}},"","",{"$f":"IF(SQRT(SUMSQ(Table1[[#This Row],[Gerçeklik                      ubias= RMSbias]:[Tekrar Üretilebilirlik                 RSDWR(pool) ]]))=0,\"\",(SQRT(SUMSQ(Table1[[#This Row],[Gerçeklik                      ubias= RMSbias]:[Tekrar Üretilebilirlik                 RSDWR(pool) ]]))))","v":""},{"$f":"IFERROR(Table1[[#This Row],[ Birleşik Standart Belirsizlik uc]]*2,\"\")","v":""},"",{"$f":"IF(Table1[[#This Row],[Kullanılan]]=0.5,0.01,\"--------\")","v":"--------"},0]
[null,59,"CAPTAN",{"$f":"'Veri Girişi'!C45","v":"GC-MS/MS"},0.13763610037583404,0.14015877972239454,{"$f":"IF(SQRT(SUMSQ(Table1[[#This Row],[Gerçeklik                      ubias= RMSbias]:[Tekrar Üretilebilirlik                 RSDWR(pool) ]]))=0,\"\",(SQRT(SUMSQ(Table1[[#This Row],[Gerçeklik                      ubias= RMSbias]:[Tekrar Üretilebilirlik                 RSDWR(pool) ]]))))","v":0.1964387427671471},{"$f":"IFERROR(Table1[[#This Row],[ Birleşik Standart Belirsizlik uc]]*2,\"\")","v":0.39287748553429419},0.5,{"$f":"IF(Table1[[#This Row],[Kullanılan]]=0.5,0.01,\"--------\")","v":0.01},1]
[null,60,"Carbophenothion",{"$f":"'Veri Girişi'!C46","v":"GC-MS/MS"},"","",{"$f":"IF(SQRT(SUMSQ(Table1[[#This Row],[Gerçeklik                      ubias= RMSbias]:[Tekrar Üretilebilirlik                 RSDWR(pool) ]]))=0,\"\",(SQRT(SUMSQ(Table1[[#This Row],[Gerçeklik                      ubias= RMSbias]:[Tekrar Üretilebilirlik                 RSDWR(pool) ]]))))","v":""},{"$f":"IFERROR(Table1[[#This Row],[ Birleşik Standart Belirsizlik uc]]*2,\"\")","v":""},"",{"$f":"IF(Table1[[#This Row],[Kullanılan]]=0.5,0.01,\"--------\")","v":"--------"},0]
[null,61,"Carbophenothion Methyl",{"$f":"'Veri Girişi'!#REF!","v":{"$error":"#REF!"}},"","",{"$f":"IF(SQRT(SUMSQ(Table1[[#This Row],[Gerçeklik                      ubias= RMSbias]:[Tekrar Üretilebilirlik                 RSDWR(pool) ]]))=0,\"\",(SQRT(SUMSQ(Table1[[#This Row],[Gerçeklik                      ubias= RMSbias]:[Tekrar Üretilebilirlik                 RSDWR(pool) ]]))))","v":""},{"$f":"IFERROR(Table1[[#This Row],[ Birleşik Standart Belirsizlik uc]]*2,\"\")","v":""},"",{"$f":"IF(Table1[[#This Row],[Kullanılan]]=0.5,0.01,\"--------\")","v":"--------"},1]
[null,62,"Carbosulfan",{"$f":"'Veri Girişi'!C47","v":"GC-MS/MS"},"","",{"$f":"IF(SQRT(SUMSQ(Table1[[#This Row],[Gerçeklik                      ubias= RMSbias]:[Tekrar Üretilebilirlik                 RSDWR(pool) ]]))=0,\"\",(SQRT(SUMSQ(Table1[[#This Row],[Gerçeklik                      ubias= RMSbias]:[Tekrar Üretilebilirlik                 RSDWR(pool) ]]))))","v":""},{"$f":"IFERROR(Table1[[#This Row],[ Birleşik Standart Belirsizlik uc]]*2,\"\")","v":""},"",{"$f":"IF(Table1[[#This Row],[Kullanılan]]=0.5,0.01,\"--------\")","v":"--------"},1]
[null,63,"Chinomethionat",{"$f":"'Veri Girişi'!C48","v":"GC-MS/MS"},{"$f":"IFERROR(VLOOKUP(C67,GERÇEKLİK_BELİRSİZLİĞİ_ubias2_RMSbias2,125,FALSE),\"\")","v":0.13657734272809186},{"$f":"IFERROR(VLOOKUP(C67,T.U.BELIRSIZLIGI,55,FALSE),\"\")","v":0.13578322561149736},{"$f":"IF(SQRT(SUMSQ(Table1[[#This Row],[Gerçeklik                      ubias= RMSbias]:[Tekrar Üretilebilirlik                 RSDWR(pool) ]]))=0,\"\",(SQRT(SUMSQ(Table1[[#This Row],[Gerçeklik                      ubias= RMSbias]:[Tekrar Üretilebilirlik                 RSDWR(pool) ]]))))","v":0.19258882341436498},{"$f":"IFERROR(Table1[[#This Row],[ Birleşik Standart Belirsizlik uc]]*2,\"\")","v":0.38517764682872996},{"$f":"IF(H67<0.5,0.5,H67)","v":0.5},{"$f":"IF(Table1[[#This Row],[Kullanılan]]=0.5,0.01,\"--------\")","v":0.01},1]
[null,64,"Chlorbenside",{"$f":"'Veri Girişi'!C49","v":"GC-MS/MS"},0.1416124191587729,9.610185236552321E-2,{"$f":"IF(SQRT(SUMSQ(Table1[[#This Row],[Gerçeklik                      ubias= RMSbias]:[Tekrar Üretilebilirlik                 RSDWR(pool) ]]))=0,\"\",(SQRT(SUMSQ(Table1[[#This Row],[Gerçeklik                      ubias= RMSbias]:[Tekrar Üretilebilirlik                 RSDWR(pool) ]]))))","v":0.17114217273391386},{"$f":"IFERROR(Table1[[#This Row],[ Birleşik Standart Belirsizlik uc]]*2,\"\")","v":0.34228434546782771},0.5,{"$f":"IF(Table1[[#This Row],[Kullanılan]]=0.5,0.01,\"--------\")","v":0.01},1]
[null,65,"Chlordane-cis(alpha)",{"$f":"'Veri Girişi'!#REF!","v":{"$error":"#REF!"}},"","",{"$f":"IF(SQRT(SUMSQ(Table1[[#This Row],[Gerçeklik                      ubias= RMSbias]:[Tekrar Üretilebilirlik                 RSDWR(pool) ]]))=0,\"\",(SQRT(SUMSQ(Table1[[#This Row],[Gerçeklik                      ubias= RMSbias]:[Tekrar Üretilebilirlik                 RSDWR(pool) ]]))))","v":""},{"$f":"IFERROR(Table1[[#This Row],[ Birleşik Standart Belirsizlik uc]]*2,\"\")","v":""},"",{"$f":"IF(Table1[[#This Row],[Kullanılan]]=0.5,0.01,\"--------\")","v":"--------"},0]
[null,66,"Chlordane-trans (gamma)",{"$f":"'Veri Girişi'!C50","v":"GC-MS/MS"},"","",{"$f":"IF(SQRT(SUMSQ(Table1[[#This Row],[Gerçeklik                      ubias= RMSbias]:[Tekrar Üretilebilirlik                 RSDWR(pool) ]]))=0,\"\",(SQRT(SUMSQ(Table1[[#This Row],[Gerçeklik                      ubias= RMSbias]:[Tekrar Üretilebilirlik                 RSDWR(pool) ]]))))","v":""},{"$f":"IFERROR(Table1[[#This Row],[ Birleşik Standart Belirsizlik uc]]*2,\"\")","v":""},"",{"$f":"IF(Table1[[#This Row],[Kullanılan]]=0.5,0.01,\"--------\")","v":"--------"},1]
[null,67,"Chlordecone",{"$f":"'Veri Girişi'!C51","v":"GC-MS/MS"},0.16112573243691811,0.15260684433024277,{"$f":"IF(SQRT(SUMSQ(Table1[[#This Row],[Gerçeklik                      ubias= RMSbias]:[Tekrar Üretilebilirlik                 RSDWR(pool) ]]))=0,\"\",(SQRT(SUMSQ(Table1[[#This Row],[Gerçeklik                      ubias= RMSbias]:[Tekrar Üretilebilirlik                 RSDWR(pool) ]]))))","v":0.22192420009942196},{"$f":"IFERROR(Table1[[#This Row],[ Birleşik Standart Belirsizlik uc]]*2,\"\")","v":0.44384840019884392},0.5,{"$f":"IF(Table1[[#This Row],[Kullanılan]]=0.5,0.01,\"--------\")","v":0.01},1]
[null,68,"Chlorethoxyfos",{"$f":"'Veri Girişi'!C52","v":"GC-MS/MS"},"","",{"$f":"IF(SQRT(SUMSQ(Table1[[#This Row],[Gerçeklik                      ubias= RMSbias]:[Tekrar Üretilebilirlik                 RSDWR(pool) ]]))=0,\"\",(SQRT(SUMSQ(Table1[[#This Row],[Gerçeklik                      ubias= RMSbias]:[Tekrar Üretilebilirlik                 RSDWR(pool) ]]))))","v":""},{"$f":"IFERROR(Table1[[#This Row],[ Birleşik Standart Belirsizlik uc]]*2,\"\")","v":""},"",{"$f":"IF(Table1[[#This Row],[Kullanılan]]=0.5,0.01,\"--------\")","v":"--------"},0]
[null,69,"Chlorfenapyr",{"$f":"'Veri Girişi'!C53","v":"GC-MS/MS"},0.12908945846453407,0.11737669718224564,{"$f":"IF(SQRT(SUMSQ(Table1[[#This Row],[Gerçeklik                      ubias= RMSbias]:[Tekrar Üretilebilirlik                 RSDWR(pool) ]]))=0,\"\",(SQRT(SUMSQ(Table1[[#This Row],[Gerçeklik                      ubias= RMSbias]:[Tekrar Üretilebilirlik                 RSDWR(pool) ]]))))","v":0.17447457501905331},{"$f":"IFERROR(Table1[[#This Row],[ Birleşik Standart Belirsizlik uc]]*2,\"\")","v":0.34894915003810661},0.5,{"$f":"IF(Table1[[#This Row],[Kullanılan]]=0.5,0.01,\"--------\")","v":0.01},1]
[null,70,"Chlorfenprop Methyl",{"$f":"'Veri Girişi'!C54","v":"GC-MS/MS"},0.13034996097685134,0.13828622790634926,{"$f":"IF(SQRT(SUMSQ(Table1[[#This Row],[Gerçeklik                      ubias= RMSbias]:[Tekrar Üretilebilirlik                 RSDWR(pool) ]]))=0,\"\",(SQRT(SUMSQ(Table1[[#This Row],[Gerçeklik                      ubias= RMSbias]:[Tekrar Üretilebilirlik                 RSDWR(pool) ]]))))","v":0.1900373467380384},{"$f":"IFERROR(Table1[[#This Row],[ Birleşik Standart Belirsizlik uc]]*2,\"\")","v":0.38007469347607681},0.5,{"$f":"IF(Table1[[#This Row],[Kullanılan]]=0.5,0.01,\"--------\")","v":0.01},1]
[null,71,"Chlorfenson",{"$f":"'Veri Girişi'!C55","v":"GC-MS/MS"},0.15495810696227974,0.14970194662184019,{"$f":"IF(SQRT(SUMSQ(Table1[[#This Row],[Gerçeklik                      ubias= RMSbias]:[Tekrar Üretilebilirlik                 RSDWR(pool) ]]))=0,\"\",(SQRT(SUMSQ(Table1[[#This Row],[Gerçeklik                      ubias= RMSbias]:[Tekrar Üretilebilirlik                 RSDWR(pool) ]]))))","v":0.21545924843390132},{"$f":"IFERROR(Table1[[#This Row],[ Birleşik Standart Belirsizlik uc]]*2,\"\")","v":0.43091849686780265},0.5,{"$f":"IF(Table1[[#This Row],[Kullanılan]]=0.5,0.01,\"--------\")","v":0.01},1]
[null,72,"Chlorfenvinphos",{"$f":"'Veri Girişi'!C56","v":"GC-MS/MS"},0.15999066568605391,0.1757169868446618,{"$f":"IF(SQRT(SUMSQ(Table1[[#This Row],[Gerçeklik                      ubias= RMSbias]:[Tekrar Üretilebilirlik                 RSDWR(pool) ]]))=0,\"\",(SQRT(SUMSQ(Table1[[#This Row],[Gerçeklik                      ubias= RMSbias]:[Tekrar Üretilebilirlik                 RSDWR(pool) ]]))))","v":0.23764147906548999},{"$f":"IFERROR(Table1[[#This Row],[ Birleşik Standart Belirsizlik uc]]*2,\"\")","v":0.47528295813097998},0.5,{"$f":"IF(Table1[[#This Row],[Kullanılan]]=0.5,0.01,\"--------\")","v":0.01},1]
[null,73,"Chlormephos",{"$f":"'Veri Girişi'!#REF!","v":{"$error":"#REF!"}},0.11257121710277455,0.1039937971569448,{"$f":"IF(SQRT(SUMSQ(Table1[[#This Row],[Gerçeklik                      ubias= RMSbias]:[Tekrar Üretilebilirlik                 RSDWR(pool) ]]))=0,\"\",(SQRT(SUMSQ(Table1[[#This Row],[Gerçeklik                      ubias= RMSbias]:[Tekrar Üretilebilirlik                 RSDWR(pool) ]]))))","v":0.15325465332941701},{"$f":"IFERROR(Table1[[#This Row],[ Birleşik Standart Belirsizlik uc]]*2,\"\")","v":0.30650930665883402},0.5,{"$f":"IF(Table1[[#This Row],[Kullanılan]]=0.5,0.01,\"--------\")","v":0.01},1]
[null,74,"Chlorobenzilate",{"$f":"'Veri Girişi'!#REF!","v":{"$error":"#REF!"}},"","",{"$f":"IF(SQRT(SUMSQ(Table1[[#This Row],[Gerçeklik                      ubias= RMSbias]:[Tekrar Üretilebilirlik                 RSDWR(pool) ]]))=0,\"\",(SQRT(SUMSQ(Table1[[#This Row],[Gerçeklik                      ubias= RMSbias]:[Tekrar Üretilebilirlik                 RSDWR(pool) ]]))))","v":""},{"$f":"IFERROR(Table1[[#This Row],[ Birleşik Standart Belirsizlik uc]]*2,\"\")","v":""},"",{"$f":"IF(Table1[[#This Row],[Kullanılan]]=0.5,0.01,\"--------\")","v":"--------"},1]
[null,75,"Chloroneb",{"$f":"'Veri Girişi'!C57","v":"GC-MS/MS"},0.1185442390839808,0.13646159755181267,{"$f":"IF(SQRT(SUMSQ(Table1[[#This Row],[Gerçeklik                      ubias= RMSbias]:[Tekrar Üretilebilirlik                 RSDWR(pool) ]]))=0,\"\",(SQRT(SUMSQ(Table1[[#This Row],[Gerçeklik                      ubias= RMSbias]:[Tekrar Üretilebilirlik                 RSDWR(pool) ]]))))","v":0.18076090347858101},{"$f":"IFERROR(Table1[[#This Row],[ Birleşik Standart Belirsizlik uc]]*2,\"\")","v":0.36152180695716202},0.5,{"$f":"IF(Table1[[#This Row],[Kullanılan]]=0.5,0.01,\"--------\")","v":0.01},0]
[null,76,"Chloropropylate",{"$f":"'Veri Girişi'!C58","v":"GC-MS/MS"},"","",{"$f":"IF(SQRT(SUMSQ(Table1[[#This Row],[Gerçeklik                      ubias= RMSbias]:[Tekrar Üretilebilirlik                 RSDWR(pool) ]]))=0,\"\",(SQRT(SUMSQ(Table1[[#This Row],[Gerçeklik                      ubias= RMSbias]:[Tekrar Üretilebilirlik                 RSDWR(pool) ]]))))","v":""},{"$f":"IFERROR(Table1[[#This Row],[ Birleşik Standart Belirsizlik uc]]*2,\"\")","v":""},"",{"$f":"IF(Table1[[#This Row],[Kullanılan]]=0.5,0.01,\"--------\")","v":"--------"},0]
[null,77,"Chlorothalonil",{"$f":"'Veri Girişi'!C59","v":"GC-MS/MS"},0.16633236203457222,0.12418988789711702,{"$f":"IF(SQRT(SUMSQ(Table1[[#This Row],[Gerçeklik                      ubias= RMSbias]:[Tekrar Üretilebilirlik                 RSDWR(pool) ]]))=0,\"\",(SQRT(SUMSQ(Table1[[#This Row],[Gerçeklik                      ubias= RMSbias]:[Tekrar Üretilebilirlik                 RSDWR(pool) ]]))))","v":0.20758030473987291},{"$f":"IFERROR(Table1[[#This Row],[ Birleşik Standart Belirsizlik uc]]*2,\"\")","v":0.41516060947974581},0.5,{"$f":"IF(Table1[[#This Row],[Kullanılan]]=0.5,0.01,\"--------\")","v":0.01},1]
[null,78,"Chlorpropham",{"$f":"'Veri Girişi'!C60","v":"GC-MS/MS"},0.12613202205097113,0.10950319069003751,{"$f":"IF(SQRT(SUMSQ(Table1[[#This Row],[Gerçeklik                      ubias= RMSbias]:[Tekrar Üretilebilirlik                 RSDWR(pool) ]]))=0,\"\",(SQRT(SUMSQ(Table1[[#This Row],[Gerçeklik                      ubias= RMSbias]:[Tekrar Üretilebilirlik                 RSDWR(pool) ]]))))","v":0.16703363660641946},{"$f":"IFERROR(Table1[[#This Row],[ Birleşik Standart Belirsizlik uc]]*2,\"\")","v":0.33406727321283891},0.5,{"$f":"IF(Table1[[#This Row],[Kullanılan]]=0.5,0.01,\"--------\")","v":0.01},1]
[null,79,"Chlorpyrifos Methyl",{"$f":"'Veri Girişi'!#REF!","v":{"$error":"#REF!"}},"","",{"$f":"IF(SQRT(SUMSQ(Table1[[#This Row],[Gerçeklik                      ubias= RMSbias]:[Tekrar Üretilebilirlik                 RSDWR(pool) ]]))=0,\"\",(SQRT(SUMSQ(Table1[[#This Row],[Gerçeklik                      ubias= RMSbias]:[Tekrar Üretilebilirlik                 RSDWR(pool) ]]))))","v":""},{"$f":"IFERROR(Table1[[#This Row],[ Birleşik Standart Belirsizlik uc]]*2,\"\")","v":""},"",{"$f":"IF(Table1[[#This Row],[Kullanılan]]=0.5,0.01,\"--------\")","v":"--------"},1]
[null,80,"Chlorpyrifos-Ethyl",{"$f":"'Veri Girişi'!#REF!","v":{"$error":"#REF!"}},"","",{"$f":"IF(SQRT(SUMSQ(Table1[[#This Row],[Gerçeklik                      ubias= RMSbias]:[Tekrar Üretilebilirlik                 RSDWR(pool) ]]))=0,\"\",(SQRT(SUMSQ(Table1[[#This Row],[Gerçeklik                      ubias= RMSbias]:[Tekrar Üretilebilirlik                 RSDWR(pool) ]]))))","v":""},{"$f":"IFERROR(Table1[[#This Row],[ Birleşik Standart Belirsizlik uc]]*2,\"\")","v":""},"",{"$f":"IF(Table1[[#This Row],[Kullanılan]]=0.5,0.01,\"--------\")","v":"--------"},1]
[null,81,"Chlorthal-Dimethyl",{"$f":"'Veri Girişi'!#REF!","v":{"$error":"#REF!"}},0.11506748388083693,0.14645572455321101,{"$f":"IF(SQRT(SUMSQ(Table1[[#This Row],[Gerçeklik                      ubias= RMSbias]:[Tekrar Üretilebilirlik                 RSDWR(pool) ]]))=0,\"\",(SQRT(SUMSQ(Table1[[#This Row],[Gerçeklik                      ubias= RMSbias]:[Tekrar Üretilebilirlik                 RSDWR(pool) ]]))))","v":0.18625199354925756},{"$f":"IFERROR(Table1[[#This Row],[ Birleşik Standart Belirsizlik uc]]*2,\"\")","v":0.37250398709851512},0.5,{"$f":"IF(Table1[[#This Row],[Kullanılan]]=0.5,0.01,\"--------\")","v":0.01},0]
[null,82,"chlorthiamid",{"$f":"'Veri Girişi'!C62","v":"GC-MS/MS"},"","",{"$f":"IF(SQRT(SUMSQ(Table1[[#This Row],[Gerçeklik                      ubias= RMSbias]:[Tekrar Üretilebilirlik                 RSDWR(pool) ]]))=0,\"\",(SQRT(SUMSQ(Table1[[#This Row],[Gerçeklik                      ubias= RMSbias]:[Tekrar Üretilebilirlik                 RSDWR(pool) ]]))))","v":""},{"$f":"IFERROR(Table1[[#This Row],[ Birleşik Standart Belirsizlik uc]]*2,\"\")","v":""},"",{"$f":"IF(Table1[[#This Row],[Kullanılan]]=0.5,0.01,\"--------\")","v":"--------"},1]
[null,83,"Chlorthion",{"$f":"'Veri Girişi'!C63","v":"GC-MS/MS"},"","",{"$f":"IF(SQRT(SUMSQ(Table1[[#This Row],[Gerçeklik                      ubias= RMSbias]:[Tekrar Üretilebilirlik                 RSDWR(pool) ]]))=0,\"\",(SQRT(SUMSQ(Table1[[#This Row],[Gerçeklik                      ubias= RMSbias]:[Tekrar Üretilebilirlik                 RSDWR(pool) ]]))))","v":""},{"$f":"IFERROR(Table1[[#This Row],[ Birleşik Standart Belirsizlik uc]]*2,\"\")","v":""},"",{"$f":"IF(Table1[[#This Row],[Kullanılan]]=0.5,0.01,\"--------\")","v":"--------"},0]
[null,84,"Chlorthiopos",{"$f":"'Veri Girişi'!C64","v":"GC-MS/MS"},0.12985405420445423,0.11830783152261833,{"$f":"IF(SQRT(SUMSQ(Table1[[#This Row],[Gerçeklik                      ubias= RMSbias]:[Tekrar Üretilebilirlik                 RSDWR(pool) ]]))=0,\"\",(SQRT(SUMSQ(Table1[[#This Row],[Gerçeklik                      ubias= RMSbias]:[Tekrar Üretilebilirlik                 RSDWR(pool) ]]))))","v":0.17566678226949334},{"$f":"IFERROR(Table1[[#This Row],[ Birleşik Standart Belirsizlik uc]]*2,\"\")","v":0.35133356453898668},0.5,{"$f":"IF(Table1[[#This Row],[Kullanılan]]=0.5,0.01,\"--------\")","v":0.01},1]
[null,85,"Chlozolinate",{"$f":"'Veri Girişi'!#REF!","v":{"$error":"#REF!"}},"","",{"$f":"IF(SQRT(SUMSQ(Table1[[#This Row],[Gerçeklik                      ubias= RMSbias]:[Tekrar Üretilebilirlik                 RSDWR(pool) ]]))=0,\"\",(SQRT(SUMSQ(Table1[[#This Row],[Gerçeklik                      ubias= RMSbias]:[Tekrar Üretilebilirlik                 RSDWR(pool) ]]))))","v":""},{"$f":"IFERROR(Table1[[#This Row],[ Birleşik Standart Belirsizlik uc]]*2,\"\")","v":""},"",{"$f":"IF(Table1[[#This Row],[Kullanılan]]=0.5,0.01,\"--------\")","v":"--------"},1]
[null,86,"Cinidon-Ethyl",{"$f":"'Veri Girişi'!C65","v":"GC-MS/MS"},"","",{"$f":"IF(SQRT(SUMSQ(Table1[[#This Row],[Gerçeklik                      ubias= RMSbias]:[Tekrar Üretilebilirlik                 RSDWR(pool) ]]))=0,\"\",(SQRT(SUMSQ(Table1[[#This Row],[Gerçeklik                      ubias= RMSbias]:[Tekrar Üretilebilirlik                 RSDWR(pool) ]]))))","v":""},{"$f":"IFERROR(Table1[[#This Row],[ Birleşik Standart Belirsizlik uc]]*2,\"\")","v":""},"",{"$f":"IF(Table1[[#This Row],[Kullanılan]]=0.5,0.01,\"--------\")","v":"--------"},1]
[null,87,"Clomazone",{"$f":"'Veri Girişi'!C66","v":"GC-MS/MS"},0.14430466301082115,0.1396587434957054,{"$f":"IF(SQRT(SUMSQ(Table1[[#This Row],[Gerçeklik                      ubias= RMSbias]:[Tekrar Üretilebilirlik                 RSDWR(pool) ]]))=0,\"\",(SQRT(SUMSQ(Table1[[#This Row],[Gerçeklik                      ubias= RMSbias]:[Tekrar Üretilebilirlik                 RSDWR(pool) ]]))))","v":0.20081932277912373},{"$f":"IFERROR(Table1[[#This Row],[ Birleşik Standart Belirsizlik uc]]*2,\"\")","v":0.40163864555824746},0.5,{"$f":"IF(Table1[[#This Row],[Kullanılan]]=0.5,0.01,\"--------\")","v":0.01},1]
[null,88,"CLOXYFONAC",{"$f":"'Veri Girişi'!C67","v":"GC-MS/MS"},"","",{"$f":"IF(SQRT(SUMSQ(Table1[[#This Row],[Gerçeklik                      ubias= RMSbias]:[Tekrar Üretilebilirlik                 RSDWR(pool) ]]))=0,\"\",(SQRT(SUMSQ(Table1[[#This Row],[Gerçeklik                      ubias= RMSbias]:[Tekrar Üretilebilirlik                 RSDWR(pool) ]]))))","v":""},{"$f":"IFERROR(Table1[[#This Row],[ Birleşik Standart Belirsizlik uc]]*2,\"\")","v":""},"",{"$f":"IF(Table1[[#This Row],[Kullanılan]]=0.5,0.01,\"--------\")","v":"--------"},1]
[null,89,"Coumaphos",{"$f":"'Veri Girişi'!#REF!","v":{"$error":"#REF!"}},0.14654703467942751,0.17016166329955024,{"$f":"IF(SQRT(SUMSQ(Table1[[#This Row],[Gerçeklik                      ubias= RMSbias]:[Tekrar Üretilebilirlik                 RSDWR(pool) ]]))=0,\"\",(SQRT(SUMSQ(Table1[[#This Row],[Gerçeklik                      ubias= RMSbias]:[Tekrar Üretilebilirlik                 RSDWR(pool) ]]))))","v":0.22456853081009109},{"$f":"IFERROR(Table1[[#This Row],[ Birleşik Standart Belirsizlik uc]]*2,\"\")","v":0.44913706162018219},0.5,{"$f":"IF(Table1[[#This Row],[Kullanılan]]=0.5,0.01,\"--------\")","v":0.01},1]
[null,90,"Crimidine",{"$f":"'Veri Girişi'!#REF!","v":{"$error":"#REF!"}},0.12031838316178728,0.11455260279817875,{"$f":"IF(SQRT(SUMSQ(Table1[[#This Row],[Gerçeklik                      ubias= RMSbias]:[Tekrar Üretilebilirlik                 RSDWR(pool) ]]))=0,\"\",(SQRT(SUMSQ(Table1[[#This Row],[Gerçeklik                      ubias= RMSbias]:[Tekrar Üretilebilirlik                 RSDWR(pool) ]]))))","v":0.16612890216486706},{"$f":"IFERROR(Table1[[#This Row],[ Birleşik Standart Belirsizlik uc]]*2,\"\")","v":0.33225780432973412},0.5,{"$f":"IF(Table1[[#This Row],[Kullanılan]]=0.5,0.01,\"--------\")","v":0.01},1]
[null,91,"Crotoxyphos",{"$f":"'Veri Girişi'!C68","v":"GC-MS/MS"},"","",{"$f":"IF(SQRT(SUMSQ(Table1[[#This Row],[Gerçeklik                      ubias= RMSbias]:[Tekrar Üretilebilirlik                 RSDWR(pool) ]]))=0,\"\",(SQRT(SUMSQ(Table1[[#This Row],[Gerçeklik                      ubias= RMSbias]:[Tekrar Üretilebilirlik                 RSDWR(pool) ]]))))","v":""},{"$f":"IFERROR(Table1[[#This Row],[ Birleşik Standart Belirsizlik uc]]*2,\"\")","v":""},"",{"$f":"IF(Table1[[#This Row],[Kullanılan]]=0.5,0.01,\"--------\")","v":"--------"},1]
[null,92,"Cyanazine",{"$f":"'Veri Girişi'!C69","v":"GC-MS/MS"},"","",{"$f":"IF(SQRT(SUMSQ(Table1[[#This Row],[Gerçeklik                      ubias= RMSbias]:[Tekrar Üretilebilirlik                 RSDWR(pool) ]]))=0,\"\",(SQRT(SUMSQ(Table1[[#This Row],[Gerçeklik                      ubias= RMSbias]:[Tekrar Üretilebilirlik                 RSDWR(pool) ]]))))","v":""},{"$f":"IFERROR(Table1[[#This Row],[ Birleşik Standart Belirsizlik uc]]*2,\"\")","v":""},"",{"$f":"IF(Table1[[#This Row],[Kullanılan]]=0.5,0.01,\"--------\")","v":"--------"},1]
[null,93,"Cyanofenphos",{"$f":"'Veri Girişi'!C70","v":"GC-MS/MS"},0.15783102238364505,0.16168780160863949,{"$f":"IF(SQRT(SUMSQ(Table1[[#This Row],[Gerçeklik                      ubias= RMSbias]:[Tekrar Üretilebilirlik                 RSDWR(pool) ]]))=0,\"\",(SQRT(SUMSQ(Table1[[#This Row],[Gerçeklik                      ubias= RMSbias]:[Tekrar Üretilebilirlik                 RSDWR(pool) ]]))))","v":0.22595038573921805},{"$f":"IFERROR(Table1[[#This Row],[ Birleşik Standart Belirsizlik uc]]*2,\"\")","v":0.4519007714784361},0.5,{"$f":"IF(Table1[[#This Row],[Kullanılan]]=0.5,0.01,\"--------\")","v":0.01},0]
[null,94,"Cyanophos",{"$f":"'Veri Girişi'!C71","v":"GC-MS/MS"},0.15927318355580136,0.14543107558368001,{"$f":"IF(SQRT(SUMSQ(Table1[[#This Row],[Gerçeklik                      ubias= RMSbias]:[Tekrar Üretilebilirlik                 RSDWR(pool) ]]))=0,\"\",(SQRT(SUMSQ(Table1[[#This Row],[Gerçeklik                      ubias= RMSbias]:[Tekrar Üretilebilirlik                 RSDWR(pool) ]]))))","v":0.21568065454608126},{"$f":"IFERROR(Table1[[#This Row],[ Birleşik Standart Belirsizlik uc]]*2,\"\")","v":0.43136130909216253},0.5,{"$f":"IF(Table1[[#This Row],[Kullanılan]]=0.5,0.01,\"--------\")","v":0.01},1]
[null,95,"Cycloate",{"$f":"'Veri Girişi'!C72","v":"GC-MS/MS"},0.11541606699242531,0.13683495219681679,{"$f":"IF(SQRT(SUMSQ(Table1[[#This Row],[Gerçeklik                      ubias= RMSbias]:[Tekrar Üretilebilirlik                 RSDWR(pool) ]]))=0,\"\",(SQRT(SUMSQ(Table1[[#This Row],[Gerçeklik                      ubias= RMSbias]:[Tekrar Üretilebilirlik                 RSDWR(pool) ]]))))","v":0.179010258540412},{"$f":"IFERROR(Table1[[#This Row],[ Birleşik Standart Belirsizlik uc]]*2,\"\")","v":0.358020517080824},0.5,{"$f":"IF(Table1[[#This Row],[Kullanılan]]=0.5,0.01,\"--------\")","v":0.01},1]
[null,96,"Cycluron",{"$f":"'Veri Girişi'!C73","v":"GC-MS/MS"},0.15697890707565354,9.3788366919973915E-2,{"$f":"IF(SQRT(SUMSQ(Table1[[#This Row],[Gerçeklik                      ubias= RMSbias]:[Tekrar Üretilebilirlik                 RSDWR(pool) ]]))=0,\"\",(SQRT(SUMSQ(Table1[[#This Row],[Gerçeklik                      ubias= RMSbias]:[Tekrar Üretilebilirlik                 RSDWR(pool) ]]))))","v":0.18286233903180374},{"$f":"IFERROR(Table1[[#This Row],[ Birleşik Standart Belirsizlik uc]]*2,\"\")","v":0.36572467806360748},0.5,{"$f":"IF(Table1[[#This Row],[Kullanılan]]=0.5,0.01,\"--------\")","v":0.01},0]
[null,97,"Cyflufenamid",{"$f":"'Veri Girişi'!C74","v":"GC-MS/MS"},0.10767290284313256,0.10312554139967847,{"$f":"IF(SQRT(SUMSQ(Table1[[#This Row],[Gerçeklik                      ubias= RMSbias]:[Tekrar Üretilebilirlik                 RSDWR(pool) ]]))=0,\"\",(SQRT(SUMSQ(Table1[[#This Row],[Gerçeklik                      ubias= RMSbias]:[Tekrar Üretilebilirlik                 RSDWR(pool) ]]))))","v":0.14909168754710461},{"$f":"IFERROR(Table1[[#This Row],[ Birleşik Standart Belirsizlik uc]]*2,\"\")","v":0.29818337509420922},0.5,{"$f":"IF(Table1[[#This Row],[Kullanılan]]=0.5,0.01,\"--------\")","v":0.01},0]
[null,98,"Cyfluthrin",{"$f":"'Veri Girişi'!C75","v":"GC-MS/MS"},0.15077432069155541,0.13061280156391031,{"$f":"IF(SQRT(SUMSQ(Table1[[#This Row],[Gerçeklik                      ubias= RMSbias]:[Tekrar Üretilebilirlik                 RSDWR(pool) ]]))=0,\"\",(SQRT(SUMSQ(Table1[[#This Row],[Gerçeklik                      ubias= RMSbias]:[Tekrar Üretilebilirlik                 RSDWR(pool) ]]))))","v":0.19948082542533607},{"$f":"IFERROR(Table1[[#This Row],[ Birleşik Standart Belirsizlik uc]]*2,\"\")","v":0.39896165085067214},0.5,{"$f":"IF(Table1[[#This Row],[Kullanılan]]=0.5,0.01,\"--------\")","v":0.01},1]
[null,99,"Cyfluthrin-Beta",{"$f":"'Veri Girişi'!C76","v":"GC-MS/MS"},0.15929034369142819,0.15668032054021627,{"$f":"IF(SQRT(SUMSQ(Table1[[#This Row],[Gerçeklik                      ubias= RMSbias]:[Tekrar Üretilebilirlik                 RSDWR(pool) ]]))=0,\"\",(SQRT(SUMSQ(Table1[[#This Row],[Gerçeklik                      ubias= RMSbias]:[Tekrar Üretilebilirlik                 RSDWR(pool) ]]))))","v":0.22343262169593373},{"$f":"IFERROR(Table1[[#This Row],[ Birleşik Standart Belirsizlik uc]]*2,\"\")","v":0.44686524339186745},0.5,{"$f":"IF(Table1[[#This Row],[Kullanılan]]=0.5,0.01,\"--------\")","v":0.01},1]
[null,100,"Cyhalofop Buthyl",{"$f":"'Veri Girişi'!C77","v":"GC-MS/MS"},"","",{"$f":"IF(SQRT(SUMSQ(Table1[[#This Row],[Gerçeklik                      ubias= RMSbias]:[Tekrar Üretilebilirlik                 RSDWR(pool) ]]))=0,\"\",(SQRT(SUMSQ(Table1[[#This Row],[Gerçeklik                      ubias= RMSbias]:[Tekrar Üretilebilirlik                 RSDWR(pool) ]]))))","v":""},{"$f":"IFERROR(Table1[[#This Row],[ Birleşik Standart Belirsizlik uc]]*2,\"\")","v":""},"",{"$f":"IF(Table1[[#This Row],[Kullanılan]]=0.5,0.01,\"--------\")","v":"--------"},1]
[null,101,"Cyhalothrin-Gamma",{"$f":"'Veri Girişi'!C78","v":"GC-MS/MS"},"","",{"$f":"IF(SQRT(SUMSQ(Table1[[#This Row],[Gerçeklik                      ubias= RMSbias]:[Tekrar Üretilebilirlik                 RSDWR(pool) ]]))=0,\"\",(SQRT(SUMSQ(Table1[[#This Row],[Gerçeklik                      ubias= RMSbias]:[Tekrar Üretilebilirlik                 RSDWR(pool) ]]))))","v":""},{"$f":"IFERROR(Table1[[#This Row],[ Birleşik Standart Belirsizlik uc]]*2,\"\")","v":""},"",{"$f":"IF(Table1[[#This Row],[Kullanılan]]=0.5,0.01,\"--------\")","v":"--------"},1]
[null,102,"Cyhalothrin-Lambda",{"$f":"'Veri Girişi'!C79","v":"GC-MS/MS"},"","",{"$f":"IF(SQRT(SUMSQ(Table1[[#This Row],[Gerçeklik                      ubias= RMSbias]:[Tekrar Üretilebilirlik                 RSDWR(pool) ]]))=0,\"\",(SQRT(SUMSQ(Table1[[#This Row],[Gerçeklik                      ubias= RMSbias]:[Tekrar Üretilebilirlik                 RSDWR(pool) ]]))))","v":""},{"$f":"IFERROR(Table1[[#This Row],[ Birleşik Standart Belirsizlik uc]]*2,\"\")","v":""},"",{"$f":"IF(Table1[[#This Row],[Kullanılan]]=0.5,0.01,\"--------\")","v":"--------"},1]
[null,103,"Cymiazole",{"$f":"'Veri Girişi'!#REF!","v":{"$error":"#REF!"}},0.13492878627878729,0.11667084155599526,{"$f":"IF(SQRT(SUMSQ(Table1[[#This Row],[Gerçeklik                      ubias= RMSbias]:[Tekrar Üretilebilirlik                 RSDWR(pool) ]]))=0,\"\",(SQRT(SUMSQ(Table1[[#This Row],[Gerçeklik                      ubias= RMSbias]:[Tekrar Üretilebilirlik                 RSDWR(pool) ]]))))","v":0.17837562231440374},{"$f":"IFERROR(Table1[[#This Row],[ Birleşik Standart Belirsizlik uc]]*2,\"\")","v":0.35675124462880747},0.5,{"$f":"IF(Table1[[#This Row],[Kullanılan]]=0.5,0.01,\"--------\")","v":0.01},0]
[null,104,"Cypermethrin-Zeta",{"$f":"'Veri Girişi'!#REF!","v":{"$error":"#REF!"}},"","",{"$f":"IF(SQRT(SUMSQ(Table1[[#This Row],[Gerçeklik                      ubias= RMSbias]:[Tekrar Üretilebilirlik                 RSDWR(pool) ]]))=0,\"\",(SQRT(SUMSQ(Table1[[#This Row],[Gerçeklik                      ubias= RMSbias]:[Tekrar Üretilebilirlik                 RSDWR(pool) ]]))))","v":""},{"$f":"IFERROR(Table1[[#This Row],[ Birleşik Standart Belirsizlik uc]]*2,\"\")","v":""},"",{"$f":"IF(Table1[[#This Row],[Kullanılan]]=0.5,0.01,\"--------\")","v":"--------"},0]
[null,105,"Cyprazine",{"$f":"'Veri Girişi'!C80","v":"GC-MS/MS"},"","",{"$f":"IF(SQRT(SUMSQ(Table1[[#This Row],[Gerçeklik                      ubias= RMSbias]:[Tekrar Üretilebilirlik                 RSDWR(pool) ]]))=0,\"\",(SQRT(SUMSQ(Table1[[#This Row],[Gerçeklik                      ubias= RMSbias]:[Tekrar Üretilebilirlik                 RSDWR(pool) ]]))))","v":""},{"$f":"IFERROR(Table1[[#This Row],[ Birleşik Standart Belirsizlik uc]]*2,\"\")","v":""},"",{"$f":"IF(Table1[[#This Row],[Kullanılan]]=0.5,0.01,\"--------\")","v":"--------"},1]
[null,106,"Cyprofuram",{"$f":"'Veri Girişi'!#REF!","v":{"$error":"#REF!"}},"","",{"$f":"IF(SQRT(SUMSQ(Table1[[#This Row],[Gerçeklik                      ubias= RMSbias]:[Tekrar Üretilebilirlik                 RSDWR(pool) ]]))=0,\"\",(SQRT(SUMSQ(Table1[[#This Row],[Gerçeklik                      ubias= RMSbias]:[Tekrar Üretilebilirlik                 RSDWR(pool) ]]))))","v":""},{"$f":"IFERROR(Table1[[#This Row],[ Birleşik Standart Belirsizlik uc]]*2,\"\")","v":""},"",{"$f":"IF(Table1[[#This Row],[Kullanılan]]=0.5,0.01,\"--------\")","v":"--------"},0]
[null,107,"Deltamethrin",{"$f":"'Veri Girişi'!#REF!","v":{"$error":"#REF!"}},0.15749966981975971,0.16071846623294803,{"$f":"IF(SQRT(SUMSQ(Table1[[#This Row],[Gerçeklik                      ubias= RMSbias]:[Tekrar Üretilebilirlik                 RSDWR(pool) ]]))=0,\"\",(SQRT(SUMSQ(Table1[[#This Row],[Gerçeklik                      ubias= RMSbias]:[Tekrar Üretilebilirlik                 RSDWR(pool) ]]))))","v":0.22502571271213559},{"$f":"IFERROR(Table1[[#This Row],[ Birleşik Standart Belirsizlik uc]]*2,\"\")","v":0.45005142542427118},0.5,{"$f":"IF(Table1[[#This Row],[Kullanılan]]=0.5,0.01,\"--------\")","v":0.01},0]
[null,108,"Demeton-S",{"$f":"'Veri Girişi'!C81","v":"GC-MS/MS"},0.13473879644210374,0.13594237446276913,{"$f":"IF(SQRT(SUMSQ(Table1[[#This Row],[Gerçeklik                      ubias= RMSbias]:[Tekrar Üretilebilirlik                 RSDWR(pool) ]]))=0,\"\",(SQRT(SUMSQ(Table1[[#This Row],[Gerçeklik                      ubias= RMSbias]:[Tekrar Üretilebilirlik                 RSDWR(pool) ]]))))","v":0.1914023835829701},{"$f":"IFERROR(Table1[[#This Row],[ Birleşik Standart Belirsizlik uc]]*2,\"\")","v":0.3828047671659402},0.5,{"$f":"IF(Table1[[#This Row],[Kullanılan]]=0.5,0.01,\"--------\")","v":0.01},0]
[null,109,"Demeton-S-Methyl",{"$f":"'Veri Girişi'!C82","v":"GC-MS/MS"},0.1269710023325536,0.12621528264542278,{"$f":"IF(SQRT(SUMSQ(Table1[[#This Row],[Gerçeklik                      ubias= RMSbias]:[Tekrar Üretilebilirlik                 RSDWR(pool) ]]))=0,\"\",(SQRT(SUMSQ(Table1[[#This Row],[Gerçeklik                      ubias= RMSbias]:[Tekrar Üretilebilirlik                 RSDWR(pool) ]]))))","v":0.17903053651988335},{"$f":"IFERROR(Table1[[#This Row],[ Birleşik Standart Belirsizlik uc]]*2,\"\")","v":0.3580610730397667},0.5,{"$f":"IF(Table1[[#This Row],[Kullanılan]]=0.5,0.01,\"--------\")","v":0.01},1]
[null,110,"Dialifos",{"$f":"'Veri Girişi'!#REF!","v":{"$error":"#REF!"}},"","",{"$f":"IF(SQRT(SUMSQ(Table1[[#This Row],[Gerçeklik                      ubias= RMSbias]:[Tekrar Üretilebilirlik                 RSDWR(pool) ]]))=0,\"\",(SQRT(SUMSQ(Table1[[#This Row],[Gerçeklik                      ubias= RMSbias]:[Tekrar Üretilebilirlik                 RSDWR(pool) ]]))))","v":""},{"$f":"IFERROR(Table1[[#This Row],[ Birleşik Standart Belirsizlik uc]]*2,\"\")","v":""},"",{"$f":"IF(Table1[[#This Row],[Kullanılan]]=0.5,0.01,\"--------\")","v":"--------"},0]
[null,111,"Diazinon",{"$f":"'Veri Girişi'!#REF!","v":{"$error":"#REF!"}},0.13121139195969228,0.13062166543903816,{"$f":"IF(SQRT(SUMSQ(Table1[[#This Row],[Gerçeklik                      ubias= RMSbias]:[Tekrar Üretilebilirlik                 RSDWR(pool) ]]))=0,\"\",(SQRT(SUMSQ(Table1[[#This Row],[Gerçeklik                      ubias= RMSbias]:[Tekrar Üretilebilirlik                 RSDWR(pool) ]]))))","v":0.18514440002891802},{"$f":"IFERROR(Table1[[#This Row],[ Birleşik Standart Belirsizlik uc]]*2,\"\")","v":0.37028880005783604},0.5,{"$f":"IF(Table1[[#This Row],[Kullanılan]]=0.5,0.01,\"--------\")","v":0.01},0]
[null,112,"Dichlobenil",{"$f":"'Veri Girişi'!C83","v":"GC-MS/MS"},0.12892891095483588,0.15960165987660177,{"$f":"IF(SQRT(SUMSQ(Table1[[#This Row],[Gerçeklik                      ubias= RMSbias]:[Tekrar Üretilebilirlik                 RSDWR(pool) ]]))=0,\"\",(SQRT(SUMSQ(Table1[[#This Row],[Gerçeklik                      ubias= RMSbias]:[Tekrar Üretilebilirlik                 RSDWR(pool) ]]))))","v":0.20517152315895712},{"$f":"IFERROR(Table1[[#This Row],[ Birleşik Standart Belirsizlik uc]]*2,\"\")","v":0.41034304631791424},0.5,{"$f":"IF(Table1[[#This Row],[Kullanılan]]=0.5,0.01,\"--------\")","v":0.01},0]
[null,113,"Dichlobutrazol",{"$f":"'Veri Girişi'!C84","v":"GC-MS/MS"},0.13169892932999366,0.11467360792254906,{"$f":"IF(SQRT(SUMSQ(Table1[[#This Row],[Gerçeklik                      ubias= RMSbias]:[Tekrar Üretilebilirlik                 RSDWR(pool) ]]))=0,\"\",(SQRT(SUMSQ(Table1[[#This Row],[Gerçeklik                      ubias= RMSbias]:[Tekrar Üretilebilirlik                 RSDWR(pool) ]]))))","v":0.17462715808442045},{"$f":"IFERROR(Table1[[#This Row],[ Birleşik Standart Belirsizlik uc]]*2,\"\")","v":0.34925431616884089},0.5,{"$f":"IF(Table1[[#This Row],[Kullanılan]]=0.5,0.01,\"--------\")","v":0.01},1]
[null,114,"Dichlofenthion",{"$f":"'Veri Girişi'!C85","v":"GC-MS/MS"},0.13328263617841099,0.13548728887599437,{"$f":"IF(SQRT(SUMSQ(Table1[[#This Row],[Gerçeklik                      ubias= RMSbias]:[Tekrar Üretilebilirlik                 RSDWR(pool) ]]))=0,\"\",(SQRT(SUMSQ(Table1[[#This Row],[Gerçeklik                      ubias= RMSbias]:[Tekrar Üretilebilirlik                 RSDWR(pool) ]]))))","v":0.19005543021348748},{"$f":"IFERROR(Table1[[#This Row],[ Birleşik Standart Belirsizlik uc]]*2,\"\")","v":0.38011086042697495},0.5,{"$f":"IF(Table1[[#This Row],[Kullanılan]]=0.5,0.01,\"--------\")","v":0.01},0]
[null,115,"Dichlofluanid",{"$f":"'Veri Girişi'!C86","v":"GC-MS/MS"},"","",{"$f":"IF(SQRT(SUMSQ(Table1[[#This Row],[Gerçeklik                      ubias= RMSbias]:[Tekrar Üretilebilirlik                 RSDWR(pool) ]]))=0,\"\",(SQRT(SUMSQ(Table1[[#This Row],[Gerçeklik                      ubias= RMSbias]:[Tekrar Üretilebilirlik                 RSDWR(pool) ]]))))","v":""},{"$f":"IFERROR(Table1[[#This Row],[ Birleşik Standart Belirsizlik uc]]*2,\"\")","v":""},"",{"$f":"IF(Table1[[#This Row],[Kullanılan]]=0.5,0.01,\"--------\")","v":"--------"},0]
[null,116,"Dichlormid",{"$f":"'Veri Girişi'!#REF!","v":{"$error":"#REF!"}},0.13310998818020131,0.1101715853630746,{"$f":"IF(SQRT(SUMSQ(Table1[[#This Row],[Gerçeklik                      ubias= RMSbias]:[Tekrar Üretilebilirlik                 RSDWR(pool) ]]))=0,\"\",(SQRT(SUMSQ(Table1[[#This Row],[Gerçeklik                      ubias= RMSbias]:[Tekrar Üretilebilirlik                 RSDWR(pool) ]]))))","v":0.1727890250413682},{"$f":"IFERROR(Table1[[#This Row],[ Birleşik Standart Belirsizlik uc]]*2,\"\")","v":0.3455780500827364},0.5,{"$f":"IF(Table1[[#This Row],[Kullanılan]]=0.5,0.01,\"--------\")","v":0.01},1]
[null,117,"Dichlorvos",{"$f":"'Veri Girişi'!C87","v":"GC-MS/MS"},0.11048280279452245,0.12114474032042055,{"$f":"IF(SQRT(SUMSQ(Table1[[#This Row],[Gerçeklik                      ubias= RMSbias]:[Tekrar Üretilebilirlik                 RSDWR(pool) ]]))=0,\"\",(SQRT(SUMSQ(Table1[[#This Row],[Gerçeklik                      ubias= RMSbias]:[Tekrar Üretilebilirlik                 RSDWR(pool) ]]))))","v":0.16395882965133493},{"$f":"IFERROR(Table1[[#This Row],[ Birleşik Standart Belirsizlik uc]]*2,\"\")","v":0.32791765930266986},0.5,{"$f":"IF(Table1[[#This Row],[Kullanılan]]=0.5,0.01,\"--------\")","v":0.01},1]
[null,118,"Diclofop-Methyl",{"$f":"'Veri Girişi'!C88","v":"GC-MS/MS"},0.15223933731682712,0.13225878181375128,{"$f":"IF(SQRT(SUMSQ(Table1[[#This Row],[Gerçeklik                      ubias= RMSbias]:[Tekrar Üretilebilirlik                 RSDWR(pool) ]]))=0,\"\",(SQRT(SUMSQ(Table1[[#This Row],[Gerçeklik                      ubias= RMSbias]:[Tekrar Üretilebilirlik                 RSDWR(pool) ]]))))","v":0.20166606356430955},{"$f":"IFERROR(Table1[[#This Row],[ Birleşik Standart Belirsizlik uc]]*2,\"\")","v":0.4033321271286191},0.5,{"$f":"IF(Table1[[#This Row],[Kullanılan]]=0.5,0.01,\"--------\")","v":0.01},1]
[null,119,"Dicofol (sum)",{"$f":"'Veri Girişi'!C89","v":"GC-MS/MS"},"","",{"$f":"IF(SQRT(SUMSQ(Table1[[#This Row],[Gerçeklik                      ubias= RMSbias]:[Tekrar Üretilebilirlik                 RSDWR(pool) ]]))=0,\"\",(SQRT(SUMSQ(Table1[[#This Row],[Gerçeklik                      ubias= RMSbias]:[Tekrar Üretilebilirlik                 RSDWR(pool) ]]))))","v":""},{"$f":"IFERROR(Table1[[#This Row],[ Birleşik Standart Belirsizlik uc]]*2,\"\")","v":""},"",{"$f":"IF(Table1[[#This Row],[Kullanılan]]=0.5,0.01,\"--------\")","v":"--------"},0]
[null,120,"Dicofol, o,p`",{"$f":"'Veri Girişi'!C90","v":"GC-MS/MS"},"","",{"$f":"IF(SQRT(SUMSQ(Table1[[#This Row],[Gerçeklik                      ubias= RMSbias]:[Tekrar Üretilebilirlik                 RSDWR(pool) ]]))=0,\"\",(SQRT(SUMSQ(Table1[[#This Row],[Gerçeklik                      ubias= RMSbias]:[Tekrar Üretilebilirlik                 RSDWR(pool) ]]))))","v":""},{"$f":"IFERROR(Table1[[#This Row],[ Birleşik Standart Belirsizlik uc]]*2,\"\")","v":""},"",{"$f":"IF(Table1[[#This Row],[Kullanılan]]=0.5,0.01,\"--------\")","v":"--------"},1]
[null,121,"Dicofol-p,p",{"$f":"'Veri Girişi'!C91","v":"GC-MS/MS"},0.12809718482464791,0.11210567193874739,{"$f":"IF(SQRT(SUMSQ(Table1[[#This Row],[Gerçeklik                      ubias= RMSbias]:[Tekrar Üretilebilirlik                 RSDWR(pool) ]]))=0,\"\",(SQRT(SUMSQ(Table1[[#This Row],[Gerçeklik                      ubias= RMSbias]:[Tekrar Üretilebilirlik                 RSDWR(pool) ]]))))","v":0.17022505820483089},{"$f":"IFERROR(Table1[[#This Row],[ Birleşik Standart Belirsizlik uc]]*2,\"\")","v":0.34045011640966177},0.5,{"$f":"IF(Table1[[#This Row],[Kullanılan]]=0.5,0.01,\"--------\")","v":0.01},0]
[null,122,"Dieldrin",{"$f":"'Veri Girişi'!#REF!","v":{"$error":"#REF!"}},0.1247229127573064,0.1355341713325281,{"$f":"IF(SQRT(SUMSQ(Table1[[#This Row],[Gerçeklik                      ubias= RMSbias]:[Tekrar Üretilebilirlik                 RSDWR(pool) ]]))=0,\"\",(SQRT(SUMSQ(Table1[[#This Row],[Gerçeklik                      ubias= RMSbias]:[Tekrar Üretilebilirlik                 RSDWR(pool) ]]))))","v":0.18418826391890919},{"$f":"IFERROR(Table1[[#This Row],[ Birleşik Standart Belirsizlik uc]]*2,\"\")","v":0.36837652783781838},0.5,{"$f":"IF(Table1[[#This Row],[Kullanılan]]=0.5,0.01,\"--------\")","v":0.01},1]
[null,123,"Diethofencarb",{"$f":"'Veri Girişi'!C92","v":"GC-MS/MS"},0.13795000529177229,0.14154889413862179,{"$f":"IF(SQRT(SUMSQ(Table1[[#This Row],[Gerçeklik                      ubias= RMSbias]:[Tekrar Üretilebilirlik                 RSDWR(pool) ]]))=0,\"\",(SQRT(SUMSQ(Table1[[#This Row],[Gerçeklik                      ubias= RMSbias]:[Tekrar Üretilebilirlik                 RSDWR(pool) ]]))))","v":0.19765195013423664},{"$f":"IFERROR(Table1[[#This Row],[ Birleşik Standart Belirsizlik uc]]*2,\"\")","v":0.39530390026847328},0.5,{"$f":"IF(Table1[[#This Row],[Kullanılan]]=0.5,0.01,\"--------\")","v":0.01},1]
[null,124,"Diflufenican",{"$f":"'Veri Girişi'!#REF!","v":{"$error":"#REF!"}},0.13343386411752203,0.14405602818372146,{"$f":"IF(SQRT(SUMSQ(Table1[[#This Row],[Gerçeklik                      ubias= RMSbias]:[Tekrar Üretilebilirlik                 RSDWR(pool) ]]))=0,\"\",(SQRT(SUMSQ(Table1[[#This Row],[Gerçeklik                      ubias= RMSbias]:[Tekrar Üretilebilirlik                 RSDWR(pool) ]]))))","v":0.19635869053699276},{"$f":"IFERROR(Table1[[#This Row],[ Birleşik Standart Belirsizlik uc]]*2,\"\")","v":0.39271738107398552},0.5,{"$f":"IF(Table1[[#This Row],[Kullanılan]]=0.5,0.01,\"--------\")","v":0.01},1]
[null,125,"Dimefox",{"$f":"'Veri Girişi'!C93","v":"GC-MS/MS"},{"$f":"IFERROR(VLOOKUP(C129,GERÇEKLİK_BELİRSİZLİĞİ_ubias2_RMSbias2,125,FALSE),\"\")","v":""},{"$f":"IFERROR(VLOOKUP(C129,T.U.BELIRSIZLIGI,55,FALSE),\"\")","v":""},{"$f":"IF(SQRT(SUMSQ(Table1[[#This Row],[Gerçeklik                      ubias= RMSbias]:[Tekrar Üretilebilirlik                 RSDWR(pool) ]]))=0,\"\",(SQRT(SUMSQ(Table1[[#This Row],[Gerçeklik                      ubias= RMSbias]:[Tekrar Üretilebilirlik                 RSDWR(pool) ]]))))","v":""},{"$f":"IFERROR(Table1[[#This Row],[ Birleşik Standart Belirsizlik uc]]*2,\"\")","v":""},{"$f":"IF(H129<0.5,0.5,H129)","v":""},{"$f":"IF(Table1[[#This Row],[Kullanılan]]=0.5,0.01,\"--------\")","v":"--------"},0]
[null,126,"Dimepiperate",{"$f":"'Veri Girişi'!C94","v":"GC-MS/MS"},0.10950325751623405,0.11376009598010588,{"$f":"IF(SQRT(SUMSQ(Table1[[#This Row],[Gerçeklik                      ubias= RMSbias]:[Tekrar Üretilebilirlik                 RSDWR(pool) ]]))=0,\"\",(SQRT(SUMSQ(Table1[[#This Row],[Gerçeklik                      ubias= RMSbias]:[Tekrar Üretilebilirlik                 RSDWR(pool) ]]))))","v":0.1578997240151786},{"$f":"IFERROR(Table1[[#This Row],[ Birleşik Standart Belirsizlik uc]]*2,\"\")","v":0.3157994480303572},0.5,{"$f":"IF(Table1[[#This Row],[Kullanılan]]=0.5,0.01,\"--------\")","v":0.01},0]
[null,127,"Dimethachlor",{"$f":"'Veri Girişi'!#REF!","v":{"$error":"#REF!"}},0.13032605518467899,0.12465269181057868,{"$f":"IF(SQRT(SUMSQ(Table1[[#This Row],[Gerçeklik                      ubias= RMSbias]:[Tekrar Üretilebilirlik                 RSDWR(pool) ]]))=0,\"\",(SQRT(SUMSQ(Table1[[#This Row],[Gerçeklik                      ubias= RMSbias]:[Tekrar Üretilebilirlik                 RSDWR(pool) ]]))))","v":0.18034182608486338},{"$f":"IFERROR(Table1[[#This Row],[ Birleşik Standart Belirsizlik uc]]*2,\"\")","v":0.36068365216972675},0.5,{"$f":"IF(Table1[[#This Row],[Kullanılan]]=0.5,0.01,\"--------\")","v":0.01},0]
[null,128,"Dimethenamid",{"$f":"'Veri Girişi'!C95","v":"GC-MS/MS"},"","",{"$f":"IF(SQRT(SUMSQ(Table1[[#This Row],[Gerçeklik                      ubias= RMSbias]:[Tekrar Üretilebilirlik                 RSDWR(pool) ]]))=0,\"\",(SQRT(SUMSQ(Table1[[#This Row],[Gerçeklik                      ubias= RMSbias]:[Tekrar Üretilebilirlik                 RSDWR(pool) ]]))))","v":""},{"$f":"IFERROR(Table1[[#This Row],[ Birleşik Standart Belirsizlik uc]]*2,\"\")","v":""},"",{"$f":"IF(Table1[[#This Row],[Kullanılan]]=0.5,0.01,\"--------\")","v":"--------"},1]
[null,129,"Dimethipin",{"$f":"'Veri Girişi'!C96","v":"GC-MS/MS"},0.15124992764736564,0.14336022234958834,{"$f":"IF(SQRT(SUMSQ(Table1[[#This Row],[Gerçeklik                      ubias= RMSbias]:[Tekrar Üretilebilirlik                 RSDWR(pool) ]]))=0,\"\",(SQRT(SUMSQ(Table1[[#This Row],[Gerçeklik                      ubias= RMSbias]:[Tekrar Üretilebilirlik                 RSDWR(pool) ]]))))","v":0.20839552290166108},{"$f":"IFERROR(Table1[[#This Row],[ Birleşik Standart Belirsizlik uc]]*2,\"\")","v":0.41679104580332216},0.5,{"$f":"IF(Table1[[#This Row],[Kullanılan]]=0.5,0.01,\"--------\")","v":0.01},0]
[null,130,"DIMETHYLNAPHTHALENE-1-4",{"$f":"'Veri Girişi'!C97","v":"GC-MS/MS"},"","",{"$f":"IF(SQRT(SUMSQ(Table1[[#This Row],[Gerçeklik                      ubias= RMSbias]:[Tekrar Üretilebilirlik                 RSDWR(pool) ]]))=0,\"\",(SQRT(SUMSQ(Table1[[#This Row],[Gerçeklik                      ubias= RMSbias]:[Tekrar Üretilebilirlik                 RSDWR(pool) ]]))))","v":""},{"$f":"IFERROR(Table1[[#This Row],[ Birleşik Standart Belirsizlik uc]]*2,\"\")","v":""},"",{"$f":"IF(Table1[[#This Row],[Kullanılan]]=0.5,0.01,\"--------\")","v":"--------"},1]
[null,131,"Diniconazole",{"$f":"'Veri Girişi'!C98","v":"GC-MS/MS"},0.13957820462617604,0.12142236940286481,{"$f":"IF(SQRT(SUMSQ(Table1[[#This Row],[Gerçeklik                      ubias= RMSbias]:[Tekrar Üretilebilirlik                 RSDWR(pool) ]]))=0,\"\",(SQRT(SUMSQ(Table1[[#This Row],[Gerçeklik                      ubias= RMSbias]:[Tekrar Üretilebilirlik                 RSDWR(pool) ]]))))","v":0.18500126215264703},{"$f":"IFERROR(Table1[[#This Row],[ Birleşik Standart Belirsizlik uc]]*2,\"\")","v":0.37000252430529407},0.5,{"$f":"IF(Table1[[#This Row],[Kullanılan]]=0.5,0.01,\"--------\")","v":0.01},1]
[null,132,"Dinitramine",{"$f":"'Veri Girişi'!C99","v":"GC-MS/MS"},0.11506026464422894,9.9688206426209694E-2,{"$f":"IF(SQRT(SUMSQ(Table1[[#This Row],[Gerçeklik                      ubias= RMSbias]:[Tekrar Üretilebilirlik                 RSDWR(pool) ]]))=0,\"\",(SQRT(SUMSQ(Table1[[#This Row],[Gerçeklik                      ubias= RMSbias]:[Tekrar Üretilebilirlik                 RSDWR(pool) ]]))))","v":0.15223863832967829},{"$f":"IFERROR(Table1[[#This Row],[ Birleşik Standart Belirsizlik uc]]*2,\"\")","v":0.30447727665935659},0.5,{"$f":"IF(Table1[[#This Row],[Kullanılan]]=0.5,0.01,\"--------\")","v":0.01},1]
[null,133,"Dinobuton",{"$f":"'Veri Girişi'!C100","v":"GC-MS/MS"},0.13870569892161363,0.15773496834385681,{"$f":"IF(SQRT(SUMSQ(Table1[[#This Row],[Gerçeklik                      ubias= RMSbias]:[Tekrar Üretilebilirlik                 RSDWR(pool) ]]))=0,\"\",(SQRT(SUMSQ(Table1[[#This Row],[Gerçeklik                      ubias= RMSbias]:[Tekrar Üretilebilirlik                 RSDWR(pool) ]]))))","v":0.21004664042010013},{"$f":"IFERROR(Table1[[#This Row],[ Birleşik Standart Belirsizlik uc]]*2,\"\")","v":0.42009328084020026},0.5,{"$f":"IF(Table1[[#This Row],[Kullanılan]]=0.5,0.01,\"--------\")","v":0.01},1]
[null,134,"Diofenolan",{"$f":"'Veri Girişi'!C101","v":"GC-MS/MS"},0.13308864286632424,0.12389942668105371,{"$f":"IF(SQRT(SUMSQ(Table1[[#This Row],[Gerçeklik                      ubias= RMSbias]:[Tekrar Üretilebilirlik                 RSDWR(pool) ]]))=0,\"\",(SQRT(SUMSQ(Table1[[#This Row],[Gerçeklik                      ubias= RMSbias]:[Tekrar Üretilebilirlik                 RSDWR(pool) ]]))))","v":0.18183414088639624},{"$f":"IFERROR(Table1[[#This Row],[ Birleşik Standart Belirsizlik uc]]*2,\"\")","v":0.36366828177279248},0.5,{"$f":"IF(Table1[[#This Row],[Kullanılan]]=0.5,0.01,\"--------\")","v":0.01},1]
[null,135,"Dioxabenzafos",{"$f":"'Veri Girişi'!C102","v":"GC-MS/MS"},0.13983371920487084,0.14123663156952682,{"$f":"IF(SQRT(SUMSQ(Table1[[#This Row],[Gerçeklik                      ubias= RMSbias]:[Tekrar Üretilebilirlik                 RSDWR(pool) ]]))=0,\"\",(SQRT(SUMSQ(Table1[[#This Row],[Gerçeklik                      ubias= RMSbias]:[Tekrar Üretilebilirlik                 RSDWR(pool) ]]))))","v":0.19874922672496848},{"$f":"IFERROR(Table1[[#This Row],[ Birleşik Standart Belirsizlik uc]]*2,\"\")","v":0.39749845344993695},0.5,{"$f":"IF(Table1[[#This Row],[Kullanılan]]=0.5,0.01,\"--------\")","v":0.01},1]
[null,136,"Dioxathion",{"$f":"'Veri Girişi'!C103","v":"GC-MS/MS"},0.12818957341895376,9.0794740836382462E-2,{"$f":"IF(SQRT(SUMSQ(Table1[[#This Row],[Gerçeklik                      ubias= RMSbias]:[Tekrar Üretilebilirlik                 RSDWR(pool) ]]))=0,\"\",(SQRT(SUMSQ(Table1[[#This Row],[Gerçeklik                      ubias= RMSbias]:[Tekrar Üretilebilirlik                 RSDWR(pool) ]]))))","v":0.15708676486858847},{"$f":"IFERROR(Table1[[#This Row],[ Birleşik Standart Belirsizlik uc]]*2,\"\")","v":0.31417352973717694},0.5,{"$f":"IF(Table1[[#This Row],[Kullanılan]]=0.5,0.01,\"--------\")","v":0.01},1]
[null,137,"Diphenamide",{"$f":"'Veri Girişi'!C104","v":"GC-MS/MS"},0.12853913876066436,0.11952822110836854,{"$f":"IF(SQRT(SUMSQ(Table1[[#This Row],[Gerçeklik                      ubias= RMSbias]:[Tekrar Üretilebilirlik                 RSDWR(pool) ]]))=0,\"\",(SQRT(SUMSQ(Table1[[#This Row],[Gerçeklik                      ubias= RMSbias]:[Tekrar Üretilebilirlik                 RSDWR(pool) ]]))))","v":0.17552579820261285},{"$f":"IFERROR(Table1[[#This Row],[ Birleşik Standart Belirsizlik uc]]*2,\"\")","v":0.35105159640522571},0.5,{"$f":"IF(Table1[[#This Row],[Kullanılan]]=0.5,0.01,\"--------\")","v":0.01},0]
[null,138,"Diphenylamine",{"$f":"'Veri Girişi'!C105","v":"GC-MS/MS"},0.13970228406627191,0.11430335431391388,{"$f":"IF(SQRT(SUMSQ(Table1[[#This Row],[Gerçeklik                      ubias= RMSbias]:[Tekrar Üretilebilirlik                 RSDWR(pool) ]]))=0,\"\",(SQRT(SUMSQ(Table1[[#This Row],[Gerçeklik                      ubias= RMSbias]:[Tekrar Üretilebilirlik                 RSDWR(pool) ]]))))","v":0.18050480597686441},{"$f":"IFERROR(Table1[[#This Row],[ Birleşik Standart Belirsizlik uc]]*2,\"\")","v":0.36100961195372883},0.5,{"$f":"IF(Table1[[#This Row],[Kullanılan]]=0.5,0.01,\"--------\")","v":0.01},0]
[null,139,"Disulfoton",{"$f":"'Veri Girişi'!C106","v":"GC-MS/MS"},0.12308500046715683,0.1091244482765623,{"$f":"IF(SQRT(SUMSQ(Table1[[#This Row],[Gerçeklik                      ubias= RMSbias]:[Tekrar Üretilebilirlik                 RSDWR(pool) ]]))=0,\"\",(SQRT(SUMSQ(Table1[[#This Row],[Gerçeklik                      ubias= RMSbias]:[Tekrar Üretilebilirlik                 RSDWR(pool) ]]))))","v":0.1644933510864926},{"$f":"IFERROR(Table1[[#This Row],[ Birleşik Standart Belirsizlik uc]]*2,\"\")","v":0.3289867021729852},0.5,{"$f":"IF(Table1[[#This Row],[Kullanılan]]=0.5,0.01,\"--------\")","v":0.01},0]
[null,140,"Disulfoton-sulfone",{"$f":"'Veri Girişi'!#REF!","v":{"$error":"#REF!"}},0.14925747132611708,0.15580903952280398,{"$f":"IF(SQRT(SUMSQ(Table1[[#This Row],[Gerçeklik                      ubias= RMSbias]:[Tekrar Üretilebilirlik                 RSDWR(pool) ]]))=0,\"\",(SQRT(SUMSQ(Table1[[#This Row],[Gerçeklik                      ubias= RMSbias]:[Tekrar Üretilebilirlik                 RSDWR(pool) ]]))))","v":0.21576433797939212},{"$f":"IFERROR(Table1[[#This Row],[ Birleşik Standart Belirsizlik uc]]*2,\"\")","v":0.43152867595878425},0.5,{"$f":"IF(Table1[[#This Row],[Kullanılan]]=0.5,0.01,\"--------\")","v":0.01},0]
[null,141,"Ditalimfos",{"$f":"'Veri Girişi'!C107","v":"GC-MS/MS"},0.13614189117730566,0.15300616206823289,{"$f":"IF(SQRT(SUMSQ(Table1[[#This Row],[Gerçeklik                      ubias= RMSbias]:[Tekrar Üretilebilirlik                 RSDWR(pool) ]]))=0,\"\",(SQRT(SUMSQ(Table1[[#This Row],[Gerçeklik                      ubias= RMSbias]:[Tekrar Üretilebilirlik                 RSDWR(pool) ]]))))","v":0.20480600617214254},{"$f":"IFERROR(Table1[[#This Row],[ Birleşik Standart Belirsizlik uc]]*2,\"\")","v":0.40961201234428507},0.5,{"$f":"IF(Table1[[#This Row],[Kullanılan]]=0.5,0.01,\"--------\")","v":0.01},0]
[null,142,"Dithiopyr",{"$f":"'Veri Girişi'!C108","v":"GC-MS/MS"},0.11543238193851847,0.11692673203228098,{"$f":"IF(SQRT(SUMSQ(Table1[[#This Row],[Gerçeklik                      ubias= RMSbias]:[Tekrar Üretilebilirlik                 RSDWR(pool) ]]))=0,\"\",(SQRT(SUMSQ(Table1[[#This Row],[Gerçeklik                      ubias= RMSbias]:[Tekrar Üretilebilirlik                 RSDWR(pool) ]]))))","v":0.16430610294127496},{"$f":"IFERROR(Table1[[#This Row],[ Birleşik Standart Belirsizlik uc]]*2,\"\")","v":0.32861220588254991},0.5,{"$f":"IF(Table1[[#This Row],[Kullanılan]]=0.5,0.01,\"--------\")","v":0.01},0]
[null,143,"Dodemorph",{"$f":"'Veri Girişi'!C109","v":"GC-MS/MS"},0.13341982736210287,0.14943112449477094,{"$f":"IF(SQRT(SUMSQ(Table1[[#This Row],[Gerçeklik                      ubias= RMSbias]:[Tekrar Üretilebilirlik                 RSDWR(pool) ]]))=0,\"\",(SQRT(SUMSQ(Table1[[#This Row],[Gerçeklik                      ubias= RMSbias]:[Tekrar Üretilebilirlik                 RSDWR(pool) ]]))))","v":0.2003260125423183},{"$f":"IFERROR(Table1[[#This Row],[ Birleşik Standart Belirsizlik uc]]*2,\"\")","v":0.4006520250846366},0.5,{"$f":"IF(Table1[[#This Row],[Kullanılan]]=0.5,0.01,\"--------\")","v":0.01},0]
[null,144,"Edifenphos",{"$f":"'Veri Girişi'!C110","v":"GC-MS/MS"},0.141563969074055,0.15028295890454715,{"$f":"IF(SQRT(SUMSQ(Table1[[#This Row],[Gerçeklik                      ubias= RMSbias]:[Tekrar Üretilebilirlik                 RSDWR(pool) ]]))=0,\"\",(SQRT(SUMSQ(Table1[[#This Row],[Gerçeklik                      ubias= RMSbias]:[Tekrar Üretilebilirlik                 RSDWR(pool) ]]))))","v":0.20645901549001391},{"$f":"IFERROR(Table1[[#This Row],[ Birleşik Standart Belirsizlik uc]]*2,\"\")","v":0.41291803098002783},0.5,{"$f":"IF(Table1[[#This Row],[Kullanılan]]=0.5,0.01,\"--------\")","v":0.01},1]
[null,145,"Endrin",{"$f":"'Veri Girişi'!C111","v":"GC-MS/MS"},0.13534103088125202,0.12957755144473379,{"$f":"IF(SQRT(SUMSQ(Table1[[#This Row],[Gerçeklik                      ubias= RMSbias]:[Tekrar Üretilebilirlik                 RSDWR(pool) ]]))=0,\"\",(SQRT(SUMSQ(Table1[[#This Row],[Gerçeklik                      ubias= RMSbias]:[Tekrar Üretilebilirlik                 RSDWR(pool) ]]))))","v":0.18737005224531653},{"$f":"IFERROR(Table1[[#This Row],[ Birleşik Standart Belirsizlik uc]]*2,\"\")","v":0.37474010449063305},0.5,{"$f":"IF(Table1[[#This Row],[Kullanılan]]=0.5,0.01,\"--------\")","v":0.01},0]
[null,146,"EPN",{"$f":"'Veri Girişi'!#REF!","v":{"$error":"#REF!"}},0.12924539089138407,0.12345249581754564,{"$f":"IF(SQRT(SUMSQ(Table1[[#This Row],[Gerçeklik                      ubias= RMSbias]:[Tekrar Üretilebilirlik                 RSDWR(pool) ]]))=0,\"\",(SQRT(SUMSQ(Table1[[#This Row],[Gerçeklik                      ubias= RMSbias]:[Tekrar Üretilebilirlik                 RSDWR(pool) ]]))))","v":0.1787313341030268},{"$f":"IFERROR(Table1[[#This Row],[ Birleşik Standart Belirsizlik uc]]*2,\"\")","v":0.3574626682060536},0.5,{"$f":"IF(Table1[[#This Row],[Kullanılan]]=0.5,0.01,\"--------\")","v":0.01},1]
[null,147,"Esfenvalerate/Fenvalerate",{"$f":"'Veri Girişi'!#REF!","v":{"$error":"#REF!"}},0.13166935593878074,0.1333870707692407,{"$f":"IF(SQRT(SUMSQ(Table1[[#This Row],[Gerçeklik                      ubias= RMSbias]:[Tekrar Üretilebilirlik                 RSDWR(pool) ]]))=0,\"\",(SQRT(SUMSQ(Table1[[#This Row],[Gerçeklik                      ubias= RMSbias]:[Tekrar Üretilebilirlik                 RSDWR(pool) ]]))))","v":0.1874271323521004},{"$f":"IFERROR(Table1[[#This Row],[ Birleşik Standart Belirsizlik uc]]*2,\"\")","v":0.3748542647042008},0.5,{"$f":"IF(Table1[[#This Row],[Kullanılan]]=0.5,0.01,\"--------\")","v":0.01},1]
[null,148,"Ethalfluarin",{"$f":"'Veri Girişi'!#REF!","v":{"$error":"#REF!"}},0.15748095724033856,0.10042845975275266,{"$f":"IF(SQRT(SUMSQ(Table1[[#This Row],[Gerçeklik                      ubias= RMSbias]:[Tekrar Üretilebilirlik                 RSDWR(pool) ]]))=0,\"\",(SQRT(SUMSQ(Table1[[#This Row],[Gerçeklik                      ubias= RMSbias]:[Tekrar Üretilebilirlik                 RSDWR(pool) ]]))))","v":0.1867782841275816},{"$f":"IFERROR(Table1[[#This Row],[ Birleşik Standart Belirsizlik uc]]*2,\"\")","v":0.3735565682551632},0.5,{"$f":"IF(Table1[[#This Row],[Kullanılan]]=0.5,0.01,\"--------\")","v":0.01},1]
[null,149,"Ethiolate",{"$f":"'Veri Girişi'!#REF!","v":{"$error":"#REF!"}},0.12971423738356561,0.11592532285823016,{"$f":"IF(SQRT(SUMSQ(Table1[[#This Row],[Gerçeklik                      ubias= RMSbias]:[Tekrar Üretilebilirlik                 RSDWR(pool) ]]))=0,\"\",(SQRT(SUMSQ(Table1[[#This Row],[Gerçeklik                      ubias= RMSbias]:[Tekrar Üretilebilirlik                 RSDWR(pool) ]]))))","v":0.17396684701340343},{"$f":"IFERROR(Table1[[#This Row],[ Birleşik Standart Belirsizlik uc]]*2,\"\")","v":0.34793369402680685},0.5,{"$f":"IF(Table1[[#This Row],[Kullanılan]]=0.5,0.01,\"--------\")","v":0.01},1]
[null,150,"Ethion",{"$f":"'Veri Girişi'!#REF!","v":{"$error":"#REF!"}},0.11808034665712439,9.651100939352189E-2,{"$f":"IF(SQRT(SUMSQ(Table1[[#This Row],[Gerçeklik                      ubias= RMSbias]:[Tekrar Üretilebilirlik                 RSDWR(pool) ]]))=0,\"\",(SQRT(SUMSQ(Table1[[#This Row],[Gerçeklik                      ubias= RMSbias]:[Tekrar Üretilebilirlik                 RSDWR(pool) ]]))))","v":0.15250358422287372},{"$f":"IFERROR(Table1[[#This Row],[ Birleşik Standart Belirsizlik uc]]*2,\"\")","v":0.30500716844574743},0.5,{"$f":"IF(Table1[[#This Row],[Kullanılan]]=0.5,0.01,\"--------\")","v":0.01},1]
[null,151,"Ethofumasate",{"$f":"'Veri Girişi'!#REF!","v":{"$error":"#REF!"}},"","",{"$f":"IF(SQRT(SUMSQ(Table1[[#This Row],[Gerçeklik                      ubias= RMSbias]:[Tekrar Üretilebilirlik                 RSDWR(pool) ]]))=0,\"\",(SQRT(SUMSQ(Table1[[#This Row],[Gerçeklik                      ubias= RMSbias]:[Tekrar Üretilebilirlik                 RSDWR(pool) ]]))))","v":""},{"$f":"IFERROR(Table1[[#This Row],[ Birleşik Standart Belirsizlik uc]]*2,\"\")","v":""},"",{"$f":"IF(Table1[[#This Row],[Kullanılan]]=0.5,0.01,\"--------\")","v":"--------"},1]
[null,152,"Ethofumesate-2-keto",{"$f":"'Veri Girişi'!C112","v":"GC-MS/MS"},0.13812230486058363,0.10268263676021062,{"$f":"IF(SQRT(SUMSQ(Table1[[#This Row],[Gerçeklik                      ubias= RMSbias]:[Tekrar Üretilebilirlik                 RSDWR(pool) ]]))=0,\"\",(SQRT(SUMSQ(Table1[[#This Row],[Gerçeklik                      ubias= RMSbias]:[Tekrar Üretilebilirlik                 RSDWR(pool) ]]))))","v":0.1721089625557872},{"$f":"IFERROR(Table1[[#This Row],[ Birleşik Standart Belirsizlik uc]]*2,\"\")","v":0.3442179251115744},0.5,{"$f":"IF(Table1[[#This Row],[Kullanılan]]=0.5,0.01,\"--------\")","v":0.01},0]
[null,153,"Ethoprophos",{"$f":"'Veri Girişi'!C116","v":"GC-MS/MS"},0.14815605439310717,0.15390393471604497,{"$f":"IF(SQRT(SUMSQ(Table1[[#This Row],[Gerçeklik                      ubias= RMSbias]:[Tekrar Üretilebilirlik                 RSDWR(pool) ]]))=0,\"\",(SQRT(SUMSQ(Table1[[#This Row],[Gerçeklik                      ubias= RMSbias]:[Tekrar Üretilebilirlik                 RSDWR(pool) ]]))))","v":0.21362733339723633},{"$f":"IFERROR(Table1[[#This Row],[ Birleşik Standart Belirsizlik uc]]*2,\"\")","v":0.42725466679447266},0.5,{"$f":"IF(Table1[[#This Row],[Kullanılan]]=0.5,0.01,\"--------\")","v":0.01},1]
[null,154,"etobenzanid",{"$f":"'Veri Girişi'!C117","v":"GC-MS/MS"},0.14391832843665189,0.16818903827313875,{"$f":"IF(SQRT(SUMSQ(Table1[[#This Row],[Gerçeklik                      ubias= RMSbias]:[Tekrar Üretilebilirlik                 RSDWR(pool) ]]))=0,\"\",(SQRT(SUMSQ(Table1[[#This Row],[Gerçeklik                      ubias= RMSbias]:[Tekrar Üretilebilirlik                 RSDWR(pool) ]]))))","v":0.22135952171804882},{"$f":"IFERROR(Table1[[#This Row],[ Birleşik Standart Belirsizlik uc]]*2,\"\")","v":0.44271904343609764},0.5,{"$f":"IF(Table1[[#This Row],[Kullanılan]]=0.5,0.01,\"--------\")","v":0.01},1]
[null,155,"Etoconazole",{"$f":"'Veri Girişi'!C118","v":"GC-MS/MS"},"","",{"$f":"IF(SQRT(SUMSQ(Table1[[#This Row],[Gerçeklik                      ubias= RMSbias]:[Tekrar Üretilebilirlik                 RSDWR(pool) ]]))=0,\"\",(SQRT(SUMSQ(Table1[[#This Row],[Gerçeklik                      ubias= RMSbias]:[Tekrar Üretilebilirlik                 RSDWR(pool) ]]))))","v":""},{"$f":"IFERROR(Table1[[#This Row],[ Birleşik Standart Belirsizlik uc]]*2,\"\")","v":""},"",{"$f":"IF(Table1[[#This Row],[Kullanılan]]=0.5,0.01,\"--------\")","v":"--------"},1]
[null,156,"Etofenprox",{"$f":"'Veri Girişi'!C119","v":"GC-MS/MS"},0.14363371881281914,0.16511462159187484,{"$f":"IF(SQRT(SUMSQ(Table1[[#This Row],[Gerçeklik                      ubias= RMSbias]:[Tekrar Üretilebilirlik                 RSDWR(pool) ]]))=0,\"\",(SQRT(SUMSQ(Table1[[#This Row],[Gerçeklik                      ubias= RMSbias]:[Tekrar Üretilebilirlik                 RSDWR(pool) ]]))))","v":0.21884579832253581},{"$f":"IFERROR(Table1[[#This Row],[ Birleşik Standart Belirsizlik uc]]*2,\"\")","v":0.43769159664507162},0.5,{"$f":"IF(Table1[[#This Row],[Kullanılan]]=0.5,0.01,\"--------\")","v":0.01},0]
[null,157,"Etoxazole",{"$f":"'Veri Girişi'!C120","v":"GC-MS/MS"},"","",{"$f":"IF(SQRT(SUMSQ(Table1[[#This Row],[Gerçeklik                      ubias= RMSbias]:[Tekrar Üretilebilirlik                 RSDWR(pool) ]]))=0,\"\",(SQRT(SUMSQ(Table1[[#This Row],[Gerçeklik                      ubias= RMSbias]:[Tekrar Üretilebilirlik                 RSDWR(pool) ]]))))","v":""},{"$f":"IFERROR(Table1[[#This Row],[ Birleşik Standart Belirsizlik uc]]*2,\"\")","v":""},"",{"$f":"IF(Table1[[#This Row],[Kullanılan]]=0.5,0.01,\"--------\")","v":"--------"},0]
[null,158,"Etridiazole",{"$f":"'Veri Girişi'!C121","v":"GC-MS/MS"},0.13950434315819704,0.15615050919473272,{"$f":"IF(SQRT(SUMSQ(Table1[[#This Row],[Gerçeklik                      ubias= RMSbias]:[Tekrar Üretilebilirlik                 RSDWR(pool) ]]))=0,\"\",(SQRT(SUMSQ(Table1[[#This Row],[Gerçeklik                      ubias= RMSbias]:[Tekrar Üretilebilirlik                 RSDWR(pool) ]]))))","v":0.20939064755087394},{"$f":"IFERROR(Table1[[#This Row],[ Birleşik Standart Belirsizlik uc]]*2,\"\")","v":0.41878129510174789},0.5,{"$f":"IF(Table1[[#This Row],[Kullanılan]]=0.5,0.01,\"--------\")","v":0.01},1]
[null,159,"Fenamidone",{"$f":"'Veri Girişi'!C122","v":"GC-MS/MS"},0.15059106102289074,0.13735503576748614,{"$f":"IF(SQRT(SUMSQ(Table1[[#This Row],[Gerçeklik                      ubias= RMSbias]:[Tekrar Üretilebilirlik                 RSDWR(pool) ]]))=0,\"\",(SQRT(SUMSQ(Table1[[#This Row],[Gerçeklik                      ubias= RMSbias]:[Tekrar Üretilebilirlik                 RSDWR(pool) ]]))))","v":0.20382363334679177},{"$f":"IFERROR(Table1[[#This Row],[ Birleşik Standart Belirsizlik uc]]*2,\"\")","v":0.40764726669358353},0.5,{"$f":"IF(Table1[[#This Row],[Kullanılan]]=0.5,0.01,\"--------\")","v":0.01},1]
[null,160,"Fenarimol",{"$f":"'Veri Girişi'!C123","v":"GC-MS/MS"},0.13852947067922647,0.13165717323039638,{"$f":"IF(SQRT(SUMSQ(Table1[[#This Row],[Gerçeklik                      ubias= RMSbias]:[Tekrar Üretilebilirlik                 RSDWR(pool) ]]))=0,\"\",(SQRT(SUMSQ(Table1[[#This Row],[Gerçeklik                      ubias= RMSbias]:[Tekrar Üretilebilirlik                 RSDWR(pool) ]]))))","v":0.19111259903440503},{"$f":"IFERROR(Table1[[#This Row],[ Birleşik Standart Belirsizlik uc]]*2,\"\")","v":0.38222519806881006},0.5,{"$f":"IF(Table1[[#This Row],[Kullanılan]]=0.5,0.01,\"--------\")","v":0.01},1]
[null,161,"fenchlorazole ethyl",{"$f":"'Veri Girişi'!C124","v":"GC-MS/MS"},"","",{"$f":"IF(SQRT(SUMSQ(Table1[[#This Row],[Gerçeklik                      ubias= RMSbias]:[Tekrar Üretilebilirlik                 RSDWR(pool) ]]))=0,\"\",(SQRT(SUMSQ(Table1[[#This Row],[Gerçeklik                      ubias= RMSbias]:[Tekrar Üretilebilirlik                 RSDWR(pool) ]]))))","v":""},{"$f":"IFERROR(Table1[[#This Row],[ Birleşik Standart Belirsizlik uc]]*2,\"\")","v":""},"",{"$f":"IF(Table1[[#This Row],[Kullanılan]]=0.5,0.01,\"--------\")","v":"--------"},1]
[null,162,"Fenchlorphos",{"$f":"'Veri Girişi'!#REF!","v":{"$error":"#REF!"}},0.14825005281617951,9.6482419089245069E-2,{"$f":"IF(SQRT(SUMSQ(Table1[[#This Row],[Gerçeklik                      ubias= RMSbias]:[Tekrar Üretilebilirlik                 RSDWR(pool) ]]))=0,\"\",(SQRT(SUMSQ(Table1[[#This Row],[Gerçeklik                      ubias= RMSbias]:[Tekrar Üretilebilirlik                 RSDWR(pool) ]]))))","v":0.17688113340125547},{"$f":"IFERROR(Table1[[#This Row],[ Birleşik Standart Belirsizlik uc]]*2,\"\")","v":0.35376226680251094},0.5,{"$f":"IF(Table1[[#This Row],[Kullanılan]]=0.5,0.01,\"--------\")","v":0.01},1]
[null,163,"Fenitrothion",{"$f":"'Veri Girişi'!C125","v":"GC-MS/MS"},0.17003532152663656,0.14167741512991036,{"$f":"IF(SQRT(SUMSQ(Table1[[#This Row],[Gerçeklik                      ubias= RMSbias]:[Tekrar Üretilebilirlik                 RSDWR(pool) ]]))=0,\"\",(SQRT(SUMSQ(Table1[[#This Row],[Gerçeklik                      ubias= RMSbias]:[Tekrar Üretilebilirlik                 RSDWR(pool) ]]))))","v":0.22132442369643626},{"$f":"IFERROR(Table1[[#This Row],[ Birleşik Standart Belirsizlik uc]]*2,\"\")","v":0.44264884739287252},0.5,{"$f":"IF(Table1[[#This Row],[Kullanılan]]=0.5,0.01,\"--------\")","v":0.01},1]
[null,164,"Fenothiocarb",{"$f":"'Veri Girişi'!C126","v":"GC-MS/MS"},0.1714127257041709,0.16564504356312712,{"$f":"IF(SQRT(SUMSQ(Table1[[#This Row],[Gerçeklik                      ubias= RMSbias]:[Tekrar Üretilebilirlik                 RSDWR(pool) ]]))=0,\"\",(SQRT(SUMSQ(Table1[[#This Row],[Gerçeklik                      ubias= RMSbias]:[Tekrar Üretilebilirlik                 RSDWR(pool) ]]))))","v":0.23837072595090952},{"$f":"IFERROR(Table1[[#This Row],[ Birleşik Standart Belirsizlik uc]]*2,\"\")","v":0.47674145190181905},0.5,{"$f":"IF(Table1[[#This Row],[Kullanılan]]=0.5,0.01,\"--------\")","v":0.01},1]
[null,165,"Fenoxanil",{"$f":"'Veri Girişi'!C127","v":"GC-MS/MS"},0.19045036923041134,0.15088427619045708,{"$f":"IF(SQRT(SUMSQ(Table1[[#This Row],[Gerçeklik                      ubias= RMSbias]:[Tekrar Üretilebilirlik                 RSDWR(pool) ]]))=0,\"\",(SQRT(SUMSQ(Table1[[#This Row],[Gerçeklik                      ubias= RMSbias]:[Tekrar Üretilebilirlik                 RSDWR(pool) ]]))))","v":0.24297614685708996},{"$f":"IFERROR(Table1[[#This Row],[ Birleşik Standart Belirsizlik uc]]*2,\"\")","v":0.48595229371417992},0.5,{"$f":"IF(Table1[[#This Row],[Kullanılan]]=0.5,0.01,\"--------\")","v":0.01},1]
[null,166,"Fenpropathrin",{"$f":"'Veri Girişi'!C128","v":"GC-MS/MS"},0.18024359280336893,0.16552194861242622,{"$f":"IF(SQRT(SUMSQ(Table1[[#This Row],[Gerçeklik                      ubias= RMSbias]:[Tekrar Üretilebilirlik                 RSDWR(pool) ]]))=0,\"\",(SQRT(SUMSQ(Table1[[#This Row],[Gerçeklik                      ubias= RMSbias]:[Tekrar Üretilebilirlik                 RSDWR(pool) ]]))))","v":0.24471466694728647},{"$f":"IFERROR(Table1[[#This Row],[ Birleşik Standart Belirsizlik uc]]*2,\"\")","v":0.48942933389457294},0.5,{"$f":"IF(Table1[[#This Row],[Kullanılan]]=0.5,0.01,\"--------\")","v":0.01},1]
[null,167,"Fenson",{"$f":"'Veri Girişi'!#REF!","v":{"$error":"#REF!"}},0.1372570690347131,0.12608814961932666,{"$f":"IF(SQRT(SUMSQ(Table1[[#This Row],[Gerçeklik                      ubias= RMSbias]:[Tekrar Üretilebilirlik                 RSDWR(pool) ]]))=0,\"\",(SQRT(SUMSQ(Table1[[#This Row],[Gerçeklik                      ubias= RMSbias]:[Tekrar Üretilebilirlik                 RSDWR(pool) ]]))))","v":0.18638059039080679},{"$f":"IFERROR(Table1[[#This Row],[ Birleşik Standart Belirsizlik uc]]*2,\"\")","v":0.37276118078161358},0.5,{"$f":"IF(Table1[[#This Row],[Kullanılan]]=0.5,0.01,\"--------\")","v":0.01},0]
[null,168,"Fensulfothion",{"$f":"'Veri Girişi'!C129","v":"GC-MS/MS"},0.14910061260772875,0.1551855451804256,{"$f":"IF(SQRT(SUMSQ(Table1[[#This Row],[Gerçeklik                      ubias= RMSbias]:[Tekrar Üretilebilirlik                 RSDWR(pool) ]]))=0,\"\",(SQRT(SUMSQ(Table1[[#This Row],[Gerçeklik                      ubias= RMSbias]:[Tekrar Üretilebilirlik                 RSDWR(pool) ]]))))","v":0.21520582267435495},{"$f":"IFERROR(Table1[[#This Row],[ Birleşik Standart Belirsizlik uc]]*2,\"\")","v":0.4304116453487099},0.5,{"$f":"IF(Table1[[#This Row],[Kullanılan]]=0.5,0.01,\"--------\")","v":0.01},1]
[null,169,"Fenthion",{"$f":"'Veri Girişi'!C130","v":"GC-MS/MS"},0.1379957378810423,0.14165487259936346,{"$f":"IF(SQRT(SUMSQ(Table1[[#This Row],[Gerçeklik                      ubias= RMSbias]:[Tekrar Üretilebilirlik                 RSDWR(pool) ]]))=0,\"\",(SQRT(SUMSQ(Table1[[#This Row],[Gerçeklik                      ubias= RMSbias]:[Tekrar Üretilebilirlik                 RSDWR(pool) ]]))))","v":0.19775976993432012},{"$f":"IFERROR(Table1[[#This Row],[ Birleşik Standart Belirsizlik uc]]*2,\"\")","v":0.39551953986864025},0.5,{"$f":"IF(Table1[[#This Row],[Kullanılan]]=0.5,0.01,\"--------\")","v":0.01},1]
[null,170,"Fipronil-Sulfide",{"$f":"'Veri Girişi'!C131","v":"GC-MS/MS"},0.13555439545314149,0.14498853789401281,{"$f":"IF(SQRT(SUMSQ(Table1[[#This Row],[Gerçeklik                      ubias= RMSbias]:[Tekrar Üretilebilirlik                 RSDWR(pool) ]]))=0,\"\",(SQRT(SUMSQ(Table1[[#This Row],[Gerçeklik                      ubias= RMSbias]:[Tekrar Üretilebilirlik                 RSDWR(pool) ]]))))","v":0.19848594470972056},{"$f":"IFERROR(Table1[[#This Row],[ Birleşik Standart Belirsizlik uc]]*2,\"\")","v":0.39697188941944112},0.5,{"$f":"IF(Table1[[#This Row],[Kullanılan]]=0.5,0.01,\"--------\")","v":0.01},1]
[null,171,"Fipronil-Sulfone",{"$f":"'Veri Girişi'!C132","v":"GC-MS/MS"},0.11360276628087307,0.13010266699656758,{"$f":"IF(SQRT(SUMSQ(Table1[[#This Row],[Gerçeklik                      ubias= RMSbias]:[Tekrar Üretilebilirlik                 RSDWR(pool) ]]))=0,\"\",(SQRT(SUMSQ(Table1[[#This Row],[Gerçeklik                      ubias= RMSbias]:[Tekrar Üretilebilirlik                 RSDWR(pool) ]]))))","v":0.1727202723083959},{"$f":"IFERROR(Table1[[#This Row],[ Birleşik Standart Belirsizlik uc]]*2,\"\")","v":0.3454405446167918},0.5,{"$f":"IF(Table1[[#This Row],[Kullanılan]]=0.5,0.01,\"--------\")","v":0.01},1]
[null,172,"Fluchloraline",{"$f":"'Veri Girişi'!C133","v":"GC-MS/MS"},0.15615155595339636,0.13188259282093523,{"$f":"IF(SQRT(SUMSQ(Table1[[#This Row],[Gerçeklik                      ubias= RMSbias]:[Tekrar Üretilebilirlik                 RSDWR(pool) ]]))=0,\"\",(SQRT(SUMSQ(Table1[[#This Row],[Gerçeklik                      ubias= RMSbias]:[Tekrar Üretilebilirlik                 RSDWR(pool) ]]))))","v":0.20439257989427911},{"$f":"IFERROR(Table1[[#This Row],[ Birleşik Standart Belirsizlik uc]]*2,\"\")","v":0.40878515978855823},0.5,{"$f":"IF(Table1[[#This Row],[Kullanılan]]=0.5,0.01,\"--------\")","v":0.01},0]
[null,173,"Flucythrinate",{"$f":"'Veri Girişi'!C134","v":"GC-MS/MS"},0.20847777993509686,0.23585223337370473,{"$f":"IF(SQRT(SUMSQ(Table1[[#This Row],[Gerçeklik                      ubias= RMSbias]:[Tekrar Üretilebilirlik                 RSDWR(pool) ]]))=0,\"\",(SQRT(SUMSQ(Table1[[#This Row],[Gerçeklik                      ubias= RMSbias]:[Tekrar Üretilebilirlik                 RSDWR(pool) ]]))))","v":0.31478446707871588},{"$f":"IFERROR(Table1[[#This Row],[ Birleşik Standart Belirsizlik uc]]*2,\"\")","v":0.62956893415743176},0.62956893415743176,{"$f":"IF(Table1[[#This Row],[Kullanılan]]=0.5,0.01,\"--------\")","v":"--------"},1]
[null,174,"Fludioxanil",{"$f":"'Veri Girişi'!C135","v":"GC-MS/MS"},"","",{"$f":"IF(SQRT(SUMSQ(Table1[[#This Row],[Gerçeklik                      ubias= RMSbias]:[Tekrar Üretilebilirlik                 RSDWR(pool) ]]))=0,\"\",(SQRT(SUMSQ(Table1[[#This Row],[Gerçeklik                      ubias= RMSbias]:[Tekrar Üretilebilirlik                 RSDWR(pool) ]]))))","v":""},{"$f":"IFERROR(Table1[[#This Row],[ Birleşik Standart Belirsizlik uc]]*2,\"\")","v":""},"",{"$f":"IF(Table1[[#This Row],[Kullanılan]]=0.5,0.01,\"--------\")","v":"--------"},1]
[null,175,"fluensulfone",{"$f":"'Veri Girişi'!C136","v":"GC-MS/MS"},0.11972524980136814,0.11381704341312497,{"$f":"IF(SQRT(SUMSQ(Table1[[#This Row],[Gerçeklik                      ubias= RMSbias]:[Tekrar Üretilebilirlik                 RSDWR(pool) ]]))=0,\"\",(SQRT(SUMSQ(Table1[[#This Row],[Gerçeklik                      ubias= RMSbias]:[Tekrar Üretilebilirlik                 RSDWR(pool) ]]))))","v":0.16519217539370676},{"$f":"IFERROR(Table1[[#This Row],[ Birleşik Standart Belirsizlik uc]]*2,\"\")","v":0.33038435078741352},0.5,{"$f":"IF(Table1[[#This Row],[Kullanılan]]=0.5,0.01,\"--------\")","v":0.01},1]
[null,176,"Flufenacat",{"$f":"'Veri Girişi'!#REF!","v":{"$error":"#REF!"}},"","",{"$f":"IF(SQRT(SUMSQ(Table1[[#This Row],[Gerçeklik                      ubias= RMSbias]:[Tekrar Üretilebilirlik                 RSDWR(pool) ]]))=0,\"\",(SQRT(SUMSQ(Table1[[#This Row],[Gerçeklik                      ubias= RMSbias]:[Tekrar Üretilebilirlik                 RSDWR(pool) ]]))))","v":""},{"$f":"IFERROR(Table1[[#This Row],[ Birleşik Standart Belirsizlik uc]]*2,\"\")","v":""},"",{"$f":"IF(Table1[[#This Row],[Kullanılan]]=0.5,0.01,\"--------\")","v":"--------"},1]
[null,177,"Flumetralin",{"$f":"'Veri Girişi'!#REF!","v":{"$error":"#REF!"}},0.16239417807708914,0.10450180250438557,{"$f":"IF(SQRT(SUMSQ(Table1[[#This Row],[Gerçeklik                      ubias= RMSbias]:[Tekrar Üretilebilirlik                 RSDWR(pool) ]]))=0,\"\",(SQRT(SUMSQ(Table1[[#This Row],[Gerçeklik                      ubias= RMSbias]:[Tekrar Üretilebilirlik                 RSDWR(pool) ]]))))","v":0.19311265054366311},{"$f":"IFERROR(Table1[[#This Row],[ Birleşik Standart Belirsizlik uc]]*2,\"\")","v":0.38622530108732622},0.5,{"$f":"IF(Table1[[#This Row],[Kullanılan]]=0.5,0.01,\"--------\")","v":0.01},1]
[null,178,"Flumioxazin",{"$f":"'Veri Girişi'!#REF!","v":{"$error":"#REF!"}},0.14763434464920416,0.17408252406351052,{"$f":"IF(SQRT(SUMSQ(Table1[[#This Row],[Gerçeklik                      ubias= RMSbias]:[Tekrar Üretilebilirlik                 RSDWR(pool) ]]))=0,\"\",(SQRT(SUMSQ(Table1[[#This Row],[Gerçeklik                      ubias= RMSbias]:[Tekrar Üretilebilirlik                 RSDWR(pool) ]]))))","v":0.22825561308393427},{"$f":"IFERROR(Table1[[#This Row],[ Birleşik Standart Belirsizlik uc]]*2,\"\")","v":0.45651122616786854},0.5,{"$f":"IF(Table1[[#This Row],[Kullanılan]]=0.5,0.01,\"--------\")","v":0.01},0]
[null,179,"Fluotrimazole",{"$f":"'Veri Girişi'!C138","v":"GC-MS/MS"},0.13502895331495887,0.13593411481383633,{"$f":"IF(SQRT(SUMSQ(Table1[[#This Row],[Gerçeklik                      ubias= RMSbias]:[Tekrar Üretilebilirlik                 RSDWR(pool) ]]))=0,\"\",(SQRT(SUMSQ(Table1[[#This Row],[Gerçeklik                      ubias= RMSbias]:[Tekrar Üretilebilirlik                 RSDWR(pool) ]]))))","v":0.19160089196962155},{"$f":"IFERROR(Table1[[#This Row],[ Birleşik Standart Belirsizlik uc]]*2,\"\")","v":0.38320178393924309},0.5,{"$f":"IF(Table1[[#This Row],[Kullanılan]]=0.5,0.01,\"--------\")","v":0.01},0]
[null,180,"Fluquinconazole",{"$f":"'Veri Girişi'!#REF!","v":{"$error":"#REF!"}},0.14094822526965944,0.1254173995740408,{"$f":"IF(SQRT(SUMSQ(Table1[[#This Row],[Gerçeklik                      ubias= RMSbias]:[Tekrar Üretilebilirlik                 RSDWR(pool) ]]))=0,\"\",(SQRT(SUMSQ(Table1[[#This Row],[Gerçeklik                      ubias= RMSbias]:[Tekrar Üretilebilirlik                 RSDWR(pool) ]]))))","v":0.18866882710872318},{"$f":"IFERROR(Table1[[#This Row],[ Birleşik Standart Belirsizlik uc]]*2,\"\")","v":0.37733765421744636},0.5,{"$f":"IF(Table1[[#This Row],[Kullanılan]]=0.5,0.01,\"--------\")","v":0.01},1]
[null,181,"FLURTAMONE",{"$f":"'Veri Girişi'!C139","v":"GC-MS/MS"},0.15745528321823099,0.12795814275445946,{"$f":"IF(SQRT(SUMSQ(Table1[[#This Row],[Gerçeklik                      ubias= RMSbias]:[Tekrar Üretilebilirlik                 RSDWR(pool) ]]))=0,\"\",(SQRT(SUMSQ(Table1[[#This Row],[Gerçeklik                      ubias= RMSbias]:[Tekrar Üretilebilirlik                 RSDWR(pool) ]]))))","v":0.20289271182204638},{"$f":"IFERROR(Table1[[#This Row],[ Birleşik Standart Belirsizlik uc]]*2,\"\")","v":0.40578542364409276},0.5,{"$f":"IF(Table1[[#This Row],[Kullanılan]]=0.5,0.01,\"--------\")","v":0.01},1]
[null,182,"Flusilazole",{"$f":"'Veri Girişi'!C140","v":"GC-MS/MS"},0.13736158111592434,0.12238439147298283,{"$f":"IF(SQRT(SUMSQ(Table1[[#This Row],[Gerçeklik                      ubias= RMSbias]:[Tekrar Üretilebilirlik                 RSDWR(pool) ]]))=0,\"\",(SQRT(SUMSQ(Table1[[#This Row],[Gerçeklik                      ubias= RMSbias]:[Tekrar Üretilebilirlik                 RSDWR(pool) ]]))))","v":0.18397321338412007},{"$f":"IFERROR(Table1[[#This Row],[ Birleşik Standart Belirsizlik uc]]*2,\"\")","v":0.36794642676824013},0.5,{"$f":"IF(Table1[[#This Row],[Kullanılan]]=0.5,0.01,\"--------\")","v":0.01},1]
[null,183,"Flutriafol",{"$f":"'Veri Girişi'!C141","v":"GC-MS/MS"},0.16694305062904935,0.11407583690954695,{"$f":"IF(SQRT(SUMSQ(Table1[[#This Row],[Gerçeklik                      ubias= RMSbias]:[Tekrar Üretilebilirlik                 RSDWR(pool) ]]))=0,\"\",(SQRT(SUMSQ(Table1[[#This Row],[Gerçeklik                      ubias= RMSbias]:[Tekrar Üretilebilirlik                 RSDWR(pool) ]]))))","v":0.20219613923106169},{"$f":"IFERROR(Table1[[#This Row],[ Birleşik Standart Belirsizlik uc]]*2,\"\")","v":0.40439227846212339},0.5,{"$f":"IF(Table1[[#This Row],[Kullanılan]]=0.5,0.01,\"--------\")","v":0.01},1]
[null,184,"Folpet",{"$f":"'Veri Girişi'!C142","v":"GC-MS/MS"},0.14869528591496547,0.13815498356048422,{"$f":"IF(SQRT(SUMSQ(Table1[[#This Row],[Gerçeklik                      ubias= RMSbias]:[Tekrar Üretilebilirlik                 RSDWR(pool) ]]))=0,\"\",(SQRT(SUMSQ(Table1[[#This Row],[Gerçeklik                      ubias= RMSbias]:[Tekrar Üretilebilirlik                 RSDWR(pool) ]]))))","v":0.20297065683475282},{"$f":"IFERROR(Table1[[#This Row],[ Birleşik Standart Belirsizlik uc]]*2,\"\")","v":0.40594131366950564},0.5,{"$f":"IF(Table1[[#This Row],[Kullanılan]]=0.5,0.01,\"--------\")","v":0.01},1]
[null,185,"Fonofos",{"$f":"'Veri Girişi'!C143","v":"GC-MS/MS"},{"$f":"IFERROR(VLOOKUP(C189,GERÇEKLİK_BELİRSİZLİĞİ_ubias2_RMSbias2,125,FALSE),\"\")","v":0.12477590571367002},{"$f":"IFERROR(VLOOKUP(C189,T.U.BELIRSIZLIGI,55,FALSE),\"\")","v":0.10278890135197588},{"$f":"IF(SQRT(SUMSQ(Table1[[#This Row],[Gerçeklik                      ubias= RMSbias]:[Tekrar Üretilebilirlik                 RSDWR(pool) ]]))=0,\"\",(SQRT(SUMSQ(Table1[[#This Row],[Gerçeklik                      ubias= RMSbias]:[Tekrar Üretilebilirlik                 RSDWR(pool) ]]))))","v":0.16166194631951236},{"$f":"IFERROR(Table1[[#This Row],[ Birleşik Standart Belirsizlik uc]]*2,\"\")","v":0.32332389263902472},{"$f":"IF(H189<0.5,0.5,H189)","v":0.5},{"$f":"IF(Table1[[#This Row],[Kullanılan]]=0.5,0.01,\"--------\")","v":0.01},1]
[null,186,"Formothion",{"$f":"'Veri Girişi'!C144","v":"GC-MS/MS"},0.15516863733800501,9.6158173543621439E-2,{"$f":"IF(SQRT(SUMSQ(Table1[[#This Row],[Gerçeklik                      ubias= RMSbias]:[Tekrar Üretilebilirlik                 RSDWR(pool) ]]))=0,\"\",(SQRT(SUMSQ(Table1[[#This Row],[Gerçeklik                      ubias= RMSbias]:[Tekrar Üretilebilirlik                 RSDWR(pool) ]]))))","v":0.18254780292454506},{"$f":"IFERROR(Table1[[#This Row],[ Birleşik Standart Belirsizlik uc]]*2,\"\")","v":0.36509560584909012},0.5,{"$f":"IF(Table1[[#This Row],[Kullanılan]]=0.5,0.01,\"--------\")","v":0.01},1]
[null,187,"Furalaxyl",{"$f":"'Veri Girişi'!C145","v":"GC-MS/MS"},0.12338437342980942,0.11680144474659823,{"$f":"IF(SQRT(SUMSQ(Table1[[#This Row],[Gerçeklik                      ubias= RMSbias]:[Tekrar Üretilebilirlik                 RSDWR(pool) ]]))=0,\"\",(SQRT(SUMSQ(Table1[[#This Row],[Gerçeklik                      ubias= RMSbias]:[Tekrar Üretilebilirlik                 RSDWR(pool) ]]))))","v":0.16990079782496403},{"$f":"IFERROR(Table1[[#This Row],[ Birleşik Standart Belirsizlik uc]]*2,\"\")","v":0.33980159564992807},0.5,{"$f":"IF(Table1[[#This Row],[Kullanılan]]=0.5,0.01,\"--------\")","v":0.01},1]
[null,188,"Halfenprox",{"$f":"'Veri Girişi'!C146","v":"GC-MS/MS"},0.16667575562550577,0.16579119937991471,{"$f":"IF(SQRT(SUMSQ(Table1[[#This Row],[Gerçeklik                      ubias= RMSbias]:[Tekrar Üretilebilirlik                 RSDWR(pool) ]]))=0,\"\",(SQRT(SUMSQ(Table1[[#This Row],[Gerçeklik                      ubias= RMSbias]:[Tekrar Üretilebilirlik                 RSDWR(pool) ]]))))","v":0.23509047046863457},{"$f":"IFERROR(Table1[[#This Row],[ Birleşik Standart Belirsizlik uc]]*2,\"\")","v":0.47018094093726914},0.5,{"$f":"IF(Table1[[#This Row],[Kullanılan]]=0.5,0.01,\"--------\")","v":0.01},1]
[null,189,"HCH alpha",{"$f":"'Veri Girişi'!C147","v":"GC-MS/MS"},"","",{"$f":"IF(SQRT(SUMSQ(Table1[[#This Row],[Gerçeklik                      ubias= RMSbias]:[Tekrar Üretilebilirlik                 RSDWR(pool) ]]))=0,\"\",(SQRT(SUMSQ(Table1[[#This Row],[Gerçeklik                      ubias= RMSbias]:[Tekrar Üretilebilirlik                 RSDWR(pool) ]]))))","v":""},{"$f":"IFERROR(Table1[[#This Row],[ Birleşik Standart Belirsizlik uc]]*2,\"\")","v":""},"",{"$f":"IF(Table1[[#This Row],[Kullanılan]]=0.5,0.01,\"--------\")","v":"--------"},1]
[null,190,"HCH beta",{"$f":"'Veri Girişi'!C148","v":"GC-MS/MS"},"","",{"$f":"IF(SQRT(SUMSQ(Table1[[#This Row],[Gerçeklik                      ubias= RMSbias]:[Tekrar Üretilebilirlik                 RSDWR(pool) ]]))=0,\"\",(SQRT(SUMSQ(Table1[[#This Row],[Gerçeklik                      ubias= RMSbias]:[Tekrar Üretilebilirlik                 RSDWR(pool) ]]))))","v":""},{"$f":"IFERROR(Table1[[#This Row],[ Birleşik Standart Belirsizlik uc]]*2,\"\")","v":""},"",{"$f":"IF(Table1[[#This Row],[Kullanılan]]=0.5,0.01,\"--------\")","v":"--------"},1]
[null,191,"HCH gamma",{"$f":"'Veri Girişi'!C149","v":"GC-MS/MS"},"","",{"$f":"IF(SQRT(SUMSQ(Table1[[#This Row],[Gerçeklik                      ubias= RMSbias]:[Tekrar Üretilebilirlik                 RSDWR(pool) ]]))=0,\"\",(SQRT(SUMSQ(Table1[[#This Row],[Gerçeklik                      ubias= RMSbias]:[Tekrar Üretilebilirlik                 RSDWR(pool) ]]))))","v":""},{"$f":"IFERROR(Table1[[#This Row],[ Birleşik Standart Belirsizlik uc]]*2,\"\")","v":""},"",{"$f":"IF(Table1[[#This Row],[Kullanılan]]=0.5,0.01,\"--------\")","v":"--------"},0]
[null,192,"HCH-Delta",{"$f":"'Veri Girişi'!C151","v":"GC-MS/MS"},0.15683576084554185,0.13369500494573702,{"$f":"IF(SQRT(SUMSQ(Table1[[#This Row],[Gerçeklik                      ubias= RMSbias]:[Tekrar Üretilebilirlik                 RSDWR(pool) ]]))=0,\"\",(SQRT(SUMSQ(Table1[[#This Row],[Gerçeklik                      ubias= RMSbias]:[Tekrar Üretilebilirlik                 RSDWR(pool) ]]))))","v":0.20608689969874516},{"$f":"IFERROR(Table1[[#This Row],[ Birleşik Standart Belirsizlik uc]]*2,\"\")","v":0.41217379939749033},0.5,{"$f":"IF(Table1[[#This Row],[Kullanılan]]=0.5,0.01,\"--------\")","v":0.01},1]
[null,193,"Heptachlor",{"$f":"'Veri Girişi'!C152","v":"GC-MS/MS"},0.13733578618359696,0.12963736501152104,{"$f":"IF(SQRT(SUMSQ(Table1[[#This Row],[Gerçeklik                      ubias= RMSbias]:[Tekrar Üretilebilirlik                 RSDWR(pool) ]]))=0,\"\",(SQRT(SUMSQ(Table1[[#This Row],[Gerçeklik                      ubias= RMSbias]:[Tekrar Üretilebilirlik                 RSDWR(pool) ]]))))","v":0.18885699503538916},{"$f":"IFERROR(Table1[[#This Row],[ Birleşik Standart Belirsizlik uc]]*2,\"\")","v":0.37771399007077833},0.5,{"$f":"IF(Table1[[#This Row],[Kullanılan]]=0.5,0.01,\"--------\")","v":0.01},0]
[null,194,"Heptachlor-endo-epoxide",{"$f":"'Veri Girişi'!C153","v":"GC-MS/MS"},0.12482223314244409,0.13264556254839144,{"$f":"IF(SQRT(SUMSQ(Table1[[#This Row],[Gerçeklik                      ubias= RMSbias]:[Tekrar Üretilebilirlik                 RSDWR(pool) ]]))=0,\"\",(SQRT(SUMSQ(Table1[[#This Row],[Gerçeklik                      ubias= RMSbias]:[Tekrar Üretilebilirlik                 RSDWR(pool) ]]))))","v":0.18214125054595923},{"$f":"IFERROR(Table1[[#This Row],[ Birleşik Standart Belirsizlik uc]]*2,\"\")","v":0.36428250109191845},0.5,{"$f":"IF(Table1[[#This Row],[Kullanılan]]=0.5,0.01,\"--------\")","v":0.01},0]
[null,195,"Heptachlor-exo-epoxide",{"$f":"'Veri Girişi'!C154","v":"GC-MS/MS"},0.11593190820477338,0.12006720994708919,{"$f":"IF(SQRT(SUMSQ(Table1[[#This Row],[Gerçeklik                      ubias= RMSbias]:[Tekrar Üretilebilirlik                 RSDWR(pool) ]]))=0,\"\",(SQRT(SUMSQ(Table1[[#This Row],[Gerçeklik                      ubias= RMSbias]:[Tekrar Üretilebilirlik                 RSDWR(pool) ]]))))","v":0.16690219364789186},{"$f":"IFERROR(Table1[[#This Row],[ Birleşik Standart Belirsizlik uc]]*2,\"\")","v":0.33380438729578371},0.5,{"$f":"IF(Table1[[#This Row],[Kullanılan]]=0.5,0.01,\"--------\")","v":0.01},0]
[null,196,"Heptenaphos",{"$f":"'Veri Girişi'!C155","v":"GC-MS/MS"},0.13752128334673627,0.13062202209939994,{"$f":"IF(SQRT(SUMSQ(Table1[[#This Row],[Gerçeklik                      ubias= RMSbias]:[Tekrar Üretilebilirlik                 RSDWR(pool) ]]))=0,\"\",(SQRT(SUMSQ(Table1[[#This Row],[Gerçeklik                      ubias= RMSbias]:[Tekrar Üretilebilirlik                 RSDWR(pool) ]]))))","v":0.18966870071434938},{"$f":"IFERROR(Table1[[#This Row],[ Birleşik Standart Belirsizlik uc]]*2,\"\")","v":0.37933740142869876},0.5,{"$f":"IF(Table1[[#This Row],[Kullanılan]]=0.5,0.01,\"--------\")","v":0.01},0]
[null,197,"Hexachloro-1,3-Butadiene",{"$f":"'Veri Girişi'!C156","v":"GC-MS/MS"},"","",{"$f":"IF(SQRT(SUMSQ(Table1[[#This Row],[Gerçeklik                      ubias= RMSbias]:[Tekrar Üretilebilirlik                 RSDWR(pool) ]]))=0,\"\",(SQRT(SUMSQ(Table1[[#This Row],[Gerçeklik                      ubias= RMSbias]:[Tekrar Üretilebilirlik                 RSDWR(pool) ]]))))","v":""},{"$f":"IFERROR(Table1[[#This Row],[ Birleşik Standart Belirsizlik uc]]*2,\"\")","v":""},"",{"$f":"IF(Table1[[#This Row],[Kullanılan]]=0.5,0.01,\"--------\")","v":"--------"},0]
[null,198,"Hexachlorobenzene",{"$f":"'Veri Girişi'!C157","v":"GC-MS/MS"},0.1411108077127097,0.10521955346174724,{"$f":"IF(SQRT(SUMSQ(Table1[[#This Row],[Gerçeklik                      ubias= RMSbias]:[Tekrar Üretilebilirlik                 RSDWR(pool) ]]))=0,\"\",(SQRT(SUMSQ(Table1[[#This Row],[Gerçeklik                      ubias= RMSbias]:[Tekrar Üretilebilirlik                 RSDWR(pool) ]]))))","v":0.17602106261474171},{"$f":"IFERROR(Table1[[#This Row],[ Birleşik Standart Belirsizlik uc]]*2,\"\")","v":0.35204212522948342},0.5,{"$f":"IF(Table1[[#This Row],[Kullanılan]]=0.5,0.01,\"--------\")","v":0.01},1]
[null,199,"Hexaconazole",{"$f":"'Veri Girişi'!C158","v":"GC-MS/MS"},0.1552852646368397,0.13725592824746261,{"$f":"IF(SQRT(SUMSQ(Table1[[#This Row],[Gerçeklik                      ubias= RMSbias]:[Tekrar Üretilebilirlik                 RSDWR(pool) ]]))=0,\"\",(SQRT(SUMSQ(Table1[[#This Row],[Gerçeklik                      ubias= RMSbias]:[Tekrar Üretilebilirlik                 RSDWR(pool) ]]))))","v":0.20725033957126809},{"$f":"IFERROR(Table1[[#This Row],[ Birleşik Standart Belirsizlik uc]]*2,\"\")","v":0.41450067914253619},0.5,{"$f":"IF(Table1[[#This Row],[Kullanılan]]=0.5,0.01,\"--------\")","v":0.01},1]
[null,200,"Iodofenphos",{"$f":"'Veri Girişi'!C159","v":"GC-MS/MS"},0.16934792788812031,0.15641834735042456,{"$f":"IF(SQRT(SUMSQ(Table1[[#This Row],[Gerçeklik                      ubias= RMSbias]:[Tekrar Üretilebilirlik                 RSDWR(pool) ]]))=0,\"\",(SQRT(SUMSQ(Table1[[#This Row],[Gerçeklik                      ubias= RMSbias]:[Tekrar Üretilebilirlik                 RSDWR(pool) ]]))))","v":0.2305329045230595},{"$f":"IFERROR(Table1[[#This Row],[ Birleşik Standart Belirsizlik uc]]*2,\"\")","v":0.46106580904611899},0.5,{"$f":"IF(Table1[[#This Row],[Kullanılan]]=0.5,0.01,\"--------\")","v":0.01},1]
[null,201,"IOXYNIL-OCTAONATE",{"$f":"'Veri Girişi'!C160","v":"GC-MS/MS"},"","",{"$f":"IF(SQRT(SUMSQ(Table1[[#This Row],[Gerçeklik                      ubias= RMSbias]:[Tekrar Üretilebilirlik                 RSDWR(pool) ]]))=0,\"\",(SQRT(SUMSQ(Table1[[#This Row],[Gerçeklik                      ubias= RMSbias]:[Tekrar Üretilebilirlik                 RSDWR(pool) ]]))))","v":""},{"$f":"IFERROR(Table1[[#This Row],[ Birleşik Standart Belirsizlik uc]]*2,\"\")","v":""},"",{"$f":"IF(Table1[[#This Row],[Kullanılan]]=0.5,0.01,\"--------\")","v":"--------"},0]
[null,202,"Iprobenfos",{"$f":"'Veri Girişi'!C161","v":"GC-MS/MS"},0.13767487550990073,0.13243763550543103,{"$f":"IF(SQRT(SUMSQ(Table1[[#This Row],[Gerçeklik                      ubias= RMSbias]:[Tekrar Üretilebilirlik                 RSDWR(pool) ]]))=0,\"\",(SQRT(SUMSQ(Table1[[#This Row],[Gerçeklik                      ubias= RMSbias]:[Tekrar Üretilebilirlik                 RSDWR(pool) ]]))))","v":0.19103428656902421},{"$f":"IFERROR(Table1[[#This Row],[ Birleşik Standart Belirsizlik uc]]*2,\"\")","v":0.38206857313804843},0.5,{"$f":"IF(Table1[[#This Row],[Kullanılan]]=0.5,0.01,\"--------\")","v":0.01},0]
[null,203,"Iprodione",{"$f":"'Veri Girişi'!C162","v":"GC-MS/MS"},0.16875820878799744,0.16197580788224536,{"$f":"IF(SQRT(SUMSQ(Table1[[#This Row],[Gerçeklik                      ubias= RMSbias]:[Tekrar Üretilebilirlik                 RSDWR(pool) ]]))=0,\"\",(SQRT(SUMSQ(Table1[[#This Row],[Gerçeklik                      ubias= RMSbias]:[Tekrar Üretilebilirlik                 RSDWR(pool) ]]))))","v":0.23391343563899744},{"$f":"IFERROR(Table1[[#This Row],[ Birleşik Standart Belirsizlik uc]]*2,\"\")","v":0.46782687127799488},0.5,{"$f":"IF(Table1[[#This Row],[Kullanılan]]=0.5,0.01,\"--------\")","v":0.01},1]
[null,204,"Isazofos",{"$f":"'Veri Girişi'!C163","v":"GC-MS/MS"},0.12800211339401132,0.13929100350126866,{"$f":"IF(SQRT(SUMSQ(Table1[[#This Row],[Gerçeklik                      ubias= RMSbias]:[Tekrar Üretilebilirlik                 RSDWR(pool) ]]))=0,\"\",(SQRT(SUMSQ(Table1[[#This Row],[Gerçeklik                      ubias= RMSbias]:[Tekrar Üretilebilirlik                 RSDWR(pool) ]]))))","v":0.18917326631880038},{"$f":"IFERROR(Table1[[#This Row],[ Birleşik Standart Belirsizlik uc]]*2,\"\")","v":0.37834653263760076},0.5,{"$f":"IF(Table1[[#This Row],[Kullanılan]]=0.5,0.01,\"--------\")","v":0.01},1]
[null,205,"Isobenzan",{"$f":"'Veri Girişi'!#REF!","v":{"$error":"#REF!"}},"","",{"$f":"IF(SQRT(SUMSQ(Table1[[#This Row],[Gerçeklik                      ubias= RMSbias]:[Tekrar Üretilebilirlik                 RSDWR(pool) ]]))=0,\"\",(SQRT(SUMSQ(Table1[[#This Row],[Gerçeklik                      ubias= RMSbias]:[Tekrar Üretilebilirlik                 RSDWR(pool) ]]))))","v":""},{"$f":"IFERROR(Table1[[#This Row],[ Birleşik Standart Belirsizlik uc]]*2,\"\")","v":""},"",{"$f":"IF(Table1[[#This Row],[Kullanılan]]=0.5,0.01,\"--------\")","v":"--------"},0]
[null,206,"Isocarbamid",{"$f":"'Veri Girişi'!C164","v":"GC-MS/MS"},0.14989215380844098,0.1569615015324996,{"$f":"IF(SQRT(SUMSQ(Table1[[#This Row],[Gerçeklik                      ubias= RMSbias]:[Tekrar Üretilebilirlik                 RSDWR(pool) ]]))=0,\"\",(SQRT(SUMSQ(Table1[[#This Row],[Gerçeklik                      ubias= RMSbias]:[Tekrar Üretilebilirlik                 RSDWR(pool) ]]))))","v":0.21703587430807425},{"$f":"IFERROR(Table1[[#This Row],[ Birleşik Standart Belirsizlik uc]]*2,\"\")","v":0.4340717486161485},0.5,{"$f":"IF(Table1[[#This Row],[Kullanılan]]=0.5,0.01,\"--------\")","v":0.01},1]
[null,207,"Isocarbophos",{"$f":"'Veri Girişi'!C165","v":"GC-MS/MS"},0.15176348489233721,0.13689592202379339,{"$f":"IF(SQRT(SUMSQ(Table1[[#This Row],[Gerçeklik                      ubias= RMSbias]:[Tekrar Üretilebilirlik                 RSDWR(pool) ]]))=0,\"\",(SQRT(SUMSQ(Table1[[#This Row],[Gerçeklik                      ubias= RMSbias]:[Tekrar Üretilebilirlik                 RSDWR(pool) ]]))))","v":0.20438358254373365},{"$f":"IFERROR(Table1[[#This Row],[ Birleşik Standart Belirsizlik uc]]*2,\"\")","v":0.4087671650874673},0.5,{"$f":"IF(Table1[[#This Row],[Kullanılan]]=0.5,0.01,\"--------\")","v":0.01},0]
[null,208,"Isodrin",{"$f":"'Veri Girişi'!C166","v":"GC-MS/MS"},0.12971894009742757,0.12335737989643941,{"$f":"IF(SQRT(SUMSQ(Table1[[#This Row],[Gerçeklik                      ubias= RMSbias]:[Tekrar Üretilebilirlik                 RSDWR(pool) ]]))=0,\"\",(SQRT(SUMSQ(Table1[[#This Row],[Gerçeklik                      ubias= RMSbias]:[Tekrar Üretilebilirlik                 RSDWR(pool) ]]))))","v":0.17900850983937741},{"$f":"IFERROR(Table1[[#This Row],[ Birleşik Standart Belirsizlik uc]]*2,\"\")","v":0.35801701967875482},0.5,{"$f":"IF(Table1[[#This Row],[Kullanılan]]=0.5,0.01,\"--------\")","v":0.01},0]
[null,209,"Isofenphos",{"$f":"'Veri Girişi'!#REF!","v":{"$error":"#REF!"}},0.11440209966021896,0.11641123534208997,{"$f":"IF(SQRT(SUMSQ(Table1[[#This Row],[Gerçeklik                      ubias= RMSbias]:[Tekrar Üretilebilirlik                 RSDWR(pool) ]]))=0,\"\",(SQRT(SUMSQ(Table1[[#This Row],[Gerçeklik                      ubias= RMSbias]:[Tekrar Üretilebilirlik                 RSDWR(pool) ]]))))","v":0.16321585744203326},{"$f":"IFERROR(Table1[[#This Row],[ Birleşik Standart Belirsizlik uc]]*2,\"\")","v":0.32643171488406653},0.5,{"$f":"IF(Table1[[#This Row],[Kullanılan]]=0.5,0.01,\"--------\")","v":0.01},1]
[null,210,"Isofenphos-Methyl",{"$f":"'Veri Girişi'!C167","v":"GC-MS/MS"},0.11365800508543164,0.10934703757918783,{"$f":"IF(SQRT(SUMSQ(Table1[[#This Row],[Gerçeklik                      ubias= RMSbias]:[Tekrar Üretilebilirlik                 RSDWR(pool) ]]))=0,\"\",(SQRT(SUMSQ(Table1[[#This Row],[Gerçeklik                      ubias= RMSbias]:[Tekrar Üretilebilirlik                 RSDWR(pool) ]]))))","v":0.15771783902699252},{"$f":"IFERROR(Table1[[#This Row],[ Birleşik Standart Belirsizlik uc]]*2,\"\")","v":0.31543567805398504},0.5,{"$f":"IF(Table1[[#This Row],[Kullanılan]]=0.5,0.01,\"--------\")","v":0.01},1]
[null,211,"isoprocarb",{"$f":"'Veri Girişi'!C168","v":"GC-MS/MS"},0.12593233860556496,8.9686519227404823E-2,{"$f":"IF(SQRT(SUMSQ(Table1[[#This Row],[Gerçeklik                      ubias= RMSbias]:[Tekrar Üretilebilirlik                 RSDWR(pool) ]]))=0,\"\",(SQRT(SUMSQ(Table1[[#This Row],[Gerçeklik                      ubias= RMSbias]:[Tekrar Üretilebilirlik                 RSDWR(pool) ]]))))","v":0.15460474002369501},{"$f":"IFERROR(Table1[[#This Row],[ Birleşik Standart Belirsizlik uc]]*2,\"\")","v":0.30920948004739002},0.5,{"$f":"IF(Table1[[#This Row],[Kullanılan]]=0.5,0.01,\"--------\")","v":0.01},0]
[null,212,"Isopropalin",{"$f":"'Veri Girişi'!C169","v":"GC-MS/MS"},0.13509078201959848,0.12853597610642969,{"$f":"IF(SQRT(SUMSQ(Table1[[#This Row],[Gerçeklik                      ubias= RMSbias]:[Tekrar Üretilebilirlik                 RSDWR(pool) ]]))=0,\"\",(SQRT(SUMSQ(Table1[[#This Row],[Gerçeklik                      ubias= RMSbias]:[Tekrar Üretilebilirlik                 RSDWR(pool) ]]))))","v":0.18646988105401724},{"$f":"IFERROR(Table1[[#This Row],[ Birleşik Standart Belirsizlik uc]]*2,\"\")","v":0.37293976210803448},0.5,{"$f":"IF(Table1[[#This Row],[Kullanılan]]=0.5,0.01,\"--------\")","v":0.01},1]
[null,213,"Kresoxim-Methyl",{"$f":"'Veri Girişi'!C170","v":"GC-MS/MS"},0.14008459353785718,0.12211726581771558,{"$f":"IF(SQRT(SUMSQ(Table1[[#This Row],[Gerçeklik                      ubias= RMSbias]:[Tekrar Üretilebilirlik                 RSDWR(pool) ]]))=0,\"\",(SQRT(SUMSQ(Table1[[#This Row],[Gerçeklik                      ubias= RMSbias]:[Tekrar Üretilebilirlik                 RSDWR(pool) ]]))))","v":0.18583950053059567},{"$f":"IFERROR(Table1[[#This Row],[ Birleşik Standart Belirsizlik uc]]*2,\"\")","v":0.37167900106119134},0.5,{"$f":"IF(Table1[[#This Row],[Kullanılan]]=0.5,0.01,\"--------\")","v":0.01},1]
[null,214,"Lactofen",{"$f":"'Veri Girişi'!#REF!","v":{"$error":"#REF!"}},"","",{"$f":"IF(SQRT(SUMSQ(Table1[[#This Row],[Gerçeklik                      ubias= RMSbias]:[Tekrar Üretilebilirlik                 RSDWR(pool) ]]))=0,\"\",(SQRT(SUMSQ(Table1[[#This Row],[Gerçeklik                      ubias= RMSbias]:[Tekrar Üretilebilirlik                 RSDWR(pool) ]]))))","v":""},{"$f":"IFERROR(Table1[[#This Row],[ Birleşik Standart Belirsizlik uc]]*2,\"\")","v":""},"",{"$f":"IF(Table1[[#This Row],[Kullanılan]]=0.5,0.01,\"--------\")","v":"--------"},0]
[null,215,"Leptophos",{"$f":"'Veri Girişi'!C171","v":"GC-MS/MS"},0.16198501453323802,0.12617184465334216,{"$f":"IF(SQRT(SUMSQ(Table1[[#This Row],[Gerçeklik                      ubias= RMSbias]:[Tekrar Üretilebilirlik                 RSDWR(pool) ]]))=0,\"\",(SQRT(SUMSQ(Table1[[#This Row],[Gerçeklik                      ubias= RMSbias]:[Tekrar Üretilebilirlik                 RSDWR(pool) ]]))))","v":0.20532530120898507},{"$f":"IFERROR(Table1[[#This Row],[ Birleşik Standart Belirsizlik uc]]*2,\"\")","v":0.41065060241797013},0.5,{"$f":"IF(Table1[[#This Row],[Kullanılan]]=0.5,0.01,\"--------\")","v":0.01},0]
[null,216,"MCPA-Methyl",{"$f":"'Veri Girişi'!C172","v":"GC-MS/MS"},"","",{"$f":"IF(SQRT(SUMSQ(Table1[[#This Row],[Gerçeklik                      ubias= RMSbias]:[Tekrar Üretilebilirlik                 RSDWR(pool) ]]))=0,\"\",(SQRT(SUMSQ(Table1[[#This Row],[Gerçeklik                      ubias= RMSbias]:[Tekrar Üretilebilirlik                 RSDWR(pool) ]]))))","v":""},{"$f":"IFERROR(Table1[[#This Row],[ Birleşik Standart Belirsizlik uc]]*2,\"\")","v":""},"",{"$f":"IF(Table1[[#This Row],[Kullanılan]]=0.5,0.01,\"--------\")","v":"--------"},1]
[null,217,"MCPB-Methyl-Ester",{"$f":"'Veri Girişi'!C173","v":"GC-MS/MS"},"","",{"$f":"IF(SQRT(SUMSQ(Table1[[#This Row],[Gerçeklik                      ubias= RMSbias]:[Tekrar Üretilebilirlik                 RSDWR(pool) ]]))=0,\"\",(SQRT(SUMSQ(Table1[[#This Row],[Gerçeklik                      ubias= RMSbias]:[Tekrar Üretilebilirlik                 RSDWR(pool) ]]))))","v":""},{"$f":"IFERROR(Table1[[#This Row],[ Birleşik Standart Belirsizlik uc]]*2,\"\")","v":""},"",{"$f":"IF(Table1[[#This Row],[Kullanılan]]=0.5,0.01,\"--------\")","v":"--------"},1]
[null,218,"Mefenpyr-diethyl",{"$f":"'Veri Girişi'!C174","v":"GC-MS/MS"},0.16182643788948703,0.12680712432485594,{"$f":"IF(SQRT(SUMSQ(Table1[[#This Row],[Gerçeklik                      ubias= RMSbias]:[Tekrar Üretilebilirlik                 RSDWR(pool) ]]))=0,\"\",(SQRT(SUMSQ(Table1[[#This Row],[Gerçeklik                      ubias= RMSbias]:[Tekrar Üretilebilirlik                 RSDWR(pool) ]]))))","v":0.2055914462703628},{"$f":"IFERROR(Table1[[#This Row],[ Birleşik Standart Belirsizlik uc]]*2,\"\")","v":0.4111828925407256},0.5,{"$f":"IF(Table1[[#This Row],[Kullanılan]]=0.5,0.01,\"--------\")","v":0.01},1]
[null,219,"Mephosfolan",{"$f":"'Veri Girişi'!C175","v":"GC-MS/MS"},0.15688157278660866,0.18670178876825913,{"$f":"IF(SQRT(SUMSQ(Table1[[#This Row],[Gerçeklik                      ubias= RMSbias]:[Tekrar Üretilebilirlik                 RSDWR(pool) ]]))=0,\"\",(SQRT(SUMSQ(Table1[[#This Row],[Gerçeklik                      ubias= RMSbias]:[Tekrar Üretilebilirlik                 RSDWR(pool) ]]))))","v":0.24386345730606634},{"$f":"IFERROR(Table1[[#This Row],[ Birleşik Standart Belirsizlik uc]]*2,\"\")","v":0.48772691461213269},0.5,{"$f":"IF(Table1[[#This Row],[Kullanılan]]=0.5,0.01,\"--------\")","v":0.01},1]
[null,220,"Metazachlor",{"$f":"'Veri Girişi'!C176","v":"GC-MS/MS"},0.1201383177286359,0.11162382149116984,{"$f":"IF(SQRT(SUMSQ(Table1[[#This Row],[Gerçeklik                      ubias= RMSbias]:[Tekrar Üretilebilirlik                 RSDWR(pool) ]]))=0,\"\",(SQRT(SUMSQ(Table1[[#This Row],[Gerçeklik                      ubias= RMSbias]:[Tekrar Üretilebilirlik                 RSDWR(pool) ]]))))","v":0.16399113668414894},{"$f":"IFERROR(Table1[[#This Row],[ Birleşik Standart Belirsizlik uc]]*2,\"\")","v":0.32798227336829788},0.5,{"$f":"IF(Table1[[#This Row],[Kullanılan]]=0.5,0.01,\"--------\")","v":0.01},0]
[null,221,"Methacrifos",{"$f":"'Veri Girişi'!C177","v":"GC-MS/MS"},0.13168269595255611,0.12191427579420691,{"$f":"IF(SQRT(SUMSQ(Table1[[#This Row],[Gerçeklik                      ubias= RMSbias]:[Tekrar Üretilebilirlik                 RSDWR(pool) ]]))=0,\"\",(SQRT(SUMSQ(Table1[[#This Row],[Gerçeklik                      ubias= RMSbias]:[Tekrar Üretilebilirlik                 RSDWR(pool) ]]))))","v":0.17945312216776638},{"$f":"IFERROR(Table1[[#This Row],[ Birleşik Standart Belirsizlik uc]]*2,\"\")","v":0.35890624433553275},0.5,{"$f":"IF(Table1[[#This Row],[Kullanılan]]=0.5,0.01,\"--------\")","v":0.01},1]
[null,222,"Methidathion",{"$f":"'Veri Girişi'!#REF!","v":{"$error":"#REF!"}},0.15480745122032508,0.16949839648024642,{"$f":"IF(SQRT(SUMSQ(Table1[[#This Row],[Gerçeklik                      ubias= RMSbias]:[Tekrar Üretilebilirlik                 RSDWR(pool) ]]))=0,\"\",(SQRT(SUMSQ(Table1[[#This Row],[Gerçeklik                      ubias= RMSbias]:[Tekrar Üretilebilirlik                 RSDWR(pool) ]]))))","v":0.22955403146690354},{"$f":"IFERROR(Table1[[#This Row],[ Birleşik Standart Belirsizlik uc]]*2,\"\")","v":0.45910806293380707},0.5,{"$f":"IF(Table1[[#This Row],[Kullanılan]]=0.5,0.01,\"--------\")","v":0.01},0]
[null,223,"Methoxychlor",{"$f":"'Veri Girişi'!C178","v":"GC-MS/MS"},0.15868627468477964,0.13575954412926405,{"$f":"IF(SQRT(SUMSQ(Table1[[#This Row],[Gerçeklik                      ubias= RMSbias]:[Tekrar Üretilebilirlik                 RSDWR(pool) ]]))=0,\"\",(SQRT(SUMSQ(Table1[[#This Row],[Gerçeklik                      ubias= RMSbias]:[Tekrar Üretilebilirlik                 RSDWR(pool) ]]))))","v":0.20883483329061492},{"$f":"IFERROR(Table1[[#This Row],[ Birleşik Standart Belirsizlik uc]]*2,\"\")","v":0.41766966658122984},0.5,{"$f":"IF(Table1[[#This Row],[Kullanılan]]=0.5,0.01,\"--------\")","v":0.01},1]
[null,224,"Metolachlor",{"$f":"'Veri Girişi'!C179","v":"GC-MS/MS"},"","",{"$f":"IF(SQRT(SUMSQ(Table1[[#This Row],[Gerçeklik                      ubias= RMSbias]:[Tekrar Üretilebilirlik                 RSDWR(pool) ]]))=0,\"\",(SQRT(SUMSQ(Table1[[#This Row],[Gerçeklik                      ubias= RMSbias]:[Tekrar Üretilebilirlik                 RSDWR(pool) ]]))))","v":""},{"$f":"IFERROR(Table1[[#This Row],[ Birleşik Standart Belirsizlik uc]]*2,\"\")","v":""},0.5,{"$f":"IF(Table1[[#This Row],[Kullanılan]]=0.5,0.01,\"--------\")","v":0.01},1]
[null,225,"Metribuzin",{"$f":"'Veri Girişi'!#REF!","v":{"$error":"#REF!"}},0.13916383469374027,0.14837291841258043,{"$f":"IF(SQRT(SUMSQ(Table1[[#This Row],[Gerçeklik                      ubias= RMSbias]:[Tekrar Üretilebilirlik                 RSDWR(pool) ]]))=0,\"\",(SQRT(SUMSQ(Table1[[#This Row],[Gerçeklik                      ubias= RMSbias]:[Tekrar Üretilebilirlik                 RSDWR(pool) ]]))))","v":0.20342343966449128},{"$f":"IFERROR(Table1[[#This Row],[ Birleşik Standart Belirsizlik uc]]*2,\"\")","v":0.40684687932898256},0.5,{"$f":"IF(Table1[[#This Row],[Kullanılan]]=0.5,0.01,\"--------\")","v":0.01},1]
[null,226,"MGK-264",{"$f":"'Veri Girişi'!#REF!","v":{"$error":"#REF!"}},"","",{"$f":"IF(SQRT(SUMSQ(Table1[[#This Row],[Gerçeklik                      ubias= RMSbias]:[Tekrar Üretilebilirlik                 RSDWR(pool) ]]))=0,\"\",(SQRT(SUMSQ(Table1[[#This Row],[Gerçeklik                      ubias= RMSbias]:[Tekrar Üretilebilirlik                 RSDWR(pool) ]]))))","v":""},{"$f":"IFERROR(Table1[[#This Row],[ Birleşik Standart Belirsizlik uc]]*2,\"\")","v":""},"",{"$f":"IF(Table1[[#This Row],[Kullanılan]]=0.5,0.01,\"--------\")","v":"--------"},1]
[null,227,"Mirex",{"$f":"'Veri Girişi'!C180","v":"GC-MS/MS"},0.15003308588441414,0.14896544209398824,{"$f":"IF(SQRT(SUMSQ(Table1[[#This Row],[Gerçeklik                      ubias= RMSbias]:[Tekrar Üretilebilirlik                 RSDWR(pool) ]]))=0,\"\",(SQRT(SUMSQ(Table1[[#This Row],[Gerçeklik                      ubias= RMSbias]:[Tekrar Üretilebilirlik                 RSDWR(pool) ]]))))","v":0.2114252345351835},{"$f":"IFERROR(Table1[[#This Row],[ Birleşik Standart Belirsizlik uc]]*2,\"\")","v":0.422850469070367},0.5,{"$f":"IF(Table1[[#This Row],[Kullanılan]]=0.5,0.01,\"--------\")","v":0.01},1]
[null,228,"Naled",{"$f":"'Veri Girişi'!C181","v":"GC-MS/MS"},"","",{"$f":"IF(SQRT(SUMSQ(Table1[[#This Row],[Gerçeklik                      ubias= RMSbias]:[Tekrar Üretilebilirlik                 RSDWR(pool) ]]))=0,\"\",(SQRT(SUMSQ(Table1[[#This Row],[Gerçeklik                      ubias= RMSbias]:[Tekrar Üretilebilirlik                 RSDWR(pool) ]]))))","v":""},{"$f":"IFERROR(Table1[[#This Row],[ Birleşik Standart Belirsizlik uc]]*2,\"\")","v":""},"",{"$f":"IF(Table1[[#This Row],[Kullanılan]]=0.5,0.01,\"--------\")","v":"--------"},1]
[null,229,"Napropamide",{"$f":"'Veri Girişi'!C182","v":"GC-MS/MS"},0.13304650467662299,0.13181091574844034,{"$f":"IF(SQRT(SUMSQ(Table1[[#This Row],[Gerçeklik                      ubias= RMSbias]:[Tekrar Üretilebilirlik                 RSDWR(pool) ]]))=0,\"\",(SQRT(SUMSQ(Table1[[#This Row],[Gerçeklik                      ubias= RMSbias]:[Tekrar Üretilebilirlik                 RSDWR(pool) ]]))))","v":0.18728451595662973},{"$f":"IFERROR(Table1[[#This Row],[ Birleşik Standart Belirsizlik uc]]*2,\"\")","v":0.37456903191325946},0.5,{"$f":"IF(Table1[[#This Row],[Kullanılan]]=0.5,0.01,\"--------\")","v":0.01},0]
[null,230,"naptalam",{"$f":"'Veri Girişi'!C183","v":"GC-MS/MS"},"","",{"$f":"IF(SQRT(SUMSQ(Table1[[#This Row],[Gerçeklik                      ubias= RMSbias]:[Tekrar Üretilebilirlik                 RSDWR(pool) ]]))=0,\"\",(SQRT(SUMSQ(Table1[[#This Row],[Gerçeklik                      ubias= RMSbias]:[Tekrar Üretilebilirlik                 RSDWR(pool) ]]))))","v":""},{"$f":"IFERROR(Table1[[#This Row],[ Birleşik Standart Belirsizlik uc]]*2,\"\")","v":""},"",{"$f":"IF(Table1[[#This Row],[Kullanılan]]=0.5,0.01,\"--------\")","v":"--------"},1]
[null,231,"Nitralin",{"$f":"'Veri Girişi'!C184","v":"GC-MS/MS"},0.17767637224271929,0.14451233095153934,{"$f":"IF(SQRT(SUMSQ(Table1[[#This Row],[Gerçeklik                      ubias= RMSbias]:[Tekrar Üretilebilirlik                 RSDWR(pool) ]]))=0,\"\",(SQRT(SUMSQ(Table1[[#This Row],[Gerçeklik                      ubias= RMSbias]:[Tekrar Üretilebilirlik                 RSDWR(pool) ]]))))","v":0.22902555981894376},{"$f":"IFERROR(Table1[[#This Row],[ Birleşik Standart Belirsizlik uc]]*2,\"\")","v":0.45805111963788753},0.5,{"$f":"IF(Table1[[#This Row],[Kullanılan]]=0.5,0.01,\"--------\")","v":0.01},1]
[null,232,"nitrapyrin",{"$f":"'Veri Girişi'!C185","v":"GC-MS/MS"},0.16187027075202329,0.1714893646155326,{"$f":"IF(SQRT(SUMSQ(Table1[[#This Row],[Gerçeklik                      ubias= RMSbias]:[Tekrar Üretilebilirlik                 RSDWR(pool) ]]))=0,\"\",(SQRT(SUMSQ(Table1[[#This Row],[Gerçeklik                      ubias= RMSbias]:[Tekrar Üretilebilirlik                 RSDWR(pool) ]]))))","v":0.23581897024958023},{"$f":"IFERROR(Table1[[#This Row],[ Birleşik Standart Belirsizlik uc]]*2,\"\")","v":0.47163794049916047},0.5,{"$f":"IF(Table1[[#This Row],[Kullanılan]]=0.5,0.01,\"--------\")","v":0.01},0]
[null,233,"Nitrofen",{"$f":"'Veri Girişi'!C186","v":"GC-MS/MS"},0.17691807542852525,0.13675678385569881,{"$f":"IF(SQRT(SUMSQ(Table1[[#This Row],[Gerçeklik                      ubias= RMSbias]:[Tekrar Üretilebilirlik                 RSDWR(pool) ]]))=0,\"\",(SQRT(SUMSQ(Table1[[#This Row],[Gerçeklik                      ubias= RMSbias]:[Tekrar Üretilebilirlik                 RSDWR(pool) ]]))))","v":0.22361221644598864},{"$f":"IFERROR(Table1[[#This Row],[ Birleşik Standart Belirsizlik uc]]*2,\"\")","v":0.44722443289197727},0.5,{"$f":"IF(Table1[[#This Row],[Kullanılan]]=0.5,0.01,\"--------\")","v":0.01},1]
[null,234,"Nitrothal-Isopropyl",{"$f":"'Veri Girişi'!C187","v":"GC-MS/MS"},0.17769791306221541,0.11937655661847728,{"$f":"IF(SQRT(SUMSQ(Table1[[#This Row],[Gerçeklik                      ubias= RMSbias]:[Tekrar Üretilebilirlik                 RSDWR(pool) ]]))=0,\"\",(SQRT(SUMSQ(Table1[[#This Row],[Gerçeklik                      ubias= RMSbias]:[Tekrar Üretilebilirlik                 RSDWR(pool) ]]))))","v":0.21407314305337599},{"$f":"IFERROR(Table1[[#This Row],[ Birleşik Standart Belirsizlik uc]]*2,\"\")","v":0.42814628610675198},0.5,{"$f":"IF(Table1[[#This Row],[Kullanılan]]=0.5,0.01,\"--------\")","v":0.01},1]
[null,235,"Norflurazon",{"$f":"'Veri Girişi'!C188","v":"GC-MS/MS"},0.17085518080136364,0.17184260653064365,{"$f":"IF(SQRT(SUMSQ(Table1[[#This Row],[Gerçeklik                      ubias= RMSbias]:[Tekrar Üretilebilirlik                 RSDWR(pool) ]]))=0,\"\",(SQRT(SUMSQ(Table1[[#This Row],[Gerçeklik                      ubias= RMSbias]:[Tekrar Üretilebilirlik                 RSDWR(pool) ]]))))","v":0.24232493521285065},{"$f":"IFERROR(Table1[[#This Row],[ Birleşik Standart Belirsizlik uc]]*2,\"\")","v":0.48464987042570129},0.5,{"$f":"IF(Table1[[#This Row],[Kullanılan]]=0.5,0.01,\"--------\")","v":0.01},1]
[null,236,"Nuarimol",{"$f":"'Veri Girişi'!#REF!","v":{"$error":"#REF!"}},0.15673580195135164,0.14498940717023676,{"$f":"IF(SQRT(SUMSQ(Table1[[#This Row],[Gerçeklik                      ubias= RMSbias]:[Tekrar Üretilebilirlik                 RSDWR(pool) ]]))=0,\"\",(SQRT(SUMSQ(Table1[[#This Row],[Gerçeklik                      ubias= RMSbias]:[Tekrar Üretilebilirlik                 RSDWR(pool) ]]))))","v":0.21351355883154124},{"$f":"IFERROR(Table1[[#This Row],[ Birleşik Standart Belirsizlik uc]]*2,\"\")","v":0.42702711766308249},0.5,{"$f":"IF(Table1[[#This Row],[Kullanılan]]=0.5,0.01,\"--------\")","v":0.01},1]
[null,237,"Orbencarb",{"$f":"'Veri Girişi'!C189","v":"GC-MS/MS"},"","",{"$f":"IF(SQRT(SUMSQ(Table1[[#This Row],[Gerçeklik                      ubias= RMSbias]:[Tekrar Üretilebilirlik                 RSDWR(pool) ]]))=0,\"\",(SQRT(SUMSQ(Table1[[#This Row],[Gerçeklik                      ubias= RMSbias]:[Tekrar Üretilebilirlik                 RSDWR(pool) ]]))))","v":""},{"$f":"IFERROR(Table1[[#This Row],[ Birleşik Standart Belirsizlik uc]]*2,\"\")","v":""},"",{"$f":"IF(Table1[[#This Row],[Kullanılan]]=0.5,0.01,\"--------\")","v":"--------"},1]
[null,238,"Ortho-phenylphenol",{"$f":"'Veri Girişi'!#REF!","v":{"$error":"#REF!"}},"","",{"$f":"IF(SQRT(SUMSQ(Table1[[#This Row],[Gerçeklik                      ubias= RMSbias]:[Tekrar Üretilebilirlik                 RSDWR(pool) ]]))=0,\"\",(SQRT(SUMSQ(Table1[[#This Row],[Gerçeklik                      ubias= RMSbias]:[Tekrar Üretilebilirlik                 RSDWR(pool) ]]))))","v":""},{"$f":"IFERROR(Table1[[#This Row],[ Birleşik Standart Belirsizlik uc]]*2,\"\")","v":""},"",{"$f":"IF(Table1[[#This Row],[Kullanılan]]=0.5,0.01,\"--------\")","v":"--------"},1]
[null,239,"oryzalin",{"$f":"'Veri Girişi'!C190","v":"GC-MS/MS"},"","",{"$f":"IF(SQRT(SUMSQ(Table1[[#This Row],[Gerçeklik                      ubias= RMSbias]:[Tekrar Üretilebilirlik                 RSDWR(pool) ]]))=0,\"\",(SQRT(SUMSQ(Table1[[#This Row],[Gerçeklik                      ubias= RMSbias]:[Tekrar Üretilebilirlik                 RSDWR(pool) ]]))))","v":""},{"$f":"IFERROR(Table1[[#This Row],[ Birleşik Standart Belirsizlik uc]]*2,\"\")","v":""},"",{"$f":"IF(Table1[[#This Row],[Kullanılan]]=0.5,0.01,\"--------\")","v":"--------"},1]
[null,240,"Oxadiazon",{"$f":"'Veri Girişi'!C191","v":"GC-MS/MS"},0.12359531698248118,0.12038257842544575,{"$f":"IF(SQRT(SUMSQ(Table1[[#This Row],[Gerçeklik                      ubias= RMSbias]:[Tekrar Üretilebilirlik                 RSDWR(pool) ]]))=0,\"\",(SQRT(SUMSQ(Table1[[#This Row],[Gerçeklik                      ubias= RMSbias]:[Tekrar Üretilebilirlik                 RSDWR(pool) ]]))))","v":0.17253338102627733},{"$f":"IFERROR(Table1[[#This Row],[ Birleşik Standart Belirsizlik uc]]*2,\"\")","v":0.34506676205255465},0.5,{"$f":"IF(Table1[[#This Row],[Kullanılan]]=0.5,0.01,\"--------\")","v":0.01},0]
[null,241,"Oxadixyl",{"$f":"'Veri Girişi'!C192","v":"GC-MS/MS"},0.15279663312171943,0.14157258760053493,{"$f":"IF(SQRT(SUMSQ(Table1[[#This Row],[Gerçeklik                      ubias= RMSbias]:[Tekrar Üretilebilirlik                 RSDWR(pool) ]]))=0,\"\",(SQRT(SUMSQ(Table1[[#This Row],[Gerçeklik                      ubias= RMSbias]:[Tekrar Üretilebilirlik                 RSDWR(pool) ]]))))","v":0.20830172503665076},{"$f":"IFERROR(Table1[[#This Row],[ Birleşik Standart Belirsizlik uc]]*2,\"\")","v":0.41660345007330152},0.5,{"$f":"IF(Table1[[#This Row],[Kullanılan]]=0.5,0.01,\"--------\")","v":0.01},1]
[null,242,"PCB138",{"$f":"'Veri Girişi'!C193","v":"GC-MS/MS"},"","",{"$f":"IF(SQRT(SUMSQ(Table1[[#This Row],[Gerçeklik                      ubias= RMSbias]:[Tekrar Üretilebilirlik                 RSDWR(pool) ]]))=0,\"\",(SQRT(SUMSQ(Table1[[#This Row],[Gerçeklik                      ubias= RMSbias]:[Tekrar Üretilebilirlik                 RSDWR(pool) ]]))))","v":""},{"$f":"IFERROR(Table1[[#This Row],[ Birleşik Standart Belirsizlik uc]]*2,\"\")","v":""},"",{"$f":"IF(Table1[[#This Row],[Kullanılan]]=0.5,0.01,\"--------\")","v":"--------"},0]
[null,243,"PCB18",{"$f":"'Veri Girişi'!C194","v":"GC-MS/MS"},"","",{"$f":"IF(SQRT(SUMSQ(Table1[[#This Row],[Gerçeklik                      ubias= RMSbias]:[Tekrar Üretilebilirlik                 RSDWR(pool) ]]))=0,\"\",(SQRT(SUMSQ(Table1[[#This Row],[Gerçeklik                      ubias= RMSbias]:[Tekrar Üretilebilirlik                 RSDWR(pool) ]]))))","v":""},{"$f":"IFERROR(Table1[[#This Row],[ Birleşik Standart Belirsizlik uc]]*2,\"\")","v":""},"",{"$f":"IF(Table1[[#This Row],[Kullanılan]]=0.5,0.01,\"--------\")","v":"--------"},1]
[null,244,"Pebulate",{"$f":"'Veri Girişi'!C195","v":"GC-MS/MS"},"","",{"$f":"IF(SQRT(SUMSQ(Table1[[#This Row],[Gerçeklik                      ubias= RMSbias]:[Tekrar Üretilebilirlik                 RSDWR(pool) ]]))=0,\"\",(SQRT(SUMSQ(Table1[[#This Row],[Gerçeklik                      ubias= RMSbias]:[Tekrar Üretilebilirlik                 RSDWR(pool) ]]))))","v":""},{"$f":"IFERROR(Table1[[#This Row],[ Birleşik Standart Belirsizlik uc]]*2,\"\")","v":""},"",{"$f":"IF(Table1[[#This Row],[Kullanılan]]=0.5,0.01,\"--------\")","v":"--------"},1]
[null,245,"Pendimethaline",{"$f":"'Veri Girişi'!#REF!","v":{"$error":"#REF!"}},0.1515847196124992,0.14654232349542112,{"$f":"IF(SQRT(SUMSQ(Table1[[#This Row],[Gerçeklik                      ubias= RMSbias]:[Tekrar Üretilebilirlik                 RSDWR(pool) ]]))=0,\"\",(SQRT(SUMSQ(Table1[[#This Row],[Gerçeklik                      ubias= RMSbias]:[Tekrar Üretilebilirlik                 RSDWR(pool) ]]))))","v":0.21083780447404743},{"$f":"IFERROR(Table1[[#This Row],[ Birleşik Standart Belirsizlik uc]]*2,\"\")","v":0.42167560894809486},0.5,{"$f":"IF(Table1[[#This Row],[Kullanılan]]=0.5,0.01,\"--------\")","v":0.01},1]
[null,246,"Pentachloroaniline",{"$f":"'Veri Girişi'!C196","v":"GC-MS/MS"},0.13201224324533944,0.1308756791671484,{"$f":"IF(SQRT(SUMSQ(Table1[[#This Row],[Gerçeklik                      ubias= RMSbias]:[Tekrar Üretilebilirlik                 RSDWR(pool) ]]))=0,\"\",(SQRT(SUMSQ(Table1[[#This Row],[Gerçeklik                      ubias= RMSbias]:[Tekrar Üretilebilirlik                 RSDWR(pool) ]]))))","v":0.18589156991141106},{"$f":"IFERROR(Table1[[#This Row],[ Birleşik Standart Belirsizlik uc]]*2,\"\")","v":0.37178313982282213},0.5,{"$f":"IF(Table1[[#This Row],[Kullanılan]]=0.5,0.01,\"--------\")","v":0.01},0]
[null,247,"Pentachloroanisole",{"$f":"'Veri Girişi'!C197","v":"GC-MS/MS"},0.15016121025972939,0.1140885716414272,{"$f":"IF(SQRT(SUMSQ(Table1[[#This Row],[Gerçeklik                      ubias= RMSbias]:[Tekrar Üretilebilirlik                 RSDWR(pool) ]]))=0,\"\",(SQRT(SUMSQ(Table1[[#This Row],[Gerçeklik                      ubias= RMSbias]:[Tekrar Üretilebilirlik                 RSDWR(pool) ]]))))","v":0.18858576628645049},{"$f":"IFERROR(Table1[[#This Row],[ Birleşik Standart Belirsizlik uc]]*2,\"\")","v":0.37717153257290098},0.5,{"$f":"IF(Table1[[#This Row],[Kullanılan]]=0.5,0.01,\"--------\")","v":0.01},0]
[null,248,"Pentachlorobenzene",{"$f":"'Veri Girişi'!C198","v":"GC-MS/MS"},0.1477022239056226,0.17861313725993327,{"$f":"IF(SQRT(SUMSQ(Table1[[#This Row],[Gerçeklik                      ubias= RMSbias]:[Tekrar Üretilebilirlik                 RSDWR(pool) ]]))=0,\"\",(SQRT(SUMSQ(Table1[[#This Row],[Gerçeklik                      ubias= RMSbias]:[Tekrar Üretilebilirlik                 RSDWR(pool) ]]))))","v":0.2317727329702578},{"$f":"IFERROR(Table1[[#This Row],[ Birleşik Standart Belirsizlik uc]]*2,\"\")","v":0.4635454659405156},0.5,{"$f":"IF(Table1[[#This Row],[Kullanılan]]=0.5,0.01,\"--------\")","v":0.01},1]
[null,249,"Pentonochlor",{"$f":"'Veri Girişi'!#REF!","v":{"$error":"#REF!"}},{"$f":"IFERROR(VLOOKUP(C253,GERÇEKLİK_BELİRSİZLİĞİ_ubias2_RMSbias2,125,FALSE),\"\")","v":0.14656301004459937},{"$f":"IFERROR(VLOOKUP(C253,T.U.BELIRSIZLIGI,55,FALSE),\"\")","v":0.12956888072935618},{"$f":"IF(SQRT(SUMSQ(Table1[[#This Row],[Gerçeklik                      ubias= RMSbias]:[Tekrar Üretilebilirlik                 RSDWR(pool) ]]))=0,\"\",(SQRT(SUMSQ(Table1[[#This Row],[Gerçeklik                      ubias= RMSbias]:[Tekrar Üretilebilirlik                 RSDWR(pool) ]]))))","v":0.19562415691011031},{"$f":"IFERROR(Table1[[#This Row],[ Birleşik Standart Belirsizlik uc]]*2,\"\")","v":0.39124831382022063},{"$f":"IF(H253<0.5,0.5,H253)","v":0.5},{"$f":"IF(Table1[[#This Row],[Kullanılan]]=0.5,0.01,\"--------\")","v":0.01},1]
[null,250,"Permethrin1",{"$f":"'Veri Girişi'!#REF!","v":{"$error":"#REF!"}},"","",{"$f":"IF(SQRT(SUMSQ(Table1[[#This Row],[Gerçeklik                      ubias= RMSbias]:[Tekrar Üretilebilirlik                 RSDWR(pool) ]]))=0,\"\",(SQRT(SUMSQ(Table1[[#This Row],[Gerçeklik                      ubias= RMSbias]:[Tekrar Üretilebilirlik                 RSDWR(pool) ]]))))","v":""},{"$f":"IFERROR(Table1[[#This Row],[ Birleşik Standart Belirsizlik uc]]*2,\"\")","v":""},"",{"$f":"IF(Table1[[#This Row],[Kullanılan]]=0.5,0.01,\"--------\")","v":"--------"},0]
[null,251,"Perthane",{"$f":"'Veri Girişi'!#REF!","v":{"$error":"#REF!"}},0.12965635474849149,0.11912774375882447,{"$f":"IF(SQRT(SUMSQ(Table1[[#This Row],[Gerçeklik                      ubias= RMSbias]:[Tekrar Üretilebilirlik                 RSDWR(pool) ]]))=0,\"\",(SQRT(SUMSQ(Table1[[#This Row],[Gerçeklik                      ubias= RMSbias]:[Tekrar Üretilebilirlik                 RSDWR(pool) ]]))))","v":0.17607438672258613},{"$f":"IFERROR(Table1[[#This Row],[ Birleşik Standart Belirsizlik uc]]*2,\"\")","v":0.35214877344517226},0.5,{"$f":"IF(Table1[[#This Row],[Kullanılan]]=0.5,0.01,\"--------\")","v":0.01},0]
[null,252,"Pethoxamid",{"$f":"'Veri Girişi'!#REF!","v":{"$error":"#REF!"}},0.13454337387375614,0.14652397410927601,{"$f":"IF(SQRT(SUMSQ(Table1[[#This Row],[Gerçeklik                      ubias= RMSbias]:[Tekrar Üretilebilirlik                 RSDWR(pool) ]]))=0,\"\",(SQRT(SUMSQ(Table1[[#This Row],[Gerçeklik                      ubias= RMSbias]:[Tekrar Üretilebilirlik                 RSDWR(pool) ]]))))","v":0.19892509756717255},{"$f":"IFERROR(Table1[[#This Row],[ Birleşik Standart Belirsizlik uc]]*2,\"\")","v":0.39785019513434511},0.5,{"$f":"IF(Table1[[#This Row],[Kullanılan]]=0.5,0.01,\"--------\")","v":0.01},1]
[null,253,"phenkapton",{"$f":"'Veri Girişi'!#REF!","v":{"$error":"#REF!"}},"","",{"$f":"IF(SQRT(SUMSQ(Table1[[#This Row],[Gerçeklik                      ubias= RMSbias]:[Tekrar Üretilebilirlik                 RSDWR(pool) ]]))=0,\"\",(SQRT(SUMSQ(Table1[[#This Row],[Gerçeklik                      ubias= RMSbias]:[Tekrar Üretilebilirlik                 RSDWR(pool) ]]))))","v":""},{"$f":"IFERROR(Table1[[#This Row],[ Birleşik Standart Belirsizlik uc]]*2,\"\")","v":""},"",{"$f":"IF(Table1[[#This Row],[Kullanılan]]=0.5,0.01,\"--------\")","v":"--------"},1]
[null,254,"Phenothrin",{"$f":"'Veri Girişi'!#REF!","v":{"$error":"#REF!"}},"","",{"$f":"IF(SQRT(SUMSQ(Table1[[#This Row],[Gerçeklik                      ubias= RMSbias]:[Tekrar Üretilebilirlik                 RSDWR(pool) ]]))=0,\"\",(SQRT(SUMSQ(Table1[[#This Row],[Gerçeklik                      ubias= RMSbias]:[Tekrar Üretilebilirlik                 RSDWR(pool) ]]))))","v":""},{"$f":"IFERROR(Table1[[#This Row],[ Birleşik Standart Belirsizlik uc]]*2,\"\")","v":""},"",{"$f":"IF(Table1[[#This Row],[Kullanılan]]=0.5,0.01,\"--------\")","v":"--------"},1]
[null,255,"Phenthoate",{"$f":"'Veri Girişi'!#REF!","v":{"$error":"#REF!"}},0.13228147025692349,9.7792309618592199E-2,{"$f":"IF(SQRT(SUMSQ(Table1[[#This Row],[Gerçeklik                      ubias= RMSbias]:[Tekrar Üretilebilirlik                 RSDWR(pool) ]]))=0,\"\",(SQRT(SUMSQ(Table1[[#This Row],[Gerçeklik                      ubias= RMSbias]:[Tekrar Üretilebilirlik                 RSDWR(pool) ]]))))","v":0.16450447773198132},{"$f":"IFERROR(Table1[[#This Row],[ Birleşik Standart Belirsizlik uc]]*2,\"\")","v":0.32900895546396264},0.5,{"$f":"IF(Table1[[#This Row],[Kullanılan]]=0.5,0.01,\"--------\")","v":0.01},1]
[null,256,"Phosalone",{"$f":"'Veri Girişi'!#REF!","v":{"$error":"#REF!"}},0.17375715377119491,0.16048959309470501,{"$f":"IF(SQRT(SUMSQ(Table1[[#This Row],[Gerçeklik                      ubias= RMSbias]:[Tekrar Üretilebilirlik                 RSDWR(pool) ]]))=0,\"\",(SQRT(SUMSQ(Table1[[#This Row],[Gerçeklik                      ubias= RMSbias]:[Tekrar Üretilebilirlik                 RSDWR(pool) ]]))))","v":0.23653426385699527},{"$f":"IFERROR(Table1[[#This Row],[ Birleşik Standart Belirsizlik uc]]*2,\"\")","v":0.47306852771399055},0.5,{"$f":"IF(Table1[[#This Row],[Kullanılan]]=0.5,0.01,\"--------\")","v":0.01},0]
[null,257,"Phosfolan",{"$f":"'Veri Girişi'!C200","v":"GC-MS/MS"},"","",{"$f":"IF(SQRT(SUMSQ(Table1[[#This Row],[Gerçeklik                      ubias= RMSbias]:[Tekrar Üretilebilirlik                 RSDWR(pool) ]]))=0,\"\",(SQRT(SUMSQ(Table1[[#This Row],[Gerçeklik                      ubias= RMSbias]:[Tekrar Üretilebilirlik                 RSDWR(pool) ]]))))","v":""},{"$f":"IFERROR(Table1[[#This Row],[ Birleşik Standart Belirsizlik uc]]*2,\"\")","v":""},"",{"$f":"IF(Table1[[#This Row],[Kullanılan]]=0.5,0.01,\"--------\")","v":"--------"},1]
[null,258,"Phosmet",{"$f":"'Veri Girişi'!C201","v":"GC-MS/MS"},"","",{"$f":"IF(SQRT(SUMSQ(Table1[[#This Row],[Gerçeklik                      ubias= RMSbias]:[Tekrar Üretilebilirlik                 RSDWR(pool) ]]))=0,\"\",(SQRT(SUMSQ(Table1[[#This Row],[Gerçeklik                      ubias= RMSbias]:[Tekrar Üretilebilirlik                 RSDWR(pool) ]]))))","v":""},{"$f":"IFERROR(Table1[[#This Row],[ Birleşik Standart Belirsizlik uc]]*2,\"\")","v":""},"",{"$f":"IF(Table1[[#This Row],[Kullanılan]]=0.5,0.01,\"--------\")","v":"--------"},1]
[null,259,"Phosphamidon",{"$f":"'Veri Girişi'!C202","v":"GC-MS/MS"},0.16617269565124107,0.12646812668310398,{"$f":"IF(SQRT(SUMSQ(Table1[[#This Row],[Gerçeklik                      ubias= RMSbias]:[Tekrar Üretilebilirlik                 RSDWR(pool) ]]))=0,\"\",(SQRT(SUMSQ(Table1[[#This Row],[Gerçeklik                      ubias= RMSbias]:[Tekrar Üretilebilirlik                 RSDWR(pool) ]]))))","v":0.20882421278849259},{"$f":"IFERROR(Table1[[#This Row],[ Birleşik Standart Belirsizlik uc]]*2,\"\")","v":0.41764842557698517},0.5,{"$f":"IF(Table1[[#This Row],[Kullanılan]]=0.5,0.01,\"--------\")","v":0.01},1]
[null,260,"Phthalimide",{"$f":"'Veri Girişi'!C203","v":"GC-MS/MS"},0.11440696662936806,0.12283685203503728,{"$f":"IF(SQRT(SUMSQ(Table1[[#This Row],[Gerçeklik                      ubias= RMSbias]:[Tekrar Üretilebilirlik                 RSDWR(pool) ]]))=0,\"\",(SQRT(SUMSQ(Table1[[#This Row],[Gerçeklik                      ubias= RMSbias]:[Tekrar Üretilebilirlik                 RSDWR(pool) ]]))))","v":0.16786258139088348},{"$f":"IFERROR(Table1[[#This Row],[ Birleşik Standart Belirsizlik uc]]*2,\"\")","v":0.33572516278176695},0.5,{"$f":"IF(Table1[[#This Row],[Kullanılan]]=0.5,0.01,\"--------\")","v":0.01},0]
[null,261,"Pirimiphos-Ethyl",{"$f":"'Veri Girişi'!C204","v":"GC-MS/MS"},0.11362594879691874,9.929895873627341E-2,{"$f":"IF(SQRT(SUMSQ(Table1[[#This Row],[Gerçeklik                      ubias= RMSbias]:[Tekrar Üretilebilirlik                 RSDWR(pool) ]]))=0,\"\",(SQRT(SUMSQ(Table1[[#This Row],[Gerçeklik                      ubias= RMSbias]:[Tekrar Üretilebilirlik                 RSDWR(pool) ]]))))","v":0.15090109160012108},{"$f":"IFERROR(Table1[[#This Row],[ Birleşik Standart Belirsizlik uc]]*2,\"\")","v":0.30180218320024216},0.5,{"$f":"IF(Table1[[#This Row],[Kullanılan]]=0.5,0.01,\"--------\")","v":0.01},1]
[null,262,"Pretilachlor",{"$f":"'Veri Girişi'!C205","v":"GC-MS/MS"},0.13269604769296384,0.1344822972360955,{"$f":"IF(SQRT(SUMSQ(Table1[[#This Row],[Gerçeklik                      ubias= RMSbias]:[Tekrar Üretilebilirlik                 RSDWR(pool) ]]))=0,\"\",(SQRT(SUMSQ(Table1[[#This Row],[Gerçeklik                      ubias= RMSbias]:[Tekrar Üretilebilirlik                 RSDWR(pool) ]]))))","v":0.18892784163068946},{"$f":"IFERROR(Table1[[#This Row],[ Birleşik Standart Belirsizlik uc]]*2,\"\")","v":0.37785568326137892},0.5,{"$f":"IF(Table1[[#This Row],[Kullanılan]]=0.5,0.01,\"--------\")","v":0.01},1]
[null,263,"Procymidone",{"$f":"'Veri Girişi'!C206","v":"GC-MS/MS"},0.11918707821460064,0.12086473787335233,{"$f":"IF(SQRT(SUMSQ(Table1[[#This Row],[Gerçeklik                      ubias= RMSbias]:[Tekrar Üretilebilirlik                 RSDWR(pool) ]]))=0,\"\",(SQRT(SUMSQ(Table1[[#This Row],[Gerçeklik                      ubias= RMSbias]:[Tekrar Üretilebilirlik                 RSDWR(pool) ]]))))","v":0.16974641225819032},{"$f":"IFERROR(Table1[[#This Row],[ Birleşik Standart Belirsizlik uc]]*2,\"\")","v":0.33949282451638063},0.5,{"$f":"IF(Table1[[#This Row],[Kullanılan]]=0.5,0.01,\"--------\")","v":0.01},1]
[null,264,"Prodiamine",{"$f":"'Veri Girişi'!C207","v":"GC-MS/MS"},"","",{"$f":"IF(SQRT(SUMSQ(Table1[[#This Row],[Gerçeklik                      ubias= RMSbias]:[Tekrar Üretilebilirlik                 RSDWR(pool) ]]))=0,\"\",(SQRT(SUMSQ(Table1[[#This Row],[Gerçeklik                      ubias= RMSbias]:[Tekrar Üretilebilirlik                 RSDWR(pool) ]]))))","v":""},{"$f":"IFERROR(Table1[[#This Row],[ Birleşik Standart Belirsizlik uc]]*2,\"\")","v":""},"",{"$f":"IF(Table1[[#This Row],[Kullanılan]]=0.5,0.01,\"--------\")","v":"--------"},1]
[null,265,"Profenofos",{"$f":"'Veri Girişi'!C208","v":"GC-MS/MS"},0.17164639213608116,0.14358364620075034,{"$f":"IF(SQRT(SUMSQ(Table1[[#This Row],[Gerçeklik                      ubias= RMSbias]:[Tekrar Üretilebilirlik                 RSDWR(pool) ]]))=0,\"\",(SQRT(SUMSQ(Table1[[#This Row],[Gerçeklik                      ubias= RMSbias]:[Tekrar Üretilebilirlik                 RSDWR(pool) ]]))))","v":0.22378281298981742},{"$f":"IFERROR(Table1[[#This Row],[ Birleşik Standart Belirsizlik uc]]*2,\"\")","v":0.44756562597963484},0.5,{"$f":"IF(Table1[[#This Row],[Kullanılan]]=0.5,0.01,\"--------\")","v":0.01},1]
[null,266,"Profluralin",{"$f":"'Veri Girişi'!C209","v":"GC-MS/MS"},0.15989119485867048,0.13411683457573498,{"$f":"IF(SQRT(SUMSQ(Table1[[#This Row],[Gerçeklik                      ubias= RMSbias]:[Tekrar Üretilebilirlik                 RSDWR(pool) ]]))=0,\"\",(SQRT(SUMSQ(Table1[[#This Row],[Gerçeklik                      ubias= RMSbias]:[Tekrar Üretilebilirlik                 RSDWR(pool) ]]))))","v":0.20869240405426451},{"$f":"IFERROR(Table1[[#This Row],[ Birleşik Standart Belirsizlik uc]]*2,\"\")","v":0.41738480810852902},0.5,{"$f":"IF(Table1[[#This Row],[Kullanılan]]=0.5,0.01,\"--------\")","v":0.01},1]
[null,267,"Prometon",{"$f":"'Veri Girişi'!#REF!","v":{"$error":"#REF!"}},0.12408911644459396,0.1159660410092738,{"$f":"IF(SQRT(SUMSQ(Table1[[#This Row],[Gerçeklik                      ubias= RMSbias]:[Tekrar Üretilebilirlik                 RSDWR(pool) ]]))=0,\"\",(SQRT(SUMSQ(Table1[[#This Row],[Gerçeklik                      ubias= RMSbias]:[Tekrar Üretilebilirlik                 RSDWR(pool) ]]))))","v":0.16984178369107106},{"$f":"IFERROR(Table1[[#This Row],[ Birleşik Standart Belirsizlik uc]]*2,\"\")","v":0.33968356738214212},0.5,{"$f":"IF(Table1[[#This Row],[Kullanılan]]=0.5,0.01,\"--------\")","v":0.01},1]
[null,268,"Prometryn",{"$f":"'Veri Girişi'!#REF!","v":{"$error":"#REF!"}},0.11774594792744816,0.13368167559367353,{"$f":"IF(SQRT(SUMSQ(Table1[[#This Row],[Gerçeklik                      ubias= RMSbias]:[Tekrar Üretilebilirlik                 RSDWR(pool) ]]))=0,\"\",(SQRT(SUMSQ(Table1[[#This Row],[Gerçeklik                      ubias= RMSbias]:[Tekrar Üretilebilirlik                 RSDWR(pool) ]]))))","v":0.17814291634209176},{"$f":"IFERROR(Table1[[#This Row],[ Birleşik Standart Belirsizlik uc]]*2,\"\")","v":0.35628583268418351},0.5,{"$f":"IF(Table1[[#This Row],[Kullanılan]]=0.5,0.01,\"--------\")","v":0.01},1]
[null,269,"Propachlor",{"$f":"'Veri Girişi'!C211","v":"GC-MS/MS"},0.15055510415348483,0.10917619935139063,{"$f":"IF(SQRT(SUMSQ(Table1[[#This Row],[Gerçeklik                      ubias= RMSbias]:[Tekrar Üretilebilirlik                 RSDWR(pool) ]]))=0,\"\",(SQRT(SUMSQ(Table1[[#This Row],[Gerçeklik                      ubias= RMSbias]:[Tekrar Üretilebilirlik                 RSDWR(pool) ]]))))","v":0.18597387421753964},{"$f":"IFERROR(Table1[[#This Row],[ Birleşik Standart Belirsizlik uc]]*2,\"\")","v":0.37194774843507927},0.5,{"$f":"IF(Table1[[#This Row],[Kullanılan]]=0.5,0.01,\"--------\")","v":0.01},1]
[null,270,"Propanil",{"$f":"'Veri Girişi'!C212","v":"GC-MS/MS"},0.15830279822753188,0.12841618140337624,{"$f":"IF(SQRT(SUMSQ(Table1[[#This Row],[Gerçeklik                      ubias= RMSbias]:[Tekrar Üretilebilirlik                 RSDWR(pool) ]]))=0,\"\",(SQRT(SUMSQ(Table1[[#This Row],[Gerçeklik                      ubias= RMSbias]:[Tekrar Üretilebilirlik                 RSDWR(pool) ]]))))","v":0.2038393768948765},{"$f":"IFERROR(Table1[[#This Row],[ Birleşik Standart Belirsizlik uc]]*2,\"\")","v":0.40767875378975299},0.5,{"$f":"IF(Table1[[#This Row],[Kullanılan]]=0.5,0.01,\"--------\")","v":0.01},1]
[null,271,"Propazine",{"$f":"'Veri Girişi'!C214","v":"GC-MS/MS"},0.13984688891784472,0.10054871345132231,{"$f":"IF(SQRT(SUMSQ(Table1[[#This Row],[Gerçeklik                      ubias= RMSbias]:[Tekrar Üretilebilirlik                 RSDWR(pool) ]]))=0,\"\",(SQRT(SUMSQ(Table1[[#This Row],[Gerçeklik                      ubias= RMSbias]:[Tekrar Üretilebilirlik                 RSDWR(pool) ]]))))","v":0.17224167938311599},{"$f":"IFERROR(Table1[[#This Row],[ Birleşik Standart Belirsizlik uc]]*2,\"\")","v":0.34448335876623198},0.5,{"$f":"IF(Table1[[#This Row],[Kullanılan]]=0.5,0.01,\"--------\")","v":0.01},1]
[null,272,"Propetamphos",{"$f":"'Veri Girişi'!#REF!","v":{"$error":"#REF!"}},0.1299588061143479,0.10818777271760927,{"$f":"IF(SQRT(SUMSQ(Table1[[#This Row],[Gerçeklik                      ubias= RMSbias]:[Tekrar Üretilebilirlik                 RSDWR(pool) ]]))=0,\"\",(SQRT(SUMSQ(Table1[[#This Row],[Gerçeklik                      ubias= RMSbias]:[Tekrar Üretilebilirlik                 RSDWR(pool) ]]))))","v":0.16909726624716245},{"$f":"IFERROR(Table1[[#This Row],[ Birleşik Standart Belirsizlik uc]]*2,\"\")","v":0.33819453249432491},0.5,{"$f":"IF(Table1[[#This Row],[Kullanılan]]=0.5,0.01,\"--------\")","v":0.01},1]
[null,273,"Propiconazole-1",{"$f":"'Veri Girişi'!#REF!","v":{"$error":"#REF!"}},"","",{"$f":"IF(SQRT(SUMSQ(Table1[[#This Row],[Gerçeklik                      ubias= RMSbias]:[Tekrar Üretilebilirlik                 RSDWR(pool) ]]))=0,\"\",(SQRT(SUMSQ(Table1[[#This Row],[Gerçeklik                      ubias= RMSbias]:[Tekrar Üretilebilirlik                 RSDWR(pool) ]]))))","v":""},{"$f":"IFERROR(Table1[[#This Row],[ Birleşik Standart Belirsizlik uc]]*2,\"\")","v":""},"",{"$f":"IF(Table1[[#This Row],[Kullanılan]]=0.5,0.01,\"--------\")","v":"--------"},1]
[null,274,"propisochlor",{"$f":"'Veri Girişi'!#REF!","v":{"$error":"#REF!"}},0.11721451849778113,0.11333669261007678,{"$f":"IF(SQRT(SUMSQ(Table1[[#This Row],[Gerçeklik                      ubias= RMSbias]:[Tekrar Üretilebilirlik                 RSDWR(pool) ]]))=0,\"\",(SQRT(SUMSQ(Table1[[#This Row],[Gerçeklik                      ubias= RMSbias]:[Tekrar Üretilebilirlik                 RSDWR(pool) ]]))))","v":0.16304738341493771},{"$f":"IFERROR(Table1[[#This Row],[ Birleşik Standart Belirsizlik uc]]*2,\"\")","v":0.32609476682987543},0.5,{"$f":"IF(Table1[[#This Row],[Kullanılan]]=0.5,0.01,\"--------\")","v":0.01},0]
[null,275,"Prothiofos",{"$f":"'Veri Girişi'!C215","v":"GC-MS/MS"},0.12615572464220559,0.13668698019272948,{"$f":"IF(SQRT(SUMSQ(Table1[[#This Row],[Gerçeklik                      ubias= RMSbias]:[Tekrar Üretilebilirlik                 RSDWR(pool) ]]))=0,\"\",(SQRT(SUMSQ(Table1[[#This Row],[Gerçeklik                      ubias= RMSbias]:[Tekrar Üretilebilirlik                 RSDWR(pool) ]]))))","v":0.18600698216520697},{"$f":"IFERROR(Table1[[#This Row],[ Birleşik Standart Belirsizlik uc]]*2,\"\")","v":0.37201396433041395},0.5,{"$f":"IF(Table1[[#This Row],[Kullanılan]]=0.5,0.01,\"--------\")","v":0.01},1]
[null,276,"Pyraclofos",{"$f":"'Veri Girişi'!#REF!","v":{"$error":"#REF!"}},0.18612488595922186,0.13829375732905999,{"$f":"IF(SQRT(SUMSQ(Table1[[#This Row],[Gerçeklik                      ubias= RMSbias]:[Tekrar Üretilebilirlik                 RSDWR(pool) ]]))=0,\"\",(SQRT(SUMSQ(Table1[[#This Row],[Gerçeklik                      ubias= RMSbias]:[Tekrar Üretilebilirlik                 RSDWR(pool) ]]))))","v":0.23187849509931333},{"$f":"IFERROR(Table1[[#This Row],[ Birleşik Standart Belirsizlik uc]]*2,\"\")","v":0.46375699019862665},0.5,{"$f":"IF(Table1[[#This Row],[Kullanılan]]=0.5,0.01,\"--------\")","v":0.01},1]
[null,277,"Pyraflufen Ethyl",{"$f":"'Veri Girişi'!C216","v":"GC-MS/MS"},"","",{"$f":"IF(SQRT(SUMSQ(Table1[[#This Row],[Gerçeklik                      ubias= RMSbias]:[Tekrar Üretilebilirlik                 RSDWR(pool) ]]))=0,\"\",(SQRT(SUMSQ(Table1[[#This Row],[Gerçeklik                      ubias= RMSbias]:[Tekrar Üretilebilirlik                 RSDWR(pool) ]]))))","v":""},{"$f":"IFERROR(Table1[[#This Row],[ Birleşik Standart Belirsizlik uc]]*2,\"\")","v":""},"",{"$f":"IF(Table1[[#This Row],[Kullanılan]]=0.5,0.01,\"--------\")","v":"--------"},1]
[null,278,"Pyrasulfotole",{"$f":"'Veri Girişi'!C217","v":"GC-MS/MS"},"","",{"$f":"IF(SQRT(SUMSQ(Table1[[#This Row],[Gerçeklik                      ubias= RMSbias]:[Tekrar Üretilebilirlik                 RSDWR(pool) ]]))=0,\"\",(SQRT(SUMSQ(Table1[[#This Row],[Gerçeklik                      ubias= RMSbias]:[Tekrar Üretilebilirlik                 RSDWR(pool) ]]))))","v":""},{"$f":"IFERROR(Table1[[#This Row],[ Birleşik Standart Belirsizlik uc]]*2,\"\")","v":""},"",{"$f":"IF(Table1[[#This Row],[Kullanılan]]=0.5,0.01,\"--------\")","v":"--------"},1]
[null,279,"Pyrazophos",{"$f":"'Veri Girişi'!C218","v":"GC-MS/MS"},0.17977076783133195,0.13468262858447019,{"$f":"IF(SQRT(SUMSQ(Table1[[#This Row],[Gerçeklik                      ubias= RMSbias]:[Tekrar Üretilebilirlik                 RSDWR(pool) ]]))=0,\"\",(SQRT(SUMSQ(Table1[[#This Row],[Gerçeklik                      ubias= RMSbias]:[Tekrar Üretilebilirlik                 RSDWR(pool) ]]))))","v":0.22462622155280315},{"$f":"IFERROR(Table1[[#This Row],[ Birleşik Standart Belirsizlik uc]]*2,\"\")","v":0.4492524431056063},0.5,{"$f":"IF(Table1[[#This Row],[Kullanılan]]=0.5,0.01,\"--------\")","v":0.01},0]
[null,280,"Pyributicarb",{"$f":"'Veri Girişi'!C219","v":"GC-MS/MS"},0.15222249730794285,0.15004393785691769,{"$f":"IF(SQRT(SUMSQ(Table1[[#This Row],[Gerçeklik                      ubias= RMSbias]:[Tekrar Üretilebilirlik                 RSDWR(pool) ]]))=0,\"\",(SQRT(SUMSQ(Table1[[#This Row],[Gerçeklik                      ubias= RMSbias]:[Tekrar Üretilebilirlik                 RSDWR(pool) ]]))))","v":0.21374019737587321},{"$f":"IFERROR(Table1[[#This Row],[ Birleşik Standart Belirsizlik uc]]*2,\"\")","v":0.42748039475174643},0.5,{"$f":"IF(Table1[[#This Row],[Kullanılan]]=0.5,0.01,\"--------\")","v":0.01},1]
[null,281,"Pyridophenthion",{"$f":"'Veri Girişi'!C220","v":"GC-MS/MS"},0.17111119349709414,0.14587961659577478,{"$f":"IF(SQRT(SUMSQ(Table1[[#This Row],[Gerçeklik                      ubias= RMSbias]:[Tekrar Üretilebilirlik                 RSDWR(pool) ]]))=0,\"\",(SQRT(SUMSQ(Table1[[#This Row],[Gerçeklik                      ubias= RMSbias]:[Tekrar Üretilebilirlik                 RSDWR(pool) ]]))))","v":0.22485529364044388},{"$f":"IFERROR(Table1[[#This Row],[ Birleşik Standart Belirsizlik uc]]*2,\"\")","v":0.44971058728088775},0.5,{"$f":"IF(Table1[[#This Row],[Kullanılan]]=0.5,0.01,\"--------\")","v":0.01},1]
[null,282,"Pyrimethaline",{"$f":"'Veri Girişi'!C221","v":"GC-MS/MS"},"","",{"$f":"IF(SQRT(SUMSQ(Table1[[#This Row],[Gerçeklik                      ubias= RMSbias]:[Tekrar Üretilebilirlik                 RSDWR(pool) ]]))=0,\"\",(SQRT(SUMSQ(Table1[[#This Row],[Gerçeklik                      ubias= RMSbias]:[Tekrar Üretilebilirlik                 RSDWR(pool) ]]))))","v":""},{"$f":"IFERROR(Table1[[#This Row],[ Birleşik Standart Belirsizlik uc]]*2,\"\")","v":""},"",{"$f":"IF(Table1[[#This Row],[Kullanılan]]=0.5,0.01,\"--------\")","v":"--------"},1]
[null,283,"Pyroquilon",{"$f":"'Veri Girişi'!C222","v":"GC-MS/MS"},0.17345378952331941,0.17693113587795145,{"$f":"IF(SQRT(SUMSQ(Table1[[#This Row],[Gerçeklik                      ubias= RMSbias]:[Tekrar Üretilebilirlik                 RSDWR(pool) ]]))=0,\"\",(SQRT(SUMSQ(Table1[[#This Row],[Gerçeklik                      ubias= RMSbias]:[Tekrar Üretilebilirlik                 RSDWR(pool) ]]))))","v":0.24777175775915647},{"$f":"IFERROR(Table1[[#This Row],[ Birleşik Standart Belirsizlik uc]]*2,\"\")","v":0.49554351551831294},0.5,{"$f":"IF(Table1[[#This Row],[Kullanılan]]=0.5,0.01,\"--------\")","v":0.01},1]
[null,284,"Quinalphos",{"$f":"'Veri Girişi'!C223","v":"GC-MS/MS"},0.15835062675383804,0.1441892208155042,{"$f":"IF(SQRT(SUMSQ(Table1[[#This Row],[Gerçeklik                      ubias= RMSbias]:[Tekrar Üretilebilirlik                 RSDWR(pool) ]]))=0,\"\",(SQRT(SUMSQ(Table1[[#This Row],[Gerçeklik                      ubias= RMSbias]:[Tekrar Üretilebilirlik                 RSDWR(pool) ]]))))","v":0.21416221046841002},{"$f":"IFERROR(Table1[[#This Row],[ Birleşik Standart Belirsizlik uc]]*2,\"\")","v":0.42832442093682005},0.5,{"$f":"IF(Table1[[#This Row],[Kullanılan]]=0.5,0.01,\"--------\")","v":0.01},1]
[null,285,"Quinoclamine",{"$f":"'Veri Girişi'!C224","v":"GC-MS/MS"},0.18874632886496098,0.16964075006928073,{"$f":"IF(SQRT(SUMSQ(Table1[[#This Row],[Gerçeklik                      ubias= RMSbias]:[Tekrar Üretilebilirlik                 RSDWR(pool) ]]))=0,\"\",(SQRT(SUMSQ(Table1[[#This Row],[Gerçeklik                      ubias= RMSbias]:[Tekrar Üretilebilirlik                 RSDWR(pool) ]]))))","v":0.25377777827080955},{"$f":"IFERROR(Table1[[#This Row],[ Birleşik Standart Belirsizlik uc]]*2,\"\")","v":0.5075555565416191},0.5075555565416191,{"$f":"IF(Table1[[#This Row],[Kullanılan]]=0.5,0.01,\"--------\")","v":"--------"},0]
[null,286,"Quintozene",{"$f":"'Veri Girişi'!C225","v":"GC-MS/MS"},0.13942811474017711,0.15994682273531191,{"$f":"IF(SQRT(SUMSQ(Table1[[#This Row],[Gerçeklik                      ubias= RMSbias]:[Tekrar Üretilebilirlik                 RSDWR(pool) ]]))=0,\"\",(SQRT(SUMSQ(Table1[[#This Row],[Gerçeklik                      ubias= RMSbias]:[Tekrar Üretilebilirlik                 RSDWR(pool) ]]))))","v":0.2121866755550906},{"$f":"IFERROR(Table1[[#This Row],[ Birleşik Standart Belirsizlik uc]]*2,\"\")","v":0.42437335111018121},0.5,{"$f":"IF(Table1[[#This Row],[Kullanılan]]=0.5,0.01,\"--------\")","v":0.01},1]
[null,287,"Resmethrin-2",{"$f":"'Veri Girişi'!C226","v":"GC-MS/MS"},"","",{"$f":"IF(SQRT(SUMSQ(Table1[[#This Row],[Gerçeklik                      ubias= RMSbias]:[Tekrar Üretilebilirlik                 RSDWR(pool) ]]))=0,\"\",(SQRT(SUMSQ(Table1[[#This Row],[Gerçeklik                      ubias= RMSbias]:[Tekrar Üretilebilirlik                 RSDWR(pool) ]]))))","v":""},{"$f":"IFERROR(Table1[[#This Row],[ Birleşik Standart Belirsizlik uc]]*2,\"\")","v":""},"",{"$f":"IF(Table1[[#This Row],[Kullanılan]]=0.5,0.01,\"--------\")","v":"--------"},0]
[null,288,"S421",{"$f":"'Veri Girişi'!C227","v":"GC-MS/MS"},"","",{"$f":"IF(SQRT(SUMSQ(Table1[[#This Row],[Gerçeklik                      ubias= RMSbias]:[Tekrar Üretilebilirlik                 RSDWR(pool) ]]))=0,\"\",(SQRT(SUMSQ(Table1[[#This Row],[Gerçeklik                      ubias= RMSbias]:[Tekrar Üretilebilirlik                 RSDWR(pool) ]]))))","v":""},{"$f":"IFERROR(Table1[[#This Row],[ Birleşik Standart Belirsizlik uc]]*2,\"\")","v":""},"",{"$f":"IF(Table1[[#This Row],[Kullanılan]]=0.5,0.01,\"--------\")","v":"--------"},1]
[null,289,"Simazine",{"$f":"'Veri Girişi'!C228","v":"GC-MS/MS"},0.12811982922248996,0.10641241552533763,{"$f":"IF(SQRT(SUMSQ(Table1[[#This Row],[Gerçeklik                      ubias= RMSbias]:[Tekrar Üretilebilirlik                 RSDWR(pool) ]]))=0,\"\",(SQRT(SUMSQ(Table1[[#This Row],[Gerçeklik                      ubias= RMSbias]:[Tekrar Üretilebilirlik                 RSDWR(pool) ]]))))","v":0.1665481696625247},{"$f":"IFERROR(Table1[[#This Row],[ Birleşik Standart Belirsizlik uc]]*2,\"\")","v":0.3330963393250494},0.5,{"$f":"IF(Table1[[#This Row],[Kullanılan]]=0.5,0.01,\"--------\")","v":0.01},1]
[null,290,"Simeconazole",{"$f":"'Veri Girişi'!C229","v":"GC-MS/MS"},"","",{"$f":"IF(SQRT(SUMSQ(Table1[[#This Row],[Gerçeklik                      ubias= RMSbias]:[Tekrar Üretilebilirlik                 RSDWR(pool) ]]))=0,\"\",(SQRT(SUMSQ(Table1[[#This Row],[Gerçeklik                      ubias= RMSbias]:[Tekrar Üretilebilirlik                 RSDWR(pool) ]]))))","v":""},{"$f":"IFERROR(Table1[[#This Row],[ Birleşik Standart Belirsizlik uc]]*2,\"\")","v":""},"",{"$f":"IF(Table1[[#This Row],[Kullanılan]]=0.5,0.01,\"--------\")","v":"--------"},1]
[null,291,"Simetryn",{"$f":"'Veri Girişi'!C230","v":"GC-MS/MS"},0.13205775842410772,0.12878474056278288,{"$f":"IF(SQRT(SUMSQ(Table1[[#This Row],[Gerçeklik                      ubias= RMSbias]:[Tekrar Üretilebilirlik                 RSDWR(pool) ]]))=0,\"\",(SQRT(SUMSQ(Table1[[#This Row],[Gerçeklik                      ubias= RMSbias]:[Tekrar Üretilebilirlik                 RSDWR(pool) ]]))))","v":0.18445801951073662},{"$f":"IFERROR(Table1[[#This Row],[ Birleşik Standart Belirsizlik uc]]*2,\"\")","v":0.36891603902147324},0.5,{"$f":"IF(Table1[[#This Row],[Kullanılan]]=0.5,0.01,\"--------\")","v":0.01},1]
[null,292,"Spiromesifen",{"$f":"'Veri Girişi'!C231","v":"GC-MS/MS"},0.1474403242671421,0.11479993517792238,{"$f":"IF(SQRT(SUMSQ(Table1[[#This Row],[Gerçeklik                      ubias= RMSbias]:[Tekrar Üretilebilirlik                 RSDWR(pool) ]]))=0,\"\",(SQRT(SUMSQ(Table1[[#This Row],[Gerçeklik                      ubias= RMSbias]:[Tekrar Üretilebilirlik                 RSDWR(pool) ]]))))","v":0.18686271521321526},{"$f":"IFERROR(Table1[[#This Row],[ Birleşik Standart Belirsizlik uc]]*2,\"\")","v":0.37372543042643053},0.5,{"$f":"IF(Table1[[#This Row],[Kullanılan]]=0.5,0.01,\"--------\")","v":0.01},1]
[null,293,"Sulfotep",{"$f":"'Veri Girişi'!C232","v":"GC-MS/MS"},0.14733986355814691,0.13443265918881839,{"$f":"IF(SQRT(SUMSQ(Table1[[#This Row],[Gerçeklik                      ubias= RMSbias]:[Tekrar Üretilebilirlik                 RSDWR(pool) ]]))=0,\"\",(SQRT(SUMSQ(Table1[[#This Row],[Gerçeklik                      ubias= RMSbias]:[Tekrar Üretilebilirlik                 RSDWR(pool) ]]))))","v":0.19945218787947738},{"$f":"IFERROR(Table1[[#This Row],[ Birleşik Standart Belirsizlik uc]]*2,\"\")","v":0.39890437575895477},0.5,{"$f":"IF(Table1[[#This Row],[Kullanılan]]=0.5,0.01,\"--------\")","v":0.01},1]
[null,294,"Sulprofos",{"$f":"'Veri Girişi'!C233","v":"GC-MS/MS"},0.13998763638264633,0.1466278628207266,{"$f":"IF(SQRT(SUMSQ(Table1[[#This Row],[Gerçeklik                      ubias= RMSbias]:[Tekrar Üretilebilirlik                 RSDWR(pool) ]]))=0,\"\",(SQRT(SUMSQ(Table1[[#This Row],[Gerçeklik                      ubias= RMSbias]:[Tekrar Üretilebilirlik                 RSDWR(pool) ]]))))","v":0.20272214604076641},{"$f":"IFERROR(Table1[[#This Row],[ Birleşik Standart Belirsizlik uc]]*2,\"\")","v":0.40544429208153282},0.5,{"$f":"IF(Table1[[#This Row],[Kullanılan]]=0.5,0.01,\"--------\")","v":0.01},0]
[null,295,"Swep",{"$f":"'Veri Girişi'!C234","v":"GC-MS/MS"},"","",{"$f":"IF(SQRT(SUMSQ(Table1[[#This Row],[Gerçeklik                      ubias= RMSbias]:[Tekrar Üretilebilirlik                 RSDWR(pool) ]]))=0,\"\",(SQRT(SUMSQ(Table1[[#This Row],[Gerçeklik                      ubias= RMSbias]:[Tekrar Üretilebilirlik                 RSDWR(pool) ]]))))","v":""},{"$f":"IFERROR(Table1[[#This Row],[ Birleşik Standart Belirsizlik uc]]*2,\"\")","v":""},"",{"$f":"IF(Table1[[#This Row],[Kullanılan]]=0.5,0.01,\"--------\")","v":"--------"},1]
[null,296,"Tau-Fluvalinate1",{"$f":"'Veri Girişi'!C235","v":"GC-MS/MS"},"","",{"$f":"IF(SQRT(SUMSQ(Table1[[#This Row],[Gerçeklik                      ubias= RMSbias]:[Tekrar Üretilebilirlik                 RSDWR(pool) ]]))=0,\"\",(SQRT(SUMSQ(Table1[[#This Row],[Gerçeklik                      ubias= RMSbias]:[Tekrar Üretilebilirlik                 RSDWR(pool) ]]))))","v":""},{"$f":"IFERROR(Table1[[#This Row],[ Birleşik Standart Belirsizlik uc]]*2,\"\")","v":""},"",{"$f":"IF(Table1[[#This Row],[Kullanılan]]=0.5,0.01,\"--------\")","v":"--------"},1]
[null,297,"Tebupirimfos",{"$f":"'Veri Girişi'!C236","v":"GC-MS/MS"},"","",{"$f":"IF(SQRT(SUMSQ(Table1[[#This Row],[Gerçeklik                      ubias= RMSbias]:[Tekrar Üretilebilirlik                 RSDWR(pool) ]]))=0,\"\",(SQRT(SUMSQ(Table1[[#This Row],[Gerçeklik                      ubias= RMSbias]:[Tekrar Üretilebilirlik                 RSDWR(pool) ]]))))","v":""},{"$f":"IFERROR(Table1[[#This Row],[ Birleşik Standart Belirsizlik uc]]*2,\"\")","v":""},"",{"$f":"IF(Table1[[#This Row],[Kullanılan]]=0.5,0.01,\"--------\")","v":"--------"},1]
[null,298,"Tecnazene",{"$f":"'Veri Girişi'!#REF!","v":{"$error":"#REF!"}},0.11086210224117767,0.11555760854961496,{"$f":"IF(SQRT(SUMSQ(Table1[[#This Row],[Gerçeklik                      ubias= RMSbias]:[Tekrar Üretilebilirlik                 RSDWR(pool) ]]))=0,\"\",(SQRT(SUMSQ(Table1[[#This Row],[Gerçeklik                      ubias= RMSbias]:[Tekrar Üretilebilirlik                 RSDWR(pool) ]]))))","v":0.16013733670521493},{"$f":"IFERROR(Table1[[#This Row],[ Birleşik Standart Belirsizlik uc]]*2,\"\")","v":0.32027467341042987},0.5,{"$f":"IF(Table1[[#This Row],[Kullanılan]]=0.5,0.01,\"--------\")","v":0.01},1]
[null,299,"Tefluthrine",{"$f":"'Veri Girişi'!#REF!","v":{"$error":"#REF!"}},0.12714941108790084,0.11454391924547927,{"$f":"IF(SQRT(SUMSQ(Table1[[#This Row],[Gerçeklik                      ubias= RMSbias]:[Tekrar Üretilebilirlik                 RSDWR(pool) ]]))=0,\"\",(SQRT(SUMSQ(Table1[[#This Row],[Gerçeklik                      ubias= RMSbias]:[Tekrar Üretilebilirlik                 RSDWR(pool) ]]))))","v":0.17113527449393617},{"$f":"IFERROR(Table1[[#This Row],[ Birleşik Standart Belirsizlik uc]]*2,\"\")","v":0.34227054898787235},0.5,{"$f":"IF(Table1[[#This Row],[Kullanılan]]=0.5,0.01,\"--------\")","v":0.01},1]
[null,300,"Terbacil",{"$f":"'Veri Girişi'!C237","v":"GC-MS/MS"},"","",{"$f":"IF(SQRT(SUMSQ(Table1[[#This Row],[Gerçeklik                      ubias= RMSbias]:[Tekrar Üretilebilirlik                 RSDWR(pool) ]]))=0,\"\",(SQRT(SUMSQ(Table1[[#This Row],[Gerçeklik                      ubias= RMSbias]:[Tekrar Üretilebilirlik                 RSDWR(pool) ]]))))","v":""},{"$f":"IFERROR(Table1[[#This Row],[ Birleşik Standart Belirsizlik uc]]*2,\"\")","v":""},"",{"$f":"IF(Table1[[#This Row],[Kullanılan]]=0.5,0.01,\"--------\")","v":"--------"},1]
[null,301,"Terbufos",{"$f":"'Veri Girişi'!C238","v":"GC-MS/MS"},0.13837119189580852,0.1458344094111492,{"$f":"IF(SQRT(SUMSQ(Table1[[#This Row],[Gerçeklik                      ubias= RMSbias]:[Tekrar Üretilebilirlik                 RSDWR(pool) ]]))=0,\"\",(SQRT(SUMSQ(Table1[[#This Row],[Gerçeklik                      ubias= RMSbias]:[Tekrar Üretilebilirlik                 RSDWR(pool) ]]))))","v":0.20103298663394856},{"$f":"IFERROR(Table1[[#This Row],[ Birleşik Standart Belirsizlik uc]]*2,\"\")","v":0.40206597326789711},0.5,{"$f":"IF(Table1[[#This Row],[Kullanılan]]=0.5,0.01,\"--------\")","v":0.01},1]
[null,302,"Terbumeton",{"$f":"'Veri Girişi'!#REF!","v":{"$error":"#REF!"}},0.14419890734676183,0.11138361942418359,{"$f":"IF(SQRT(SUMSQ(Table1[[#This Row],[Gerçeklik                      ubias= RMSbias]:[Tekrar Üretilebilirlik                 RSDWR(pool) ]]))=0,\"\",(SQRT(SUMSQ(Table1[[#This Row],[Gerçeklik                      ubias= RMSbias]:[Tekrar Üretilebilirlik                 RSDWR(pool) ]]))))","v":0.18220767150707834},{"$f":"IFERROR(Table1[[#This Row],[ Birleşik Standart Belirsizlik uc]]*2,\"\")","v":0.36441534301415668},0.5,{"$f":"IF(Table1[[#This Row],[Kullanılan]]=0.5,0.01,\"--------\")","v":0.01},1]
[null,303,"Terbuthylazine",{"$f":"'Veri Girişi'!C239","v":"GC-MS/MS"},0.13770420911020353,0.13858907248478228,{"$f":"IF(SQRT(SUMSQ(Table1[[#This Row],[Gerçeklik                      ubias= RMSbias]:[Tekrar Üretilebilirlik                 RSDWR(pool) ]]))=0,\"\",(SQRT(SUMSQ(Table1[[#This Row],[Gerçeklik                      ubias= RMSbias]:[Tekrar Üretilebilirlik                 RSDWR(pool) ]]))))","v":0.19536985493893089},{"$f":"IFERROR(Table1[[#This Row],[ Birleşik Standart Belirsizlik uc]]*2,\"\")","v":0.39073970987786177},0.5,{"$f":"IF(Table1[[#This Row],[Kullanılan]]=0.5,0.01,\"--------\")","v":0.01},1]
[null,304,"Terbutyrn",{"$f":"'Veri Girişi'!C240","v":"GC-MS/MS"},0.12031546459204653,0.12003160087540249,{"$f":"IF(SQRT(SUMSQ(Table1[[#This Row],[Gerçeklik                      ubias= RMSbias]:[Tekrar Üretilebilirlik                 RSDWR(pool) ]]))=0,\"\",(SQRT(SUMSQ(Table1[[#This Row],[Gerçeklik                      ubias= RMSbias]:[Tekrar Üretilebilirlik                 RSDWR(pool) ]]))))","v":0.16995115836237165},{"$f":"IFERROR(Table1[[#This Row],[ Birleşik Standart Belirsizlik uc]]*2,\"\")","v":0.3399023167247433},0.5,{"$f":"IF(Table1[[#This Row],[Kullanılan]]=0.5,0.01,\"--------\")","v":0.01},0]
[null,305,"Tetrachlorvinphos",{"$f":"'Veri Girişi'!C241","v":"GC-MS/MS"},0.17902485179438074,0.17656910536064963,{"$f":"IF(SQRT(SUMSQ(Table1[[#This Row],[Gerçeklik                      ubias= RMSbias]:[Tekrar Üretilebilirlik                 RSDWR(pool) ]]))=0,\"\",(SQRT(SUMSQ(Table1[[#This Row],[Gerçeklik                      ubias= RMSbias]:[Tekrar Üretilebilirlik                 RSDWR(pool) ]]))))","v":0.25144889446537677},{"$f":"IFERROR(Table1[[#This Row],[ Birleşik Standart Belirsizlik uc]]*2,\"\")","v":0.50289778893075354},0.50289778893075354,{"$f":"IF(Table1[[#This Row],[Kullanılan]]=0.5,0.01,\"--------\")","v":"--------"},1]
[null,306,"Tetraconazole",{"$f":"'Veri Girişi'!C242","v":"GC-MS/MS"},0.13907753384353633,0.14307968563092893,{"$f":"IF(SQRT(SUMSQ(Table1[[#This Row],[Gerçeklik                      ubias= RMSbias]:[Tekrar Üretilebilirlik                 RSDWR(pool) ]]))=0,\"\",(SQRT(SUMSQ(Table1[[#This Row],[Gerçeklik                      ubias= RMSbias]:[Tekrar Üretilebilirlik                 RSDWR(pool) ]]))))","v":0.19953535240714976},{"$f":"IFERROR(Table1[[#This Row],[ Birleşik Standart Belirsizlik uc]]*2,\"\")","v":0.39907070481429952},0.5,{"$f":"IF(Table1[[#This Row],[Kullanılan]]=0.5,0.01,\"--------\")","v":0.01},1]
[null,307,"Tetradifon",{"$f":"'Veri Girişi'!#REF!","v":{"$error":"#REF!"}},0.13111435690520953,0.10370173849472676,{"$f":"IF(SQRT(SUMSQ(Table1[[#This Row],[Gerçeklik                      ubias= RMSbias]:[Tekrar Üretilebilirlik                 RSDWR(pool) ]]))=0,\"\",(SQRT(SUMSQ(Table1[[#This Row],[Gerçeklik                      ubias= RMSbias]:[Tekrar Üretilebilirlik                 RSDWR(pool) ]]))))","v":0.16716765582341389},{"$f":"IFERROR(Table1[[#This Row],[ Birleşik Standart Belirsizlik uc]]*2,\"\")","v":0.33433531164682778},0.5,{"$f":"IF(Table1[[#This Row],[Kullanılan]]=0.5,0.01,\"--------\")","v":0.01},1]
[null,308,"Tetramethrin",{"$f":"'Veri Girişi'!#REF!","v":{"$error":"#REF!"}},0.19513606027590083,0.18638330500099254,{"$f":"IF(SQRT(SUMSQ(Table1[[#This Row],[Gerçeklik                      ubias= RMSbias]:[Tekrar Üretilebilirlik                 RSDWR(pool) ]]))=0,\"\",(SQRT(SUMSQ(Table1[[#This Row],[Gerçeklik                      ubias= RMSbias]:[Tekrar Üretilebilirlik                 RSDWR(pool) ]]))))","v":0.26984591603930752},{"$f":"IFERROR(Table1[[#This Row],[ Birleşik Standart Belirsizlik uc]]*2,\"\")","v":0.53969183207861504},0.53969183207861504,{"$f":"IF(Table1[[#This Row],[Kullanılan]]=0.5,0.01,\"--------\")","v":"--------"},1]
[null,309,"Tetrasul",{"$f":"'Veri Girişi'!C243","v":"GC-MS/MS"},0.15927567265593323,0.1445672909478033,{"$f":"IF(SQRT(SUMSQ(Table1[[#This Row],[Gerçeklik                      ubias= RMSbias]:[Tekrar Üretilebilirlik                 RSDWR(pool) ]]))=0,\"\",(SQRT(SUMSQ(Table1[[#This Row],[Gerçeklik                      ubias= RMSbias]:[Tekrar Üretilebilirlik                 RSDWR(pool) ]]))))","v":0.21510100304737495},{"$f":"IFERROR(Table1[[#This Row],[ Birleşik Standart Belirsizlik uc]]*2,\"\")","v":0.4302020060947499},0.5,{"$f":"IF(Table1[[#This Row],[Kullanılan]]=0.5,0.01,\"--------\")","v":0.01},0]
[null,310,"Thiazopyr",{"$f":"'Veri Girişi'!C244","v":"GC-MS/MS"},0.11121355208186937,9.8384592557158326E-2,{"$f":"IF(SQRT(SUMSQ(Table1[[#This Row],[Gerçeklik                      ubias= RMSbias]:[Tekrar Üretilebilirlik                 RSDWR(pool) ]]))=0,\"\",(SQRT(SUMSQ(Table1[[#This Row],[Gerçeklik                      ubias= RMSbias]:[Tekrar Üretilebilirlik                 RSDWR(pool) ]]))))","v":0.14848562967272194},{"$f":"IFERROR(Table1[[#This Row],[ Birleşik Standart Belirsizlik uc]]*2,\"\")","v":0.29697125934544388},0.5,{"$f":"IF(Table1[[#This Row],[Kullanılan]]=0.5,0.01,\"--------\")","v":0.01},1]
[null,311,"Thiobencarb",{"$f":"'Veri Girişi'!C245","v":"GC-MS/MS"},0.13362083395439001,0.12014611755448361,{"$f":"IF(SQRT(SUMSQ(Table1[[#This Row],[Gerçeklik                      ubias= RMSbias]:[Tekrar Üretilebilirlik                 RSDWR(pool) ]]))=0,\"\",(SQRT(SUMSQ(Table1[[#This Row],[Gerçeklik                      ubias= RMSbias]:[Tekrar Üretilebilirlik                 RSDWR(pool) ]]))))","v":0.17969311848282465},{"$f":"IFERROR(Table1[[#This Row],[ Birleşik Standart Belirsizlik uc]]*2,\"\")","v":0.35938623696564931},0.5,{"$f":"IF(Table1[[#This Row],[Kullanılan]]=0.5,0.01,\"--------\")","v":0.01},1]
[null,312,"Thiometon",{"$f":"'Veri Girişi'!#REF!","v":{"$error":"#REF!"}},0.13942537540443156,0.13504774996079963,{"$f":"IF(SQRT(SUMSQ(Table1[[#This Row],[Gerçeklik                      ubias= RMSbias]:[Tekrar Üretilebilirlik                 RSDWR(pool) ]]))=0,\"\",(SQRT(SUMSQ(Table1[[#This Row],[Gerçeklik                      ubias= RMSbias]:[Tekrar Üretilebilirlik                 RSDWR(pool) ]]))))","v":0.19410649158681254},{"$f":"IFERROR(Table1[[#This Row],[ Birleşik Standart Belirsizlik uc]]*2,\"\")","v":0.38821298317362507},0.5,{"$f":"IF(Table1[[#This Row],[Kullanılan]]=0.5,0.01,\"--------\")","v":0.01},1]
[null,313,"Thionazin",{"$f":"'Veri Girişi'!C246","v":"GC-MS/MS"},{"$f":"IFERROR(VLOOKUP(C317,GERÇEKLİK_BELİRSİZLİĞİ_ubias2_RMSbias2,125,FALSE),\"\")","v":0.14320483227414729},{"$f":"IFERROR(VLOOKUP(C317,T.U.BELIRSIZLIGI,55,FALSE),\"\")","v":0.11614269528585582},{"$f":"IF(SQRT(SUMSQ(Table1[[#This Row],[Gerçeklik                      ubias= RMSbias]:[Tekrar Üretilebilirlik                 RSDWR(pool) ]]))=0,\"\",(SQRT(SUMSQ(Table1[[#This Row],[Gerçeklik                      ubias= RMSbias]:[Tekrar Üretilebilirlik                 RSDWR(pool) ]]))))","v":0.18438207519965116},{"$f":"IFERROR(Table1[[#This Row],[ Birleşik Standart Belirsizlik uc]]*2,\"\")","v":0.36876415039930233},{"$f":"IF(H317<0.5,0.5,H317)","v":0.5},{"$f":"IF(Table1[[#This Row],[Kullanılan]]=0.5,0.01,\"--------\")","v":0.01},0]
[null,314,"THPI",{"$f":"'Veri Girişi'!C247","v":"GC-MS/MS"},"","",{"$f":"IF(SQRT(SUMSQ(Table1[[#This Row],[Gerçeklik                      ubias= RMSbias]:[Tekrar Üretilebilirlik                 RSDWR(pool) ]]))=0,\"\",(SQRT(SUMSQ(Table1[[#This Row],[Gerçeklik                      ubias= RMSbias]:[Tekrar Üretilebilirlik                 RSDWR(pool) ]]))))","v":""},{"$f":"IFERROR(Table1[[#This Row],[ Birleşik Standart Belirsizlik uc]]*2,\"\")","v":""},"",{"$f":"IF(Table1[[#This Row],[Kullanılan]]=0.5,0.01,\"--------\")","v":"--------"},1]
[null,315,"Tolclofos Methyl",{"$f":"'Veri Girişi'!C248","v":"GC-MS/MS"},"","",{"$f":"IF(SQRT(SUMSQ(Table1[[#This Row],[Gerçeklik                      ubias= RMSbias]:[Tekrar Üretilebilirlik                 RSDWR(pool) ]]))=0,\"\",(SQRT(SUMSQ(Table1[[#This Row],[Gerçeklik                      ubias= RMSbias]:[Tekrar Üretilebilirlik                 RSDWR(pool) ]]))))","v":""},{"$f":"IFERROR(Table1[[#This Row],[ Birleşik Standart Belirsizlik uc]]*2,\"\")","v":""},"",{"$f":"IF(Table1[[#This Row],[Kullanılan]]=0.5,0.01,\"--------\")","v":"--------"},1]
[null,316,"Tolyfluanid",{"$f":"'Veri Girişi'!C249","v":"GC-MS/MS"},"","",{"$f":"IF(SQRT(SUMSQ(Table1[[#This Row],[Gerçeklik                      ubias= RMSbias]:[Tekrar Üretilebilirlik                 RSDWR(pool) ]]))=0,\"\",(SQRT(SUMSQ(Table1[[#This Row],[Gerçeklik                      ubias= RMSbias]:[Tekrar Üretilebilirlik                 RSDWR(pool) ]]))))","v":""},{"$f":"IFERROR(Table1[[#This Row],[ Birleşik Standart Belirsizlik uc]]*2,\"\")","v":""},"",{"$f":"IF(Table1[[#This Row],[Kullanılan]]=0.5,0.01,\"--------\")","v":"--------"},1]
[null,317,"Transfluthrin",{"$f":"'Veri Girişi'!C250","v":"GC-MS/MS"},0.13492203815537324,0.12226579996424711,{"$f":"IF(SQRT(SUMSQ(Table1[[#This Row],[Gerçeklik                      ubias= RMSbias]:[Tekrar Üretilebilirlik                 RSDWR(pool) ]]))=0,\"\",(SQRT(SUMSQ(Table1[[#This Row],[Gerçeklik                      ubias= RMSbias]:[Tekrar Üretilebilirlik                 RSDWR(pool) ]]))))","v":0.18207932947179173},{"$f":"IFERROR(Table1[[#This Row],[ Birleşik Standart Belirsizlik uc]]*2,\"\")","v":0.36415865894358346},0.5,{"$f":"IF(Table1[[#This Row],[Kullanılan]]=0.5,0.01,\"--------\")","v":0.01},1]
[null,318,"Tri-Allate",{"$f":"'Veri Girişi'!C251","v":"GC-MS/MS"},0.13970215870439032,0.15722334484917205,{"$f":"IF(SQRT(SUMSQ(Table1[[#This Row],[Gerçeklik                      ubias= RMSbias]:[Tekrar Üretilebilirlik                 RSDWR(pool) ]]))=0,\"\",(SQRT(SUMSQ(Table1[[#This Row],[Gerçeklik                      ubias= RMSbias]:[Tekrar Üretilebilirlik                 RSDWR(pool) ]]))))","v":0.21032325908521943},{"$f":"IFERROR(Table1[[#This Row],[ Birleşik Standart Belirsizlik uc]]*2,\"\")","v":0.42064651817043885},0.5,{"$f":"IF(Table1[[#This Row],[Kullanılan]]=0.5,0.01,\"--------\")","v":0.01},1]
[null,319,"Tributylphosphate",{"$f":"'Veri Girişi'!C252","v":"GC-MS/MS"},"","",{"$f":"IF(SQRT(SUMSQ(Table1[[#This Row],[Gerçeklik                      ubias= RMSbias]:[Tekrar Üretilebilirlik                 RSDWR(pool) ]]))=0,\"\",(SQRT(SUMSQ(Table1[[#This Row],[Gerçeklik                      ubias= RMSbias]:[Tekrar Üretilebilirlik                 RSDWR(pool) ]]))))","v":""},{"$f":"IFERROR(Table1[[#This Row],[ Birleşik Standart Belirsizlik uc]]*2,\"\")","v":""},"",{"$f":"IF(Table1[[#This Row],[Kullanılan]]=0.5,0.01,\"--------\")","v":"--------"},1]
[null,320,"Trichloronate",{"$f":"'Veri Girişi'!C253","v":"GC-MS/MS"},0.13027381586489281,0.13337913433416962,{"$f":"IF(SQRT(SUMSQ(Table1[[#This Row],[Gerçeklik                      ubias= RMSbias]:[Tekrar Üretilebilirlik                 RSDWR(pool) ]]))=0,\"\",(SQRT(SUMSQ(Table1[[#This Row],[Gerçeklik                      ubias= RMSbias]:[Tekrar Üretilebilirlik                 RSDWR(pool) ]]))))","v":0.18644371959315889},{"$f":"IFERROR(Table1[[#This Row],[ Birleşik Standart Belirsizlik uc]]*2,\"\")","v":0.37288743918631778},0.5,{"$f":"IF(Table1[[#This Row],[Kullanılan]]=0.5,0.01,\"--------\")","v":0.01},1]
[null,321,"Trichlorophenol-2,4,6",{"$f":"'Veri Girişi'!C254","v":"GC-MS/MS"},"","",{"$f":"IF(SQRT(SUMSQ(Table1[[#This Row],[Gerçeklik                      ubias= RMSbias]:[Tekrar Üretilebilirlik                 RSDWR(pool) ]]))=0,\"\",(SQRT(SUMSQ(Table1[[#This Row],[Gerçeklik                      ubias= RMSbias]:[Tekrar Üretilebilirlik                 RSDWR(pool) ]]))))","v":""},{"$f":"IFERROR(Table1[[#This Row],[ Birleşik Standart Belirsizlik uc]]*2,\"\")","v":""},"",{"$f":"IF(Table1[[#This Row],[Kullanılan]]=0.5,0.01,\"--------\")","v":"--------"},1]
[null,322,"Trifluralin",{"$f":"'Veri Girişi'!C255","v":"GC-MS/MS"},0.16845876456866229,0.16305991516267415,{"$f":"IF(SQRT(SUMSQ(Table1[[#This Row],[Gerçeklik                      ubias= RMSbias]:[Tekrar Üretilebilirlik                 RSDWR(pool) ]]))=0,\"\",(SQRT(SUMSQ(Table1[[#This Row],[Gerçeklik                      ubias= RMSbias]:[Tekrar Üretilebilirlik                 RSDWR(pool) ]]))))","v":0.23445018936409176},{"$f":"IFERROR(Table1[[#This Row],[ Birleşik Standart Belirsizlik uc]]*2,\"\")","v":0.46890037872818352},0.5,{"$f":"IF(Table1[[#This Row],[Kullanılan]]=0.5,0.01,\"--------\")","v":0.01},1]
[null,323,"Vinclozoline",{"$f":"'Veri Girişi'!C256","v":"GC-MS/MS"},0.13185906660774854,0.12926255663930861,{"$f":"IF(SQRT(SUMSQ(Table1[[#This Row],[Gerçeklik                      ubias= RMSbias]:[Tekrar Üretilebilirlik                 RSDWR(pool) ]]))=0,\"\",(SQRT(SUMSQ(Table1[[#This Row],[Gerçeklik                      ubias= RMSbias]:[Tekrar Üretilebilirlik                 RSDWR(pool) ]]))))","v":0.18464999863416498},{"$f":"IFERROR(Table1[[#This Row],[ Birleşik Standart Belirsizlik uc]]*2,\"\")","v":0.36929999726832996},0.5,{"$f":"IF(Table1[[#This Row],[Kullanılan]]=0.5,0.01,\"--------\")","v":0.01},0]
[null,324,null,{"$f":"'Veri Girişi'!C257","v":"GC-MS/MS"},"","",{"$f":"IF(SQRT(SUMSQ(Table1[[#This Row],[Gerçeklik                      ubias= RMSbias]:[Tekrar Üretilebilirlik                 RSDWR(pool) ]]))=0,\"\",(SQRT(SUMSQ(Table1[[#This Row],[Gerçeklik                      ubias= RMSbias]:[Tekrar Üretilebilirlik                 RSDWR(pool) ]]))))","v":""},{"$f":"IFERROR(Table1[[#This Row],[ Birleşik Standart Belirsizlik uc]]*2,\"\")","v":""},"",{"$f":"IF(Table1[[#This Row],[Kullanılan]]=0.5,0.01,\"--------\")","v":"--------"},1]
[null,325,null,{"$f":"'Veri Girişi'!C258","v":"GC-MS/MS"},"","",{"$f":"IF(SQRT(SUMSQ(Table1[[#This Row],[Gerçeklik                      ubias= RMSbias]:[Tekrar Üretilebilirlik                 RSDWR(pool) ]]))=0,\"\",(SQRT(SUMSQ(Table1[[#This Row],[Gerçeklik                      ubias= RMSbias]:[Tekrar Üretilebilirlik                 RSDWR(pool) ]]))))","v":""},{"$f":"IFERROR(Table1[[#This Row],[ Birleşik Standart Belirsizlik uc]]*2,\"\")","v":""},"",{"$f":"IF(Table1[[#This Row],[Kullanılan]]=0.5,0.01,\"--------\")","v":"--------"},1]
[null,326,null,{"$f":"'Veri Girişi'!C259","v":"GC-MS/MS"},"","",{"$f":"IF(SQRT(SUMSQ(Table1[[#This Row],[Gerçeklik                      ubias= RMSbias]:[Tekrar Üretilebilirlik                 RSDWR(pool) ]]))=0,\"\",(SQRT(SUMSQ(Table1[[#This Row],[Gerçeklik                      ubias= RMSbias]:[Tekrar Üretilebilirlik                 RSDWR(pool) ]]))))","v":""},{"$f":"IFERROR(Table1[[#This Row],[ Birleşik Standart Belirsizlik uc]]*2,\"\")","v":""},"",{"$f":"IF(Table1[[#This Row],[Kullanılan]]=0.5,0.01,\"--------\")","v":"--------"},1]
[null,327,null,{"$f":"'Veri Girişi'!C260","v":"GC-MS/MS"},"","",{"$f":"IF(SQRT(SUMSQ(Table1[[#This Row],[Gerçeklik                      ubias= RMSbias]:[Tekrar Üretilebilirlik                 RSDWR(pool) ]]))=0,\"\",(SQRT(SUMSQ(Table1[[#This Row],[Gerçeklik                      ubias= RMSbias]:[Tekrar Üretilebilirlik                 RSDWR(pool) ]]))))","v":""},{"$f":"IFERROR(Table1[[#This Row],[ Birleşik Standart Belirsizlik uc]]*2,\"\")","v":""},"",{"$f":"IF(Table1[[#This Row],[Kullanılan]]=0.5,0.01,\"--------\")","v":"--------"},1]
[null,328,null,{"$f":"'Veri Girişi'!C261","v":"GC-MS/MS"},"","",{"$f":"IF(SQRT(SUMSQ(Table1[[#This Row],[Gerçeklik                      ubias= RMSbias]:[Tekrar Üretilebilirlik                 RSDWR(pool) ]]))=0,\"\",(SQRT(SUMSQ(Table1[[#This Row],[Gerçeklik                      ubias= RMSbias]:[Tekrar Üretilebilirlik                 RSDWR(pool) ]]))))","v":""},{"$f":"IFERROR(Table1[[#This Row],[ Birleşik Standart Belirsizlik uc]]*2,\"\")","v":""},"",{"$f":"IF(Table1[[#This Row],[Kullanılan]]=0.5,0.01,\"--------\")","v":"--------"},1]
[null,329,null,{"$f":"'Veri Girişi'!C262","v":"GC-MS/MS"},"","",{"$f":"IF(SQRT(SUMSQ(Table1[[#This Row],[Gerçeklik                      ubias= RMSbias]:[Tekrar Üretilebilirlik                 RSDWR(pool) ]]))=0,\"\",(SQRT(SUMSQ(Table1[[#This Row],[Gerçeklik                      ubias= RMSbias]:[Tekrar Üretilebilirlik                 RSDWR(pool) ]]))))","v":""},{"$f":"IFERROR(Table1[[#This Row],[ Birleşik Standart Belirsizlik uc]]*2,\"\")","v":""},"",{"$f":"IF(Table1[[#This Row],[Kullanılan]]=0.5,0.01,\"--------\")","v":"--------"},1]
[null,330,null,{"$f":"'Veri Girişi'!C263","v":"GC-MS/MS"},"","",{"$f":"IF(SQRT(SUMSQ(Table1[[#This Row],[Gerçeklik                      ubias= RMSbias]:[Tekrar Üretilebilirlik                 RSDWR(pool) ]]))=0,\"\",(SQRT(SUMSQ(Table1[[#This Row],[Gerçeklik                      ubias= RMSbias]:[Tekrar Üretilebilirlik                 RSDWR(pool) ]]))))","v":""},{"$f":"IFERROR(Table1[[#This Row],[ Birleşik Standart Belirsizlik uc]]*2,\"\")","v":""},"",{"$f":"IF(Table1[[#This Row],[Kullanılan]]=0.5,0.01,\"--------\")","v":"--------"},0]
[null,331,null,{"$f":"'Veri Girişi'!#REF!","v":{"$error":"#REF!"}},"","",{"$f":"IF(SQRT(SUMSQ(Table1[[#This Row],[Gerçeklik                      ubias= RMSbias]:[Tekrar Üretilebilirlik                 RSDWR(pool) ]]))=0,\"\",(SQRT(SUMSQ(Table1[[#This Row],[Gerçeklik                      ubias= RMSbias]:[Tekrar Üretilebilirlik                 RSDWR(pool) ]]))))","v":""},{"$f":"IFERROR(Table1[[#This Row],[ Birleşik Standart Belirsizlik uc]]*2,\"\")","v":""},"",{"$f":"IF(Table1[[#This Row],[Kullanılan]]=0.5,0.01,\"--------\")","v":"--------"},0]
[null,332,null,{"$f":"'Veri Girişi'!#REF!","v":{"$error":"#REF!"}},"","",{"$f":"IF(SQRT(SUMSQ(Table1[[#This Row],[Gerçeklik                      ubias= RMSbias]:[Tekrar Üretilebilirlik                 RSDWR(pool) ]]))=0,\"\",(SQRT(SUMSQ(Table1[[#This Row],[Gerçeklik                      ubias= RMSbias]:[Tekrar Üretilebilirlik                 RSDWR(pool) ]]))))","v":""},{"$f":"IFERROR(Table1[[#This Row],[ Birleşik Standart Belirsizlik uc]]*2,\"\")","v":""},"",{"$f":"IF(Table1[[#This Row],[Kullanılan]]=0.5,0.01,\"--------\")","v":"--------"},1]
[null,333,null,{"$f":"'Veri Girişi'!C264","v":"GC-MS/MS"},"","",{"$f":"IF(SQRT(SUMSQ(Table1[[#This Row],[Gerçeklik                      ubias= RMSbias]:[Tekrar Üretilebilirlik                 RSDWR(pool) ]]))=0,\"\",(SQRT(SUMSQ(Table1[[#This Row],[Gerçeklik                      ubias= RMSbias]:[Tekrar Üretilebilirlik                 RSDWR(pool) ]]))))","v":""},{"$f":"IFERROR(Table1[[#This Row],[ Birleşik Standart Belirsizlik uc]]*2,\"\")","v":""},"",{"$f":"IF(Table1[[#This Row],[Kullanılan]]=0.5,0.01,\"--------\")","v":"--------"},0]
[null,334,null,{"$f":"'Veri Girişi'!#REF!","v":{"$error":"#REF!"}},"","",{"$f":"IF(SQRT(SUMSQ(Table1[[#This Row],[Gerçeklik                      ubias= RMSbias]:[Tekrar Üretilebilirlik                 RSDWR(pool) ]]))=0,\"\",(SQRT(SUMSQ(Table1[[#This Row],[Gerçeklik                      ubias= RMSbias]:[Tekrar Üretilebilirlik                 RSDWR(pool) ]]))))","v":""},{"$f":"IFERROR(Table1[[#This Row],[ Birleşik Standart Belirsizlik uc]]*2,\"\")","v":""},"",{"$f":"IF(Table1[[#This Row],[Kullanılan]]=0.5,0.01,\"--------\")","v":"--------"},1]
[null,335,null,{"$f":"'Veri Girişi'!C265","v":"GC-MS/MS"},"","",{"$f":"IF(SQRT(SUMSQ(Table1[[#This Row],[Gerçeklik                      ubias= RMSbias]:[Tekrar Üretilebilirlik                 RSDWR(pool) ]]))=0,\"\",(SQRT(SUMSQ(Table1[[#This Row],[Gerçeklik                      ubias= RMSbias]:[Tekrar Üretilebilirlik                 RSDWR(pool) ]]))))","v":""},{"$f":"IFERROR(Table1[[#This Row],[ Birleşik Standart Belirsizlik uc]]*2,\"\")","v":""},"",{"$f":"IF(Table1[[#This Row],[Kullanılan]]=0.5,0.01,\"--------\")","v":"--------"},1]
[null,336,null,{"$f":"'Veri Girişi'!#REF!","v":{"$error":"#REF!"}},"","",{"$f":"IF(SQRT(SUMSQ(Table1[[#This Row],[Gerçeklik                      ubias= RMSbias]:[Tekrar Üretilebilirlik                 RSDWR(pool) ]]))=0,\"\",(SQRT(SUMSQ(Table1[[#This Row],[Gerçeklik                      ubias= RMSbias]:[Tekrar Üretilebilirlik                 RSDWR(pool) ]]))))","v":""},{"$f":"IFERROR(Table1[[#This Row],[ Birleşik Standart Belirsizlik uc]]*2,\"\")","v":""},"",{"$f":"IF(Table1[[#This Row],[Kullanılan]]=0.5,0.01,\"--------\")","v":"--------"},1]
[null,337,null,{"$f":"'Veri Girişi'!#REF!","v":{"$error":"#REF!"}},"","",{"$f":"IF(SQRT(SUMSQ(Table1[[#This Row],[Gerçeklik                      ubias= RMSbias]:[Tekrar Üretilebilirlik                 RSDWR(pool) ]]))=0,\"\",(SQRT(SUMSQ(Table1[[#This Row],[Gerçeklik                      ubias= RMSbias]:[Tekrar Üretilebilirlik                 RSDWR(pool) ]]))))","v":""},{"$f":"IFERROR(Table1[[#This Row],[ Birleşik Standart Belirsizlik uc]]*2,\"\")","v":""},"",{"$f":"IF(Table1[[#This Row],[Kullanılan]]=0.5,0.01,\"--------\")","v":"--------"},1]
[null,338,null,{"$f":"'Veri Girişi'!#REF!","v":{"$error":"#REF!"}},"","",{"$f":"IF(SQRT(SUMSQ(Table1[[#This Row],[Gerçeklik                      ubias= RMSbias]:[Tekrar Üretilebilirlik                 RSDWR(pool) ]]))=0,\"\",(SQRT(SUMSQ(Table1[[#This Row],[Gerçeklik                      ubias= RMSbias]:[Tekrar Üretilebilirlik                 RSDWR(pool) ]]))))","v":""},{"$f":"IFERROR(Table1[[#This Row],[ Birleşik Standart Belirsizlik uc]]*2,\"\")","v":""},"",{"$f":"IF(Table1[[#This Row],[Kullanılan]]=0.5,0.01,\"--------\")","v":"--------"},1]
[null,339,null,{"$f":"'Veri Girişi'!#REF!","v":{"$error":"#REF!"}},"","",{"$f":"IF(SQRT(SUMSQ(Table1[[#This Row],[Gerçeklik                      ubias= RMSbias]:[Tekrar Üretilebilirlik                 RSDWR(pool) ]]))=0,\"\",(SQRT(SUMSQ(Table1[[#This Row],[Gerçeklik                      ubias= RMSbias]:[Tekrar Üretilebilirlik                 RSDWR(pool) ]]))))","v":""},{"$f":"IFERROR(Table1[[#This Row],[ Birleşik Standart Belirsizlik uc]]*2,\"\")","v":""},"",{"$f":"IF(Table1[[#This Row],[Kullanılan]]=0.5,0.01,\"--------\")","v":"--------"},0]
[null,340,null,{"$f":"'Veri Girişi'!#REF!","v":{"$error":"#REF!"}},"","",{"$f":"IF(SQRT(SUMSQ(Table1[[#This Row],[Gerçeklik                      ubias= RMSbias]:[Tekrar Üretilebilirlik                 RSDWR(pool) ]]))=0,\"\",(SQRT(SUMSQ(Table1[[#This Row],[Gerçeklik                      ubias= RMSbias]:[Tekrar Üretilebilirlik                 RSDWR(pool) ]]))))","v":""},{"$f":"IFERROR(Table1[[#This Row],[ Birleşik Standart Belirsizlik uc]]*2,\"\")","v":""},"",{"$f":"IF(Table1[[#This Row],[Kullanılan]]=0.5,0.01,\"--------\")","v":"--------"},1]
[null,341,null,{"$f":"'Veri Girişi'!#REF!","v":{"$error":"#REF!"}},"","",{"$f":"IF(SQRT(SUMSQ(Table1[[#This Row],[Gerçeklik                      ubias= RMSbias]:[Tekrar Üretilebilirlik                 RSDWR(pool) ]]))=0,\"\",(SQRT(SUMSQ(Table1[[#This Row],[Gerçeklik                      ubias= RMSbias]:[Tekrar Üretilebilirlik                 RSDWR(pool) ]]))))","v":""},{"$f":"IFERROR(Table1[[#This Row],[ Birleşik Standart Belirsizlik uc]]*2,\"\")","v":""},"",{"$f":"IF(Table1[[#This Row],[Kullanılan]]=0.5,0.01,\"--------\")","v":"--------"},1]
[null,342,null,{"$f":"'Veri Girişi'!C266","v":"GC-MS/MS"},"","",{"$f":"IF(SQRT(SUMSQ(Table1[[#This Row],[Gerçeklik                      ubias= RMSbias]:[Tekrar Üretilebilirlik                 RSDWR(pool) ]]))=0,\"\",(SQRT(SUMSQ(Table1[[#This Row],[Gerçeklik                      ubias= RMSbias]:[Tekrar Üretilebilirlik                 RSDWR(pool) ]]))))","v":""},{"$f":"IFERROR(Table1[[#This Row],[ Birleşik Standart Belirsizlik uc]]*2,\"\")","v":""},"",{"$f":"IF(Table1[[#This Row],[Kullanılan]]=0.5,0.01,\"--------\")","v":"--------"},1]
[null,343,null,{"$f":"'Veri Girişi'!#REF!","v":{"$error":"#REF!"}},"","",{"$f":"IF(SQRT(SUMSQ(Table1[[#This Row],[Gerçeklik                      ubias= RMSbias]:[Tekrar Üretilebilirlik                 RSDWR(pool) ]]))=0,\"\",(SQRT(SUMSQ(Table1[[#This Row],[Gerçeklik                      ubias= RMSbias]:[Tekrar Üretilebilirlik                 RSDWR(pool) ]]))))","v":""},{"$f":"IFERROR(Table1[[#This Row],[ Birleşik Standart Belirsizlik uc]]*2,\"\")","v":""},"",{"$f":"IF(Table1[[#This Row],[Kullanılan]]=0.5,0.01,\"--------\")","v":"--------"},1]
[null,344,null,{"$f":"'Veri Girişi'!#REF!","v":{"$error":"#REF!"}},"","",{"$f":"IF(SQRT(SUMSQ(Table1[[#This Row],[Gerçeklik                      ubias= RMSbias]:[Tekrar Üretilebilirlik                 RSDWR(pool) ]]))=0,\"\",(SQRT(SUMSQ(Table1[[#This Row],[Gerçeklik                      ubias= RMSbias]:[Tekrar Üretilebilirlik                 RSDWR(pool) ]]))))","v":""},{"$f":"IFERROR(Table1[[#This Row],[ Birleşik Standart Belirsizlik uc]]*2,\"\")","v":""},"",{"$f":"IF(Table1[[#This Row],[Kullanılan]]=0.5,0.01,\"--------\")","v":"--------"},1]
[null,345,null,{"$f":"'Veri Girişi'!#REF!","v":{"$error":"#REF!"}},"","",{"$f":"IF(SQRT(SUMSQ(Table1[[#This Row],[Gerçeklik                      ubias= RMSbias]:[Tekrar Üretilebilirlik                 RSDWR(pool) ]]))=0,\"\",(SQRT(SUMSQ(Table1[[#This Row],[Gerçeklik                      ubias= RMSbias]:[Tekrar Üretilebilirlik                 RSDWR(pool) ]]))))","v":""},{"$f":"IFERROR(Table1[[#This Row],[ Birleşik Standart Belirsizlik uc]]*2,\"\")","v":""},"",{"$f":"IF(Table1[[#This Row],[Kullanılan]]=0.5,0.01,\"--------\")","v":"--------"},1]
[null,346,null,{"$f":"'Veri Girişi'!#REF!","v":{"$error":"#REF!"}},"","",{"$f":"IF(SQRT(SUMSQ(Table1[[#This Row],[Gerçeklik                      ubias= RMSbias]:[Tekrar Üretilebilirlik                 RSDWR(pool) ]]))=0,\"\",(SQRT(SUMSQ(Table1[[#This Row],[Gerçeklik                      ubias= RMSbias]:[Tekrar Üretilebilirlik                 RSDWR(pool) ]]))))","v":""},{"$f":"IFERROR(Table1[[#This Row],[ Birleşik Standart Belirsizlik uc]]*2,\"\")","v":""},"",{"$f":"IF(Table1[[#This Row],[Kullanılan]]=0.5,0.01,\"--------\")","v":"--------"},1]
[null,347,null,{"$f":"'Veri Girişi'!#REF!","v":{"$error":"#REF!"}},"","",{"$f":"IF(SQRT(SUMSQ(Table1[[#This Row],[Gerçeklik                      ubias= RMSbias]:[Tekrar Üretilebilirlik                 RSDWR(pool) ]]))=0,\"\",(SQRT(SUMSQ(Table1[[#This Row],[Gerçeklik                      ubias= RMSbias]:[Tekrar Üretilebilirlik                 RSDWR(pool) ]]))))","v":""},{"$f":"IFERROR(Table1[[#This Row],[ Birleşik Standart Belirsizlik uc]]*2,\"\")","v":""},"",{"$f":"IF(Table1[[#This Row],[Kullanılan]]=0.5,0.01,\"--------\")","v":"--------"},1]
[null,348,null,{"$f":"'Veri Girişi'!#REF!","v":{"$error":"#REF!"}},"","",{"$f":"IF(SQRT(SUMSQ(Table1[[#This Row],[Gerçeklik                      ubias= RMSbias]:[Tekrar Üretilebilirlik                 RSDWR(pool) ]]))=0,\"\",(SQRT(SUMSQ(Table1[[#This Row],[Gerçeklik                      ubias= RMSbias]:[Tekrar Üretilebilirlik                 RSDWR(pool) ]]))))","v":""},{"$f":"IFERROR(Table1[[#This Row],[ Birleşik Standart Belirsizlik uc]]*2,\"\")","v":""},"",{"$f":"IF(Table1[[#This Row],[Kullanılan]]=0.5,0.01,\"--------\")","v":"--------"},0]
[null,349,null,{"$f":"'Veri Girişi'!#REF!","v":{"$error":"#REF!"}},"","",{"$f":"IF(SQRT(SUMSQ(Table1[[#This Row],[Gerçeklik                      ubias= RMSbias]:[Tekrar Üretilebilirlik                 RSDWR(pool) ]]))=0,\"\",(SQRT(SUMSQ(Table1[[#This Row],[Gerçeklik                      ubias= RMSbias]:[Tekrar Üretilebilirlik                 RSDWR(pool) ]]))))","v":""},{"$f":"IFERROR(Table1[[#This Row],[ Birleşik Standart Belirsizlik uc]]*2,\"\")","v":""},"",{"$f":"IF(Table1[[#This Row],[Kullanılan]]=0.5,0.01,\"--------\")","v":"--------"},1]
[null,350,null,{"$f":"'Veri Girişi'!#REF!","v":{"$error":"#REF!"}},"","",{"$f":"IF(SQRT(SUMSQ(Table1[[#This Row],[Gerçeklik                      ubias= RMSbias]:[Tekrar Üretilebilirlik                 RSDWR(pool) ]]))=0,\"\",(SQRT(SUMSQ(Table1[[#This Row],[Gerçeklik                      ubias= RMSbias]:[Tekrar Üretilebilirlik                 RSDWR(pool) ]]))))","v":""},{"$f":"IFERROR(Table1[[#This Row],[ Birleşik Standart Belirsizlik uc]]*2,\"\")","v":""},"",{"$f":"IF(Table1[[#This Row],[Kullanılan]]=0.5,0.01,\"--------\")","v":"--------"},1]
[null,351,null,{"$f":"'Veri Girişi'!#REF!","v":{"$error":"#REF!"}},"","",{"$f":"IF(SQRT(SUMSQ(Table1[[#This Row],[Gerçeklik                      ubias= RMSbias]:[Tekrar Üretilebilirlik                 RSDWR(pool) ]]))=0,\"\",(SQRT(SUMSQ(Table1[[#This Row],[Gerçeklik                      ubias= RMSbias]:[Tekrar Üretilebilirlik                 RSDWR(pool) ]]))))","v":""},{"$f":"IFERROR(Table1[[#This Row],[ Birleşik Standart Belirsizlik uc]]*2,\"\")","v":""},"",{"$f":"IF(Table1[[#This Row],[Kullanılan]]=0.5,0.01,\"--------\")","v":"--------"},1]
[null,352,null,{"$f":"'Veri Girişi'!#REF!","v":{"$error":"#REF!"}},"","",{"$f":"IF(SQRT(SUMSQ(Table1[[#This Row],[Gerçeklik                      ubias= RMSbias]:[Tekrar Üretilebilirlik                 RSDWR(pool) ]]))=0,\"\",(SQRT(SUMSQ(Table1[[#This Row],[Gerçeklik                      ubias= RMSbias]:[Tekrar Üretilebilirlik                 RSDWR(pool) ]]))))","v":""},{"$f":"IFERROR(Table1[[#This Row],[ Birleşik Standart Belirsizlik uc]]*2,\"\")","v":""},"",{"$f":"IF(Table1[[#This Row],[Kullanılan]]=0.5,0.01,\"--------\")","v":"--------"},1]
[null,353,null,{"$f":"'Veri Girişi'!#REF!","v":{"$error":"#REF!"}},"","",{"$f":"IF(SQRT(SUMSQ(Table1[[#This Row],[Gerçeklik                      ubias= RMSbias]:[Tekrar Üretilebilirlik                 RSDWR(pool) ]]))=0,\"\",(SQRT(SUMSQ(Table1[[#This Row],[Gerçeklik                      ubias= RMSbias]:[Tekrar Üretilebilirlik                 RSDWR(pool) ]]))))","v":""},{"$f":"IFERROR(Table1[[#This Row],[ Birleşik Standart Belirsizlik uc]]*2,\"\")","v":""},"",{"$f":"IF(Table1[[#This Row],[Kullanılan]]=0.5,0.01,\"--------\")","v":"--------"},1]
[null,354,null,{"$f":"'Veri Girişi'!#REF!","v":{"$error":"#REF!"}},"","",{"$f":"IF(SQRT(SUMSQ(Table1[[#This Row],[Gerçeklik                      ubias= RMSbias]:[Tekrar Üretilebilirlik                 RSDWR(pool) ]]))=0,\"\",(SQRT(SUMSQ(Table1[[#This Row],[Gerçeklik                      ubias= RMSbias]:[Tekrar Üretilebilirlik                 RSDWR(pool) ]]))))","v":""},{"$f":"IFERROR(Table1[[#This Row],[ Birleşik Standart Belirsizlik uc]]*2,\"\")","v":""},"",{"$f":"IF(Table1[[#This Row],[Kullanılan]]=0.5,0.01,\"--------\")","v":"--------"},0]
[null,355,null,{"$f":"'Veri Girişi'!#REF!","v":{"$error":"#REF!"}},"","",{"$f":"IF(SQRT(SUMSQ(Table1[[#This Row],[Gerçeklik                      ubias= RMSbias]:[Tekrar Üretilebilirlik                 RSDWR(pool) ]]))=0,\"\",(SQRT(SUMSQ(Table1[[#This Row],[Gerçeklik                      ubias= RMSbias]:[Tekrar Üretilebilirlik                 RSDWR(pool) ]]))))","v":""},{"$f":"IFERROR(Table1[[#This Row],[ Birleşik Standart Belirsizlik uc]]*2,\"\")","v":""},"",{"$f":"IF(Table1[[#This Row],[Kullanılan]]=0.5,0.01,\"--------\")","v":"--------"},1]
[null,356,null,{"$f":"'Veri Girişi'!#REF!","v":{"$error":"#REF!"}},"","",{"$f":"IF(SQRT(SUMSQ(Table1[[#This Row],[Gerçeklik                      ubias= RMSbias]:[Tekrar Üretilebilirlik                 RSDWR(pool) ]]))=0,\"\",(SQRT(SUMSQ(Table1[[#This Row],[Gerçeklik                      ubias= RMSbias]:[Tekrar Üretilebilirlik                 RSDWR(pool) ]]))))","v":""},{"$f":"IFERROR(Table1[[#This Row],[ Birleşik Standart Belirsizlik uc]]*2,\"\")","v":""},"",{"$f":"IF(Table1[[#This Row],[Kullanılan]]=0.5,0.01,\"--------\")","v":"--------"},1]
[null,357,null,{"$f":"'Veri Girişi'!#REF!","v":{"$error":"#REF!"}},"","",{"$f":"IF(SQRT(SUMSQ(Table1[[#This Row],[Gerçeklik                      ubias= RMSbias]:[Tekrar Üretilebilirlik                 RSDWR(pool) ]]))=0,\"\",(SQRT(SUMSQ(Table1[[#This Row],[Gerçeklik                      ubias= RMSbias]:[Tekrar Üretilebilirlik                 RSDWR(pool) ]]))))","v":""},{"$f":"IFERROR(Table1[[#This Row],[ Birleşik Standart Belirsizlik uc]]*2,\"\")","v":""},"",{"$f":"IF(Table1[[#This Row],[Kullanılan]]=0.5,0.01,\"--------\")","v":"--------"},0]
[null,358,null,{"$f":"'Veri Girişi'!#REF!","v":{"$error":"#REF!"}},"","",{"$f":"IF(SQRT(SUMSQ(Table1[[#This Row],[Gerçeklik                      ubias= RMSbias]:[Tekrar Üretilebilirlik                 RSDWR(pool) ]]))=0,\"\",(SQRT(SUMSQ(Table1[[#This Row],[Gerçeklik                      ubias= RMSbias]:[Tekrar Üretilebilirlik                 RSDWR(pool) ]]))))","v":""},{"$f":"IFERROR(Table1[[#This Row],[ Birleşik Standart Belirsizlik uc]]*2,\"\")","v":""},"",{"$f":"IF(Table1[[#This Row],[Kullanılan]]=0.5,0.01,\"--------\")","v":"--------"},0]
[null,359,null,{"$f":"'Veri Girişi'!#REF!","v":{"$error":"#REF!"}},"","",{"$f":"IF(SQRT(SUMSQ(Table1[[#This Row],[Gerçeklik                      ubias= RMSbias]:[Tekrar Üretilebilirlik                 RSDWR(pool) ]]))=0,\"\",(SQRT(SUMSQ(Table1[[#This Row],[Gerçeklik                      ubias= RMSbias]:[Tekrar Üretilebilirlik                 RSDWR(pool) ]]))))","v":""},{"$f":"IFERROR(Table1[[#This Row],[ Birleşik Standart Belirsizlik uc]]*2,\"\")","v":""},"",{"$f":"IF(Table1[[#This Row],[Kullanılan]]=0.5,0.01,\"--------\")","v":"--------"},1]
[null,360,null,{"$f":"'Veri Girişi'!#REF!","v":{"$error":"#REF!"}},"","",{"$f":"IF(SQRT(SUMSQ(Table1[[#This Row],[Gerçeklik                      ubias= RMSbias]:[Tekrar Üretilebilirlik                 RSDWR(pool) ]]))=0,\"\",(SQRT(SUMSQ(Table1[[#This Row],[Gerçeklik                      ubias= RMSbias]:[Tekrar Üretilebilirlik                 RSDWR(pool) ]]))))","v":""},{"$f":"IFERROR(Table1[[#This Row],[ Birleşik Standart Belirsizlik uc]]*2,\"\")","v":""},"",{"$f":"IF(Table1[[#This Row],[Kullanılan]]=0.5,0.01,\"--------\")","v":"--------"},1]
[null,361,null,{"$f":"'Veri Girişi'!#REF!","v":{"$error":"#REF!"}},"","",{"$f":"IF(SQRT(SUMSQ(Table1[[#This Row],[Gerçeklik                      ubias= RMSbias]:[Tekrar Üretilebilirlik                 RSDWR(pool) ]]))=0,\"\",(SQRT(SUMSQ(Table1[[#This Row],[Gerçeklik                      ubias= RMSbias]:[Tekrar Üretilebilirlik                 RSDWR(pool) ]]))))","v":""},{"$f":"IFERROR(Table1[[#This Row],[ Birleşik Standart Belirsizlik uc]]*2,\"\")","v":""},"",{"$f":"IF(Table1[[#This Row],[Kullanılan]]=0.5,0.01,\"--------\")","v":"--------"},1]
[null,362,null,{"$f":"'Veri Girişi'!#REF!","v":{"$error":"#REF!"}},"","",{"$f":"IF(SQRT(SUMSQ(Table1[[#This Row],[Gerçeklik                      ubias= RMSbias]:[Tekrar Üretilebilirlik                 RSDWR(pool) ]]))=0,\"\",(SQRT(SUMSQ(Table1[[#This Row],[Gerçeklik                      ubias= RMSbias]:[Tekrar Üretilebilirlik                 RSDWR(pool) ]]))))","v":""},{"$f":"IFERROR(Table1[[#This Row],[ Birleşik Standart Belirsizlik uc]]*2,\"\")","v":""},"",{"$f":"IF(Table1[[#This Row],[Kullanılan]]=0.5,0.01,\"--------\")","v":"--------"},1]
[null,363,null,{"$f":"'Veri Girişi'!#REF!","v":{"$error":"#REF!"}},"","",{"$f":"IF(SQRT(SUMSQ(Table1[[#This Row],[Gerçeklik                      ubias= RMSbias]:[Tekrar Üretilebilirlik                 RSDWR(pool) ]]))=0,\"\",(SQRT(SUMSQ(Table1[[#This Row],[Gerçeklik                      ubias= RMSbias]:[Tekrar Üretilebilirlik                 RSDWR(pool) ]]))))","v":""},{"$f":"IFERROR(Table1[[#This Row],[ Birleşik Standart Belirsizlik uc]]*2,\"\")","v":""},"",{"$f":"IF(Table1[[#This Row],[Kullanılan]]=0.5,0.01,\"--------\")","v":"--------"},0]
[null,364,null,{"$f":"'Veri Girişi'!#REF!","v":{"$error":"#REF!"}},"","",{"$f":"IF(SQRT(SUMSQ(Table1[[#This Row],[Gerçeklik                      ubias= RMSbias]:[Tekrar Üretilebilirlik                 RSDWR(pool) ]]))=0,\"\",(SQRT(SUMSQ(Table1[[#This Row],[Gerçeklik                      ubias= RMSbias]:[Tekrar Üretilebilirlik                 RSDWR(pool) ]]))))","v":""},{"$f":"IFERROR(Table1[[#This Row],[ Birleşik Standart Belirsizlik uc]]*2,\"\")","v":""},"",{"$f":"IF(Table1[[#This Row],[Kullanılan]]=0.5,0.01,\"--------\")","v":"--------"},1]
[null,365,null,{"$f":"'Veri Girişi'!#REF!","v":{"$error":"#REF!"}},"","",{"$f":"IF(SQRT(SUMSQ(Table1[[#This Row],[Gerçeklik                      ubias= RMSbias]:[Tekrar Üretilebilirlik                 RSDWR(pool) ]]))=0,\"\",(SQRT(SUMSQ(Table1[[#This Row],[Gerçeklik                      ubias= RMSbias]:[Tekrar Üretilebilirlik                 RSDWR(pool) ]]))))","v":""},{"$f":"IFERROR(Table1[[#This Row],[ Birleşik Standart Belirsizlik uc]]*2,\"\")","v":""},"",{"$f":"IF(Table1[[#This Row],[Kullanılan]]=0.5,0.01,\"--------\")","v":"--------"},1]
[null,366,null,{"$f":"'Veri Girişi'!#REF!","v":{"$error":"#REF!"}},"","",{"$f":"IF(SQRT(SUMSQ(Table1[[#This Row],[Gerçeklik                      ubias= RMSbias]:[Tekrar Üretilebilirlik                 RSDWR(pool) ]]))=0,\"\",(SQRT(SUMSQ(Table1[[#This Row],[Gerçeklik                      ubias= RMSbias]:[Tekrar Üretilebilirlik                 RSDWR(pool) ]]))))","v":""},{"$f":"IFERROR(Table1[[#This Row],[ Birleşik Standart Belirsizlik uc]]*2,\"\")","v":""},"",{"$f":"IF(Table1[[#This Row],[Kullanılan]]=0.5,0.01,\"--------\")","v":"--------"},1]
[null,367,null,{"$f":"'Veri Girişi'!#REF!","v":{"$error":"#REF!"}},"","",{"$f":"IF(SQRT(SUMSQ(Table1[[#This Row],[Gerçeklik                      ubias= RMSbias]:[Tekrar Üretilebilirlik                 RSDWR(pool) ]]))=0,\"\",(SQRT(SUMSQ(Table1[[#This Row],[Gerçeklik                      ubias= RMSbias]:[Tekrar Üretilebilirlik                 RSDWR(pool) ]]))))","v":""},{"$f":"IFERROR(Table1[[#This Row],[ Birleşik Standart Belirsizlik uc]]*2,\"\")","v":""},"",{"$f":"IF(Table1[[#This Row],[Kullanılan]]=0.5,0.01,\"--------\")","v":"--------"},1]
[null,368,null,{"$f":"'Veri Girişi'!#REF!","v":{"$error":"#REF!"}},"","",{"$f":"IF(SQRT(SUMSQ(Table1[[#This Row],[Gerçeklik                      ubias= RMSbias]:[Tekrar Üretilebilirlik                 RSDWR(pool) ]]))=0,\"\",(SQRT(SUMSQ(Table1[[#This Row],[Gerçeklik                      ubias= RMSbias]:[Tekrar Üretilebilirlik                 RSDWR(pool) ]]))))","v":""},{"$f":"IFERROR(Table1[[#This Row],[ Birleşik Standart Belirsizlik uc]]*2,\"\")","v":""},"",{"$f":"IF(Table1[[#This Row],[Kullanılan]]=0.5,0.01,\"--------\")","v":"--------"},1]
[null,369,null,{"$f":"'Veri Girişi'!#REF!","v":{"$error":"#REF!"}},"","",{"$f":"IF(SQRT(SUMSQ(Table1[[#This Row],[Gerçeklik                      ubias= RMSbias]:[Tekrar Üretilebilirlik                 RSDWR(pool) ]]))=0,\"\",(SQRT(SUMSQ(Table1[[#This Row],[Gerçeklik                      ubias= RMSbias]:[Tekrar Üretilebilirlik                 RSDWR(pool) ]]))))","v":""},{"$f":"IFERROR(Table1[[#This Row],[ Birleşik Standart Belirsizlik uc]]*2,\"\")","v":""},"",{"$f":"IF(Table1[[#This Row],[Kullanılan]]=0.5,0.01,\"--------\")","v":"--------"},1]
[null,370,null,{"$f":"'Veri Girişi'!#REF!","v":{"$error":"#REF!"}},"","",{"$f":"IF(SQRT(SUMSQ(Table1[[#This Row],[Gerçeklik                      ubias= RMSbias]:[Tekrar Üretilebilirlik                 RSDWR(pool) ]]))=0,\"\",(SQRT(SUMSQ(Table1[[#This Row],[Gerçeklik                      ubias= RMSbias]:[Tekrar Üretilebilirlik                 RSDWR(pool) ]]))))","v":""},{"$f":"IFERROR(Table1[[#This Row],[ Birleşik Standart Belirsizlik uc]]*2,\"\")","v":""},"",{"$f":"IF(Table1[[#This Row],[Kullanılan]]=0.5,0.01,\"--------\")","v":"--------"},1]
[null,371,null,{"$f":"'Veri Girişi'!#REF!","v":{"$error":"#REF!"}},"","",{"$f":"IF(SQRT(SUMSQ(Table1[[#This Row],[Gerçeklik                      ubias= RMSbias]:[Tekrar Üretilebilirlik                 RSDWR(pool) ]]))=0,\"\",(SQRT(SUMSQ(Table1[[#This Row],[Gerçeklik                      ubias= RMSbias]:[Tekrar Üretilebilirlik                 RSDWR(pool) ]]))))","v":""},{"$f":"IFERROR(Table1[[#This Row],[ Birleşik Standart Belirsizlik uc]]*2,\"\")","v":""},"",{"$f":"IF(Table1[[#This Row],[Kullanılan]]=0.5,0.01,\"--------\")","v":"--------"},0]
[null,372,null,{"$f":"'Veri Girişi'!#REF!","v":{"$error":"#REF!"}},"","",{"$f":"IF(SQRT(SUMSQ(Table1[[#This Row],[Gerçeklik                      ubias= RMSbias]:[Tekrar Üretilebilirlik                 RSDWR(pool) ]]))=0,\"\",(SQRT(SUMSQ(Table1[[#This Row],[Gerçeklik                      ubias= RMSbias]:[Tekrar Üretilebilirlik                 RSDWR(pool) ]]))))","v":""},{"$f":"IFERROR(Table1[[#This Row],[ Birleşik Standart Belirsizlik uc]]*2,\"\")","v":""},"",{"$f":"IF(Table1[[#This Row],[Kullanılan]]=0.5,0.01,\"--------\")","v":"--------"},0]
[null,373,null,{"$f":"'Veri Girişi'!#REF!","v":{"$error":"#REF!"}},"","",{"$f":"IF(SQRT(SUMSQ(Table1[[#This Row],[Gerçeklik                      ubias= RMSbias]:[Tekrar Üretilebilirlik                 RSDWR(pool) ]]))=0,\"\",(SQRT(SUMSQ(Table1[[#This Row],[Gerçeklik                      ubias= RMSbias]:[Tekrar Üretilebilirlik                 RSDWR(pool) ]]))))","v":""},{"$f":"IFERROR(Table1[[#This Row],[ Birleşik Standart Belirsizlik uc]]*2,\"\")","v":""},"",{"$f":"IF(Table1[[#This Row],[Kullanılan]]=0.5,0.01,\"--------\")","v":"--------"},0]
[null,374,null,{"$f":"'Veri Girişi'!#REF!","v":{"$error":"#REF!"}},"","",{"$f":"IF(SQRT(SUMSQ(Table1[[#This Row],[Gerçeklik                      ubias= RMSbias]:[Tekrar Üretilebilirlik                 RSDWR(pool) ]]))=0,\"\",(SQRT(SUMSQ(Table1[[#This Row],[Gerçeklik                      ubias= RMSbias]:[Tekrar Üretilebilirlik                 RSDWR(pool) ]]))))","v":""},{"$f":"IFERROR(Table1[[#This Row],[ Birleşik Standart Belirsizlik uc]]*2,\"\")","v":""},"",{"$f":"IF(Table1[[#This Row],[Kullanılan]]=0.5,0.01,\"--------\")","v":"--------"},1]
[null,375,null,{"$f":"'Veri Girişi'!#REF!","v":{"$error":"#REF!"}},"","",{"$f":"IF(SQRT(SUMSQ(Table1[[#This Row],[Gerçeklik                      ubias= RMSbias]:[Tekrar Üretilebilirlik                 RSDWR(pool) ]]))=0,\"\",(SQRT(SUMSQ(Table1[[#This Row],[Gerçeklik                      ubias= RMSbias]:[Tekrar Üretilebilirlik                 RSDWR(pool) ]]))))","v":""},{"$f":"IFERROR(Table1[[#This Row],[ Birleşik Standart Belirsizlik uc]]*2,\"\")","v":""},"",{"$f":"IF(Table1[[#This Row],[Kullanılan]]=0.5,0.01,\"--------\")","v":"--------"},1]
[null,376,null,{"$f":"'Veri Girişi'!#REF!","v":{"$error":"#REF!"}},"","",{"$f":"IF(SQRT(SUMSQ(Table1[[#This Row],[Gerçeklik                      ubias= RMSbias]:[Tekrar Üretilebilirlik                 RSDWR(pool) ]]))=0,\"\",(SQRT(SUMSQ(Table1[[#This Row],[Gerçeklik                      ubias= RMSbias]:[Tekrar Üretilebilirlik                 RSDWR(pool) ]]))))","v":""},{"$f":"IFERROR(Table1[[#This Row],[ Birleşik Standart Belirsizlik uc]]*2,\"\")","v":""},"",{"$f":"IF(Table1[[#This Row],[Kullanılan]]=0.5,0.01,\"--------\")","v":"--------"},1]
[null,377,null,{"$f":"'Veri Girişi'!#REF!","v":{"$error":"#REF!"}},{"$f":"IFERROR(VLOOKUP(C381,GERÇEKLİK_BELİRSİZLİĞİ_ubias2_RMSbias2,125,FALSE),\"\")","v":""},{"$f":"IFERROR(VLOOKUP(C381,T.U.BELIRSIZLIGI,55,FALSE),\"\")","v":""},{"$f":"IF(SQRT(SUMSQ(Table1[[#This Row],[Gerçeklik                      ubias= RMSbias]:[Tekrar Üretilebilirlik                 RSDWR(pool) ]]))=0,\"\",(SQRT(SUMSQ(Table1[[#This Row],[Gerçeklik                      ubias= RMSbias]:[Tekrar Üretilebilirlik                 RSDWR(pool) ]]))))","v":""},{"$f":"IFERROR(Table1[[#This Row],[ Birleşik Standart Belirsizlik uc]]*2,\"\")","v":""},{"$f":"IF(H381<0.5,0.5,H381)","v":""},{"$f":"IF(Table1[[#This Row],[Kullanılan]]=0.5,0.01,\"--------\")","v":"--------"},1]
[null,378,null,{"$f":"'Veri Girişi'!#REF!","v":{"$error":"#REF!"}},"","",{"$f":"IF(SQRT(SUMSQ(Table1[[#This Row],[Gerçeklik                      ubias= RMSbias]:[Tekrar Üretilebilirlik                 RSDWR(pool) ]]))=0,\"\",(SQRT(SUMSQ(Table1[[#This Row],[Gerçeklik                      ubias= RMSbias]:[Tekrar Üretilebilirlik                 RSDWR(pool) ]]))))","v":""},{"$f":"IFERROR(Table1[[#This Row],[ Birleşik Standart Belirsizlik uc]]*2,\"\")","v":""},"",{"$f":"IF(Table1[[#This Row],[Kullanılan]]=0.5,0.01,\"--------\")","v":"--------"},0]
[null,379,null,{"$f":"'Veri Girişi'!#REF!","v":{"$error":"#REF!"}},"","",{"$f":"IF(SQRT(SUMSQ(Table1[[#This Row],[Gerçeklik                      ubias= RMSbias]:[Tekrar Üretilebilirlik                 RSDWR(pool) ]]))=0,\"\",(SQRT(SUMSQ(Table1[[#This Row],[Gerçeklik                      ubias= RMSbias]:[Tekrar Üretilebilirlik                 RSDWR(pool) ]]))))","v":""},{"$f":"IFERROR(Table1[[#This Row],[ Birleşik Standart Belirsizlik uc]]*2,\"\")","v":""},"",{"$f":"IF(Table1[[#This Row],[Kullanılan]]=0.5,0.01,\"--------\")","v":"--------"},1]
[null,380,null,{"$f":"'Veri Girişi'!#REF!","v":{"$error":"#REF!"}},"","",{"$f":"IF(SQRT(SUMSQ(Table1[[#This Row],[Gerçeklik                      ubias= RMSbias]:[Tekrar Üretilebilirlik                 RSDWR(pool) ]]))=0,\"\",(SQRT(SUMSQ(Table1[[#This Row],[Gerçeklik                      ubias= RMSbias]:[Tekrar Üretilebilirlik                 RSDWR(pool) ]]))))","v":""},{"$f":"IFERROR(Table1[[#This Row],[ Birleşik Standart Belirsizlik uc]]*2,\"\")","v":""},"",{"$f":"IF(Table1[[#This Row],[Kullanılan]]=0.5,0.01,\"--------\")","v":"--------"},1]
[null,381,null,{"$f":"'Veri Girişi'!#REF!","v":{"$error":"#REF!"}},"","",{"$f":"IF(SQRT(SUMSQ(Table1[[#This Row],[Gerçeklik                      ubias= RMSbias]:[Tekrar Üretilebilirlik                 RSDWR(pool) ]]))=0,\"\",(SQRT(SUMSQ(Table1[[#This Row],[Gerçeklik                      ubias= RMSbias]:[Tekrar Üretilebilirlik                 RSDWR(pool) ]]))))","v":""},{"$f":"IFERROR(Table1[[#This Row],[ Birleşik Standart Belirsizlik uc]]*2,\"\")","v":""},"",{"$f":"IF(Table1[[#This Row],[Kullanılan]]=0.5,0.01,\"--------\")","v":"--------"},1]
[null,382,null,{"$f":"'Veri Girişi'!#REF!","v":{"$error":"#REF!"}},"","",{"$f":"IF(SQRT(SUMSQ(Table1[[#This Row],[Gerçeklik                      ubias= RMSbias]:[Tekrar Üretilebilirlik                 RSDWR(pool) ]]))=0,\"\",(SQRT(SUMSQ(Table1[[#This Row],[Gerçeklik                      ubias= RMSbias]:[Tekrar Üretilebilirlik                 RSDWR(pool) ]]))))","v":""},{"$f":"IFERROR(Table1[[#This Row],[ Birleşik Standart Belirsizlik uc]]*2,\"\")","v":""},"",{"$f":"IF(Table1[[#This Row],[Kullanılan]]=0.5,0.01,\"--------\")","v":"--------"},0]
[null,383,null,{"$f":"'Veri Girişi'!#REF!","v":{"$error":"#REF!"}},"","",{"$f":"IF(SQRT(SUMSQ(Table1[[#This Row],[Gerçeklik                      ubias= RMSbias]:[Tekrar Üretilebilirlik                 RSDWR(pool) ]]))=0,\"\",(SQRT(SUMSQ(Table1[[#This Row],[Gerçeklik                      ubias= RMSbias]:[Tekrar Üretilebilirlik                 RSDWR(pool) ]]))))","v":""},{"$f":"IFERROR(Table1[[#This Row],[ Birleşik Standart Belirsizlik uc]]*2,\"\")","v":""},"",{"$f":"IF(Table1[[#This Row],[Kullanılan]]=0.5,0.01,\"--------\")","v":"--------"},1]
[null,384,null,{"$f":"'Veri Girişi'!#REF!","v":{"$error":"#REF!"}},"","",{"$f":"IF(SQRT(SUMSQ(Table1[[#This Row],[Gerçeklik                      ubias= RMSbias]:[Tekrar Üretilebilirlik                 RSDWR(pool) ]]))=0,\"\",(SQRT(SUMSQ(Table1[[#This Row],[Gerçeklik                      ubias= RMSbias]:[Tekrar Üretilebilirlik                 RSDWR(pool) ]]))))","v":""},{"$f":"IFERROR(Table1[[#This Row],[ Birleşik Standart Belirsizlik uc]]*2,\"\")","v":""},"",{"$f":"IF(Table1[[#This Row],[Kullanılan]]=0.5,0.01,\"--------\")","v":"--------"},1]
[null,385,null,{"$f":"'Veri Girişi'!#REF!","v":{"$error":"#REF!"}},"","",{"$f":"IF(SQRT(SUMSQ(Table1[[#This Row],[Gerçeklik                      ubias= RMSbias]:[Tekrar Üretilebilirlik                 RSDWR(pool) ]]))=0,\"\",(SQRT(SUMSQ(Table1[[#This Row],[Gerçeklik                      ubias= RMSbias]:[Tekrar Üretilebilirlik                 RSDWR(pool) ]]))))","v":""},{"$f":"IFERROR(Table1[[#This Row],[ Birleşik Standart Belirsizlik uc]]*2,\"\")","v":""},"",{"$f":"IF(Table1[[#This Row],[Kullanılan]]=0.5,0.01,\"--------\")","v":"--------"},1]
[null,386,null,{"$f":"'Veri Girişi'!#REF!","v":{"$error":"#REF!"}},"","",{"$f":"IF(SQRT(SUMSQ(Table1[[#This Row],[Gerçeklik                      ubias= RMSbias]:[Tekrar Üretilebilirlik                 RSDWR(pool) ]]))=0,\"\",(SQRT(SUMSQ(Table1[[#This Row],[Gerçeklik                      ubias= RMSbias]:[Tekrar Üretilebilirlik                 RSDWR(pool) ]]))))","v":""},{"$f":"IFERROR(Table1[[#This Row],[ Birleşik Standart Belirsizlik uc]]*2,\"\")","v":""},"",{"$f":"IF(Table1[[#This Row],[Kullanılan]]=0.5,0.01,\"--------\")","v":"--------"},1]
[null,387,null,{"$f":"'Veri Girişi'!#REF!","v":{"$error":"#REF!"}},"","",{"$f":"IF(SQRT(SUMSQ(Table1[[#This Row],[Gerçeklik                      ubias= RMSbias]:[Tekrar Üretilebilirlik                 RSDWR(pool) ]]))=0,\"\",(SQRT(SUMSQ(Table1[[#This Row],[Gerçeklik                      ubias= RMSbias]:[Tekrar Üretilebilirlik                 RSDWR(pool) ]]))))","v":""},{"$f":"IFERROR(Table1[[#This Row],[ Birleşik Standart Belirsizlik uc]]*2,\"\")","v":""},"",{"$f":"IF(Table1[[#This Row],[Kullanılan]]=0.5,0.01,\"--------\")","v":"--------"},1]
[null,388,null,{"$f":"'Veri Girişi'!#REF!","v":{"$error":"#REF!"}},"","",{"$f":"IF(SQRT(SUMSQ(Table1[[#This Row],[Gerçeklik                      ubias= RMSbias]:[Tekrar Üretilebilirlik                 RSDWR(pool) ]]))=0,\"\",(SQRT(SUMSQ(Table1[[#This Row],[Gerçeklik                      ubias= RMSbias]:[Tekrar Üretilebilirlik                 RSDWR(pool) ]]))))","v":""},{"$f":"IFERROR(Table1[[#This Row],[ Birleşik Standart Belirsizlik uc]]*2,\"\")","v":""},"",{"$f":"IF(Table1[[#This Row],[Kullanılan]]=0.5,0.01,\"--------\")","v":"--------"},1]
[null,389,null,{"$f":"'Veri Girişi'!#REF!","v":{"$error":"#REF!"}},"","",{"$f":"IF(SQRT(SUMSQ(Table1[[#This Row],[Gerçeklik                      ubias= RMSbias]:[Tekrar Üretilebilirlik                 RSDWR(pool) ]]))=0,\"\",(SQRT(SUMSQ(Table1[[#This Row],[Gerçeklik                      ubias= RMSbias]:[Tekrar Üretilebilirlik                 RSDWR(pool) ]]))))","v":""},{"$f":"IFERROR(Table1[[#This Row],[ Birleşik Standart Belirsizlik uc]]*2,\"\")","v":""},"",{"$f":"IF(Table1[[#This Row],[Kullanılan]]=0.5,0.01,\"--------\")","v":"--------"},0]
[null,390,null,{"$f":"'Veri Girişi'!#REF!","v":{"$error":"#REF!"}},"","",{"$f":"IF(SQRT(SUMSQ(Table1[[#This Row],[Gerçeklik                      ubias= RMSbias]:[Tekrar Üretilebilirlik                 RSDWR(pool) ]]))=0,\"\",(SQRT(SUMSQ(Table1[[#This Row],[Gerçeklik                      ubias= RMSbias]:[Tekrar Üretilebilirlik                 RSDWR(pool) ]]))))","v":""},{"$f":"IFERROR(Table1[[#This Row],[ Birleşik Standart Belirsizlik uc]]*2,\"\")","v":""},"",{"$f":"IF(Table1[[#This Row],[Kullanılan]]=0.5,0.01,\"--------\")","v":"--------"},1]
[null,391,null,{"$f":"'Veri Girişi'!#REF!","v":{"$error":"#REF!"}},"","",{"$f":"IF(SQRT(SUMSQ(Table1[[#This Row],[Gerçeklik                      ubias= RMSbias]:[Tekrar Üretilebilirlik                 RSDWR(pool) ]]))=0,\"\",(SQRT(SUMSQ(Table1[[#This Row],[Gerçeklik                      ubias= RMSbias]:[Tekrar Üretilebilirlik                 RSDWR(pool) ]]))))","v":""},{"$f":"IFERROR(Table1[[#This Row],[ Birleşik Standart Belirsizlik uc]]*2,\"\")","v":""},"",{"$f":"IF(Table1[[#This Row],[Kullanılan]]=0.5,0.01,\"--------\")","v":"--------"},1]
[null,392,null,{"$f":"'Veri Girişi'!#REF!","v":{"$error":"#REF!"}},"","",{"$f":"IF(SQRT(SUMSQ(Table1[[#This Row],[Gerçeklik                      ubias= RMSbias]:[Tekrar Üretilebilirlik                 RSDWR(pool) ]]))=0,\"\",(SQRT(SUMSQ(Table1[[#This Row],[Gerçeklik                      ubias= RMSbias]:[Tekrar Üretilebilirlik                 RSDWR(pool) ]]))))","v":""},{"$f":"IFERROR(Table1[[#This Row],[ Birleşik Standart Belirsizlik uc]]*2,\"\")","v":""},"",{"$f":"IF(Table1[[#This Row],[Kullanılan]]=0.5,0.01,\"--------\")","v":"--------"},0]
[null,393,null,{"$f":"'Veri Girişi'!#REF!","v":{"$error":"#REF!"}},"","",{"$f":"IF(SQRT(SUMSQ(Table1[[#This Row],[Gerçeklik                      ubias= RMSbias]:[Tekrar Üretilebilirlik                 RSDWR(pool) ]]))=0,\"\",(SQRT(SUMSQ(Table1[[#This Row],[Gerçeklik                      ubias= RMSbias]:[Tekrar Üretilebilirlik                 RSDWR(pool) ]]))))","v":""},{"$f":"IFERROR(Table1[[#This Row],[ Birleşik Standart Belirsizlik uc]]*2,\"\")","v":""},"",{"$f":"IF(Table1[[#This Row],[Kullanılan]]=0.5,0.01,\"--------\")","v":"--------"},0]
[null,394,null,{"$f":"'Veri Girişi'!#REF!","v":{"$error":"#REF!"}},"","",{"$f":"IF(SQRT(SUMSQ(Table1[[#This Row],[Gerçeklik                      ubias= RMSbias]:[Tekrar Üretilebilirlik                 RSDWR(pool) ]]))=0,\"\",(SQRT(SUMSQ(Table1[[#This Row],[Gerçeklik                      ubias= RMSbias]:[Tekrar Üretilebilirlik                 RSDWR(pool) ]]))))","v":""},{"$f":"IFERROR(Table1[[#This Row],[ Birleşik Standart Belirsizlik uc]]*2,\"\")","v":""},"",{"$f":"IF(Table1[[#This Row],[Kullanılan]]=0.5,0.01,\"--------\")","v":"--------"},1]
[null,395,null,{"$f":"'Veri Girişi'!#REF!","v":{"$error":"#REF!"}},"","",{"$f":"IF(SQRT(SUMSQ(Table1[[#This Row],[Gerçeklik                      ubias= RMSbias]:[Tekrar Üretilebilirlik                 RSDWR(pool) ]]))=0,\"\",(SQRT(SUMSQ(Table1[[#This Row],[Gerçeklik                      ubias= RMSbias]:[Tekrar Üretilebilirlik                 RSDWR(pool) ]]))))","v":""},{"$f":"IFERROR(Table1[[#This Row],[ Birleşik Standart Belirsizlik uc]]*2,\"\")","v":""},"",{"$f":"IF(Table1[[#This Row],[Kullanılan]]=0.5,0.01,\"--------\")","v":"--------"},0]
[null,396,null,{"$f":"'Veri Girişi'!#REF!","v":{"$error":"#REF!"}},"","",{"$f":"IF(SQRT(SUMSQ(Table1[[#This Row],[Gerçeklik                      ubias= RMSbias]:[Tekrar Üretilebilirlik                 RSDWR(pool) ]]))=0,\"\",(SQRT(SUMSQ(Table1[[#This Row],[Gerçeklik                      ubias= RMSbias]:[Tekrar Üretilebilirlik                 RSDWR(pool) ]]))))","v":""},{"$f":"IFERROR(Table1[[#This Row],[ Birleşik Standart Belirsizlik uc]]*2,\"\")","v":""},"",{"$f":"IF(Table1[[#This Row],[Kullanılan]]=0.5,0.01,\"--------\")","v":"--------"},1]
[null,397,null,{"$f":"'Veri Girişi'!#REF!","v":{"$error":"#REF!"}},"","",{"$f":"IF(SQRT(SUMSQ(Table1[[#This Row],[Gerçeklik                      ubias= RMSbias]:[Tekrar Üretilebilirlik                 RSDWR(pool) ]]))=0,\"\",(SQRT(SUMSQ(Table1[[#This Row],[Gerçeklik                      ubias= RMSbias]:[Tekrar Üretilebilirlik                 RSDWR(pool) ]]))))","v":""},{"$f":"IFERROR(Table1[[#This Row],[ Birleşik Standart Belirsizlik uc]]*2,\"\")","v":""},"",{"$f":"IF(Table1[[#This Row],[Kullanılan]]=0.5,0.01,\"--------\")","v":"--------"},1]
[null,398,null,{"$f":"'Veri Girişi'!#REF!","v":{"$error":"#REF!"}},"","",{"$f":"IF(SQRT(SUMSQ(Table1[[#This Row],[Gerçeklik                      ubias= RMSbias]:[Tekrar Üretilebilirlik                 RSDWR(pool) ]]))=0,\"\",(SQRT(SUMSQ(Table1[[#This Row],[Gerçeklik                      ubias= RMSbias]:[Tekrar Üretilebilirlik                 RSDWR(pool) ]]))))","v":""},{"$f":"IFERROR(Table1[[#This Row],[ Birleşik Standart Belirsizlik uc]]*2,\"\")","v":""},"",{"$f":"IF(Table1[[#This Row],[Kullanılan]]=0.5,0.01,\"--------\")","v":"--------"},1]
[null,399,null,{"$f":"'Veri Girişi'!#REF!","v":{"$error":"#REF!"}},"","",{"$f":"IF(SQRT(SUMSQ(Table1[[#This Row],[Gerçeklik                      ubias= RMSbias]:[Tekrar Üretilebilirlik                 RSDWR(pool) ]]))=0,\"\",(SQRT(SUMSQ(Table1[[#This Row],[Gerçeklik                      ubias= RMSbias]:[Tekrar Üretilebilirlik                 RSDWR(pool) ]]))))","v":""},{"$f":"IFERROR(Table1[[#This Row],[ Birleşik Standart Belirsizlik uc]]*2,\"\")","v":""},"",{"$f":"IF(Table1[[#This Row],[Kullanılan]]=0.5,0.01,\"--------\")","v":"--------"},1]
[null,400,null,{"$f":"'Veri Girişi'!#REF!","v":{"$error":"#REF!"}},"","",{"$f":"IF(SQRT(SUMSQ(Table1[[#This Row],[Gerçeklik                      ubias= RMSbias]:[Tekrar Üretilebilirlik                 RSDWR(pool) ]]))=0,\"\",(SQRT(SUMSQ(Table1[[#This Row],[Gerçeklik                      ubias= RMSbias]:[Tekrar Üretilebilirlik                 RSDWR(pool) ]]))))","v":""},{"$f":"IFERROR(Table1[[#This Row],[ Birleşik Standart Belirsizlik uc]]*2,\"\")","v":""},"",{"$f":"IF(Table1[[#This Row],[Kullanılan]]=0.5,0.01,\"--------\")","v":"--------"},0]
[null,409,{"$f":"IF(('Veri Girişi'!#REF!)=0,\"\",'Veri Girişi'!#REF!)","v":{"$error":"#REF!"}},{"$f":"'Veri Girişi'!#REF!","v":{"$error":"#REF!"}},"","",{"$f":"IF(SQRT(SUMSQ(Table1[[#This Row],[Gerçeklik                      ubias= RMSbias]:[Tekrar Üretilebilirlik                 RSDWR(pool) ]]))=0,\"\",(SQRT(SUMSQ(Table1[[#This Row],[Gerçeklik                      ubias= RMSbias]:[Tekrar Üretilebilirlik                 RSDWR(pool) ]]))))","v":""},{"$f":"IFERROR(Table1[[#This Row],[ Birleşik Standart Belirsizlik uc]]*2,\"\")","v":""},"",{"$f":"IF(Table1[[#This Row],[Kullanılan]]=0.5,0.01,\"--------\")","v":"--------"},1]
[null,410,{"$f":"IF(('Veri Girişi'!#REF!)=0,\"\",'Veri Girişi'!#REF!)","v":{"$error":"#REF!"}},{"$f":"'Veri Girişi'!#REF!","v":{"$error":"#REF!"}},"","",{"$f":"IF(SQRT(SUMSQ(Table1[[#This Row],[Gerçeklik                      ubias= RMSbias]:[Tekrar Üretilebilirlik                 RSDWR(pool) ]]))=0,\"\",(SQRT(SUMSQ(Table1[[#This Row],[Gerçeklik                      ubias= RMSbias]:[Tekrar Üretilebilirlik                 RSDWR(pool) ]]))))","v":""},{"$f":"IFERROR(Table1[[#This Row],[ Birleşik Standart Belirsizlik uc]]*2,\"\")","v":""},"",{"$f":"IF(Table1[[#This Row],[Kullanılan]]=0.5,0.01,\"--------\")","v":"--------"},1]
[null,411,{"$f":"IF(('Veri Girişi'!#REF!)=0,\"\",'Veri Girişi'!#REF!)","v":{"$error":"#REF!"}},{"$f":"'Veri Girişi'!#REF!","v":{"$error":"#REF!"}},"","",{"$f":"IF(SQRT(SUMSQ(Table1[[#This Row],[Gerçeklik                      ubias= RMSbias]:[Tekrar Üretilebilirlik                 RSDWR(pool) ]]))=0,\"\",(SQRT(SUMSQ(Table1[[#This Row],[Gerçeklik                      ubias= RMSbias]:[Tekrar Üretilebilirlik                 RSDWR(pool) ]]))))","v":""},{"$f":"IFERROR(Table1[[#This Row],[ Birleşik Standart Belirsizlik uc]]*2,\"\")","v":""},"",{"$f":"IF(Table1[[#This Row],[Kullanılan]]=0.5,0.01,\"--------\")","v":"--------"},1]
[null,412,{"$f":"IF(('Veri Girişi'!#REF!)=0,\"\",'Veri Girişi'!#REF!)","v":{"$error":"#REF!"}},{"$f":"'Veri Girişi'!#REF!","v":{"$error":"#REF!"}},"","",{"$f":"IF(SQRT(SUMSQ(Table1[[#This Row],[Gerçeklik                      ubias= RMSbias]:[Tekrar Üretilebilirlik                 RSDWR(pool) ]]))=0,\"\",(SQRT(SUMSQ(Table1[[#This Row],[Gerçeklik                      ubias= RMSbias]:[Tekrar Üretilebilirlik                 RSDWR(pool) ]]))))","v":""},{"$f":"IFERROR(Table1[[#This Row],[ Birleşik Standart Belirsizlik uc]]*2,\"\")","v":""},"",{"$f":"IF(Table1[[#This Row],[Kullanılan]]=0.5,0.01,\"--------\")","v":"--------"},1]
[null,413,{"$f":"IF(('Veri Girişi'!#REF!)=0,\"\",'Veri Girişi'!#REF!)","v":{"$error":"#REF!"}},{"$f":"'Veri Girişi'!#REF!","v":{"$error":"#REF!"}},"","",{"$f":"IF(SQRT(SUMSQ(Table1[[#This Row],[Gerçeklik                      ubias= RMSbias]:[Tekrar Üretilebilirlik                 RSDWR(pool) ]]))=0,\"\",(SQRT(SUMSQ(Table1[[#This Row],[Gerçeklik                      ubias= RMSbias]:[Tekrar Üretilebilirlik                 RSDWR(pool) ]]))))","v":""},{"$f":"IFERROR(Table1[[#This Row],[ Birleşik Standart Belirsizlik uc]]*2,\"\")","v":""},"",{"$f":"IF(Table1[[#This Row],[Kullanılan]]=0.5,0.01,\"--------\")","v":"--------"},0]
[null,414,{"$f":"IF(('Veri Girişi'!#REF!)=0,\"\",'Veri Girişi'!#REF!)","v":{"$error":"#REF!"}},{"$f":"'Veri Girişi'!#REF!","v":{"$error":"#REF!"}},"","",{"$f":"IF(SQRT(SUMSQ(Table1[[#This Row],[Gerçeklik                      ubias= RMSbias]:[Tekrar Üretilebilirlik                 RSDWR(pool) ]]))=0,\"\",(SQRT(SUMSQ(Table1[[#This Row],[Gerçeklik                      ubias= RMSbias]:[Tekrar Üretilebilirlik                 RSDWR(pool) ]]))))","v":""},{"$f":"IFERROR(Table1[[#This Row],[ Birleşik Standart Belirsizlik uc]]*2,\"\")","v":""},"",{"$f":"IF(Table1[[#This Row],[Kullanılan]]=0.5,0.01,\"--------\")","v":"--------"},1]
[null,415,{"$f":"IF(('Veri Girişi'!#REF!)=0,\"\",'Veri Girişi'!#REF!)","v":{"$error":"#REF!"}},{"$f":"'Veri Girişi'!#REF!","v":{"$error":"#REF!"}},"","",{"$f":"IF(SQRT(SUMSQ(Table1[[#This Row],[Gerçeklik                      ubias= RMSbias]:[Tekrar Üretilebilirlik                 RSDWR(pool) ]]))=0,\"\",(SQRT(SUMSQ(Table1[[#This Row],[Gerçeklik                      ubias= RMSbias]:[Tekrar Üretilebilirlik                 RSDWR(pool) ]]))))","v":""},{"$f":"IFERROR(Table1[[#This Row],[ Birleşik Standart Belirsizlik uc]]*2,\"\")","v":""},"",{"$f":"IF(Table1[[#This Row],[Kullanılan]]=0.5,0.01,\"--------\")","v":"--------"},1]
[null,416,{"$f":"IF(('Veri Girişi'!#REF!)=0,\"\",'Veri Girişi'!#REF!)","v":{"$error":"#REF!"}},{"$f":"'Veri Girişi'!#REF!","v":{"$error":"#REF!"}},"","",{"$f":"IF(SQRT(SUMSQ(Table1[[#This Row],[Gerçeklik                      ubias= RMSbias]:[Tekrar Üretilebilirlik                 RSDWR(pool) ]]))=0,\"\",(SQRT(SUMSQ(Table1[[#This Row],[Gerçeklik                      ubias= RMSbias]:[Tekrar Üretilebilirlik                 RSDWR(pool) ]]))))","v":""},{"$f":"IFERROR(Table1[[#This Row],[ Birleşik Standart Belirsizlik uc]]*2,\"\")","v":""},"",{"$f":"IF(Table1[[#This Row],[Kullanılan]]=0.5,0.01,\"--------\")","v":"--------"},1]
[null,417,{"$f":"IF(('Veri Girişi'!#REF!)=0,\"\",'Veri Girişi'!#REF!)","v":{"$error":"#REF!"}},{"$f":"'Veri Girişi'!#REF!","v":{"$error":"#REF!"}},"","",{"$f":"IF(SQRT(SUMSQ(Table1[[#This Row],[Gerçeklik                      ubias= RMSbias]:[Tekrar Üretilebilirlik                 RSDWR(pool) ]]))=0,\"\",(SQRT(SUMSQ(Table1[[#This Row],[Gerçeklik                      ubias= RMSbias]:[Tekrar Üretilebilirlik                 RSDWR(pool) ]]))))","v":""},{"$f":"IFERROR(Table1[[#This Row],[ Birleşik Standart Belirsizlik uc]]*2,\"\")","v":""},"",{"$f":"IF(Table1[[#This Row],[Kullanılan]]=0.5,0.01,\"--------\")","v":"--------"},1]
[null,418,{"$f":"IF(('Veri Girişi'!#REF!)=0,\"\",'Veri Girişi'!#REF!)","v":{"$error":"#REF!"}},{"$f":"'Veri Girişi'!#REF!","v":{"$error":"#REF!"}},"","",{"$f":"IF(SQRT(SUMSQ(Table1[[#This Row],[Gerçeklik                      ubias= RMSbias]:[Tekrar Üretilebilirlik                 RSDWR(pool) ]]))=0,\"\",(SQRT(SUMSQ(Table1[[#This Row],[Gerçeklik                      ubias= RMSbias]:[Tekrar Üretilebilirlik                 RSDWR(pool) ]]))))","v":""},{"$f":"IFERROR(Table1[[#This Row],[ Birleşik Standart Belirsizlik uc]]*2,\"\")","v":""},"",{"$f":"IF(Table1[[#This Row],[Kullanılan]]=0.5,0.01,\"--------\")","v":"--------"},0]
[null,419,{"$f":"IF(('Veri Girişi'!#REF!)=0,\"\",'Veri Girişi'!#REF!)","v":{"$error":"#REF!"}},{"$f":"'Veri Girişi'!#REF!","v":{"$error":"#REF!"}},"","",{"$f":"IF(SQRT(SUMSQ(Table1[[#This Row],[Gerçeklik                      ubias= RMSbias]:[Tekrar Üretilebilirlik                 RSDWR(pool) ]]))=0,\"\",(SQRT(SUMSQ(Table1[[#This Row],[Gerçeklik                      ubias= RMSbias]:[Tekrar Üretilebilirlik                 RSDWR(pool) ]]))))","v":""},{"$f":"IFERROR(Table1[[#This Row],[ Birleşik Standart Belirsizlik uc]]*2,\"\")","v":""},"",{"$f":"IF(Table1[[#This Row],[Kullanılan]]=0.5,0.01,\"--------\")","v":"--------"},1]
[null,420,{"$f":"IF(('Veri Girişi'!#REF!)=0,\"\",'Veri Girişi'!#REF!)","v":{"$error":"#REF!"}},{"$f":"'Veri Girişi'!#REF!","v":{"$error":"#REF!"}},"","",{"$f":"IF(SQRT(SUMSQ(Table1[[#This Row],[Gerçeklik                      ubias= RMSbias]:[Tekrar Üretilebilirlik                 RSDWR(pool) ]]))=0,\"\",(SQRT(SUMSQ(Table1[[#This Row],[Gerçeklik                      ubias= RMSbias]:[Tekrar Üretilebilirlik                 RSDWR(pool) ]]))))","v":""},{"$f":"IFERROR(Table1[[#This Row],[ Birleşik Standart Belirsizlik uc]]*2,\"\")","v":""},"",{"$f":"IF(Table1[[#This Row],[Kullanılan]]=0.5,0.01,\"--------\")","v":"--------"},0]
[null,421,{"$f":"IF(('Veri Girişi'!#REF!)=0,\"\",'Veri Girişi'!#REF!)","v":{"$error":"#REF!"}},{"$f":"'Veri Girişi'!#REF!","v":{"$error":"#REF!"}},"","",{"$f":"IF(SQRT(SUMSQ(Table1[[#This Row],[Gerçeklik                      ubias= RMSbias]:[Tekrar Üretilebilirlik                 RSDWR(pool) ]]))=0,\"\",(SQRT(SUMSQ(Table1[[#This Row],[Gerçeklik                      ubias= RMSbias]:[Tekrar Üretilebilirlik                 RSDWR(pool) ]]))))","v":""},{"$f":"IFERROR(Table1[[#This Row],[ Birleşik Standart Belirsizlik uc]]*2,\"\")","v":""},"",{"$f":"IF(Table1[[#This Row],[Kullanılan]]=0.5,0.01,\"--------\")","v":"--------"},0]
[null,422,{"$f":"IF(('Veri Girişi'!#REF!)=0,\"\",'Veri Girişi'!#REF!)","v":{"$error":"#REF!"}},{"$f":"'Veri Girişi'!#REF!","v":{"$error":"#REF!"}},"","",{"$f":"IF(SQRT(SUMSQ(Table1[[#This Row],[Gerçeklik                      ubias= RMSbias]:[Tekrar Üretilebilirlik                 RSDWR(pool) ]]))=0,\"\",(SQRT(SUMSQ(Table1[[#This Row],[Gerçeklik                      ubias= RMSbias]:[Tekrar Üretilebilirlik                 RSDWR(pool) ]]))))","v":""},{"$f":"IFERROR(Table1[[#This Row],[ Birleşik Standart Belirsizlik uc]]*2,\"\")","v":""},"",{"$f":"IF(Table1[[#This Row],[Kullanılan]]=0.5,0.01,\"--------\")","v":"--------"},1]
[null,423,{"$f":"IF(('Veri Girişi'!#REF!)=0,\"\",'Veri Girişi'!#REF!)","v":{"$error":"#REF!"}},{"$f":"'Veri Girişi'!#REF!","v":{"$error":"#REF!"}},"","",{"$f":"IF(SQRT(SUMSQ(Table1[[#This Row],[Gerçeklik                      ubias= RMSbias]:[Tekrar Üretilebilirlik                 RSDWR(pool) ]]))=0,\"\",(SQRT(SUMSQ(Table1[[#This Row],[Gerçeklik                      ubias= RMSbias]:[Tekrar Üretilebilirlik                 RSDWR(pool) ]]))))","v":""},{"$f":"IFERROR(Table1[[#This Row],[ Birleşik Standart Belirsizlik uc]]*2,\"\")","v":""},"",{"$f":"IF(Table1[[#This Row],[Kullanılan]]=0.5,0.01,\"--------\")","v":"--------"},1]
[null,424,{"$f":"IF(('Veri Girişi'!#REF!)=0,\"\",'Veri Girişi'!#REF!)","v":{"$error":"#REF!"}},{"$f":"'Veri Girişi'!#REF!","v":{"$error":"#REF!"}},"","",{"$f":"IF(SQRT(SUMSQ(Table1[[#This Row],[Gerçeklik                      ubias= RMSbias]:[Tekrar Üretilebilirlik                 RSDWR(pool) ]]))=0,\"\",(SQRT(SUMSQ(Table1[[#This Row],[Gerçeklik                      ubias= RMSbias]:[Tekrar Üretilebilirlik                 RSDWR(pool) ]]))))","v":""},{"$f":"IFERROR(Table1[[#This Row],[ Birleşik Standart Belirsizlik uc]]*2,\"\")","v":""},"",{"$f":"IF(Table1[[#This Row],[Kullanılan]]=0.5,0.01,\"--------\")","v":"--------"},1]
[null,425,{"$f":"IF(('Veri Girişi'!#REF!)=0,\"\",'Veri Girişi'!#REF!)","v":{"$error":"#REF!"}},{"$f":"'Veri Girişi'!#REF!","v":{"$error":"#REF!"}},"","",{"$f":"IF(SQRT(SUMSQ(Table1[[#This Row],[Gerçeklik                      ubias= RMSbias]:[Tekrar Üretilebilirlik                 RSDWR(pool) ]]))=0,\"\",(SQRT(SUMSQ(Table1[[#This Row],[Gerçeklik                      ubias= RMSbias]:[Tekrar Üretilebilirlik                 RSDWR(pool) ]]))))","v":""},{"$f":"IFERROR(Table1[[#This Row],[ Birleşik Standart Belirsizlik uc]]*2,\"\")","v":""},"",{"$f":"IF(Table1[[#This Row],[Kullanılan]]=0.5,0.01,\"--------\")","v":"--------"},1]
[null,426,{"$f":"IF(('Veri Girişi'!#REF!)=0,\"\",'Veri Girişi'!#REF!)","v":{"$error":"#REF!"}},{"$f":"'Veri Girişi'!#REF!","v":{"$error":"#REF!"}},"","",{"$f":"IF(SQRT(SUMSQ(Table1[[#This Row],[Gerçeklik                      ubias= RMSbias]:[Tekrar Üretilebilirlik                 RSDWR(pool) ]]))=0,\"\",(SQRT(SUMSQ(Table1[[#This Row],[Gerçeklik                      ubias= RMSbias]:[Tekrar Üretilebilirlik                 RSDWR(pool) ]]))))","v":""},{"$f":"IFERROR(Table1[[#This Row],[ Birleşik Standart Belirsizlik uc]]*2,\"\")","v":""},"",{"$f":"IF(Table1[[#This Row],[Kullanılan]]=0.5,0.01,\"--------\")","v":"--------"},1]
[null,427,{"$f":"IF(('Veri Girişi'!#REF!)=0,\"\",'Veri Girişi'!#REF!)","v":{"$error":"#REF!"}},{"$f":"'Veri Girişi'!#REF!","v":{"$error":"#REF!"}},"","",{"$f":"IF(SQRT(SUMSQ(Table1[[#This Row],[Gerçeklik                      ubias= RMSbias]:[Tekrar Üretilebilirlik                 RSDWR(pool) ]]))=0,\"\",(SQRT(SUMSQ(Table1[[#This Row],[Gerçeklik                      ubias= RMSbias]:[Tekrar Üretilebilirlik                 RSDWR(pool) ]]))))","v":""},{"$f":"IFERROR(Table1[[#This Row],[ Birleşik Standart Belirsizlik uc]]*2,\"\")","v":""},"",{"$f":"IF(Table1[[#This Row],[Kullanılan]]=0.5,0.01,\"--------\")","v":"--------"},0]
[null,428,{"$f":"IF(('Veri Girişi'!#REF!)=0,\"\",'Veri Girişi'!#REF!)","v":{"$error":"#REF!"}},{"$f":"'Veri Girişi'!#REF!","v":{"$error":"#REF!"}},"","",{"$f":"IF(SQRT(SUMSQ(Table1[[#This Row],[Gerçeklik                      ubias= RMSbias]:[Tekrar Üretilebilirlik                 RSDWR(pool) ]]))=0,\"\",(SQRT(SUMSQ(Table1[[#This Row],[Gerçeklik                      ubias= RMSbias]:[Tekrar Üretilebilirlik                 RSDWR(pool) ]]))))","v":""},{"$f":"IFERROR(Table1[[#This Row],[ Birleşik Standart Belirsizlik uc]]*2,\"\")","v":""},"",{"$f":"IF(Table1[[#This Row],[Kullanılan]]=0.5,0.01,\"--------\")","v":"--------"},0]
[null,429,{"$f":"IF(('Veri Girişi'!#REF!)=0,\"\",'Veri Girişi'!#REF!)","v":{"$error":"#REF!"}},{"$f":"'Veri Girişi'!#REF!","v":{"$error":"#REF!"}},"","",{"$f":"IF(SQRT(SUMSQ(Table1[[#This Row],[Gerçeklik                      ubias= RMSbias]:[Tekrar Üretilebilirlik                 RSDWR(pool) ]]))=0,\"\",(SQRT(SUMSQ(Table1[[#This Row],[Gerçeklik                      ubias= RMSbias]:[Tekrar Üretilebilirlik                 RSDWR(pool) ]]))))","v":""},{"$f":"IFERROR(Table1[[#This Row],[ Birleşik Standart Belirsizlik uc]]*2,\"\")","v":""},"",{"$f":"IF(Table1[[#This Row],[Kullanılan]]=0.5,0.01,\"--------\")","v":"--------"},0]
[null,430,{"$f":"IF(('Veri Girişi'!#REF!)=0,\"\",'Veri Girişi'!#REF!)","v":{"$error":"#REF!"}},{"$f":"'Veri Girişi'!#REF!","v":{"$error":"#REF!"}},"","",{"$f":"IF(SQRT(SUMSQ(Table1[[#This Row],[Gerçeklik                      ubias= RMSbias]:[Tekrar Üretilebilirlik                 RSDWR(pool) ]]))=0,\"\",(SQRT(SUMSQ(Table1[[#This Row],[Gerçeklik                      ubias= RMSbias]:[Tekrar Üretilebilirlik                 RSDWR(pool) ]]))))","v":""},{"$f":"IFERROR(Table1[[#This Row],[ Birleşik Standart Belirsizlik uc]]*2,\"\")","v":""},"",{"$f":"IF(Table1[[#This Row],[Kullanılan]]=0.5,0.01,\"--------\")","v":"--------"},0]
[null,431,{"$f":"IF(('Veri Girişi'!#REF!)=0,\"\",'Veri Girişi'!#REF!)","v":{"$error":"#REF!"}},{"$f":"'Veri Girişi'!#REF!","v":{"$error":"#REF!"}},"","",{"$f":"IF(SQRT(SUMSQ(Table1[[#This Row],[Gerçeklik                      ubias= RMSbias]:[Tekrar Üretilebilirlik                 RSDWR(pool) ]]))=0,\"\",(SQRT(SUMSQ(Table1[[#This Row],[Gerçeklik                      ubias= RMSbias]:[Tekrar Üretilebilirlik                 RSDWR(pool) ]]))))","v":""},{"$f":"IFERROR(Table1[[#This Row],[ Birleşik Standart Belirsizlik uc]]*2,\"\")","v":""},"",{"$f":"IF(Table1[[#This Row],[Kullanılan]]=0.5,0.01,\"--------\")","v":"--------"},1]
[null,432,{"$f":"IF(('Veri Girişi'!#REF!)=0,\"\",'Veri Girişi'!#REF!)","v":{"$error":"#REF!"}},{"$f":"'Veri Girişi'!#REF!","v":{"$error":"#REF!"}},"","",{"$f":"IF(SQRT(SUMSQ(Table1[[#This Row],[Gerçeklik                      ubias= RMSbias]:[Tekrar Üretilebilirlik                 RSDWR(pool) ]]))=0,\"\",(SQRT(SUMSQ(Table1[[#This Row],[Gerçeklik                      ubias= RMSbias]:[Tekrar Üretilebilirlik                 RSDWR(pool) ]]))))","v":""},{"$f":"IFERROR(Table1[[#This Row],[ Birleşik Standart Belirsizlik uc]]*2,\"\")","v":""},"",{"$f":"IF(Table1[[#This Row],[Kullanılan]]=0.5,0.01,\"--------\")","v":"--------"},0]
[null,433,{"$f":"IF(('Veri Girişi'!#REF!)=0,\"\",'Veri Girişi'!#REF!)","v":{"$error":"#REF!"}},{"$f":"'Veri Girişi'!#REF!","v":{"$error":"#REF!"}},"","",{"$f":"IF(SQRT(SUMSQ(Table1[[#This Row],[Gerçeklik                      ubias= RMSbias]:[Tekrar Üretilebilirlik                 RSDWR(pool) ]]))=0,\"\",(SQRT(SUMSQ(Table1[[#This Row],[Gerçeklik                      ubias= RMSbias]:[Tekrar Üretilebilirlik                 RSDWR(pool) ]]))))","v":""},{"$f":"IFERROR(Table1[[#This Row],[ Birleşik Standart Belirsizlik uc]]*2,\"\")","v":""},"",{"$f":"IF(Table1[[#This Row],[Kullanılan]]=0.5,0.01,\"--------\")","v":"--------"},1]
[null,434,{"$f":"IF(('Veri Girişi'!#REF!)=0,\"\",'Veri Girişi'!#REF!)","v":{"$error":"#REF!"}},{"$f":"'Veri Girişi'!#REF!","v":{"$error":"#REF!"}},"","",{"$f":"IF(SQRT(SUMSQ(Table1[[#This Row],[Gerçeklik                      ubias= RMSbias]:[Tekrar Üretilebilirlik                 RSDWR(pool) ]]))=0,\"\",(SQRT(SUMSQ(Table1[[#This Row],[Gerçeklik                      ubias= RMSbias]:[Tekrar Üretilebilirlik                 RSDWR(pool) ]]))))","v":""},{"$f":"IFERROR(Table1[[#This Row],[ Birleşik Standart Belirsizlik uc]]*2,\"\")","v":""},"",{"$f":"IF(Table1[[#This Row],[Kullanılan]]=0.5,0.01,\"--------\")","v":"--------"},0]
[null,435,{"$f":"IF(('Veri Girişi'!#REF!)=0,\"\",'Veri Girişi'!#REF!)","v":{"$error":"#REF!"}},{"$f":"'Veri Girişi'!#REF!","v":{"$error":"#REF!"}},"","",{"$f":"IF(SQRT(SUMSQ(Table1[[#This Row],[Gerçeklik                      ubias= RMSbias]:[Tekrar Üretilebilirlik                 RSDWR(pool) ]]))=0,\"\",(SQRT(SUMSQ(Table1[[#This Row],[Gerçeklik                      ubias= RMSbias]:[Tekrar Üretilebilirlik                 RSDWR(pool) ]]))))","v":""},{"$f":"IFERROR(Table1[[#This Row],[ Birleşik Standart Belirsizlik uc]]*2,\"\")","v":""},"",{"$f":"IF(Table1[[#This Row],[Kullanılan]]=0.5,0.01,\"--------\")","v":"--------"},0]
[null,436,{"$f":"IF(('Veri Girişi'!#REF!)=0,\"\",'Veri Girişi'!#REF!)","v":{"$error":"#REF!"}},{"$f":"'Veri Girişi'!#REF!","v":{"$error":"#REF!"}},"","",{"$f":"IF(SQRT(SUMSQ(Table1[[#This Row],[Gerçeklik                      ubias= RMSbias]:[Tekrar Üretilebilirlik                 RSDWR(pool) ]]))=0,\"\",(SQRT(SUMSQ(Table1[[#This Row],[Gerçeklik                      ubias= RMSbias]:[Tekrar Üretilebilirlik                 RSDWR(pool) ]]))))","v":""},{"$f":"IFERROR(Table1[[#This Row],[ Birleşik Standart Belirsizlik uc]]*2,\"\")","v":""},"",{"$f":"IF(Table1[[#This Row],[Kullanılan]]=0.5,0.01,\"--------\")","v":"--------"},0]
[null,437,{"$f":"IF(('Veri Girişi'!#REF!)=0,\"\",'Veri Girişi'!#REF!)","v":{"$error":"#REF!"}},{"$f":"'Veri Girişi'!#REF!","v":{"$error":"#REF!"}},"","",{"$f":"IF(SQRT(SUMSQ(Table1[[#This Row],[Gerçeklik                      ubias= RMSbias]:[Tekrar Üretilebilirlik                 RSDWR(pool) ]]))=0,\"\",(SQRT(SUMSQ(Table1[[#This Row],[Gerçeklik                      ubias= RMSbias]:[Tekrar Üretilebilirlik                 RSDWR(pool) ]]))))","v":""},{"$f":"IFERROR(Table1[[#This Row],[ Birleşik Standart Belirsizlik uc]]*2,\"\")","v":""},"",{"$f":"IF(Table1[[#This Row],[Kullanılan]]=0.5,0.01,\"--------\")","v":"--------"},1]
[null,438,{"$f":"IF(('Veri Girişi'!#REF!)=0,\"\",'Veri Girişi'!#REF!)","v":{"$error":"#REF!"}},{"$f":"'Veri Girişi'!#REF!","v":{"$error":"#REF!"}},"","",{"$f":"IF(SQRT(SUMSQ(Table1[[#This Row],[Gerçeklik                      ubias= RMSbias]:[Tekrar Üretilebilirlik                 RSDWR(pool) ]]))=0,\"\",(SQRT(SUMSQ(Table1[[#This Row],[Gerçeklik                      ubias= RMSbias]:[Tekrar Üretilebilirlik                 RSDWR(pool) ]]))))","v":""},{"$f":"IFERROR(Table1[[#This Row],[ Birleşik Standart Belirsizlik uc]]*2,\"\")","v":""},"",{"$f":"IF(Table1[[#This Row],[Kullanılan]]=0.5,0.01,\"--------\")","v":"--------"},1]
[null,439,{"$f":"IF(('Veri Girişi'!#REF!)=0,\"\",'Veri Girişi'!#REF!)","v":{"$error":"#REF!"}},{"$f":"'Veri Girişi'!#REF!","v":{"$error":"#REF!"}},"","",{"$f":"IF(SQRT(SUMSQ(Table1[[#This Row],[Gerçeklik                      ubias= RMSbias]:[Tekrar Üretilebilirlik                 RSDWR(pool) ]]))=0,\"\",(SQRT(SUMSQ(Table1[[#This Row],[Gerçeklik                      ubias= RMSbias]:[Tekrar Üretilebilirlik                 RSDWR(pool) ]]))))","v":""},{"$f":"IFERROR(Table1[[#This Row],[ Birleşik Standart Belirsizlik uc]]*2,\"\")","v":""},"",{"$f":"IF(Table1[[#This Row],[Kullanılan]]=0.5,0.01,\"--------\")","v":"--------"},1]
[null,440,{"$f":"IF(('Veri Girişi'!#REF!)=0,\"\",'Veri Girişi'!#REF!)","v":{"$error":"#REF!"}},{"$f":"'Veri Girişi'!#REF!","v":{"$error":"#REF!"}},"","",{"$f":"IF(SQRT(SUMSQ(Table1[[#This Row],[Gerçeklik                      ubias= RMSbias]:[Tekrar Üretilebilirlik                 RSDWR(pool) ]]))=0,\"\",(SQRT(SUMSQ(Table1[[#This Row],[Gerçeklik                      ubias= RMSbias]:[Tekrar Üretilebilirlik                 RSDWR(pool) ]]))))","v":""},{"$f":"IFERROR(Table1[[#This Row],[ Birleşik Standart Belirsizlik uc]]*2,\"\")","v":""},"",{"$f":"IF(Table1[[#This Row],[Kullanılan]]=0.5,0.01,\"--------\")","v":"--------"},1]
[null,441,{"$f":"IF(('Veri Girişi'!#REF!)=0,\"\",'Veri Girişi'!#REF!)","v":{"$error":"#REF!"}},{"$f":"'Veri Girişi'!#REF!","v":{"$error":"#REF!"}},"","",{"$f":"IF(SQRT(SUMSQ(Table1[[#This Row],[Gerçeklik                      ubias= RMSbias]:[Tekrar Üretilebilirlik                 RSDWR(pool) ]]))=0,\"\",(SQRT(SUMSQ(Table1[[#This Row],[Gerçeklik                      ubias= RMSbias]:[Tekrar Üretilebilirlik                 RSDWR(pool) ]]))))","v":""},{"$f":"IFERROR(Table1[[#This Row],[ Birleşik Standart Belirsizlik uc]]*2,\"\")","v":""},"",{"$f":"IF(Table1[[#This Row],[Kullanılan]]=0.5,0.01,\"--------\")","v":"--------"},1]
[null,442,{"$f":"IF(('Veri Girişi'!#REF!)=0,\"\",'Veri Girişi'!#REF!)","v":{"$error":"#REF!"}},{"$f":"'Veri Girişi'!#REF!","v":{"$error":"#REF!"}},"","",{"$f":"IF(SQRT(SUMSQ(Table1[[#This Row],[Gerçeklik                      ubias= RMSbias]:[Tekrar Üretilebilirlik                 RSDWR(pool) ]]))=0,\"\",(SQRT(SUMSQ(Table1[[#This Row],[Gerçeklik                      ubias= RMSbias]:[Tekrar Üretilebilirlik                 RSDWR(pool) ]]))))","v":""},{"$f":"IFERROR(Table1[[#This Row],[ Birleşik Standart Belirsizlik uc]]*2,\"\")","v":""},"",{"$f":"IF(Table1[[#This Row],[Kullanılan]]=0.5,0.01,\"--------\")","v":"--------"},1]
[null,443,{"$f":"IF(('Veri Girişi'!#REF!)=0,\"\",'Veri Girişi'!#REF!)","v":{"$error":"#REF!"}},{"$f":"'Veri Girişi'!#REF!","v":{"$error":"#REF!"}},"","",{"$f":"IF(SQRT(SUMSQ(Table1[[#This Row],[Gerçeklik                      ubias= RMSbias]:[Tekrar Üretilebilirlik                 RSDWR(pool) ]]))=0,\"\",(SQRT(SUMSQ(Table1[[#This Row],[Gerçeklik                      ubias= RMSbias]:[Tekrar Üretilebilirlik                 RSDWR(pool) ]]))))","v":""},{"$f":"IFERROR(Table1[[#This Row],[ Birleşik Standart Belirsizlik uc]]*2,\"\")","v":""},"",{"$f":"IF(Table1[[#This Row],[Kullanılan]]=0.5,0.01,\"--------\")","v":"--------"},1]
[null,444,{"$f":"IF(('Veri Girişi'!#REF!)=0,\"\",'Veri Girişi'!#REF!)","v":{"$error":"#REF!"}},{"$f":"'Veri Girişi'!#REF!","v":{"$error":"#REF!"}},"","",{"$f":"IF(SQRT(SUMSQ(Table1[[#This Row],[Gerçeklik                      ubias= RMSbias]:[Tekrar Üretilebilirlik                 RSDWR(pool) ]]))=0,\"\",(SQRT(SUMSQ(Table1[[#This Row],[Gerçeklik                      ubias= RMSbias]:[Tekrar Üretilebilirlik                 RSDWR(pool) ]]))))","v":""},{"$f":"IFERROR(Table1[[#This Row],[ Birleşik Standart Belirsizlik uc]]*2,\"\")","v":""},"",{"$f":"IF(Table1[[#This Row],[Kullanılan]]=0.5,0.01,\"--------\")","v":"--------"},0]
[null,445,{"$f":"IF(('Veri Girişi'!#REF!)=0,\"\",'Veri Girişi'!#REF!)","v":{"$error":"#REF!"}},{"$f":"'Veri Girişi'!#REF!","v":{"$error":"#REF!"}},"","",{"$f":"IF(SQRT(SUMSQ(Table1[[#This Row],[Gerçeklik                      ubias= RMSbias]:[Tekrar Üretilebilirlik                 RSDWR(pool) ]]))=0,\"\",(SQRT(SUMSQ(Table1[[#This Row],[Gerçeklik                      ubias= RMSbias]:[Tekrar Üretilebilirlik                 RSDWR(pool) ]]))))","v":""},{"$f":"IFERROR(Table1[[#This Row],[ Birleşik Standart Belirsizlik uc]]*2,\"\")","v":""},"",{"$f":"IF(Table1[[#This Row],[Kullanılan]]=0.5,0.01,\"--------\")","v":"--------"},1]
[null,446,{"$f":"IF(('Veri Girişi'!#REF!)=0,\"\",'Veri Girişi'!#REF!)","v":{"$error":"#REF!"}},{"$f":"'Veri Girişi'!#REF!","v":{"$error":"#REF!"}},"","",{"$f":"IF(SQRT(SUMSQ(Table1[[#This Row],[Gerçeklik                      ubias= RMSbias]:[Tekrar Üretilebilirlik                 RSDWR(pool) ]]))=0,\"\",(SQRT(SUMSQ(Table1[[#This Row],[Gerçeklik                      ubias= RMSbias]:[Tekrar Üretilebilirlik                 RSDWR(pool) ]]))))","v":""},{"$f":"IFERROR(Table1[[#This Row],[ Birleşik Standart Belirsizlik uc]]*2,\"\")","v":""},"",{"$f":"IF(Table1[[#This Row],[Kullanılan]]=0.5,0.01,\"--------\")","v":"--------"},1]
[null,447,{"$f":"IF(('Veri Girişi'!#REF!)=0,\"\",'Veri Girişi'!#REF!)","v":{"$error":"#REF!"}},{"$f":"'Veri Girişi'!#REF!","v":{"$error":"#REF!"}},"","",{"$f":"IF(SQRT(SUMSQ(Table1[[#This Row],[Gerçeklik                      ubias= RMSbias]:[Tekrar Üretilebilirlik                 RSDWR(pool) ]]))=0,\"\",(SQRT(SUMSQ(Table1[[#This Row],[Gerçeklik                      ubias= RMSbias]:[Tekrar Üretilebilirlik                 RSDWR(pool) ]]))))","v":""},{"$f":"IFERROR(Table1[[#This Row],[ Birleşik Standart Belirsizlik uc]]*2,\"\")","v":""},"",{"$f":"IF(Table1[[#This Row],[Kullanılan]]=0.5,0.01,\"--------\")","v":"--------"},1]
[null,448,{"$f":"IF(('Veri Girişi'!#REF!)=0,\"\",'Veri Girişi'!#REF!)","v":{"$error":"#REF!"}},{"$f":"'Veri Girişi'!#REF!","v":{"$error":"#REF!"}},"","",{"$f":"IF(SQRT(SUMSQ(Table1[[#This Row],[Gerçeklik                      ubias= RMSbias]:[Tekrar Üretilebilirlik                 RSDWR(pool) ]]))=0,\"\",(SQRT(SUMSQ(Table1[[#This Row],[Gerçeklik                      ubias= RMSbias]:[Tekrar Üretilebilirlik                 RSDWR(pool) ]]))))","v":""},{"$f":"IFERROR(Table1[[#This Row],[ Birleşik Standart Belirsizlik uc]]*2,\"\")","v":""},"",{"$f":"IF(Table1[[#This Row],[Kullanılan]]=0.5,0.01,\"--------\")","v":"--------"},1]
[null,449,{"$f":"IF(('Veri Girişi'!#REF!)=0,\"\",'Veri Girişi'!#REF!)","v":{"$error":"#REF!"}},{"$f":"'Veri Girişi'!#REF!","v":{"$error":"#REF!"}},{"$f":"IFERROR(VLOOKUP(C445,GERÇEKLİK_BELİRSİZLİĞİ_ubias2_RMSbias2,125,FALSE),\"\")","v":""},{"$f":"IFERROR(VLOOKUP(C445,T.U.BELIRSIZLIGI,55,FALSE),\"\")","v":""},{"$f":"IF(SQRT(SUMSQ(Table1[[#This Row],[Gerçeklik                      ubias= RMSbias]:[Tekrar Üretilebilirlik                 RSDWR(pool) ]]))=0,\"\",(SQRT(SUMSQ(Table1[[#This Row],[Gerçeklik                      ubias= RMSbias]:[Tekrar Üretilebilirlik                 RSDWR(pool) ]]))))","v":""},{"$f":"IFERROR(Table1[[#This Row],[ Birleşik Standart Belirsizlik uc]]*2,\"\")","v":""},{"$f":"IF(H445<0.5,0.5,H445)","v":""},{"$f":"IF(Table1[[#This Row],[Kullanılan]]=0.5,0.01,\"--------\")","v":"--------"},1]
[null,450,{"$f":"IF(('Veri Girişi'!#REF!)=0,\"\",'Veri Girişi'!#REF!)","v":{"$error":"#REF!"}},{"$f":"'Veri Girişi'!#REF!","v":{"$error":"#REF!"}},"","",{"$f":"IF(SQRT(SUMSQ(Table1[[#This Row],[Gerçeklik                      ubias= RMSbias]:[Tekrar Üretilebilirlik                 RSDWR(pool) ]]))=0,\"\",(SQRT(SUMSQ(Table1[[#This Row],[Gerçeklik                      ubias= RMSbias]:[Tekrar Üretilebilirlik                 RSDWR(pool) ]]))))","v":""},{"$f":"IFERROR(Table1[[#This Row],[ Birleşik Standart Belirsizlik uc]]*2,\"\")","v":""},"",{"$f":"IF(Table1[[#This Row],[Kullanılan]]=0.5,0.01,\"--------\")","v":"--------"},1]
[null,451,{"$f":"IF(('Veri Girişi'!#REF!)=0,\"\",'Veri Girişi'!#REF!)","v":{"$error":"#REF!"}},{"$f":"'Veri Girişi'!#REF!","v":{"$error":"#REF!"}},"","",{"$f":"IF(SQRT(SUMSQ(Table1[[#This Row],[Gerçeklik                      ubias= RMSbias]:[Tekrar Üretilebilirlik                 RSDWR(pool) ]]))=0,\"\",(SQRT(SUMSQ(Table1[[#This Row],[Gerçeklik                      ubias= RMSbias]:[Tekrar Üretilebilirlik                 RSDWR(pool) ]]))))","v":""},{"$f":"IFERROR(Table1[[#This Row],[ Birleşik Standart Belirsizlik uc]]*2,\"\")","v":""},"",{"$f":"IF(Table1[[#This Row],[Kullanılan]]=0.5,0.01,\"--------\")","v":"--------"},0]
[null,452,{"$f":"IF(('Veri Girişi'!#REF!)=0,\"\",'Veri Girişi'!#REF!)","v":{"$error":"#REF!"}},{"$f":"'Veri Girişi'!#REF!","v":{"$error":"#REF!"}},"","",{"$f":"IF(SQRT(SUMSQ(Table1[[#This Row],[Gerçeklik                      ubias= RMSbias]:[Tekrar Üretilebilirlik                 RSDWR(pool) ]]))=0,\"\",(SQRT(SUMSQ(Table1[[#This Row],[Gerçeklik                      ubias= RMSbias]:[Tekrar Üretilebilirlik                 RSDWR(pool) ]]))))","v":""},{"$f":"IFERROR(Table1[[#This Row],[ Birleşik Standart Belirsizlik uc]]*2,\"\")","v":""},"",{"$f":"IF(Table1[[#This Row],[Kullanılan]]=0.5,0.01,\"--------\")","v":"--------"},1]
[null,453,{"$f":"IF(('Veri Girişi'!#REF!)=0,\"\",'Veri Girişi'!#REF!)","v":{"$error":"#REF!"}},{"$f":"'Veri Girişi'!#REF!","v":{"$error":"#REF!"}},"","",{"$f":"IF(SQRT(SUMSQ(Table1[[#This Row],[Gerçeklik                      ubias= RMSbias]:[Tekrar Üretilebilirlik                 RSDWR(pool) ]]))=0,\"\",(SQRT(SUMSQ(Table1[[#This Row],[Gerçeklik                      ubias= RMSbias]:[Tekrar Üretilebilirlik                 RSDWR(pool) ]]))))","v":""},{"$f":"IFERROR(Table1[[#This Row],[ Birleşik Standart Belirsizlik uc]]*2,\"\")","v":""},"",{"$f":"IF(Table1[[#This Row],[Kullanılan]]=0.5,0.01,\"--------\")","v":"--------"},0]
[null,454,{"$f":"IF(('Veri Girişi'!#REF!)=0,\"\",'Veri Girişi'!#REF!)","v":{"$error":"#REF!"}},{"$f":"'Veri Girişi'!#REF!","v":{"$error":"#REF!"}},"","",{"$f":"IF(SQRT(SUMSQ(Table1[[#This Row],[Gerçeklik                      ubias= RMSbias]:[Tekrar Üretilebilirlik                 RSDWR(pool) ]]))=0,\"\",(SQRT(SUMSQ(Table1[[#This Row],[Gerçeklik                      ubias= RMSbias]:[Tekrar Üretilebilirlik                 RSDWR(pool) ]]))))","v":""},{"$f":"IFERROR(Table1[[#This Row],[ Birleşik Standart Belirsizlik uc]]*2,\"\")","v":""},"",{"$f":"IF(Table1[[#This Row],[Kullanılan]]=0.5,0.01,\"--------\")","v":"--------"},1]
[null,455,{"$f":"IF(('Veri Girişi'!#REF!)=0,\"\",'Veri Girişi'!#REF!)","v":{"$error":"#REF!"}},{"$f":"'Veri Girişi'!#REF!","v":{"$error":"#REF!"}},"","",{"$f":"IF(SQRT(SUMSQ(Table1[[#This Row],[Gerçeklik                      ubias= RMSbias]:[Tekrar Üretilebilirlik                 RSDWR(pool) ]]))=0,\"\",(SQRT(SUMSQ(Table1[[#This Row],[Gerçeklik                      ubias= RMSbias]:[Tekrar Üretilebilirlik                 RSDWR(pool) ]]))))","v":""},{"$f":"IFERROR(Table1[[#This Row],[ Birleşik Standart Belirsizlik uc]]*2,\"\")","v":""},"",{"$f":"IF(Table1[[#This Row],[Kullanılan]]=0.5,0.01,\"--------\")","v":"--------"},1]
[null,456,{"$f":"IF(('Veri Girişi'!#REF!)=0,\"\",'Veri Girişi'!#REF!)","v":{"$error":"#REF!"}},{"$f":"'Veri Girişi'!#REF!","v":{"$error":"#REF!"}},"","",{"$f":"IF(SQRT(SUMSQ(Table1[[#This Row],[Gerçeklik                      ubias= RMSbias]:[Tekrar Üretilebilirlik                 RSDWR(pool) ]]))=0,\"\",(SQRT(SUMSQ(Table1[[#This Row],[Gerçeklik                      ubias= RMSbias]:[Tekrar Üretilebilirlik                 RSDWR(pool) ]]))))","v":""},{"$f":"IFERROR(Table1[[#This Row],[ Birleşik Standart Belirsizlik uc]]*2,\"\")","v":""},"",{"$f":"IF(Table1[[#This Row],[Kullanılan]]=0.5,0.01,\"--------\")","v":"--------"},1]
[null,457,{"$f":"IF(('Veri Girişi'!#REF!)=0,\"\",'Veri Girişi'!#REF!)","v":{"$error":"#REF!"}},{"$f":"'Veri Girişi'!#REF!","v":{"$error":"#REF!"}},"","",{"$f":"IF(SQRT(SUMSQ(Table1[[#This Row],[Gerçeklik                      ubias= RMSbias]:[Tekrar Üretilebilirlik                 RSDWR(pool) ]]))=0,\"\",(SQRT(SUMSQ(Table1[[#This Row],[Gerçeklik                      ubias= RMSbias]:[Tekrar Üretilebilirlik                 RSDWR(pool) ]]))))","v":""},{"$f":"IFERROR(Table1[[#This Row],[ Birleşik Standart Belirsizlik uc]]*2,\"\")","v":""},"",{"$f":"IF(Table1[[#This Row],[Kullanılan]]=0.5,0.01,\"--------\")","v":"--------"},1]
[null,458,{"$f":"IF(('Veri Girişi'!#REF!)=0,\"\",'Veri Girişi'!#REF!)","v":{"$error":"#REF!"}},{"$f":"'Veri Girişi'!#REF!","v":{"$error":"#REF!"}},"","",{"$f":"IF(SQRT(SUMSQ(Table1[[#This Row],[Gerçeklik                      ubias= RMSbias]:[Tekrar Üretilebilirlik                 RSDWR(pool) ]]))=0,\"\",(SQRT(SUMSQ(Table1[[#This Row],[Gerçeklik                      ubias= RMSbias]:[Tekrar Üretilebilirlik                 RSDWR(pool) ]]))))","v":""},{"$f":"IFERROR(Table1[[#This Row],[ Birleşik Standart Belirsizlik uc]]*2,\"\")","v":""},"",{"$f":"IF(Table1[[#This Row],[Kullanılan]]=0.5,0.01,\"--------\")","v":"--------"},1]
[null,459,{"$f":"IF(('Veri Girişi'!#REF!)=0,\"\",'Veri Girişi'!#REF!)","v":{"$error":"#REF!"}},{"$f":"'Veri Girişi'!#REF!","v":{"$error":"#REF!"}},"","",{"$f":"IF(SQRT(SUMSQ(Table1[[#This Row],[Gerçeklik                      ubias= RMSbias]:[Tekrar Üretilebilirlik                 RSDWR(pool) ]]))=0,\"\",(SQRT(SUMSQ(Table1[[#This Row],[Gerçeklik                      ubias= RMSbias]:[Tekrar Üretilebilirlik                 RSDWR(pool) ]]))))","v":""},{"$f":"IFERROR(Table1[[#This Row],[ Birleşik Standart Belirsizlik uc]]*2,\"\")","v":""},"",{"$f":"IF(Table1[[#This Row],[Kullanılan]]=0.5,0.01,\"--------\")","v":"--------"},1]
[null,460,{"$f":"IF(('Veri Girişi'!#REF!)=0,\"\",'Veri Girişi'!#REF!)","v":{"$error":"#REF!"}},{"$f":"'Veri Girişi'!#REF!","v":{"$error":"#REF!"}},"","",{"$f":"IF(SQRT(SUMSQ(Table1[[#This Row],[Gerçeklik                      ubias= RMSbias]:[Tekrar Üretilebilirlik                 RSDWR(pool) ]]))=0,\"\",(SQRT(SUMSQ(Table1[[#This Row],[Gerçeklik                      ubias= RMSbias]:[Tekrar Üretilebilirlik                 RSDWR(pool) ]]))))","v":""},{"$f":"IFERROR(Table1[[#This Row],[ Birleşik Standart Belirsizlik uc]]*2,\"\")","v":""},"",{"$f":"IF(Table1[[#This Row],[Kullanılan]]=0.5,0.01,\"--------\")","v":"--------"},1]
[null,461,{"$f":"IF(('Veri Girişi'!#REF!)=0,\"\",'Veri Girişi'!#REF!)","v":{"$error":"#REF!"}},{"$f":"'Veri Girişi'!#REF!","v":{"$error":"#REF!"}},"","",{"$f":"IF(SQRT(SUMSQ(Table1[[#This Row],[Gerçeklik                      ubias= RMSbias]:[Tekrar Üretilebilirlik                 RSDWR(pool) ]]))=0,\"\",(SQRT(SUMSQ(Table1[[#This Row],[Gerçeklik                      ubias= RMSbias]:[Tekrar Üretilebilirlik                 RSDWR(pool) ]]))))","v":""},{"$f":"IFERROR(Table1[[#This Row],[ Birleşik Standart Belirsizlik uc]]*2,\"\")","v":""},"",{"$f":"IF(Table1[[#This Row],[Kullanılan]]=0.5,0.01,\"--------\")","v":"--------"},0]
[null,462,{"$f":"IF(('Veri Girişi'!#REF!)=0,\"\",'Veri Girişi'!#REF!)","v":{"$error":"#REF!"}},{"$f":"'Veri Girişi'!#REF!","v":{"$error":"#REF!"}},"","",{"$f":"IF(SQRT(SUMSQ(Table1[[#This Row],[Gerçeklik                      ubias= RMSbias]:[Tekrar Üretilebilirlik                 RSDWR(pool) ]]))=0,\"\",(SQRT(SUMSQ(Table1[[#This Row],[Gerçeklik                      ubias= RMSbias]:[Tekrar Üretilebilirlik                 RSDWR(pool) ]]))))","v":""},{"$f":"IFERROR(Table1[[#This Row],[ Birleşik Standart Belirsizlik uc]]*2,\"\")","v":""},"",{"$f":"IF(Table1[[#This Row],[Kullanılan]]=0.5,0.01,\"--------\")","v":"--------"},0]
[null,463,{"$f":"IF(('Veri Girişi'!#REF!)=0,\"\",'Veri Girişi'!#REF!)","v":{"$error":"#REF!"}},{"$f":"'Veri Girişi'!#REF!","v":{"$error":"#REF!"}},"","",{"$f":"IF(SQRT(SUMSQ(Table1[[#This Row],[Gerçeklik                      ubias= RMSbias]:[Tekrar Üretilebilirlik                 RSDWR(pool) ]]))=0,\"\",(SQRT(SUMSQ(Table1[[#This Row],[Gerçeklik                      ubias= RMSbias]:[Tekrar Üretilebilirlik                 RSDWR(pool) ]]))))","v":""},{"$f":"IFERROR(Table1[[#This Row],[ Birleşik Standart Belirsizlik uc]]*2,\"\")","v":""},"",{"$f":"IF(Table1[[#This Row],[Kullanılan]]=0.5,0.01,\"--------\")","v":"--------"},0]
[null,464,{"$f":"IF(('Veri Girişi'!#REF!)=0,\"\",'Veri Girişi'!#REF!)","v":{"$error":"#REF!"}},{"$f":"'Veri Girişi'!#REF!","v":{"$error":"#REF!"}},"","",{"$f":"IF(SQRT(SUMSQ(Table1[[#This Row],[Gerçeklik                      ubias= RMSbias]:[Tekrar Üretilebilirlik                 RSDWR(pool) ]]))=0,\"\",(SQRT(SUMSQ(Table1[[#This Row],[Gerçeklik                      ubias= RMSbias]:[Tekrar Üretilebilirlik                 RSDWR(pool) ]]))))","v":""},{"$f":"IFERROR(Table1[[#This Row],[ Birleşik Standart Belirsizlik uc]]*2,\"\")","v":""},"",{"$f":"IF(Table1[[#This Row],[Kullanılan]]=0.5,0.01,\"--------\")","v":"--------"},1]
[null,465,{"$f":"IF(('Veri Girişi'!#REF!)=0,\"\",'Veri Girişi'!#REF!)","v":{"$error":"#REF!"}},{"$f":"'Veri Girişi'!#REF!","v":{"$error":"#REF!"}},"","",{"$f":"IF(SQRT(SUMSQ(Table1[[#This Row],[Gerçeklik                      ubias= RMSbias]:[Tekrar Üretilebilirlik                 RSDWR(pool) ]]))=0,\"\",(SQRT(SUMSQ(Table1[[#This Row],[Gerçeklik                      ubias= RMSbias]:[Tekrar Üretilebilirlik                 RSDWR(pool) ]]))))","v":""},{"$f":"IFERROR(Table1[[#This Row],[ Birleşik Standart Belirsizlik uc]]*2,\"\")","v":""},"",{"$f":"IF(Table1[[#This Row],[Kullanılan]]=0.5,0.01,\"--------\")","v":"--------"},1]
[null,466,{"$f":"IF(('Veri Girişi'!#REF!)=0,\"\",'Veri Girişi'!#REF!)","v":{"$error":"#REF!"}},{"$f":"'Veri Girişi'!#REF!","v":{"$error":"#REF!"}},"","",{"$f":"IF(SQRT(SUMSQ(Table1[[#This Row],[Gerçeklik                      ubias= RMSbias]:[Tekrar Üretilebilirlik                 RSDWR(pool) ]]))=0,\"\",(SQRT(SUMSQ(Table1[[#This Row],[Gerçeklik                      ubias= RMSbias]:[Tekrar Üretilebilirlik                 RSDWR(pool) ]]))))","v":""},{"$f":"IFERROR(Table1[[#This Row],[ Birleşik Standart Belirsizlik uc]]*2,\"\")","v":""},"",{"$f":"IF(Table1[[#This Row],[Kullanılan]]=0.5,0.01,\"--------\")","v":"--------"},1]
[null,467,{"$f":"IF(('Veri Girişi'!#REF!)=0,\"\",'Veri Girişi'!#REF!)","v":{"$error":"#REF!"}},{"$f":"'Veri Girişi'!#REF!","v":{"$error":"#REF!"}},"","",{"$f":"IF(SQRT(SUMSQ(Table1[[#This Row],[Gerçeklik                      ubias= RMSbias]:[Tekrar Üretilebilirlik                 RSDWR(pool) ]]))=0,\"\",(SQRT(SUMSQ(Table1[[#This Row],[Gerçeklik                      ubias= RMSbias]:[Tekrar Üretilebilirlik                 RSDWR(pool) ]]))))","v":""},{"$f":"IFERROR(Table1[[#This Row],[ Birleşik Standart Belirsizlik uc]]*2,\"\")","v":""},"",{"$f":"IF(Table1[[#This Row],[Kullanılan]]=0.5,0.01,\"--------\")","v":"--------"},1]
[null,468,{"$f":"IF(('Veri Girişi'!#REF!)=0,\"\",'Veri Girişi'!#REF!)","v":{"$error":"#REF!"}},{"$f":"'Veri Girişi'!#REF!","v":{"$error":"#REF!"}},"","",{"$f":"IF(SQRT(SUMSQ(Table1[[#This Row],[Gerçeklik                      ubias= RMSbias]:[Tekrar Üretilebilirlik                 RSDWR(pool) ]]))=0,\"\",(SQRT(SUMSQ(Table1[[#This Row],[Gerçeklik                      ubias= RMSbias]:[Tekrar Üretilebilirlik                 RSDWR(pool) ]]))))","v":""},{"$f":"IFERROR(Table1[[#This Row],[ Birleşik Standart Belirsizlik uc]]*2,\"\")","v":""},"",{"$f":"IF(Table1[[#This Row],[Kullanılan]]=0.5,0.01,\"--------\")","v":"--------"},1]
[null,469,{"$f":"IF(('Veri Girişi'!#REF!)=0,\"\",'Veri Girişi'!#REF!)","v":{"$error":"#REF!"}},{"$f":"'Veri Girişi'!#REF!","v":{"$error":"#REF!"}},"","",{"$f":"IF(SQRT(SUMSQ(Table1[[#This Row],[Gerçeklik                      ubias= RMSbias]:[Tekrar Üretilebilirlik                 RSDWR(pool) ]]))=0,\"\",(SQRT(SUMSQ(Table1[[#This Row],[Gerçeklik                      ubias= RMSbias]:[Tekrar Üretilebilirlik                 RSDWR(pool) ]]))))","v":""},{"$f":"IFERROR(Table1[[#This Row],[ Birleşik Standart Belirsizlik uc]]*2,\"\")","v":""},"",{"$f":"IF(Table1[[#This Row],[Kullanılan]]=0.5,0.01,\"--------\")","v":"--------"},1]
[null,470,{"$f":"IF(('Veri Girişi'!#REF!)=0,\"\",'Veri Girişi'!#REF!)","v":{"$error":"#REF!"}},{"$f":"'Veri Girişi'!#REF!","v":{"$error":"#REF!"}},"","",{"$f":"IF(SQRT(SUMSQ(Table1[[#This Row],[Gerçeklik                      ubias= RMSbias]:[Tekrar Üretilebilirlik                 RSDWR(pool) ]]))=0,\"\",(SQRT(SUMSQ(Table1[[#This Row],[Gerçeklik                      ubias= RMSbias]:[Tekrar Üretilebilirlik                 RSDWR(pool) ]]))))","v":""},{"$f":"IFERROR(Table1[[#This Row],[ Birleşik Standart Belirsizlik uc]]*2,\"\")","v":""},"",{"$f":"IF(Table1[[#This Row],[Kullanılan]]=0.5,0.01,\"--------\")","v":"--------"},1]
[null,471,{"$f":"IF(('Veri Girişi'!#REF!)=0,\"\",'Veri Girişi'!#REF!)","v":{"$error":"#REF!"}},{"$f":"'Veri Girişi'!#REF!","v":{"$error":"#REF!"}},"","",{"$f":"IF(SQRT(SUMSQ(Table1[[#This Row],[Gerçeklik                      ubias= RMSbias]:[Tekrar Üretilebilirlik                 RSDWR(pool) ]]))=0,\"\",(SQRT(SUMSQ(Table1[[#This Row],[Gerçeklik                      ubias= RMSbias]:[Tekrar Üretilebilirlik                 RSDWR(pool) ]]))))","v":""},{"$f":"IFERROR(Table1[[#This Row],[ Birleşik Standart Belirsizlik uc]]*2,\"\")","v":""},"",{"$f":"IF(Table1[[#This Row],[Kullanılan]]=0.5,0.01,\"--------\")","v":"--------"},1]
[null,472,{"$f":"IF(('Veri Girişi'!#REF!)=0,\"\",'Veri Girişi'!#REF!)","v":{"$error":"#REF!"}},{"$f":"'Veri Girişi'!#REF!","v":{"$error":"#REF!"}},"","",{"$f":"IF(SQRT(SUMSQ(Table1[[#This Row],[Gerçeklik                      ubias= RMSbias]:[Tekrar Üretilebilirlik                 RSDWR(pool) ]]))=0,\"\",(SQRT(SUMSQ(Table1[[#This Row],[Gerçeklik                      ubias= RMSbias]:[Tekrar Üretilebilirlik                 RSDWR(pool) ]]))))","v":""},{"$f":"IFERROR(Table1[[#This Row],[ Birleşik Standart Belirsizlik uc]]*2,\"\")","v":""},"",{"$f":"IF(Table1[[#This Row],[Kullanılan]]=0.5,0.01,\"--------\")","v":"--------"},1]
[null,473,{"$f":"IF(('Veri Girişi'!#REF!)=0,\"\",'Veri Girişi'!#REF!)","v":{"$error":"#REF!"}},{"$f":"'Veri Girişi'!#REF!","v":{"$error":"#REF!"}},"","",{"$f":"IF(SQRT(SUMSQ(Table1[[#This Row],[Gerçeklik                      ubias= RMSbias]:[Tekrar Üretilebilirlik                 RSDWR(pool) ]]))=0,\"\",(SQRT(SUMSQ(Table1[[#This Row],[Gerçeklik                      ubias= RMSbias]:[Tekrar Üretilebilirlik                 RSDWR(pool) ]]))))","v":""},{"$f":"IFERROR(Table1[[#This Row],[ Birleşik Standart Belirsizlik uc]]*2,\"\")","v":""},"",{"$f":"IF(Table1[[#This Row],[Kullanılan]]=0.5,0.01,\"--------\")","v":"--------"},1]
[null,474,{"$f":"IF(('Veri Girişi'!#REF!)=0,\"\",'Veri Girişi'!#REF!)","v":{"$error":"#REF!"}},{"$f":"'Veri Girişi'!#REF!","v":{"$error":"#REF!"}},"","",{"$f":"IF(SQRT(SUMSQ(Table1[[#This Row],[Gerçeklik                      ubias= RMSbias]:[Tekrar Üretilebilirlik                 RSDWR(pool) ]]))=0,\"\",(SQRT(SUMSQ(Table1[[#This Row],[Gerçeklik                      ubias= RMSbias]:[Tekrar Üretilebilirlik                 RSDWR(pool) ]]))))","v":""},{"$f":"IFERROR(Table1[[#This Row],[ Birleşik Standart Belirsizlik uc]]*2,\"\")","v":""},"",{"$f":"IF(Table1[[#This Row],[Kullanılan]]=0.5,0.01,\"--------\")","v":"--------"},1]
[null,475,{"$f":"IF(('Veri Girişi'!#REF!)=0,\"\",'Veri Girişi'!#REF!)","v":{"$error":"#REF!"}},{"$f":"'Veri Girişi'!#REF!","v":{"$error":"#REF!"}},"","",{"$f":"IF(SQRT(SUMSQ(Table1[[#This Row],[Gerçeklik                      ubias= RMSbias]:[Tekrar Üretilebilirlik                 RSDWR(pool) ]]))=0,\"\",(SQRT(SUMSQ(Table1[[#This Row],[Gerçeklik                      ubias= RMSbias]:[Tekrar Üretilebilirlik                 RSDWR(pool) ]]))))","v":""},{"$f":"IFERROR(Table1[[#This Row],[ Birleşik Standart Belirsizlik uc]]*2,\"\")","v":""},"",{"$f":"IF(Table1[[#This Row],[Kullanılan]]=0.5,0.01,\"--------\")","v":"--------"},0]
[null,476,{"$f":"IF(('Veri Girişi'!#REF!)=0,\"\",'Veri Girişi'!#REF!)","v":{"$error":"#REF!"}},{"$f":"'Veri Girişi'!#REF!","v":{"$error":"#REF!"}},"","",{"$f":"IF(SQRT(SUMSQ(Table1[[#This Row],[Gerçeklik                      ubias= RMSbias]:[Tekrar Üretilebilirlik                 RSDWR(pool) ]]))=0,\"\",(SQRT(SUMSQ(Table1[[#This Row],[Gerçeklik                      ubias= RMSbias]:[Tekrar Üretilebilirlik                 RSDWR(pool) ]]))))","v":""},{"$f":"IFERROR(Table1[[#This Row],[ Birleşik Standart Belirsizlik uc]]*2,\"\")","v":""},"",{"$f":"IF(Table1[[#This Row],[Kullanılan]]=0.5,0.01,\"--------\")","v":"--------"},0]
[null,477,{"$f":"IF(('Veri Girişi'!#REF!)=0,\"\",'Veri Girişi'!#REF!)","v":{"$error":"#REF!"}},{"$f":"'Veri Girişi'!#REF!","v":{"$error":"#REF!"}},"","",{"$f":"IF(SQRT(SUMSQ(Table1[[#This Row],[Gerçeklik                      ubias= RMSbias]:[Tekrar Üretilebilirlik                 RSDWR(pool) ]]))=0,\"\",(SQRT(SUMSQ(Table1[[#This Row],[Gerçeklik                      ubias= RMSbias]:[Tekrar Üretilebilirlik                 RSDWR(pool) ]]))))","v":""},{"$f":"IFERROR(Table1[[#This Row],[ Birleşik Standart Belirsizlik uc]]*2,\"\")","v":""},"",{"$f":"IF(Table1[[#This Row],[Kullanılan]]=0.5,0.01,\"--------\")","v":"--------"},0]
[null,478,{"$f":"IF(('Veri Girişi'!#REF!)=0,\"\",'Veri Girişi'!#REF!)","v":{"$error":"#REF!"}},{"$f":"'Veri Girişi'!#REF!","v":{"$error":"#REF!"}},"","",{"$f":"IF(SQRT(SUMSQ(Table1[[#This Row],[Gerçeklik                      ubias= RMSbias]:[Tekrar Üretilebilirlik                 RSDWR(pool) ]]))=0,\"\",(SQRT(SUMSQ(Table1[[#This Row],[Gerçeklik                      ubias= RMSbias]:[Tekrar Üretilebilirlik                 RSDWR(pool) ]]))))","v":""},{"$f":"IFERROR(Table1[[#This Row],[ Birleşik Standart Belirsizlik uc]]*2,\"\")","v":""},"",{"$f":"IF(Table1[[#This Row],[Kullanılan]]=0.5,0.01,\"--------\")","v":"--------"},1]
[null,479,{"$f":"IF(('Veri Girişi'!#REF!)=0,\"\",'Veri Girişi'!#REF!)","v":{"$error":"#REF!"}},{"$f":"'Veri Girişi'!#REF!","v":{"$error":"#REF!"}},"","",{"$f":"IF(SQRT(SUMSQ(Table1[[#This Row],[Gerçeklik                      ubias= RMSbias]:[Tekrar Üretilebilirlik                 RSDWR(pool) ]]))=0,\"\",(SQRT(SUMSQ(Table1[[#This Row],[Gerçeklik                      ubias= RMSbias]:[Tekrar Üretilebilirlik                 RSDWR(pool) ]]))))","v":""},{"$f":"IFERROR(Table1[[#This Row],[ Birleşik Standart Belirsizlik uc]]*2,\"\")","v":""},"",{"$f":"IF(Table1[[#This Row],[Kullanılan]]=0.5,0.01,\"--------\")","v":"--------"},1]
[null,480,{"$f":"IF(('Veri Girişi'!#REF!)=0,\"\",'Veri Girişi'!#REF!)","v":{"$error":"#REF!"}},{"$f":"'Veri Girişi'!#REF!","v":{"$error":"#REF!"}},"","",{"$f":"IF(SQRT(SUMSQ(Table1[[#This Row],[Gerçeklik                      ubias= RMSbias]:[Tekrar Üretilebilirlik                 RSDWR(pool) ]]))=0,\"\",(SQRT(SUMSQ(Table1[[#This Row],[Gerçeklik                      ubias= RMSbias]:[Tekrar Üretilebilirlik                 RSDWR(pool) ]]))))","v":""},{"$f":"IFERROR(Table1[[#This Row],[ Birleşik Standart Belirsizlik uc]]*2,\"\")","v":""},"",{"$f":"IF(Table1[[#This Row],[Kullanılan]]=0.5,0.01,\"--------\")","v":"--------"},0]
[null,481,{"$f":"IF(('Veri Girişi'!#REF!)=0,\"\",'Veri Girişi'!#REF!)","v":{"$error":"#REF!"}},{"$f":"'Veri Girişi'!#REF!","v":{"$error":"#REF!"}},"","",{"$f":"IF(SQRT(SUMSQ(Table1[[#This Row],[Gerçeklik                      ubias= RMSbias]:[Tekrar Üretilebilirlik                 RSDWR(pool) ]]))=0,\"\",(SQRT(SUMSQ(Table1[[#This Row],[Gerçeklik                      ubias= RMSbias]:[Tekrar Üretilebilirlik                 RSDWR(pool) ]]))))","v":""},{"$f":"IFERROR(Table1[[#This Row],[ Birleşik Standart Belirsizlik uc]]*2,\"\")","v":""},"",{"$f":"IF(Table1[[#This Row],[Kullanılan]]=0.5,0.01,\"--------\")","v":"--------"},0]
[null,482,{"$f":"IF(('Veri Girişi'!#REF!)=0,\"\",'Veri Girişi'!#REF!)","v":{"$error":"#REF!"}},{"$f":"'Veri Girişi'!#REF!","v":{"$error":"#REF!"}},"","",{"$f":"IF(SQRT(SUMSQ(Table1[[#This Row],[Gerçeklik                      ubias= RMSbias]:[Tekrar Üretilebilirlik                 RSDWR(pool) ]]))=0,\"\",(SQRT(SUMSQ(Table1[[#This Row],[Gerçeklik                      ubias= RMSbias]:[Tekrar Üretilebilirlik                 RSDWR(pool) ]]))))","v":""},{"$f":"IFERROR(Table1[[#This Row],[ Birleşik Standart Belirsizlik uc]]*2,\"\")","v":""},"",{"$f":"IF(Table1[[#This Row],[Kullanılan]]=0.5,0.01,\"--------\")","v":"--------"},1]
[null,483,{"$f":"IF(('Veri Girişi'!#REF!)=0,\"\",'Veri Girişi'!#REF!)","v":{"$error":"#REF!"}},{"$f":"'Veri Girişi'!#REF!","v":{"$error":"#REF!"}},"","",{"$f":"IF(SQRT(SUMSQ(Table1[[#This Row],[Gerçeklik                      ubias= RMSbias]:[Tekrar Üretilebilirlik                 RSDWR(pool) ]]))=0,\"\",(SQRT(SUMSQ(Table1[[#This Row],[Gerçeklik                      ubias= RMSbias]:[Tekrar Üretilebilirlik                 RSDWR(pool) ]]))))","v":""},{"$f":"IFERROR(Table1[[#This Row],[ Birleşik Standart Belirsizlik uc]]*2,\"\")","v":""},"",{"$f":"IF(Table1[[#This Row],[Kullanılan]]=0.5,0.01,\"--------\")","v":"--------"},1]
[null,484,{"$f":"IF(('Veri Girişi'!#REF!)=0,\"\",'Veri Girişi'!#REF!)","v":{"$error":"#REF!"}},{"$f":"'Veri Girişi'!#REF!","v":{"$error":"#REF!"}},"","",{"$f":"IF(SQRT(SUMSQ(Table1[[#This Row],[Gerçeklik                      ubias= RMSbias]:[Tekrar Üretilebilirlik                 RSDWR(pool) ]]))=0,\"\",(SQRT(SUMSQ(Table1[[#This Row],[Gerçeklik                      ubias= RMSbias]:[Tekrar Üretilebilirlik                 RSDWR(pool) ]]))))","v":""},{"$f":"IFERROR(Table1[[#This Row],[ Birleşik Standart Belirsizlik uc]]*2,\"\")","v":""},"",{"$f":"IF(Table1[[#This Row],[Kullanılan]]=0.5,0.01,\"--------\")","v":"--------"},0]
[null,485,{"$f":"IF(('Veri Girişi'!#REF!)=0,\"\",'Veri Girişi'!#REF!)","v":{"$error":"#REF!"}},{"$f":"'Veri Girişi'!#REF!","v":{"$error":"#REF!"}},"","",{"$f":"IF(SQRT(SUMSQ(Table1[[#This Row],[Gerçeklik                      ubias= RMSbias]:[Tekrar Üretilebilirlik                 RSDWR(pool) ]]))=0,\"\",(SQRT(SUMSQ(Table1[[#This Row],[Gerçeklik                      ubias= RMSbias]:[Tekrar Üretilebilirlik                 RSDWR(pool) ]]))))","v":""},{"$f":"IFERROR(Table1[[#This Row],[ Birleşik Standart Belirsizlik uc]]*2,\"\")","v":""},"",{"$f":"IF(Table1[[#This Row],[Kullanılan]]=0.5,0.01,\"--------\")","v":"--------"},1]
[null,486,{"$f":"IF(('Veri Girişi'!#REF!)=0,\"\",'Veri Girişi'!#REF!)","v":{"$error":"#REF!"}},{"$f":"'Veri Girişi'!#REF!","v":{"$error":"#REF!"}},"","",{"$f":"IF(SQRT(SUMSQ(Table1[[#This Row],[Gerçeklik                      ubias= RMSbias]:[Tekrar Üretilebilirlik                 RSDWR(pool) ]]))=0,\"\",(SQRT(SUMSQ(Table1[[#This Row],[Gerçeklik                      ubias= RMSbias]:[Tekrar Üretilebilirlik                 RSDWR(pool) ]]))))","v":""},{"$f":"IFERROR(Table1[[#This Row],[ Birleşik Standart Belirsizlik uc]]*2,\"\")","v":""},"",{"$f":"IF(Table1[[#This Row],[Kullanılan]]=0.5,0.01,\"--------\")","v":"--------"},1]
[null,487,{"$f":"IF(('Veri Girişi'!#REF!)=0,\"\",'Veri Girişi'!#REF!)","v":{"$error":"#REF!"}},{"$f":"'Veri Girişi'!#REF!","v":{"$error":"#REF!"}},"","",{"$f":"IF(SQRT(SUMSQ(Table1[[#This Row],[Gerçeklik                      ubias= RMSbias]:[Tekrar Üretilebilirlik                 RSDWR(pool) ]]))=0,\"\",(SQRT(SUMSQ(Table1[[#This Row],[Gerçeklik                      ubias= RMSbias]:[Tekrar Üretilebilirlik                 RSDWR(pool) ]]))))","v":""},{"$f":"IFERROR(Table1[[#This Row],[ Birleşik Standart Belirsizlik uc]]*2,\"\")","v":""},"",{"$f":"IF(Table1[[#This Row],[Kullanılan]]=0.5,0.01,\"--------\")","v":"--------"},1]
[null,488,{"$f":"IF(('Veri Girişi'!#REF!)=0,\"\",'Veri Girişi'!#REF!)","v":{"$error":"#REF!"}},{"$f":"'Veri Girişi'!#REF!","v":{"$error":"#REF!"}},"","",{"$f":"IF(SQRT(SUMSQ(Table1[[#This Row],[Gerçeklik                      ubias= RMSbias]:[Tekrar Üretilebilirlik                 RSDWR(pool) ]]))=0,\"\",(SQRT(SUMSQ(Table1[[#This Row],[Gerçeklik                      ubias= RMSbias]:[Tekrar Üretilebilirlik                 RSDWR(pool) ]]))))","v":""},{"$f":"IFERROR(Table1[[#This Row],[ Birleşik Standart Belirsizlik uc]]*2,\"\")","v":""},"",{"$f":"IF(Table1[[#This Row],[Kullanılan]]=0.5,0.01,\"--------\")","v":"--------"},1]
[null,489,{"$f":"IF(('Veri Girişi'!#REF!)=0,\"\",'Veri Girişi'!#REF!)","v":{"$error":"#REF!"}},{"$f":"'Veri Girişi'!#REF!","v":{"$error":"#REF!"}},"","",{"$f":"IF(SQRT(SUMSQ(Table1[[#This Row],[Gerçeklik                      ubias= RMSbias]:[Tekrar Üretilebilirlik                 RSDWR(pool) ]]))=0,\"\",(SQRT(SUMSQ(Table1[[#This Row],[Gerçeklik                      ubias= RMSbias]:[Tekrar Üretilebilirlik                 RSDWR(pool) ]]))))","v":""},{"$f":"IFERROR(Table1[[#This Row],[ Birleşik Standart Belirsizlik uc]]*2,\"\")","v":""},"",{"$f":"IF(Table1[[#This Row],[Kullanılan]]=0.5,0.01,\"--------\")","v":"--------"},0]
[null,490,{"$f":"IF(('Veri Girişi'!#REF!)=0,\"\",'Veri Girişi'!#REF!)","v":{"$error":"#REF!"}},{"$f":"'Veri Girişi'!#REF!","v":{"$error":"#REF!"}},"","",{"$f":"IF(SQRT(SUMSQ(Table1[[#This Row],[Gerçeklik                      ubias= RMSbias]:[Tekrar Üretilebilirlik                 RSDWR(pool) ]]))=0,\"\",(SQRT(SUMSQ(Table1[[#This Row],[Gerçeklik                      ubias= RMSbias]:[Tekrar Üretilebilirlik                 RSDWR(pool) ]]))))","v":""},{"$f":"IFERROR(Table1[[#This Row],[ Birleşik Standart Belirsizlik uc]]*2,\"\")","v":""},"",{"$f":"IF(Table1[[#This Row],[Kullanılan]]=0.5,0.01,\"--------\")","v":"--------"},1]
[null,491,{"$f":"IF(('Veri Girişi'!#REF!)=0,\"\",'Veri Girişi'!#REF!)","v":{"$error":"#REF!"}},{"$f":"'Veri Girişi'!#REF!","v":{"$error":"#REF!"}},"","",{"$f":"IF(SQRT(SUMSQ(Table1[[#This Row],[Gerçeklik                      ubias= RMSbias]:[Tekrar Üretilebilirlik                 RSDWR(pool) ]]))=0,\"\",(SQRT(SUMSQ(Table1[[#This Row],[Gerçeklik                      ubias= RMSbias]:[Tekrar Üretilebilirlik                 RSDWR(pool) ]]))))","v":""},{"$f":"IFERROR(Table1[[#This Row],[ Birleşik Standart Belirsizlik uc]]*2,\"\")","v":""},"",{"$f":"IF(Table1[[#This Row],[Kullanılan]]=0.5,0.01,\"--------\")","v":"--------"},1]
[null,492,{"$f":"IF(('Veri Girişi'!#REF!)=0,\"\",'Veri Girişi'!#REF!)","v":{"$error":"#REF!"}},{"$f":"'Veri Girişi'!#REF!","v":{"$error":"#REF!"}},"","",{"$f":"IF(SQRT(SUMSQ(Table1[[#This Row],[Gerçeklik                      ubias= RMSbias]:[Tekrar Üretilebilirlik                 RSDWR(pool) ]]))=0,\"\",(SQRT(SUMSQ(Table1[[#This Row],[Gerçeklik                      ubias= RMSbias]:[Tekrar Üretilebilirlik                 RSDWR(pool) ]]))))","v":""},{"$f":"IFERROR(Table1[[#This Row],[ Birleşik Standart Belirsizlik uc]]*2,\"\")","v":""},"",{"$f":"IF(Table1[[#This Row],[Kullanılan]]=0.5,0.01,\"--------\")","v":"--------"},1]
[null,493,{"$f":"IF(('Veri Girişi'!#REF!)=0,\"\",'Veri Girişi'!#REF!)","v":{"$error":"#REF!"}},{"$f":"'Veri Girişi'!#REF!","v":{"$error":"#REF!"}},"","",{"$f":"IF(SQRT(SUMSQ(Table1[[#This Row],[Gerçeklik                      ubias= RMSbias]:[Tekrar Üretilebilirlik                 RSDWR(pool) ]]))=0,\"\",(SQRT(SUMSQ(Table1[[#This Row],[Gerçeklik                      ubias= RMSbias]:[Tekrar Üretilebilirlik                 RSDWR(pool) ]]))))","v":""},{"$f":"IFERROR(Table1[[#This Row],[ Birleşik Standart Belirsizlik uc]]*2,\"\")","v":""},"",{"$f":"IF(Table1[[#This Row],[Kullanılan]]=0.5,0.01,\"--------\")","v":"--------"},1]
[null,494,{"$f":"IF(('Veri Girişi'!#REF!)=0,\"\",'Veri Girişi'!#REF!)","v":{"$error":"#REF!"}},{"$f":"'Veri Girişi'!#REF!","v":{"$error":"#REF!"}},"","",{"$f":"IF(SQRT(SUMSQ(Table1[[#This Row],[Gerçeklik                      ubias= RMSbias]:[Tekrar Üretilebilirlik                 RSDWR(pool) ]]))=0,\"\",(SQRT(SUMSQ(Table1[[#This Row],[Gerçeklik                      ubias= RMSbias]:[Tekrar Üretilebilirlik                 RSDWR(pool) ]]))))","v":""},{"$f":"IFERROR(Table1[[#This Row],[ Birleşik Standart Belirsizlik uc]]*2,\"\")","v":""},"",{"$f":"IF(Table1[[#This Row],[Kullanılan]]=0.5,0.01,\"--------\")","v":"--------"},0]
[null,495,{"$f":"IF(('Veri Girişi'!#REF!)=0,\"\",'Veri Girişi'!#REF!)","v":{"$error":"#REF!"}},{"$f":"'Veri Girişi'!#REF!","v":{"$error":"#REF!"}},"","",{"$f":"IF(SQRT(SUMSQ(Table1[[#This Row],[Gerçeklik                      ubias= RMSbias]:[Tekrar Üretilebilirlik                 RSDWR(pool) ]]))=0,\"\",(SQRT(SUMSQ(Table1[[#This Row],[Gerçeklik                      ubias= RMSbias]:[Tekrar Üretilebilirlik                 RSDWR(pool) ]]))))","v":""},{"$f":"IFERROR(Table1[[#This Row],[ Birleşik Standart Belirsizlik uc]]*2,\"\")","v":""},"",{"$f":"IF(Table1[[#This Row],[Kullanılan]]=0.5,0.01,\"--------\")","v":"--------"},0]
[null,496,{"$f":"IF(('Veri Girişi'!#REF!)=0,\"\",'Veri Girişi'!#REF!)","v":{"$error":"#REF!"}},{"$f":"'Veri Girişi'!#REF!","v":{"$error":"#REF!"}},"","",{"$f":"IF(SQRT(SUMSQ(Table1[[#This Row],[Gerçeklik                      ubias= RMSbias]:[Tekrar Üretilebilirlik                 RSDWR(pool) ]]))=0,\"\",(SQRT(SUMSQ(Table1[[#This Row],[Gerçeklik                      ubias= RMSbias]:[Tekrar Üretilebilirlik                 RSDWR(pool) ]]))))","v":""},{"$f":"IFERROR(Table1[[#This Row],[ Birleşik Standart Belirsizlik uc]]*2,\"\")","v":""},"",{"$f":"IF(Table1[[#This Row],[Kullanılan]]=0.5,0.01,\"--------\")","v":"--------"},0]
[null,497,{"$f":"IF(('Veri Girişi'!#REF!)=0,\"\",'Veri Girişi'!#REF!)","v":{"$error":"#REF!"}},{"$f":"'Veri Girişi'!#REF!","v":{"$error":"#REF!"}},"","",{"$f":"IF(SQRT(SUMSQ(Table1[[#This Row],[Gerçeklik                      ubias= RMSbias]:[Tekrar Üretilebilirlik                 RSDWR(pool) ]]))=0,\"\",(SQRT(SUMSQ(Table1[[#This Row],[Gerçeklik                      ubias= RMSbias]:[Tekrar Üretilebilirlik                 RSDWR(pool) ]]))))","v":""},{"$f":"IFERROR(Table1[[#This Row],[ Birleşik Standart Belirsizlik uc]]*2,\"\")","v":""},"",{"$f":"IF(Table1[[#This Row],[Kullanılan]]=0.5,0.01,\"--------\")","v":"--------"},0]
[null,498,{"$f":"IF(('Veri Girişi'!#REF!)=0,\"\",'Veri Girişi'!#REF!)","v":{"$error":"#REF!"}},{"$f":"'Veri Girişi'!#REF!","v":{"$error":"#REF!"}},"","",{"$f":"IF(SQRT(SUMSQ(Table1[[#This Row],[Gerçeklik                      ubias= RMSbias]:[Tekrar Üretilebilirlik                 RSDWR(pool) ]]))=0,\"\",(SQRT(SUMSQ(Table1[[#This Row],[Gerçeklik                      ubias= RMSbias]:[Tekrar Üretilebilirlik                 RSDWR(pool) ]]))))","v":""},{"$f":"IFERROR(Table1[[#This Row],[ Birleşik Standart Belirsizlik uc]]*2,\"\")","v":""},"",{"$f":"IF(Table1[[#This Row],[Kullanılan]]=0.5,0.01,\"--------\")","v":"--------"},0]
[null,499,{"$f":"IF(('Veri Girişi'!#REF!)=0,\"\",'Veri Girişi'!#REF!)","v":{"$error":"#REF!"}},{"$f":"'Veri Girişi'!#REF!","v":{"$error":"#REF!"}},"","",{"$f":"IF(SQRT(SUMSQ(Table1[[#This Row],[Gerçeklik                      ubias= RMSbias]:[Tekrar Üretilebilirlik                 RSDWR(pool) ]]))=0,\"\",(SQRT(SUMSQ(Table1[[#This Row],[Gerçeklik                      ubias= RMSbias]:[Tekrar Üretilebilirlik                 RSDWR(pool) ]]))))","v":""},{"$f":"IFERROR(Table1[[#This Row],[ Birleşik Standart Belirsizlik uc]]*2,\"\")","v":""},"",{"$f":"IF(Table1[[#This Row],[Kullanılan]]=0.5,0.01,\"--------\")","v":"--------"},0]
[null,500,{"$f":"IF(('Veri Girişi'!#REF!)=0,\"\",'Veri Girişi'!#REF!)","v":{"$error":"#REF!"}},{"$f":"'Veri Girişi'!#REF!","v":{"$error":"#REF!"}},"","",{"$f":"IF(SQRT(SUMSQ(Table1[[#This Row],[Gerçeklik                      ubias= RMSbias]:[Tekrar Üretilebilirlik                 RSDWR(pool) ]]))=0,\"\",(SQRT(SUMSQ(Table1[[#This Row],[Gerçeklik                      ubias= RMSbias]:[Tekrar Üretilebilirlik                 RSDWR(pool) ]]))))","v":""},{"$f":"IFERROR(Table1[[#This Row],[ Birleşik Standart Belirsizlik uc]]*2,\"\")","v":""},"",{"$f":"IF(Table1[[#This Row],[Kullanılan]]=0.5,0.01,\"--------\")","v":"--------"},0]